{"text_format":"1","workbook":"xlsx","n_sheets":6,"sheets":["Erläuterung","Projekt","Bauteilkatalog","Materialien","Bauteilarten","Hilfstabelle"],"not_rendered":{"charts":0,"images":1,"macros":1,"external_links":1,"defined_names":37,"comments":0,"pivot_tables":0},"unopened":[],"bounds":{"document_bytes":16777216,"sheet_cells":100000,"rows_first":2000,"rows_last":500,"rows_between":2000,"halvings":0,"cell_chars":16384,"cell_head_chars":4096},"cells_cut":0,"cells_raw":0,"read":"whole","date_system":"1900"}

{"sheet":"Erläuterung","index":0,"n_rows":15,"n_cols":3,"rows_kept":15,"cut":false,"hidden":false,"merged":[[0,0,0,3],[9,1,9,3],[11,1,11,3],[14,1,14,3],[12,1,12,3],[1,0,1,1],[6,1,6,3],[3,1,3,3],[4,1,4,3]]}
["Erläuterung zum Excel-Werkzeug Kriterium 4.1.4 (Version 1.3 Beta) Stand 28.11.2016"]
[]
[]
["Allgemeiner Hinweis\n","Das Bewertungsinstrument für das BNB-Kriterium 4.1.4 \"Rückbau, Trennung und Verwertung\" befindet sich noch in der Entwicklung. Die vorliegende Excel-Datei besteht einschließlich dieser Erläuterung aus vier Tabellen (Registerblätter). Je Projekt sind die Tabellen \"Projekt\" und \"Bauteilkatalog\" ausgefüllt zur Konformitätsprüfung als XLS-Datei und in Papierform einzureichen."]
[null,"Das Excel-Werkzeug BNB-Kriterium 4.1.4 wurde geschrieben unter MS-Excel 2003 und nutzt Makros.\nDie Ausführung von Makros muss gestattet werden. Hierzu darf maximal die Sicherheitsstufe \"Mittel\" in den Programmeinstellung aktiviert sein (siehe: Extras/Optionen/Sicherheit/Makrosicherheit).\n"]
[]
["Allgemeine Funktionsweise","Nach Maßgabe der vom BBSR vordefinierten und vorbewerteten Bauteile können Sie bei Bedarf in der Tabelle \"Bauteilkatalog\" eigene Bauteildefinitionen und -bewertungen vornehmen. Die von Ihnen vorgeschlagenen Bewertungen werden durch das BBSR bzw. duch die Konformitätsprüfungsstellen geprüft und ggf. bestätigt. Nachdem im Bauteilkatalog alle für das zu bewertende Projekt notwendigen Bauteildefinitionen vorgenommen wurden, können Sie in der Tabelle \"Projekt\" mit der Bewertung des Projekts beginnen. In der Tabelle \"Projekt\" sind entsprechend der Vorgaben des Steckbriefs alle relevanten Bauteile und deren Flächen bzw. Massen zu erfassen.\nDie vom Bearbeiter auszufüllenden Felder sind hellblau hinterlegt. Alle grau hinterlegten Felder werden automatisch berechnet."]
[null,"auszufüllendes Feld","automatisch berechnetes Feld\n- nicht ausfüllbar -"]
[]
["Tabelle „Bauteilkatalog“","Hier können Sie zeilenweise in den entsprechenden Bauteilkategorien die für Ihr Projekt notwendigen Bauteildefinitionen mit den einzelnen Schichten erfassen. Anschließend müssen Sie die Eignung des Bauteils für Rückbau, Trennung und Verwertung bewerten. Dazu wählen Sie aus dem Dropdown-Menü der entsprechenden Zellen (Auswahlliste, die mit einem Pfeil bzw. Dreieck gekennzeichnet ist)  zwischen fünf Auswahlmöglichkeiten aus:\n-- (sehr ungünstig); - (ungünstig); ⌀ (durchschnittlich); + (günstig); ++ (sehr günstig)\nDer Schichtenaufbau bildet die Grundlage für die Bewertung und muss daher sorgsam eingegeben werden.  Hierzu müssen die Felder in den Spalten des Schichtaufbaus einzeln ausgewählt werden (Spalte Schicht 1, Schicht 2, ...). Nachdem ein Feld ausgewählt wurde, erscheint auf der rechten Seite des Feldes eine Taste mit einem Pfeil (Dreieck), welcher nach unten zeigt. Über diese Taste können Sie eine Auswahlliste öffnen, die Ihnen die Materialdefinitionen aus der Tabelle \"Materialien\" zur Auswahl anzeigt.\nÜber die Tasten \"xy hinzufügen\" können Sie eine Zeile in der jeweiligen Bauteilkategorie hinzufügen. Bauteildefinitionen können zeilenweise über die Taste \"x\" gelöscht werden.\nFür jedes Bauteil wird aus den 3 vorgenommenen Einzelbewertungen für Rückbau, Trennung und Verwertung ein Gesamtergebnis als \"R-Faktor\" mit einer Gewichtung von 0,3 für Rückbau, 0,3 für Trennung und 0,4 für Verwertung ermittelt und in das Tabellenblatt \"Projekt\" überschrieben, wenn dort das entsprechende Bauteil ausgewählt wird. "]
[]
["Tabelle „Projekt“","In dieser Tabelle werden die Bauteile mit ihren entsprechenden Maßeinheiten gemäß den Anforderungen des Steckbriefs erfasst. (Hinweis: Üblicherweise werden die Materialien und Bauteile über ihre Massenanteile abgebildet, jedoch können in Ausnahmefällen auch einzelne Betrachtungen über das jeweilige Volumen vorgenommen werden. Über die Anerkennung einer solchen Nachweisführung - beispielsweise für Dämmmaterialien - entscheidet die Konformitätsprüfungsstelle.) \nIn der Zeile \"Ergebnis\" können die ermittelten Punkte für das Kriterium 4.1.4 abgelesen werden. \nÜber die Tasten \"xy hinzufügen\" können Sie eine Zeile in der jeweiligen Bauteilkategorie hinzufügen. Anschließend können Sie in der Spalte \"Bauteil\" das entsprechende Bauteil aus dem Bauteilkatalog auswählen. Hierzu müssen Sie das neue (oder zu ändernde Feld) in der Spalte \"Bauteil\" auswählen. Ist das Feld ausgewählt erscheint auf der rechten Seite des Feldes eine Taste mit einem Pfeil (Dreieck), welcher nach unten zeigt. Über diese Taste können Sie eine Auswahlliste öffnen, die Ihnen die Bauteildefinitionen aus dem Bauteilkatalog zur Auswahl anzeigt.\nNachdem Sie eine Bauteildefinition ausgewählt haben müssen Sie Im nächsten Schritt dem Bauteil seine Masse zuweisen. Anschließend sind die entsprechenden Informationen in den Spalten \"Bauteilnummer\", \"Einbauort\" und \"Kommentar\" zu ergänzen. Bauteile können zeilenweise über die Taste \"x\" gelöscht werden.\n"]
[null,"Hinweis: Ist ein Feld Punkte/Bauteil rot markiert, so hat die getätigte Eingabe zu einer Bewertung mit 0 Punkten geführt. Dies kann häufig auf einen Eingabefehler zurückgeführt werden. Bitte überprüfen Sie in diesem Fall die betreffende Zeile."]
[]
["Tabelle „Materialien“","„Materialien“: Sollten Sie zusätzlich zu den voreingestellten Materialien weitere benötigen, so können Sie diese in der Tabelle Materialien ergänzen. Über die Tasten \"Material hinzufügen\" können Sie eine Zeile hinzufügen. Anschließend müssen Sie das Material benennen und ihm eine Kurzbezeichnung zuweisen. Materialdefinitionen können zeilenweise über die Taste \"x\" gelöscht werden."]

{"sheet":"Projekt","index":1,"n_rows":11582,"n_cols":12,"rows_kept":11582,"cut":false,"hidden":false,"merged":[[0,0,0,11],[1,5,1,11],[2,5,2,11],[6,7,6,8],[5,3,5,4],[2,0,2,2],[1,0,1,2]]}
["Projekteingabe für BNB-Steckbrief 4.1.4 - Version 2015\nStand BBSR-Bauteilkatalog: 28.11.2016"]
["Bearbeiter:",null,null,null,"Projekt:"]
["Datum:",null,null,null,"BNB-Nummer:"]
[]
[null,null,null,null,null,"Gesamt-\nmasse",null,null,null,null,null,"Gesamt-\npunktzahl"]
[null,null,"ERGEBNIS",{"$f":"F2","v":0},null,{"$f":"(SUM(F9:F10))+(SUM(F14:F15))+(SUM(F19:F20))+(SUM(F24:F25))+(SUM(F29:F30))+(SUM(F34:F35))+(SUM(F39:F40))+(SUM(F44:F45))+(SUM(F49:F50))+(SUM(F54:F55))+(SUM(F59:F60))+(SUM(F64:F65))","v":0},null,null,null,null,{"$f":"(K67+K62+K57+K52+K47+K42+K37+K32+K27+K22+K17+K12)/100","v":0},{"$f":"L67+L62+L57+L52+L47+L42+L37+L32+L27+L22+L17+L12","v":0}]
[null,"lfd. Nr.","Bauteil-\nnummer","Einbauort","Bauteil","Masse\n[kg]","Kommentar","lfd. Nr.\nKatalog",null,"R-\nfaktor","Anteil\n[%]","Punkte /\nBauteil"]
[null,null,"Gründung"]
[null,{"$f":"ROW(B9)-ROWS(B$1:B8)","v":1},null,null,null,null,null,{"$f":"IF(E9=\"\",\"\",VLOOKUP($E9,Bauteilkatalog!$J$11:$M$65079,2,0))","v":""},{"$f":"IF(E9=\"\",\"\",VLOOKUP($E9,Bauteilkatalog!$J$11:$M$65079,3,0))","v":""},{"$f":"IF(E9=\"\",\"\",VLOOKUP($E9,Bauteilkatalog!$J$11:$M$65079,4,0))","v":""},{"$f":"IF(ISNUMBER((100/$F$6)*F9),(100/$F$6)*F9,0)","v":0},{"$f":"IF(ISNUMBER((J9*K9)/10),(J9*K9)/10,0)","v":0}]
[]
[null,{"$f":"ROWS(B$9:B11)","v":3},null,null,null,null,null,{"$f":"IF(E11=\"\",\"\",VLOOKUP($E11,Bauteilkatalog!$J$11:$M$65079,2,0))","v":""},{"$f":"IF(E11=\"\",\"\",VLOOKUP($E11,Bauteilkatalog!$J$11:$M$65079,3,0))","v":""},{"$f":"IF(E11=\"\",\"\",VLOOKUP($E11,Bauteilkatalog!$J$11:$M$65079,4,0))","v":""},{"$f":"IF(ISNUMBER((100/$F$6)*F11),(100/$F$6)*F11,0)","v":0},{"$f":"IF(ISNUMBER((J11*K11)/10),(J11*K11)/10,0)","v":0}]
[null,null,null,null,"Summe Gründung",{"$f":"SUM(F9:F10)","v":0},null,null,null,null,{"$f":"SUM(K9:K10)","v":0},{"$f":"SUM(L9:L10)","v":0}]
[null,null,"Außenwand Erdreich"]
[null,{"$f":"ROW(B14)-ROWS(B$1:B13)","v":1},null,null,"Eigene Bauteile (Außenwand Erdreich):",null,null,{"$f":"IF(E14=\"\",\"\",VLOOKUP($E14,Bauteilkatalog!$J$11:$M$65079,2,0))","v":0},{"$f":"IF(E14=\"\",\"\",VLOOKUP($E14,Bauteilkatalog!$J$11:$M$65079,3,0))","v":0},{"$f":"IF(E14=\"\",\"\",VLOOKUP($E14,Bauteilkatalog!$J$11:$M$65079,4,0))","v":0},{"$f":"IF(ISNUMBER((100/$F$6)*F14),(100/$F$6)*F14,0)","v":0},{"$f":"IF(ISNUMBER((J14*K14)/10),(J14*K14)/10,0)","v":0}]
[]
[null,{"$f":"ROWS(B$14:B16)","v":3},null,null,null,null,null,{"$f":"IF(E16=\"\",\"\",VLOOKUP($E16,Bauteilkatalog!$J$11:$M$65079,2,0))","v":""},{"$f":"IF(E16=\"\",\"\",VLOOKUP($E16,Bauteilkatalog!$J$11:$M$65079,3,0))","v":""},{"$f":"IF(E16=\"\",\"\",VLOOKUP($E16,Bauteilkatalog!$J$11:$M$65079,4,0))","v":""},{"$f":"IF(ISNUMBER((100/$F$6)*F16),(100/$F$6)*F16,0)","v":0},{"$f":"IF(ISNUMBER((J16*K16)/10),(J16*K16)/10,0)","v":0}]
[null,null,null,null,"Summe Außenwand Erdreich",{"$f":"SUM(F14:F15)","v":0},null,null,null,null,{"$f":"SUM(K14:K15)","v":0},{"$f":"SUM(L14:L15)","v":0}]
[null,null,"Außenwand massiv"]
[null,{"$f":"ROW(B19)-ROWS(B$1:B18)","v":1},null,null,null,null,null,{"$f":"IF(E19=\"\",\"\",VLOOKUP($E19,Bauteilkatalog!$J$11:$M$65079,2,0))","v":""},{"$f":"IF(E19=\"\",\"\",VLOOKUP($E19,Bauteilkatalog!$J$11:$M$65079,3,0))","v":""},{"$f":"IF(E19=\"\",\"\",VLOOKUP($E19,Bauteilkatalog!$J$11:$M$65079,4,0))","v":""},{"$f":"IF(ISNUMBER((100/$F$6)*F19),(100/$F$6)*F19,0)","v":0},{"$f":"IF(ISNUMBER((J19*K19)/10),(J19*K19)/10,0)","v":0}]
[]
[null,{"$f":"ROWS(B$19:B21)","v":3},null,null,null,null,null,{"$f":"IF(E21=\"\",\"\",VLOOKUP($E21,Bauteilkatalog!$J$11:$M$65079,2,0))","v":""},{"$f":"IF(E21=\"\",\"\",VLOOKUP($E21,Bauteilkatalog!$J$11:$M$65079,3,0))","v":""},{"$f":"IF(E21=\"\",\"\",VLOOKUP($E21,Bauteilkatalog!$J$11:$M$65079,4,0))","v":""},{"$f":"IF(ISNUMBER((100/$F$6)*F21),(100/$F$6)*F21,0)","v":0},{"$f":"IF(ISNUMBER((J21*K21)/10),(J21*K21)/10,0)","v":0}]
[null,null,null,null,"Summe Außenwand massiv",{"$f":"SUM(F19:F20)","v":0},null,null,null,null,{"$f":"SUM(K19:K20)","v":0},{"$f":"SUM(L19:L20)","v":0}]
[null,null,"Außenwand elementiert"]
[null,{"$f":"ROW(B24)-ROWS(B$1:B23)","v":1},null,null,null,null,null,{"$f":"IF(E24=\"\",\"\",VLOOKUP($E24,Bauteilkatalog!$J$11:$M$65079,2,0))","v":""},{"$f":"IF(E24=\"\",\"\",VLOOKUP($E24,Bauteilkatalog!$J$11:$M$65079,3,0))","v":""},{"$f":"IF(E24=\"\",\"\",VLOOKUP($E24,Bauteilkatalog!$J$11:$M$65079,4,0))","v":""},{"$f":"IF(ISNUMBER((100/$F$6)*F24),(100/$F$6)*F24,0)","v":0},{"$f":"IF(ISNUMBER((J24*K24)/10),(J24*K24)/10,0)","v":0}]
[]
[null,{"$f":"ROWS(B$24:B26)","v":3},null,null,null,null,null,{"$f":"IF(E26=\"\",\"\",VLOOKUP($E26,Bauteilkatalog!$J$11:$M$65079,2,0))","v":""},{"$f":"IF(E26=\"\",\"\",VLOOKUP($E26,Bauteilkatalog!$J$11:$M$65079,3,0))","v":""},{"$f":"IF(E26=\"\",\"\",VLOOKUP($E26,Bauteilkatalog!$J$11:$M$65079,4,0))","v":""},{"$f":"IF(ISNUMBER((100/$F$6)*F26),(100/$F$6)*F26,0)","v":0},{"$f":"IF(ISNUMBER((J26*K26)/10),(J26*K26)/10,0)","v":0}]
[null,null,null,null,"Summe Außenwand elementiert",{"$f":"SUM(F24:F25)","v":0},null,null,null,null,{"$f":"SUM(K24:K25)","v":0},{"$f":"SUM(L24:L25)","v":0}]
[null,null,"Außenwand leicht"]
[null,{"$f":"ROW(B29)-ROWS(B$1:B28)","v":1},null,null,null,null,null,{"$f":"IF(E29=\"\",\"\",VLOOKUP($E29,Bauteilkatalog!$J$11:$M$65079,2,0))","v":""},{"$f":"IF(E29=\"\",\"\",VLOOKUP($E29,Bauteilkatalog!$J$11:$M$65079,3,0))","v":""},{"$f":"IF(E29=\"\",\"\",VLOOKUP($E29,Bauteilkatalog!$J$11:$M$65079,4,0))","v":""},{"$f":"IF(ISNUMBER((100/$F$6)*F29),(100/$F$6)*F29,0)","v":0},{"$f":"IF(ISNUMBER((J29*K29)/10),(J29*K29)/10,0)","v":0}]
[]
[null,{"$f":"ROWS(B$29:B31)","v":3},null,null,null,null,null,{"$f":"IF(E31=\"\",\"\",VLOOKUP($E31,Bauteilkatalog!$J$11:$M$65079,2,0))","v":""},{"$f":"IF(E31=\"\",\"\",VLOOKUP($E31,Bauteilkatalog!$J$11:$M$65079,3,0))","v":""},{"$f":"IF(E31=\"\",\"\",VLOOKUP($E31,Bauteilkatalog!$J$11:$M$65079,4,0))","v":""},{"$f":"IF(ISNUMBER((100/$F$6)*F31),(100/$F$6)*F31,0)","v":0},{"$f":"IF(ISNUMBER((J31*K31)/10),(J31*K31)/10,0)","v":0}]
[null,null,null,null,"Summe Außenwand leicht",{"$f":"SUM(F29:F30)","v":0},null,null,null,null,{"$f":"SUM(K29:K30)","v":0},{"$f":"SUM(L29:L30)","v":0}]
[null,null,"Innenwand massiv"]
[null,{"$f":"ROW(B34)-ROWS(B$1:B33)","v":1},null,null,null,null,null,{"$f":"IF(E34=\"\",\"\",VLOOKUP($E34,Bauteilkatalog!$J$11:$M$65079,2,0))","v":""},{"$f":"IF(E34=\"\",\"\",VLOOKUP($E34,Bauteilkatalog!$J$11:$M$65079,3,0))","v":""},{"$f":"IF(E34=\"\",\"\",VLOOKUP($E34,Bauteilkatalog!$J$11:$M$65079,4,0))","v":""},{"$f":"IF(ISNUMBER((100/$F$6)*F34),(100/$F$6)*F34,0)","v":0},{"$f":"IF(ISNUMBER((J34*K34)/10),(J34*K34)/10,0)","v":0}]
[]
[null,{"$f":"ROWS(B$34:B36)","v":3},null,null,null,null,null,{"$f":"IF(E36=\"\",\"\",VLOOKUP($E36,Bauteilkatalog!$J$11:$M$65079,2,0))","v":""},{"$f":"IF(E36=\"\",\"\",VLOOKUP($E36,Bauteilkatalog!$J$11:$M$65079,3,0))","v":""},{"$f":"IF(E36=\"\",\"\",VLOOKUP($E36,Bauteilkatalog!$J$11:$M$65079,4,0))","v":""},{"$f":"IF(ISNUMBER((100/$F$6)*F36),(100/$F$6)*F36,0)","v":0},{"$f":"IF(ISNUMBER((J36*K36)/10),(J36*K36)/10,0)","v":0}]
[null,null,null,null,"Summe Innenwand massiv",{"$f":"SUM(F34:F35)","v":0},null,null,null,null,{"$f":"SUM(K34:K35)","v":0},{"$f":"SUM(L34:L35)","v":0}]
[null,null,"Innenwand elementiert"]
[null,{"$f":"ROW(B39)-ROWS(B$1:B38)","v":1},null,null,null,null,null,{"$f":"IF(E39=\"\",\"\",VLOOKUP($E39,Bauteilkatalog!$J$11:$M$65079,2,0))","v":""},{"$f":"IF(E39=\"\",\"\",VLOOKUP($E39,Bauteilkatalog!$J$11:$M$65079,3,0))","v":""},{"$f":"IF(E39=\"\",\"\",VLOOKUP($E39,Bauteilkatalog!$J$11:$M$65079,4,0))","v":""},{"$f":"IF(ISNUMBER((100/$F$6)*F39),(100/$F$6)*F39,0)","v":0},{"$f":"IF(ISNUMBER((J39*K39)/10),(J39*K39)/10,0)","v":0}]
[]
[null,{"$f":"ROWS(B$39:B41)","v":3},null,null,null,null,null,{"$f":"IF(E41=\"\",\"\",VLOOKUP($E41,Bauteilkatalog!$J$11:$M$65079,2,0))","v":""},{"$f":"IF(E41=\"\",\"\",VLOOKUP($E41,Bauteilkatalog!$J$11:$M$65079,3,0))","v":""},{"$f":"IF(E41=\"\",\"\",VLOOKUP($E41,Bauteilkatalog!$J$11:$M$65079,4,0))","v":""},{"$f":"IF(ISNUMBER((100/$F$6)*F41),(100/$F$6)*F41,0)","v":0},{"$f":"IF(ISNUMBER((J41*K41)/10),(J41*K41)/10,0)","v":0}]
[null,null,null,null,"Summe Innenwand elementiert",{"$f":"SUM(F39:F40)","v":0},null,null,null,null,{"$f":"SUM(K39:K40)","v":0},{"$f":"SUM(L39:L40)","v":0}]
[null,null,"Innenwand leicht"]
[null,{"$f":"ROW(B44)-ROWS(B$1:B43)","v":1},null,null,null,null,null,{"$f":"IF(E44=\"\",\"\",VLOOKUP($E44,Bauteilkatalog!$J$11:$M$65079,2,0))","v":""},{"$f":"IF(E44=\"\",\"\",VLOOKUP($E44,Bauteilkatalog!$J$11:$M$65079,3,0))","v":""},{"$f":"IF(E44=\"\",\"\",VLOOKUP($E44,Bauteilkatalog!$J$11:$M$65079,4,0))","v":""},{"$f":"IF(ISNUMBER((100/$F$6)*F44),(100/$F$6)*F44,0)","v":0},{"$f":"IF(ISNUMBER((J44*K44)/10),(J44*K44)/10,0)","v":0}]
[]
[null,{"$f":"ROWS(B$44:B46)","v":3},null,null,null,null,null,{"$f":"IF(E46=\"\",\"\",VLOOKUP($E46,Bauteilkatalog!$J$11:$M$65079,2,0))","v":""},{"$f":"IF(E46=\"\",\"\",VLOOKUP($E46,Bauteilkatalog!$J$11:$M$65079,3,0))","v":""},{"$f":"IF(E46=\"\",\"\",VLOOKUP($E46,Bauteilkatalog!$J$11:$M$65079,4,0))","v":""},{"$f":"IF(ISNUMBER((100/$F$6)*F46),(100/$F$6)*F46,0)","v":0},{"$f":"IF(ISNUMBER((J46*K46)/10),(J46*K46)/10,0)","v":0}]
[null,null,null,null,"Summe Innenwand leicht",{"$f":"SUM(F44:F45)","v":0},null,null,null,null,{"$f":"SUM(K44:K45)","v":0},{"$f":"SUM(L44:L45)","v":0}]
[null,null,"Decke"]
[null,{"$f":"ROW(B49)-ROWS(B$1:B48)","v":1},null,null,null,null,null,{"$f":"IF(E49=\"\",\"\",VLOOKUP($E49,Bauteilkatalog!$J$11:$M$65079,2,0))","v":""},{"$f":"IF(E49=\"\",\"\",VLOOKUP($E49,Bauteilkatalog!$J$11:$M$65079,3,0))","v":""},{"$f":"IF(E49=\"\",\"\",VLOOKUP($E49,Bauteilkatalog!$J$11:$M$65079,4,0))","v":""},{"$f":"IF(ISNUMBER((100/$F$6)*F49),(100/$F$6)*F49,0)","v":0},{"$f":"IF(ISNUMBER((J49*K49)/10),(J49*K49)/10,0)","v":0}]
[]
[null,{"$f":"ROWS(B$49:B51)","v":3},null,null,null,null,null,{"$f":"IF(E51=\"\",\"\",VLOOKUP($E51,Bauteilkatalog!$J$11:$M$65079,2,0))","v":""},{"$f":"IF(E51=\"\",\"\",VLOOKUP($E51,Bauteilkatalog!$J$11:$M$65079,3,0))","v":""},{"$f":"IF(E51=\"\",\"\",VLOOKUP($E51,Bauteilkatalog!$J$11:$M$65079,4,0))","v":""},{"$f":"IF(ISNUMBER((100/$F$6)*F51),(100/$F$6)*F51,0)","v":0},{"$f":"IF(ISNUMBER((J51*K51)/10),(J51*K51)/10,0)","v":0}]
[null,null,null,null,"Summe Decke",{"$f":"SUM(F49:F50)","v":0},null,null,null,null,{"$f":"SUM(K49:K50)","v":0},{"$f":"SUM(L49:L50)","v":0}]
[null,null,"Deckenbelag"]
[null,{"$f":"ROW(B54)-ROWS(B$1:B53)","v":1},null,null,null,null,null,{"$f":"IF(E54=\"\",\"\",VLOOKUP($E54,Bauteilkatalog!$J$11:$M$65079,2,0))","v":""},{"$f":"IF(E54=\"\",\"\",VLOOKUP($E54,Bauteilkatalog!$J$11:$M$65079,3,0))","v":""},{"$f":"IF(E54=\"\",\"\",VLOOKUP($E54,Bauteilkatalog!$J$11:$M$65079,4,0))","v":""},{"$f":"IF(ISNUMBER((100/$F$6)*$F54),(100/$F$6)*$F54,0)","v":0},{"$f":"IF(ISNUMBER((J54*K54)/10),(J54*K54)/10,0)","v":0}]
[]
[null,{"$f":"ROWS(B$54:B56)","v":3},null,null,null,null,null,{"$f":"IF(E56=\"\",\"\",VLOOKUP($E56,Bauteilkatalog!$J$11:$M$65079,2,0))","v":""},{"$f":"IF(E56=\"\",\"\",VLOOKUP($E56,Bauteilkatalog!$J$11:$M$65079,3,0))","v":""},{"$f":"IF(E56=\"\",\"\",VLOOKUP($E56,Bauteilkatalog!$J$11:$M$65079,4,0))","v":""},{"$f":"IF(ISNUMBER((100/$F$6)*$F56),(100/$F$6)*$F56,0)","v":0},{"$f":"IF(ISNUMBER((J56*K56)/10),(J56*K56)/10,0)","v":0}]
[null,null,null,null,"Summe Deckenbelag",{"$f":"SUM(F54:F55)","v":0},null,null,null,null,{"$f":"SUM(K54:K55)","v":0},{"$f":"SUM(L54:L55)","v":0}]
[null,null,"Dach"]
[null,{"$f":"ROW(B59)-ROWS(B$1:B58)","v":1},null,null,null,null,null,{"$f":"IF(E59=\"\",\"\",VLOOKUP($E59,Bauteilkatalog!$J$11:$M$65079,2,0))","v":""},{"$f":"IF(E59=\"\",\"\",VLOOKUP($E59,Bauteilkatalog!$J$11:$M$65079,3,0))","v":""},{"$f":"IF(E59=\"\",\"\",VLOOKUP($E59,Bauteilkatalog!$J$11:$M$65079,4,0))","v":""},{"$f":"IF(ISNUMBER((100/$F$6)*F59),(100/$F$6)*F59,0)","v":0},{"$f":"IF(ISNUMBER((J59*K59)/10),(J59*K59)/10,0)","v":0}]
[]
[null,{"$f":"ROWS(B$59:B61)","v":3},null,null,null,null,null,{"$f":"IF(E61=\"\",\"\",VLOOKUP($E61,Bauteilkatalog!$J$11:$M$65079,2,0))","v":""},{"$f":"IF(E61=\"\",\"\",VLOOKUP($E61,Bauteilkatalog!$J$11:$M$65079,3,0))","v":""},{"$f":"IF(E61=\"\",\"\",VLOOKUP($E61,Bauteilkatalog!$J$11:$M$65079,4,0))","v":""},{"$f":"IF(ISNUMBER((100/$F$6)*F61),(100/$F$6)*F61,0)","v":0},{"$f":"IF(ISNUMBER((J61*K61)/10),(J61*K61)/10,0)","v":0}]
[null,null,null,null,"Summe Dach",{"$f":"SUM(F59:F60)","v":0},null,null,null,null,{"$f":"SUM(K59:K60)","v":0},{"$f":"SUM(L59:L60)","v":0}]
[null,null,"Dachbelag"]
[null,{"$f":"ROW(B64)-ROWS(B$1:B63)","v":1},null,null,null,null,null,{"$f":"IF(E64=\"\",\"\",VLOOKUP($E64,Bauteilkatalog!$J$11:$M$65079,2,0))","v":""},{"$f":"IF(E64=\"\",\"\",VLOOKUP($E64,Bauteilkatalog!$J$11:$M$65079,3,0))","v":""},{"$f":"IF(E64=\"\",\"\",VLOOKUP($E64,Bauteilkatalog!$J$11:$M$65079,4,0))","v":""},{"$f":"IF(ISNUMBER((100/$F$6)*F64),(100/$F$6)*F64,0)","v":0},{"$f":"IF(ISNUMBER((J64*K64)/10),(J64*K64)/10,0)","v":0}]
[]
[null,{"$f":"ROWS(B$64:B66)","v":3},null,null,null,null,null,{"$f":"IF(E66=\"\",\"\",VLOOKUP($E66,Bauteilkatalog!$J$11:$M$65079,2,0))","v":""},{"$f":"IF(E66=\"\",\"\",VLOOKUP($E66,Bauteilkatalog!$J$11:$M$65079,3,0))","v":""},{"$f":"IF(E66=\"\",\"\",VLOOKUP($E66,Bauteilkatalog!$J$11:$M$65079,4,0))","v":""},{"$f":"IF(ISNUMBER((100/$F$6)*F66),(100/$F$6)*F66,0)","v":0},{"$f":"IF(ISNUMBER((J66*K66)/10),(J66*K66)/10,0)","v":0}]
[null,null,null,null,"Summe Dachbelag",{"$f":"SUM(F64:F65)","v":0},null,null,null,null,{"$f":"SUM(K64:K65)","v":0},{"$f":"SUM(L64:L65)","v":0}]
[]
[]
[null,null,null,null,null," "]
[null,null,null,null,null," "]
[null,null,null,null,null," "]
[null,null,null,null,null," "]
[null,null,null,null,null," "]
[null,null,null,null,null," "]
[null,null,null,null,null," "]
[null,null,null,null,null," "]
[null,null,null,null,null," "]
[null,null,null,null,null," "]
[null,null,null,null,null," "]
[null,null,null,null,null," "]
[null,null,null,null,null," "]
[null,null,null,null,null," "]
[null,null,null,null,null," "]
[null,null,null,null,null," "]
[null,null,null,null,null," "]
[null,null,null,null,null," "]
[null,null,null,null,null," "]
[null,null,null,null,null," "]
[null,null,null,null,null," "]
[null,null,null,null,null," "]
[null,null,null,null,null," "]
[null,null,null,null,null," "]
[null,null,null,null,null," "]
[null,null,null,null,null," "]
[null,null,null,null,null," "]
[null,null,null,null,null," "]
[null,null,null,null,null," "]
[null,null,null,null,null," "]
[null,null,null,null,null," "]
[null,null,null,null,null," "]
[null,null,null,null,null," "]
[null,null,null,null,null," "]
[null,null,null,null,null," "]
[null,null,null,null,null," "]
[null,null,null,null,null," "]
[null,null,null,null,null," "]
[null,null,null,null,null," "]
[null,null,null,null,null," "]
[null,null,null,null,null," "]
[null,null,null,null,null," "]
[null,null,null,null,null," "]
[null,null,null,null,null," "]
[null,null,null,null,null," "]
[null,null,null,null,null," "]
[null,null,null,null,null," "]
[null,null,null,null,null," "]
[null,null,null,null,null," "]
[null,null,null,null,null," "]
[null,null,null,null,null," "]
[null,null,null,null,null," "]
[null,null,null,null,null," "]
[null,null,null,null,null," "]
[null,null,null,null,null," "]
[null,null,null,null,null," "]
[null,null,null,null,null," "]
[null,null,null,null,null," "]
[null,null,null,null,null," "]
[null,null,null,null,null," "]
[null,null,null,null,null," "]
[null,null,null,null,null," "]
[null,null,null,null,null," "]
[null,null,null,null,null," "]
[null,null,null,null,null," "]
[null,null,null,null,null," "]
[null,null,null,null,null," "]
[null,null,null,null,null," "]
[null,null,null,null,null," "]
[null,null,null,null,null," "]
[null,null,null,null,null," "]
[null,null,null,null,null," "]
[null,null,null,null,null," "]
[null,null,null,null,null," "]
[null,null,null,null,null," "]
[null,null,null,null,null," "]
[null,null,null,null,null," "]
[null,null,null,null,null," "]
[null,null,null,null,null," "]
[null,null,null,null,null," "]
[null,null,null,null,null," "]
[null,null,null,null,null," "]
[null,null,null,null,null," "]
[null,null,null,null,null," "]
[null,null,null,null,null," "]
[null,null,null,null,null," "]
[null,null,null,null,null," "]
[null,null,null,null,null," "]
[null,null,null,null,null," "]
[null,null,null,null,null," "]
[null,null,null,null,null," "]
[null,null,null,null,null," "]
[null,null,null,null,null," "]
[null,null,null,null,null," "]
[null,null,null,null,null," "]
[null,null,null,null,null," "]
[null,null,null,null,null," "]
[null,null,null,null,null," "]
[null,null,null,null,null," "]
[null,null,null,null,null," "]
[null,null,null,null,null," "]
[null,null,null,null,null," "]
[null,null,null,null,null," "]
[null,null,null,null,null," "]
[null,null,null,null,null," "]
[null,null,null,null,null," "]
[null,null,null,null,null," "]
[null,null,null,null,null," "]
[null,null,null,null,null," "]
[null,null,null,null,null," "]
[null,null,null,null,null," "]
[null,null,null,null,null," "]
[null,null,null,null,null," "]
[null,null,null,null,null," "]
[null,null,null,null,null," "]
[null,null,null,null,null," "]
[null,null,null,null,null," "]
[null,null,null,null,null," "]
[null,null,null,null,null," "]
[null,null,null,null,null," "]
[null,null,null,null,null," "]
[null,null,null,null,null," "]
[null,null,null,null,null," "]
[null,null,null,null,null," "]
[null,null,null,null,null," "]
[null,null,null,null,null," "]
[null,null,null,null,null," "]
[null,null,null,null,null," "]
[null,null,null,null,null," "]
[null,null,null,null,null," "]
[null,null,null,null,null," "]
[null,null,null,null,null," "]
[null,null,null,null,null," "]
[null,null,null,null,null," "]
[null,null,null,null,null," "]
[null,null,null,null,null," "]
[null,null,null,null,null," "]
[null,null,null,null,null," "]
[null,null,null,null,null," "]
[null,null,null,null,null," "]
[null,null,null,null,null," "]
[null,null,null,null,null," "]
[null,null,null,null,null," "]
[null,null,null,null,null," "]
[null,null,null,null,null," "]
[null,null,null,null,null," "]
[null,null,null,null,null," "]
[null,null,null,null,null," "]
[null,null,null,null,null," "]
[null,null,null,null,null," "]
[null,null,null,null,null," "]
[null,null,null,null,null," "]
[null,null,null,null,null," "]
[null,null,null,null,null," "]
[null,null,null,null,null," "]
[null,null,null,null,null," "]
[null,null,null,null,null," "]
[null,null,null,null,null," "]
[null,null,null,null,null," "]
[null,null,null,null,null," "]
[null,null,null,null,null," "]
[null,null,null,null,null," "]
[null,null,null,null,null," "]
[null,null,null,null,null," "]
[null,null,null,null,null," "]
[null,null,null,null,null," "]
[null,null,null,null,null," "]
[null,null,null,null,null," "]
[null,null,null,null,null," "]
[null,null,null,null,null," "]
[null,null,null,null,null," "]
[null,null,null,null,null," "]
[null,null,null,null,null," "]
[null,null,null,null,null," "]
[null,null,null,null,null," "]
[null,null,null,null,null," "]
[null,null,null,null,null," "]
[null,null,null,null,null," "]
[null,null,null,null,null," "]
[null,null,null,null,null," "]
[null,null,null,null,null," "]
[null,null,null,null,null," "]
[null,null,null,null,null," "]
[null,null,null,null,null," "]
[null,null,null,null,null," "]
[null,null,null,null,null," "]
[null,null,null,null,null," "]
[null,null,null,null,null," "]
[null,null,null,null,null," "]
[null,null,null,null,null," "]
[null,null,null,null,null," "]
[null,null,null,null,null," "]
[null,null,null,null,null," "]
[null,null,null,null,null," "]
[null,null,null,null,null," "]
[null,null,null,null,null," "]
[null,null,null,null,null," "]
[null,null,null,null,null," "]
[null,null,null,null,null," "]
[null,null,null,null,null," "]
[null,null,null,null,null," "]
[null,null,null,null,null," "]
[null,null,null,null,null," "]
[null,null,null,null,null," "]
[null,null,null,null,null," "]
[null,null,null,null,null," "]
[null,null,null,null,null," "]
[null,null,null,null,null," "]
[null,null,null,null,null," "]
[null,null,null,null,null," "]
[null,null,null,null,null," "]
[null,null,null,null,null," "]
[null,null,null,null,null," "]
[null,null,null,null,null," "]
[null,null,null,null,null," "]
[null,null,null,null,null," "]
[null,null,null,null,null," "]
[null,null,null,null,null," "]
[null,null,null,null,null," "]
[null,null,null,null,null," "]
[null,null,null,null,null," "]
[null,null,null,null,null," "]
[null,null,null,null,null," "]
[null,null,null,null,null," "]
[null,null,null,null,null," "]
[null,null,null,null,null," "]
[null,null,null,null,null," "]
[null,null,null,null,null," "]
[null,null,null,null,null," "]
[null,null,null,null,null," "]
[null,null,null,null,null," "]
[null,null,null,null,null," "]
[null,null,null,null,null," "]
[null,null,null,null,null," "]
[null,null,null,null,null," "]
[null,null,null,null,null," "]
[null,null,null,null,null," "]
[null,null,null,null,null," "]
[null,null,null,null,null," "]
[null,null,null,null,null," "]
[null,null,null,null,null," "]
[null,null,null,null,null," "]
[null,null,null,null,null," "]
[null,null,null,null,null," "]
[null,null,null,null,null," "]
[null,null,null,null,null," "]
[null,null,null,null,null," "]
[null,null,null,null,null," "]
[null,null,null,null,null," "]
[null,null,null,null,null," "]
[null,null,null,null,null," "]
[null,null,null,null,null," "]
[null,null,null,null,null," "]
[null,null,null,null,null," "]
[null,null,null,null,null," "]
[null,null,null,null,null," "]
[null,null,null,null,null," "]
[null,null,null,null,null," "]
[null,null,null,null,null," "]
[null,null,null,null,null," "]
[null,null,null,null,null," "]
[null,null,null,null,null," "]
[null,null,null,null,null," "]
[null,null,null,null,null," "]
[null,null,null,null,null," "]
[null,null,null,null,null," "]
[null,null,null,null,null," "]
[null,null,null,null,null," "]
[null,null,null,null,null," "]
[null,null,null,null,null," "]
[null,null,null,null,null," "]
[null,null,null,null,null," "]
[null,null,null,null,null," "]
[null,null,null,null,null," "]
[null,null,null,null,null," "]
[null,null,null,null,null," "]
[null,null,null,null,null," "]
[null,null,null,null,null," "]
[null,null,null,null,null," "]
[null,null,null,null,null," "]
[null,null,null,null,null," "]
[null,null,null,null,null," "]
[null,null,null,null,null," "]
[null,null,null,null,null," "]
[null,null,null,null,null," "]
[null,null,null,null,null," "]
[null,null,null,null,null," "]
[null,null,null,null,null," "]
[null,null,null,null,null," "]
[null,null,null,null,null," "]
[null,null,null,null,null," "]
[null,null,null,null,null," "]
[null,null,null,null,null," "]
[null,null,null,null,null," "]
[null,null,null,null,null," "]
[null,null,null,null,null," "]
[null,null,null,null,null," "]
[null,null,null,null,null," "]
[null,null,null,null,null," "]
[null,null,null,null,null," "]
[null,null,null,null,null," "]
[null,null,null,null,null," "]
[null,null,null,null,null," "]
[null,null,null,null,null," "]
[null,null,null,null,null," "]
[null,null,null,null,null," "]
[null,null,null,null,null," "]
[null,null,null,null,null," "]
[null,null,null,null,null," "]
[null,null,null,null,null," "]
[null,null,null,null,null," "]
[null,null,null,null,null," "]
[null,null,null,null,null," "]
[null,null,null,null,null," "]
[null,null,null,null,null," "]
[null,null,null,null,null," "]
[null,null,null,null,null," "]
[null,null,null,null,null," "]
[null,null,null,null,null," "]
[null,null,null,null,null," "]
[null,null,null,null,null," "]
[null,null,null,null,null," "]
[null,null,null,null,null," "]
[null,null,null,null,null," "]
[null,null,null,null,null," "]
[null,null,null,null,null," "]
[null,null,null,null,null," "]
[null,null,null,null,null," "]
[null,null,null,null,null," "]
[null,null,null,null,null," "]
[null,null,null,null,null," "]
[null,null,null,null,null," "]
[null,null,null,null,null," "]
[null,null,null,null,null," "]
[null,null,null,null,null," "]
[null,null,null,null,null," "]
[null,null,null,null,null," "]
[null,null,null,null,null," "]
[null,null,null,null,null," "]
[null,null,null,null,null," "]
[null,null,null,null,null," "]
[null,null,null,null,null," "]
[null,null,null,null,null," "]
[null,null,null,null,null," "]
[null,null,null,null,null," "]
[null,null,null,null,null," "]
[null,null,null,null,null," "]
[null,null,null,null,null," "]
[null,null,null,null,null," "]
[null,null,null,null,null," "]
[null,null,null,null,null," "]
[null,null,null,null,null," "]
[null,null,null,null,null," "]
[null,null,null,null,null," "]
[null,null,null,null,null," "]
[null,null,null,null,null," "]
[null,null,null,null,null," "]
[null,null,null,null,null," "]
[null,null,null,null,null," "]
[null,null,null,null,null," "]
[null,null,null,null,null," "]
[null,null,null,null,null," "]
[null,null,null,null,null," "]
[null,null,null,null,null," "]
[null,null,null,null,null," "]
[null,null,null,null,null," "]
[null,null,null,null,null," "]
[null,null,null,null,null," "]
[null,null,null,null,null," "]
[null,null,null,null,null," "]
[null,null,null,null,null," "]
[null,null,null,null,null," "]
[null,null,null,null,null," "]
[null,null,null,null,null," "]
[null,null,null,null,null," "]
[null,null,null,null,null," "]
[null,null,null,null,null," "]
[null,null,null,null,null," "]
[null,null,null,null,null," "]
[null,null,null,null,null," "]
[null,null,null,null,null," "]
[null,null,null,null,null," "]
[null,null,null,null,null," "]
[null,null,null,null,null," "]
[null,null,null,null,null," "]
[null,null,null,null,null," "]
[null,null,null,null,null," "]
[null,null,null,null,null," "]
[null,null,null,null,null," "]
[null,null,null,null,null," "]
[null,null,null,null,null," "]
[null,null,null,null,null," "]
[null,null,null,null,null," "]
[null,null,null,null,null," "]
[null,null,null,null,null," "]
[null,null,null,null,null," "]
[null,null,null,null,null," "]
[null,null,null,null,null," "]
[null,null,null,null,null," "]
[null,null,null,null,null," "]
[null,null,null,null,null," "]
[null,null,null,null,null," "]
[null,null,null,null,null," "]
[null,null,null,null,null," "]
[null,null,null,null,null," "]
[null,null,null,null,null," "]
[null,null,null,null,null," "]
[null,null,null,null,null," "]
[null,null,null,null,null," "]
[null,null,null,null,null," "]
[null,null,null,null,null," "]
[null,null,null,null,null," "]
[null,null,null,null,null," "]
[null,null,null,null,null," "]
[null,null,null,null,null," "]
[null,null,null,null,null," "]
[null,null,null,null,null," "]
[null,null,null,null,null," "]
[null,null,null,null,null," "]
[null,null,null,null,null," "]
[null,null,null,null,null," "]
[null,null,null,null,null," "]
[null,null,null,null,null," "]
[null,null,null,null,null," "]
[null,null,null,null,null," "]
[null,null,null,null,null," "]
[null,null,null,null,null," "]
[null,null,null,null,null," "]
[null,null,null,null,null," "]
[null,null,null,null,null," "]
[null,null,null,null,null," "]
[null,null,null,null,null," "]
[null,null,null,null,null," "]
[null,null,null,null,null," "]
[null,null,null,null,null," "]
[null,null,null,null,null," "]
[null,null,null,null,null," "]
[null,null,null,null,null," "]
[null,null,null,null,null," "]
[null,null,null,null,null," "]
[null,null,null,null,null," "]
[null,null,null,null,null," "]
[null,null,null,null,null," "]
[null,null,null,null,null," "]
[null,null,null,null,null," "]
[null,null,null,null,null," "]
[null,null,null,null,null," "]
[null,null,null,null,null," "]
[null,null,null,null,null," "]
[null,null,null,null,null," "]
[null,null,null,null,null," "]
[null,null,null,null,null," "]
[null,null,null,null,null," "]
[null,null,null,null,null," "]
[null,null,null,null,null," "]
[null,null,null,null,null," "]
[null,null,null,null,null," "]
[null,null,null,null,null," "]
[null,null,null,null,null," "]
[null,null,null,null,null," "]
[null,null,null,null,null," "]
[null,null,null,null,null," "]
[null,null,null,null,null," "]
[null,null,null,null,null," "]
[null,null,null,null,null," "]
[null,null,null,null,null," "]
[null,null,null,null,null," "]
[null,null,null,null,null," "]
[null,null,null,null,null," "]
[null,null,null,null,null," "]
[null,null,null,null,null," "]
[null,null,null,null,null," "]
[null,null,null,null,null," "]
[null,null,null,null,null," "]
[null,null,null,null,null," "]
[null,null,null,null,null," "]
[null,null,null,null,null," "]
[null,null,null,null,null," "]
[null,null,null,null,null," "]
[null,null,null,null,null," "]
[null,null,null,null,null," "]
[null,null,null,null,null," "]
[null,null,null,null,null," "]
[null,null,null,null,null," "]
[null,null,null,null,null," "]
[null,null,null,null,null," "]
[null,null,null,null,null," "]
[null,null,null,null,null," "]
[null,null,null,null,null," "]
[null,null,null,null,null," "]
[null,null,null,null,null," "]
[null,null,null,null,null," "]
[null,null,null,null,null," "]
[null,null,null,null,null," "]
[null,null,null,null,null," "]
[null,null,null,null,null," "]
[null,null,null,null,null," "]
[null,null,null,null,null," "]
[null,null,null,null,null," "]
[null,null,null,null,null," "]
[null,null,null,null,null," "]
[null,null,null,null,null," "]
[null,null,null,null,null," "]
[null,null,null,null,null," "]
[null,null,null,null,null," "]
[null,null,null,null,null," "]
[null,null,null,null,null," "]
[null,null,null,null,null," "]
[null,null,null,null,null," "]
[null,null,null,null,null," "]
[null,null,null,null,null," "]
[null,null,null,null,null," "]
[null,null,null,null,null," "]
[null,null,null,null,null," "]
[null,null,null,null,null," "]
[null,null,null,null,null," "]
[null,null,null,null,null," "]
[null,null,null,null,null," "]
[null,null,null,null,null," "]
[null,null,null,null,null," "]
[null,null,null,null,null," "]
[null,null,null,null,null," "]
[null,null,null,null,null," "]
[null,null,null,null,null," "]
[null,null,null,null,null," "]
[null,null,null,null,null," "]
[null,null,null,null,null," "]
[null,null,null,null,null," "]
[null,null,null,null,null," "]
[null,null,null,null,null," "]
[null,null,null,null,null," "]
[null,null,null,null,null," "]
[null,null,null,null,null," "]
[null,null,null,null,null," "]
[null,null,null,null,null," "]
[null,null,null,null,null," "]
[null,null,null,null,null," "]
[null,null,null,null,null," "]
[null,null,null,null,null," "]
[null,null,null,null,null," "]
[null,null,null,null,null," "]
[null,null,null,null,null," "]
[null,null,null,null,null," "]
[null,null,null,null,null," "]
[null,null,null,null,null," "]
[null,null,null,null,null," "]
[null,null,null,null,null," "]
[null,null,null,null,null," "]
[null,null,null,null,null," "]
[null,null,null,null,null," "]
[null,null,null,null,null," "]
[null,null,null,null,null," "]
[null,null,null,null,null," "]
[null,null,null,null,null," "]
[null,null,null,null,null," "]
[null,null,null,null,null," "]
[null,null,null,null,null," "]
[null,null,null,null,null," "]
[null,null,null,null,null," "]
[null,null,null,null,null," "]
[null,null,null,null,null," "]
[null,null,null,null,null," "]
[null,null,null,null,null," "]
[null,null,null,null,null," "]
[null,null,null,null,null," "]
[null,null,null,null,null," "]
[null,null,null,null,null," "]
[null,null,null,null,null," "]
[null,null,null,null,null," "]
[null,null,null,null,null," "]
[null,null,null,null,null," "]
[null,null,null,null,null," "]
[null,null,null,null,null," "]
[null,null,null,null,null," "]
[null,null,null,null,null," "]
[null,null,null,null,null," "]
[null,null,null,null,null," "]
[null,null,null,null,null," "]
[null,null,null,null,null," "]
[null,null,null,null,null," "]
[null,null,null,null,null," "]
[null,null,null,null,null," "]
[null,null,null,null,null," "]
[null,null,null,null,null," "]
[null,null,null,null,null," "]
[null,null,null,null,null," "]
[null,null,null,null,null," "]
[null,null,null,null,null," "]
[null,null,null,null,null," "]
[null,null,null,null,null," "]
[null,null,null,null,null," "]
[null,null,null,null,null," "]
[null,null,null,null,null," "]
[null,null,null,null,null," "]
[null,null,null,null,null," "]
[null,null,null,null,null," "]
[null,null,null,null,null," "]
[null,null,null,null,null," "]
[null,null,null,null,null," "]
[null,null,null,null,null," "]
[null,null,null,null,null," "]
[null,null,null,null,null," "]
[null,null,null,null,null," "]
[null,null,null,null,null," "]
[null,null,null,null,null," "]
[null,null,null,null,null," "]
[null,null,null,null,null," "]
[null,null,null,null,null," "]
[null,null,null,null,null," "]
[null,null,null,null,null," "]
[null,null,null,null,null," "]
[null,null,null,null,null," "]
[null,null,null,null,null," "]
[null,null,null,null,null," "]
[null,null,null,null,null," "]
[null,null,null,null,null," "]
[null,null,null,null,null," "]
[null,null,null,null,null," "]
[null,null,null,null,null," "]
[null,null,null,null,null," "]
[null,null,null,null,null," "]
[null,null,null,null,null," "]
[null,null,null,null,null," "]
[null,null,null,null,null," "]
[null,null,null,null,null," "]
[null,null,null,null,null," "]
[null,null,null,null,null," "]
[null,null,null,null,null," "]
[null,null,null,null,null," "]
[null,null,null,null,null," "]
[null,null,null,null,null," "]
[null,null,null,null,null," "]
[null,null,null,null,null," "]
[null,null,null,null,null," "]
[null,null,null,null,null," "]
[null,null,null,null,null," "]
[null,null,null,null,null," "]
[null,null,null,null,null," "]
[null,null,null,null,null," "]
[null,null,null,null,null," "]
[null,null,null,null,null," "]
[null,null,null,null,null," "]
[null,null,null,null,null," "]
[null,null,null,null,null," "]
[null,null,null,null,null," "]
[null,null,null,null,null," "]
[null,null,null,null,null," "]
[null,null,null,null,null," "]
[null,null,null,null,null," "]
[null,null,null,null,null," "]
[null,null,null,null,null," "]
[null,null,null,null,null," "]
[null,null,null,null,null," "]
[null,null,null,null,null," "]
[null,null,null,null,null," "]
[null,null,null,null,null," "]
[null,null,null,null,null," "]
[null,null,null,null,null," "]
[null,null,null,null,null," "]
[null,null,null,null,null," "]
[null,null,null,null,null," "]
[null,null,null,null,null," "]
[null,null,null,null,null," "]
[null,null,null,null,null," "]
[null,null,null,null,null," "]
[null,null,null,null,null," "]
[null,null,null,null,null," "]
[null,null,null,null,null," "]
[null,null,null,null,null," "]
[null,null,null,null,null," "]
[null,null,null,null,null," "]
[null,null,null,null,null," "]
[null,null,null,null,null," "]
[null,null,null,null,null," "]
[null,null,null,null,null," "]
[null,null,null,null,null," "]
[null,null,null,null,null," "]
[null,null,null,null,null," "]
[null,null,null,null,null," "]
[null,null,null,null,null," "]
[null,null,null,null,null," "]
[null,null,null,null,null," "]
[null,null,null,null,null," "]
[null,null,null,null,null," "]
[null,null,null,null,null," "]
[null,null,null,null,null," "]
[null,null,null,null,null," "]
[null,null,null,null,null," "]
[null,null,null,null,null," "]
[null,null,null,null,null," "]
[null,null,null,null,null," "]
[null,null,null,null,null," "]
[null,null,null,null,null," "]
[null,null,null,null,null," "]
[null,null,null,null,null," "]
[null,null,null,null,null," "]
[null,null,null,null,null," "]
[null,null,null,null,null," "]
[null,null,null,null,null," "]
[null,null,null,null,null," "]
[null,null,null,null,null," "]
[null,null,null,null,null," "]
[null,null,null,null,null," "]
[null,null,null,null,null," "]
[null,null,null,null,null," "]
[null,null,null,null,null," "]
[null,null,null,null,null," "]
[null,null,null,null,null," "]
[null,null,null,null,null," "]
[null,null,null,null,null," "]
[null,null,null,null,null," "]
[null,null,null,null,null," "]
[null,null,null,null,null," "]
[null,null,null,null,null," "]
[null,null,null,null,null," "]
[null,null,null,null,null," "]
[null,null,null,null,null," "]
[null,null,null,null,null," "]
[null,null,null,null,null," "]
[null,null,null,null,null," "]
[null,null,null,null,null," "]
[null,null,null,null,null," "]
[null,null,null,null,null," "]
[null,null,null,null,null," "]
[null,null,null,null,null," "]
[null,null,null,null,null," "]
[null,null,null,null,null," "]
[null,null,null,null,null," "]
[null,null,null,null,null," "]
[null,null,null,null,null," "]
[null,null,null,null,null," "]
[null,null,null,null,null," "]
[null,null,null,null,null," "]
[null,null,null,null,null," "]
[null,null,null,null,null," "]
[null,null,null,null,null," "]
[null,null,null,null,null," "]
[null,null,null,null,null," "]
[null,null,null,null,null," "]
[null,null,null,null,null," "]
[null,null,null,null,null," "]
[null,null,null,null,null," "]
[null,null,null,null,null," "]
[null,null,null,null,null," "]
[null,null,null,null,null," "]
[null,null,null,null,null," "]
[null,null,null,null,null," "]
[null,null,null,null,null," "]
[null,null,null,null,null," "]
[null,null,null,null,null," "]
[null,null,null,null,null," "]
[null,null,null,null,null," "]
[null,null,null,null,null," "]
[null,null,null,null,null," "]
[null,null,null,null,null," "]
[null,null,null,null,null," "]
[null,null,null,null,null," "]
[null,null,null,null,null," "]
[null,null,null,null,null," "]
[null,null,null,null,null," "]
[null,null,null,null,null," "]
[null,null,null,null,null," "]
[null,null,null,null,null," "]
[null,null,null,null,null," "]
[null,null,null,null,null," "]
[null,null,null,null,null," "]
[null,null,null,null,null," "]
[null,null,null,null,null," "]
[null,null,null,null,null," "]
[null,null,null,null,null," "]
[null,null,null,null,null," "]
[null,null,null,null,null," "]
[null,null,null,null,null," "]
[null,null,null,null,null," "]
[null,null,null,null,null," "]
[null,null,null,null,null," "]
[null,null,null,null,null," "]
[null,null,null,null,null," "]
[null,null,null,null,null," "]
[null,null,null,null,null," "]
[null,null,null,null,null," "]
[null,null,null,null,null," "]
[null,null,null,null,null," "]
[null,null,null,null,null," "]
[null,null,null,null,null," "]
[null,null,null,null,null," "]
[null,null,null,null,null," "]
[null,null,null,null,null," "]
[null,null,null,null,null," "]
[null,null,null,null,null," "]
[null,null,null,null,null," "]
[null,null,null,null,null," "]
[null,null,null,null,null," "]
[null,null,null,null,null," "]
[null,null,null,null,null," "]
[null,null,null,null,null," "]
[null,null,null,null,null," "]
[null,null,null,null,null," "]
[null,null,null,null,null," "]
[null,null,null,null,null," "]
[null,null,null,null,null," "]
[null,null,null,null,null," "]
[null,null,null,null,null," "]
[null,null,null,null,null," "]
[null,null,null,null,null," "]
[null,null,null,null,null," "]
[null,null,null,null,null," "]
[null,null,null,null,null," "]
[null,null,null,null,null," "]
[null,null,null,null,null," "]
[null,null,null,null,null," "]
[null,null,null,null,null," "]
[null,null,null,null,null," "]
[null,null,null,null,null," "]
[null,null,null,null,null," "]
[null,null,null,null,null," "]
[null,null,null,null,null," "]
[null,null,null,null,null," "]
[null,null,null,null,null," "]
[null,null,null,null,null," "]
[null,null,null,null,null," "]
[null,null,null,null,null," "]
[null,null,null,null,null," "]
[null,null,null,null,null," "]
[null,null,null,null,null," "]
[null,null,null,null,null," "]
[null,null,null,null,null," "]
[null,null,null,null,null," "]
[null,null,null,null,null," "]
[null,null,null,null,null," "]
[null,null,null,null,null," "]
[null,null,null,null,null," "]
[null,null,null,null,null," "]
[null,null,null,null,null," "]
[null,null,null,null,null," "]
[null,null,null,null,null," "]
[null,null,null,null,null," "]
[null,null,null,null,null," "]
[null,null,null,null,null," "]
[null,null,null,null,null," "]
[null,null,null,null,null," "]
[null,null,null,null,null," "]
[null,null,null,null,null," "]
[null,null,null,null,null," "]
[null,null,null,null,null," "]
[null,null,null,null,null," "]
[null,null,null,null,null," "]
[null,null,null,null,null," "]
[null,null,null,null,null," "]
[null,null,null,null,null," "]
[null,null,null,null,null," "]
[null,null,null,null,null," "]
[null,null,null,null,null," "]
[null,null,null,null,null," "]
[null,null,null,null,null," "]
[null,null,null,null,null," "]
[null,null,null,null,null," "]
[null,null,null,null,null," "]
[null,null,null,null,null," "]
[null,null,null,null,null," "]
[null,null,null,null,null," "]
[null,null,null,null,null," "]
[null,null,null,null,null," "]
[null,null,null,null,null," "]
[null,null,null,null,null," "]
[null,null,null,null,null," "]
[null,null,null,null,null," "]
[null,null,null,null,null," "]
[null,null,null,null,null," "]
[null,null,null,null,null," "]
[null,null,null,null,null," "]
[null,null,null,null,null," "]
[null,null,null,null,null," "]
[null,null,null,null,null," "]
[null,null,null,null,null," "]
[null,null,null,null,null," "]
[null,null,null,null,null," "]
[null,null,null,null,null," "]
[null,null,null,null,null," "]
[null,null,null,null,null," "]
[null,null,null,null,null," "]
[null,null,null,null,null," "]
[null,null,null,null,null," "]
[null,null,null,null,null," "]
[null,null,null,null,null," "]
[null,null,null,null,null," "]
[null,null,null,null,null," "]
[null,null,null,null,null," "]
[null,null,null,null,null," "]
[null,null,null,null,null," "]
[null,null,null,null,null," "]
[null,null,null,null,null," "]
[null,null,null,null,null," "]
[null,null,null,null,null," "]
[null,null,null,null,null," "]
[null,null,null,null,null," "]
[null,null,null,null,null," "]
[null,null,null,null,null," "]
[null,null,null,null,null," "]
[null,null,null,null,null," "]
[null,null,null,null,null," "]
[null,null,null,null,null," "]
[null,null,null,null,null," "]
[null,null,null,null,null," "]
[null,null,null,null,null," "]
[null,null,null,null,null," "]
[null,null,null,null,null," "]
[null,null,null,null,null," "]
[null,null,null,null,null," "]
[null,null,null,null,null," "]
[null,null,null,null,null," "]
[null,null,null,null,null," "]
[null,null,null,null,null," "]
[null,null,null,null,null," "]
[null,null,null,null,null," "]
[null,null,null,null,null," "]
[null,null,null,null,null," "]
[null,null,null,null,null," "]
[null,null,null,null,null," "]
[null,null,null,null,null," "]
[null,null,null,null,null," "]
[null,null,null,null,null," "]
[null,null,null,null,null," "]
[null,null,null,null,null," "]
[null,null,null,null,null," "]
[null,null,null,null,null," "]
[null,null,null,null,null," "]
[null,null,null,null,null," "]
[null,null,null,null,null," "]
[null,null,null,null,null," "]
[null,null,null,null,null," "]
[null,null,null,null,null," "]
[null,null,null,null,null," "]
[null,null,null,null,null," "]
[null,null,null,null,null," "]
[null,null,null,null,null," "]
[null,null,null,null,null," "]
[null,null,null,null,null," "]
[null,null,null,null,null," "]
[null,null,null,null,null," "]
[null,null,null,null,null," "]
[null,null,null,null,null," "]
[null,null,null,null,null," "]
[null,null,null,null,null," "]
[null,null,null,null,null," "]
[null,null,null,null,null," "]
[null,null,null,null,null," "]
[null,null,null,null,null," "]
[null,null,null,null,null," "]
[null,null,null,null,null," "]
[null,null,null,null,null," "]
[null,null,null,null,null," "]
[null,null,null,null,null," "]
[null,null,null,null,null," "]
[null,null,null,null,null," "]
[null,null,null,null,null," "]
[null,null,null,null,null," "]
[null,null,null,null,null," "]
[null,null,null,null,null," "]
[null,null,null,null,null," "]
[null,null,null,null,null," "]
[null,null,null,null,null," "]
[null,null,null,null,null," "]
[null,null,null,null,null," "]
[null,null,null,null,null," "]
[null,null,null,null,null," "]
[null,null,null,null,null," "]
[null,null,null,null,null," "]
[null,null,null,null,null," "]
[null,null,null,null,null," "]
[null,null,null,null,null," "]
[null,null,null,null,null," "]
[null,null,null,null,null," "]
[null,null,null,null,null," "]
[null,null,null,null,null," "]
[null,null,null,null,null," "]
[null,null,null,null,null," "]
[null,null,null,null,null," "]
[null,null,null,null,null," "]
[null,null,null,null,null," "]
[null,null,null,null,null," "]
[null,null,null,null,null," "]
[null,null,null,null,null," "]
[null,null,null,null,null," "]
[null,null,null,null,null," "]
[null,null,null,null,null," "]
[null,null,null,null,null," "]
[null,null,null,null,null," "]
[null,null,null,null,null," "]
[null,null,null,null,null," "]
[null,null,null,null,null," "]
[null,null,null,null,null," "]
[null,null,null,null,null," "]
[null,null,null,null,null," "]
[null,null,null,null,null," "]
[null,null,null,null,null," "]
[null,null,null,null,null," "]
[null,null,null,null,null," "]
[null,null,null,null,null," "]
[null,null,null,null,null," "]
[null,null,null,null,null," "]
[null,null,null,null,null," "]
[null,null,null,null,null," "]
[null,null,null,null,null," "]
[null,null,null,null,null," "]
[null,null,null,null,null," "]
[null,null,null,null,null," "]
[null,null,null,null,null," "]
[null,null,null,null,null," "]
[null,null,null,null,null," "]
[null,null,null,null,null," "]
[null,null,null,null,null," "]
[null,null,null,null,null," "]
[null,null,null,null,null," "]
[null,null,null,null,null," "]
[null,null,null,null,null," "]
[null,null,null,null,null," "]
[null,null,null,null,null," "]
[null,null,null,null,null," "]
[null,null,null,null,null," "]
[null,null,null,null,null," "]
[null,null,null,null,null," "]
[null,null,null,null,null," "]
[null,null,null,null,null," "]
[null,null,null,null,null," "]
[null,null,null,null,null," "]
[null,null,null,null,null," "]
[null,null,null,null,null," "]
[null,null,null,null,null," "]
[null,null,null,null,null," "]
[null,null,null,null,null," "]
[null,null,null,null,null," "]
[null,null,null,null,null," "]
[null,null,null,null,null," "]
[null,null,null,null,null," "]
[null,null,null,null,null," "]
[null,null,null,null,null," "]
[null,null,null,null,null," "]
[null,null,null,null,null," "]
[null,null,null,null,null," "]
[null,null,null,null,null," "]
[null,null,null,null,null," "]
[null,null,null,null,null," "]
[null,null,null,null,null," "]
[null,null,null,null,null," "]
[null,null,null,null,null," "]
[null,null,null,null,null," "]
[null,null,null,null,null," "]
[null,null,null,null,null," "]
[null,null,null,null,null," "]
[null,null,null,null,null," "]
[null,null,null,null,null," "]
[null,null,null,null,null," "]
[null,null,null,null,null," "]
[null,null,null,null,null," "]
[null,null,null,null,null," "]
[null,null,null,null,null," "]
[null,null,null,null,null," "]
[null,null,null,null,null," "]
[null,null,null,null,null," "]
[null,null,null,null,null," "]
[null,null,null,null,null," "]
[null,null,null,null,null," "]
[null,null,null,null,null," "]
[null,null,null,null,null," "]
[null,null,null,null,null," "]
[null,null,null,null,null," "]
[null,null,null,null,null," "]
[null,null,null,null,null," "]
[null,null,null,null,null," "]
[null,null,null,null,null," "]
[null,null,null,null,null," "]
[null,null,null,null,null," "]
[null,null,null,null,null," "]
[null,null,null,null,null," "]
[null,null,null,null,null," "]
[null,null,null,null,null," "]
[null,null,null,null,null," "]
[null,null,null,null,null," "]
[null,null,null,null,null," "]
[null,null,null,null,null," "]
[null,null,null,null,null," "]
[null,null,null,null,null," "]
[null,null,null,null,null," "]
[null,null,null,null,null," "]
[null,null,null,null,null," "]
[null,null,null,null,null," "]
[null,null,null,null,null," "]
[null,null,null,null,null," "]
[null,null,null,null,null," "]
[null,null,null,null,null," "]
[null,null,null,null,null," "]
[null,null,null,null,null," "]
[null,null,null,null,null," "]
[null,null,null,null,null," "]
[null,null,null,null,null," "]
[null,null,null,null,null," "]
[null,null,null,null,null," "]
[null,null,null,null,null," "]
[null,null,null,null,null," "]
[null,null,null,null,null," "]
[null,null,null,null,null," "]
[null,null,null,null,null," "]
[null,null,null,null,null," "]
[null,null,null,null,null," "]
[null,null,null,null,null," "]
[null,null,null,null,null," "]
[null,null,null,null,null," "]
[null,null,null,null,null," "]
[null,null,null,null,null," "]
[null,null,null,null,null," "]
[null,null,null,null,null," "]
[null,null,null,null,null," "]
[null,null,null,null,null," "]
[null,null,null,null,null," "]
[null,null,null,null,null," "]
[null,null,null,null,null," "]
[null,null,null,null,null," "]
[null,null,null,null,null," "]
[null,null,null,null,null," "]
[null,null,null,null,null," "]
[null,null,null,null,null," "]
[null,null,null,null,null," "]
[null,null,null,null,null," "]
[null,null,null,null,null," "]
[null,null,null,null,null," "]
[null,null,null,null,null," "]
[null,null,null,null,null," "]
[null,null,null,null,null," "]
[null,null,null,null,null," "]
[null,null,null,null,null," "]
[null,null,null,null,null," "]
[null,null,null,null,null," "]
[null,null,null,null,null," "]
[null,null,null,null,null," "]
[null,null,null,null,null," "]
[null,null,null,null,null," "]
[null,null,null,null,null," "]
[null,null,null,null,null," "]
[null,null,null,null,null," "]
[null,null,null,null,null," "]
[null,null,null,null,null," "]
[null,null,null,null,null," "]
[null,null,null,null,null," "]
[null,null,null,null,null," "]
[null,null,null,null,null," "]
[null,null,null,null,null," "]
[null,null,null,null,null," "]
[null,null,null,null,null," "]
[null,null,null,null,null," "]
[null,null,null,null,null," "]
[null,null,null,null,null," "]
[null,null,null,null,null," "]
[null,null,null,null,null," "]
[null,null,null,null,null," "]
[null,null,null,null,null," "]
[null,null,null,null,null," "]
[null,null,null,null,null," "]
[null,null,null,null,null," "]
[null,null,null,null,null," "]
[null,null,null,null,null," "]
[null,null,null,null,null," "]
[null,null,null,null,null," "]
[null,null,null,null,null," "]
[null,null,null,null,null," "]
[null,null,null,null,null," "]
[null,null,null,null,null," "]
[null,null,null,null,null," "]
[null,null,null,null,null," "]
[null,null,null,null,null," "]
[null,null,null,null,null," "]
[null,null,null,null,null," "]
[null,null,null,null,null," "]
[null,null,null,null,null," "]
[null,null,null,null,null," "]
[null,null,null,null,null," "]
[null,null,null,null,null," "]
[null,null,null,null,null," "]
[null,null,null,null,null," "]
[null,null,null,null,null," "]
[null,null,null,null,null," "]
[null,null,null,null,null," "]
[null,null,null,null,null," "]
[null,null,null,null,null," "]
[null,null,null,null,null," "]
[null,null,null,null,null," "]
[null,null,null,null,null," "]
[null,null,null,null,null," "]
[null,null,null,null,null," "]
[null,null,null,null,null," "]
[null,null,null,null,null," "]
[null,null,null,null,null," "]
[null,null,null,null,null," "]
[null,null,null,null,null," "]
[null,null,null,null,null," "]
[null,null,null,null,null," "]
[null,null,null,null,null," "]
[null,null,null,null,null," "]
[null,null,null,null,null," "]
[null,null,null,null,null," "]
[null,null,null,null,null," "]
[null,null,null,null,null," "]
[null,null,null,null,null," "]
[null,null,null,null,null," "]
[null,null,null,null,null," "]
[null,null,null,null,null," "]
[null,null,null,null,null," "]
[null,null,null,null,null," "]
[null,null,null,null,null," "]
[null,null,null,null,null," "]
[null,null,null,null,null," "]
[null,null,null,null,null," "]
[null,null,null,null,null," "]
[null,null,null,null,null," "]
[null,null,null,null,null," "]
[null,null,null,null,null," "]
[null,null,null,null,null," "]
[null,null,null,null,null," "]
[null,null,null,null,null," "]
[null,null,null,null,null," "]
[null,null,null,null,null," "]
[null,null,null,null,null," "]
[null,null,null,null,null," "]
[null,null,null,null,null," "]
[null,null,null,null,null," "]
[null,null,null,null,null," "]
[null,null,null,null,null," "]
[null,null,null,null,null," "]
[null,null,null,null,null," "]
[null,null,null,null,null," "]
[null,null,null,null,null," "]
[null,null,null,null,null," "]
[null,null,null,null,null," "]
[null,null,null,null,null," "]
[null,null,null,null,null," "]
[null,null,null,null,null," "]
[null,null,null,null,null," "]
[null,null,null,null,null," "]
[null,null,null,null,null," "]
[null,null,null,null,null," "]
[null,null,null,null,null," "]
[null,null,null,null,null," "]
[null,null,null,null,null," "]
[null,null,null,null,null," "]
[null,null,null,null,null," "]
[null,null,null,null,null," "]
[null,null,null,null,null," "]
[null,null,null,null,null," "]
[null,null,null,null,null," "]
[null,null,null,null,null," "]
[null,null,null,null,null," "]
[null,null,null,null,null," "]
[null,null,null,null,null," "]
[null,null,null,null,null," "]
[null,null,null,null,null," "]
[null,null,null,null,null," "]
[null,null,null,null,null," "]
[null,null,null,null,null," "]
[null,null,null,null,null," "]
[null,null,null,null,null," "]
[null,null,null,null,null," "]
[null,null,null,null,null," "]
[null,null,null,null,null," "]
[null,null,null,null,null," "]
[null,null,null,null,null," "]
[null,null,null,null,null," "]
[null,null,null,null,null," "]
[null,null,null,null,null," "]
[null,null,null,null,null," "]
[null,null,null,null,null," "]
[null,null,null,null,null," "]
[null,null,null,null,null," "]
[null,null,null,null,null," "]
[null,null,null,null,null," "]
[null,null,null,null,null," "]
[null,null,null,null,null," "]
[null,null,null,null,null," "]
[null,null,null,null,null," "]
[null,null,null,null,null," "]
[null,null,null,null,null," "]
[null,null,null,null,null," "]
[null,null,null,null,null," "]
[null,null,null,null,null," "]
[null,null,null,null,null," "]
[null,null,null,null,null," "]
[null,null,null,null,null," "]
[null,null,null,null,null," "]
[null,null,null,null,null," "]
[null,null,null,null,null," "]
[null,null,null,null,null," "]
[null,null,null,null,null," "]
[null,null,null,null,null," "]
[null,null,null,null,null," "]
[null,null,null,null,null," "]
[null,null,null,null,null," "]
[null,null,null,null,null," "]
[null,null,null,null,null," "]
[null,null,null,null,null," "]
[null,null,null,null,null," "]
[null,null,null,null,null," "]
[null,null,null,null,null," "]
[null,null,null,null,null," "]
[null,null,null,null,null," "]
[null,null,null,null,null," "]
[null,null,null,null,null," "]
[null,null,null,null,null," "]
[null,null,null,null,null," "]
[null,null,null,null,null," "]
[null,null,null,null,null," "]
[null,null,null,null,null," "]
[null,null,null,null,null," "]
[null,null,null,null,null," "]
[null,null,null,null,null," "]
[null,null,null,null,null," "]
[null,null,null,null,null," "]
[null,null,null,null,null," "]
[null,null,null,null,null," "]
[null,null,null,null,null," "]
[null,null,null,null,null," "]
[null,null,null,null,null," "]
[null,null,null,null,null," "]
[null,null,null,null,null," "]
[null,null,null,null,null," "]
[null,null,null,null,null," "]
[null,null,null,null,null," "]
[null,null,null,null,null," "]
[null,null,null,null,null," "]
[null,null,null,null,null," "]
[null,null,null,null,null," "]
[null,null,null,null,null," "]
[null,null,null,null,null," "]
[null,null,null,null,null," "]
[null,null,null,null,null," "]
[null,null,null,null,null," "]
[null,null,null,null,null," "]
[null,null,null,null,null," "]
[null,null,null,null,null," "]
[null,null,null,null,null," "]
[null,null,null,null,null," "]
[null,null,null,null,null," "]
[null,null,null,null,null," "]
[null,null,null,null,null," "]
[null,null,null,null,null," "]
[null,null,null,null,null," "]
[null,null,null,null,null," "]
[null,null,null,null,null," "]
[null,null,null,null,null," "]
[null,null,null,null,null," "]
[null,null,null,null,null," "]
[null,null,null,null,null," "]
[null,null,null,null,null," "]
[null,null,null,null,null," "]
[null,null,null,null,null," "]
[null,null,null,null,null," "]
[null,null,null,null,null," "]
[null,null,null,null,null," "]
[null,null,null,null,null," "]
[null,null,null,null,null," "]
[null,null,null,null,null," "]
[null,null,null,null,null," "]
[null,null,null,null,null," "]
[null,null,null,null,null," "]
[null,null,null,null,null," "]
[null,null,null,null,null," "]
[null,null,null,null,null," "]
[null,null,null,null,null," "]
[null,null,null,null,null," "]
[null,null,null,null,null," "]
[null,null,null,null,null," "]
[null,null,null,null,null," "]
[null,null,null,null,null," "]
[null,null,null,null,null," "]
[null,null,null,null,null," "]
[null,null,null,null,null," "]
[null,null,null,null,null," "]
[null,null,null,null,null," "]
[null,null,null,null,null," "]
[null,null,null,null,null," "]
[null,null,null,null,null," "]
[null,null,null,null,null," "]
[null,null,null,null,null," "]
[null,null,null,null,null," "]
[null,null,null,null,null," "]
[null,null,null,null,null," "]
[null,null,null,null,null," "]
[null,null,null,null,null," "]
[null,null,null,null,null," "]
[null,null,null,null,null," "]
[null,null,null,null,null," "]
[null,null,null,null,null," "]
[null,null,null,null,null," "]
[null,null,null,null,null," "]
[null,null,null,null,null," "]
[null,null,null,null,null," "]
[null,null,null,null,null," "]
[null,null,null,null,null," "]
[null,null,null,null,null," "]
[null,null,null,null,null," "]
[null,null,null,null,null," "]
[null,null,null,null,null," "]
[null,null,null,null,null," "]
[null,null,null,null,null," "]
[null,null,null,null,null," "]
[null,null,null,null,null," "]
[null,null,null,null,null," "]
[null,null,null,null,null," "]
[null,null,null,null,null," "]
[null,null,null,null,null," "]
[null,null,null,null,null," "]
[null,null,null,null,null," "]
[null,null,null,null,null," "]
[null,null,null,null,null," "]
[null,null,null,null,null," "]
[null,null,null,null,null," "]
[null,null,null,null,null," "]
[null,null,null,null,null," "]
[null,null,null,null,null," "]
[null,null,null,null,null," "]
[null,null,null,null,null," "]
[null,null,null,null,null," "]
[null,null,null,null,null," "]
[null,null,null,null,null," "]
[null,null,null,null,null," "]
[null,null,null,null,null," "]
[null,null,null,null,null," "]
[null,null,null,null,null," "]
[null,null,null,null,null," "]
[null,null,null,null,null," "]
[null,null,null,null,null," "]
[null,null,null,null,null," "]
[null,null,null,null,null," "]
[null,null,null,null,null," "]
[null,null,null,null,null," "]
[null,null,null,null,null," "]
[null,null,null,null,null," "]
[null,null,null,null,null," "]
[null,null,null,null,null," "]
[null,null,null,null,null," "]
[null,null,null,null,null," "]
[null,null,null,null,null," "]
[null,null,null,null,null," "]
[null,null,null,null,null," "]
[null,null,null,null,null," "]
[null,null,null,null,null," "]
[null,null,null,null,null," "]
[null,null,null,null,null," "]
[null,null,null,null,null," "]
[null,null,null,null,null," "]
[null,null,null,null,null," "]
[null,null,null,null,null," "]
[null,null,null,null,null," "]
[null,null,null,null,null," "]
[null,null,null,null,null," "]
[null,null,null,null,null," "]
[null,null,null,null,null," "]
[null,null,null,null,null," "]
[null,null,null,null,null," "]
[null,null,null,null,null," "]
[null,null,null,null,null," "]
[null,null,null,null,null," "]
[null,null,null,null,null," "]
[null,null,null,null,null," "]
[null,null,null,null,null," "]
[null,null,null,null,null," "]
[null,null,null,null,null," "]
[null,null,null,null,null," "]
[null,null,null,null,null," "]
[null,null,null,null,null," "]
[null,null,null,null,null," "]
[null,null,null,null,null," "]
[null,null,null,null,null," "]
[null,null,null,null,null," "]
[null,null,null,null,null," "]
[null,null,null,null,null," "]
[null,null,null,null,null," "]
[null,null,null,null,null," "]
[null,null,null,null,null," "]
[null,null,null,null,null," "]
[null,null,null,null,null," "]
[null,null,null,null,null," "]
[null,null,null,null,null," "]
[null,null,null,null,null," "]
[null,null,null,null,null," "]
[null,null,null,null,null," "]
[null,null,null,null,null," "]
[null,null,null,null,null," "]
[null,null,null,null,null," "]
[null,null,null,null,null," "]
[null,null,null,null,null," "]
[null,null,null,null,null," "]
[null,null,null,null,null," "]
[null,null,null,null,null," "]
[null,null,null,null,null," "]
[null,null,null,null,null," "]
[null,null,null,null,null," "]
[null,null,null,null,null," "]
[null,null,null,null,null," "]
[null,null,null,null,null," "]
[null,null,null,null,null," "]
[null,null,null,null,null," "]
[null,null,null,null,null," "]
[null,null,null,null,null," "]
[null,null,null,null,null," "]
[null,null,null,null,null," "]
[null,null,null,null,null," "]
[null,null,null,null,null," "]
[null,null,null,null,null," "]
[null,null,null,null,null," "]
[null,null,null,null,null," "]
[null,null,null,null,null," "]
[null,null,null,null,null," "]
[null,null,null,null,null," "]
[null,null,null,null,null," "]
[null,null,null,null,null," "]
[null,null,null,null,null," "]
[null,null,null,null,null," "]
[null,null,null,null,null," "]
[null,null,null,null,null," "]
[null,null,null,null,null," "]
[null,null,null,null,null," "]
[null,null,null,null,null," "]
[null,null,null,null,null," "]
[null,null,null,null,null," "]
[null,null,null,null,null," "]
[null,null,null,null,null," "]
[null,null,null,null,null," "]
[null,null,null,null,null," "]
[null,null,null,null,null," "]
[null,null,null,null,null," "]
[null,null,null,null,null," "]
[null,null,null,null,null," "]
[null,null,null,null,null," "]
[null,null,null,null,null," "]
[null,null,null,null,null," "]
[null,null,null,null,null," "]
[null,null,null,null,null," "]
[null,null,null,null,null," "]
[null,null,null,null,null," "]
[null,null,null,null,null," "]
[null,null,null,null,null," "]
[null,null,null,null,null," "]
[null,null,null,null,null," "]
[null,null,null,null,null," "]
[null,null,null,null,null," "]
[null,null,null,null,null," "]
[null,null,null,null,null," "]
[null,null,null,null,null," "]
[null,null,null,null,null," "]
[null,null,null,null,null," "]
[null,null,null,null,null," "]
[null,null,null,null,null," "]
[null,null,null,null,null," "]
[null,null,null,null,null," "]
[null,null,null,null,null," "]
[null,null,null,null,null," "]
[null,null,null,null,null," "]
[null,null,null,null,null," "]
[null,null,null,null,null," "]
[null,null,null,null,null," "]
[null,null,null,null,null," "]
[null,null,null,null,null," "]
[null,null,null,null,null," "]
[null,null,null,null,null," "]
[null,null,null,null,null," "]
[null,null,null,null,null," "]
[null,null,null,null,null," "]
[null,null,null,null,null," "]
[null,null,null,null,null," "]
[null,null,null,null,null," "]
[null,null,null,null,null," "]
[null,null,null,null,null," "]
[null,null,null,null,null," "]
[null,null,null,null,null," "]
[null,null,null,null,null," "]
[null,null,null,null,null," "]
[null,null,null,null,null," "]
[null,null,null,null,null," "]
[null,null,null,null,null," "]
[null,null,null,null,null," "]
[null,null,null,null,null," "]
[null,null,null,null,null," "]
[null,null,null,null,null," "]
[null,null,null,null,null," "]
[null,null,null,null,null," "]
[null,null,null,null,null," "]
[null,null,null,null,null," "]
[null,null,null,null,null," "]
[null,null,null,null,null," "]
[null,null,null,null,null," "]
[null,null,null,null,null," "]
[null,null,null,null,null," "]
[null,null,null,null,null," "]
[null,null,null,null,null," "]
[null,null,null,null,null," "]
[null,null,null,null,null," "]
[null,null,null,null,null," "]
[null,null,null,null,null," "]
[null,null,null,null,null," "]
[null,null,null,null,null," "]
[null,null,null,null,null," "]
[null,null,null,null,null," "]
[null,null,null,null,null," "]
[null,null,null,null,null," "]
[null,null,null,null,null," "]
[null,null,null,null,null," "]
[null,null,null,null,null," "]
[null,null,null,null,null," "]
[null,null,null,null,null," "]
[null,null,null,null,null," "]
[null,null,null,null,null," "]
[null,null,null,null,null," "]
[null,null,null,null,null," "]
[null,null,null,null,null," "]
[null,null,null,null,null," "]
[null,null,null,null,null," "]
[null,null,null,null,null," "]
[null,null,null,null,null," "]
[null,null,null,null,null," "]
[null,null,null,null,null," "]
[null,null,null,null,null," "]
[null,null,null,null,null," "]
[null,null,null,null,null," "]
[null,null,null,null,null," "]
[null,null,null,null,null," "]
[null,null,null,null,null," "]
[null,null,null,null,null," "]
[null,null,null,null,null," "]
[null,null,null,null,null," "]
[null,null,null,null,null," "]
[null,null,null,null,null," "]
[null,null,null,null,null," "]
[null,null,null,null,null," "]
[null,null,null,null,null," "]
[null,null,null,null,null," "]
[null,null,null,null,null," "]
[null,null,null,null,null," "]
[null,null,null,null,null," "]
[null,null,null,null,null," "]
[null,null,null,null,null," "]
[null,null,null,null,null," "]
[null,null,null,null,null," "]
[null,null,null,null,null," "]
[null,null,null,null,null," "]
[null,null,null,null,null," "]
[null,null,null,null,null," "]
[null,null,null,null,null," "]
[null,null,null,null,null," "]
[null,null,null,null,null," "]
[null,null,null,null,null," "]
[null,null,null,null,null," "]
[null,null,null,null,null," "]
[null,null,null,null,null," "]
[null,null,null,null,null," "]
[null,null,null,null,null," "]
[null,null,null,null,null," "]
[null,null,null,null,null," "]
[null,null,null,null,null," "]
[null,null,null,null,null," "]
[null,null,null,null,null," "]
[null,null,null,null,null," "]
[null,null,null,null,null," "]
[null,null,null,null,null," "]
[null,null,null,null,null," "]
[null,null,null,null,null," "]
[null,null,null,null,null," "]
[null,null,null,null,null," "]
[null,null,null,null,null," "]
[null,null,null,null,null," "]
[null,null,null,null,null," "]
[null,null,null,null,null," "]
[null,null,null,null,null," "]
[null,null,null,null,null," "]
[null,null,null,null,null," "]
[null,null,null,null,null," "]
[null,null,null,null,null," "]
[null,null,null,null,null," "]
[null,null,null,null,null," "]
[null,null,null,null,null," "]
[null,null,null,null,null," "]
[null,null,null,null,null," "]
[null,null,null,null,null," "]
[null,null,null,null,null," "]
[null,null,null,null,null," "]
[null,null,null,null,null," "]
[null,null,null,null,null," "]
[null,null,null,null,null," "]
[null,null,null,null,null," "]
[null,null,null,null,null," "]
[null,null,null,null,null," "]
[null,null,null,null,null," "]
[null,null,null,null,null," "]
[null,null,null,null,null," "]
[null,null,null,null,null," "]
[null,null,null,null,null," "]
[null,null,null,null,null," "]
[null,null,null,null,null," "]
[null,null,null,null,null," "]
[null,null,null,null,null," "]
[null,null,null,null,null," "]
[null,null,null,null,null," "]
[null,null,null,null,null," "]
[null,null,null,null,null," "]
[null,null,null,null,null," "]
[null,null,null,null,null," "]
[null,null,null,null,null," "]
[null,null,null,null,null," "]
[null,null,null,null,null," "]
[null,null,null,null,null," "]
[null,null,null,null,null," "]
[null,null,null,null,null," "]
[null,null,null,null,null," "]
[null,null,null,null,null," "]
[null,null,null,null,null," "]
[null,null,null,null,null," "]
[null,null,null,null,null," "]
[null,null,null,null,null," "]
[null,null,null,null,null," "]
[null,null,null,null,null," "]
[null,null,null,null,null," "]
[null,null,null,null,null," "]
[null,null,null,null,null," "]
[null,null,null,null,null," "]
[null,null,null,null,null," "]
[null,null,null,null,null," "]
[null,null,null,null,null," "]
[null,null,null,null,null," "]
[null,null,null,null,null," "]
[null,null,null,null,null," "]
[null,null,null,null,null," "]
[null,null,null,null,null," "]
[null,null,null,null,null," "]
[null,null,null,null,null," "]
[null,null,null,null,null," "]
[null,null,null,null,null," "]
[null,null,null,null,null," "]
[null,null,null,null,null," "]
[null,null,null,null,null," "]
[null,null,null,null,null," "]
[null,null,null,null,null," "]
[null,null,null,null,null," "]
[null,null,null,null,null," "]
[null,null,null,null,null," "]
[null,null,null,null,null," "]
[null,null,null,null,null," "]
[null,null,null,null,null," "]
[null,null,null,null,null," "]
[null,null,null,null,null," "]
[null,null,null,null,null," "]
[null,null,null,null,null," "]
[null,null,null,null,null," "]
[null,null,null,null,null," "]
[null,null,null,null,null," "]
[null,null,null,null,null," "]
[null,null,null,null,null," "]
[null,null,null,null,null," "]
[null,null,null,null,null," "]
[null,null,null,null,null," "]
[null,null,null,null,null," "]
[null,null,null,null,null," "]
[null,null,null,null,null," "]
[null,null,null,null,null," "]
[null,null,null,null,null," "]
[null,null,null,null,null," "]
[null,null,null,null,null," "]
[null,null,null,null,null," "]
[null,null,null,null,null," "]
[null,null,null,null,null," "]
[null,null,null,null,null," "]
[null,null,null,null,null," "]
[null,null,null,null,null," "]
[null,null,null,null,null," "]
[null,null,null,null,null," "]
[null,null,null,null,null," "]
[null,null,null,null,null," "]
[null,null,null,null,null," "]
[null,null,null,null,null," "]
[null,null,null,null,null," "]
[null,null,null,null,null," "]
[null,null,null,null,null," "]
[null,null,null,null,null," "]
[null,null,null,null,null," "]
[null,null,null,null,null," "]
[null,null,null,null,null," "]
[null,null,null,null,null," "]
[null,null,null,null,null," "]
[null,null,null,null,null," "]
[null,null,null,null,null," "]
[null,null,null,null,null," "]
[null,null,null,null,null," "]
[null,null,null,null,null," "]
[null,null,null,null,null," "]
[null,null,null,null,null," "]
[null,null,null,null,null," "]
[null,null,null,null,null," "]
[null,null,null,null,null," "]
[null,null,null,null,null," "]
[null,null,null,null,null," "]
[null,null,null,null,null," "]
[null,null,null,null,null," "]
[null,null,null,null,null," "]
[null,null,null,null,null," "]
[null,null,null,null,null," "]
[null,null,null,null,null," "]
[null,null,null,null,null," "]
[null,null,null,null,null," "]
[null,null,null,null,null," "]
[null,null,null,null,null," "]
[null,null,null,null,null," "]
[null,null,null,null,null," "]
[null,null,null,null,null," "]
[null,null,null,null,null," "]
[null,null,null,null,null," "]
[null,null,null,null,null," "]
[null,null,null,null,null," "]
[null,null,null,null,null," "]
[null,null,null,null,null," "]
[null,null,null,null,null," "]
[null,null,null,null,null," "]
[null,null,null,null,null," "]
[null,null,null,null,null," "]
[null,null,null,null,null," "]
[null,null,null,null,null," "]
[null,null,null,null,null," "]
[null,null,null,null,null," "]
[null,null,null,null,null," "]
[null,null,null,null,null," "]
[null,null,null,null,null," "]
[null,null,null,null,null," "]
[null,null,null,null,null," "]
[null,null,null,null,null," "]
[null,null,null,null,null," "]
[null,null,null,null,null," "]
[null,null,null,null,null," "]
[null,null,null,null,null," "]
[null,null,null,null,null," "]
[null,null,null,null,null," "]
[null,null,null,null,null," "]
[null,null,null,null,null," "]
[null,null,null,null,null," "]
[null,null,null,null,null," "]
[null,null,null,null,null," "]
[null,null,null,null,null," "]
[null,null,null,null,null," "]
[null,null,null,null,null," "]
[null,null,null,null,null," "]
[null,null,null,null,null," "]
[null,null,null,null,null," "]
[null,null,null,null,null," "]
[null,null,null,null,null," "]
[null,null,null,null,null," "]
[null,null,null,null,null," "]
[null,null,null,null,null," "]
[null,null,null,null,null," "]
[null,null,null,null,null," "]
[null,null,null,null,null," "]
[null,null,null,null,null," "]
[null,null,null,null,null," "]
[null,null,null,null,null," "]
[null,null,null,null,null," "]
[null,null,null,null,null," "]
[null,null,null,null,null," "]
[null,null,null,null,null," "]
[null,null,null,null,null," "]
[null,null,null,null,null," "]
[null,null,null,null,null," "]
[null,null,null,null,null," "]
[null,null,null,null,null," "]
[null,null,null,null,null," "]
[null,null,null,null,null," "]
[null,null,null,null,null," "]
[null,null,null,null,null," "]
[null,null,null,null,null," "]
[null,null,null,null,null," "]
[null,null,null,null,null," "]
[null,null,null,null,null," "]
[null,null,null,null,null," "]
[null,null,null,null,null," "]
[null,null,null,null,null," "]
[null,null,null,null,null," "]
[null,null,null,null,null," "]
[null,null,null,null,null," "]
[null,null,null,null,null," "]
[null,null,null,null,null," "]
[null,null,null,null,null," "]
[null,null,null,null,null," "]
[null,null,null,null,null," "]
[null,null,null,null,null," "]
[null,null,null,null,null," "]
[null,null,null,null,null," "]
[null,null,null,null,null," "]
[null,null,null,null,null," "]
[null,null,null,null,null," "]
[null,null,null,null,null," "]
[null,null,null,null,null," "]
[null,null,null,null,null," "]
[null,null,null,null,null," "]
[null,null,null,null,null," "]
[null,null,null,null,null," "]
[null,null,null,null,null," "]
[null,null,null,null,null," "]
[null,null,null,null,null," "]
[null,null,null,null,null," "]
[null,null,null,null,null," "]
[null,null,null,null,null," "]
[null,null,null,null,null," "]
[null,null,null,null,null," "]
[null,null,null,null,null," "]
[null,null,null,null,null," "]
[null,null,null,null,null," "]
[null,null,null,null,null," "]
[null,null,null,null,null," "]
[null,null,null,null,null," "]
[null,null,null,null,null," "]
[null,null,null,null,null," "]
[null,null,null,null,null," "]
[null,null,null,null,null," "]
[null,null,null,null,null," "]
[null,null,null,null,null," "]
[null,null,null,null,null," "]
[null,null,null,null,null," "]
[null,null,null,null,null," "]
[null,null,null,null,null," "]
[null,null,null,null,null," "]
[null,null,null,null,null," "]
[null,null,null,null,null," "]
[null,null,null,null,null," "]
[null,null,null,null,null," "]
[null,null,null,null,null," "]
[null,null,null,null,null," "]
[null,null,null,null,null," "]
[null,null,null,null,null," "]
[null,null,null,null,null," "]
[null,null,null,null,null," "]
[null,null,null,null,null," "]
[null,null,null,null,null," "]
[null,null,null,null,null," "]
[null,null,null,null,null," "]
[null,null,null,null,null," "]
[null,null,null,null,null," "]
[null,null,null,null,null," "]
[null,null,null,null,null," "]
[null,null,null,null,null," "]
[null,null,null,null,null," "]
[null,null,null,null,null," "]
[null,null,null,null,null," "]
[null,null,null,null,null," "]
[null,null,null,null,null," "]
[null,null,null,null,null," "]
[null,null,null,null,null," "]
[null,null,null,null,null," "]
[null,null,null,null,null," "]
[null,null,null,null,null," "]
[null,null,null,null,null," "]
[null,null,null,null,null," "]
[null,null,null,null,null," "]
[null,null,null,null,null," "]
[null,null,null,null,null," "]
[null,null,null,null,null," "]
[null,null,null,null,null," "]
[null,null,null,null,null," "]
[null,null,null,null,null," "]
[null,null,null,null,null," "]
[null,null,null,null,null," "]
[null,null,null,null,null," "]
[null,null,null,null,null," "]
[null,null,null,null,null," "]
[null,null,null,null,null," "]
[null,null,null,null,null," "]
[null,null,null,null,null," "]
[null,null,null,null,null," "]
[null,null,null,null,null," "]
[null,null,null,null,null," "]
[null,null,null,null,null," "]
[null,null,null,null,null," "]
[null,null,null,null,null," "]
[null,null,null,null,null," "]
[null,null,null,null,null," "]
[null,null,null,null,null," "]
[null,null,null,null,null," "]
[null,null,null,null,null," "]
[null,null,null,null,null," "]
[null,null,null,null,null," "]
[null,null,null,null,null," "]
[null,null,null,null,null," "]
[null,null,null,null,null," "]
[null,null,null,null,null," "]
[null,null,null,null,null," "]
[null,null,null,null,null," "]
[null,null,null,null,null," "]
[null,null,null,null,null," "]
[null,null,null,null,null," "]
[null,null,null,null,null," "]
[null,null,null,null,null," "]
[null,null,null,null,null," "]
[null,null,null,null,null," "]
[null,null,null,null,null," "]
[null,null,null,null,null," "]
[null,null,null,null,null," "]
[null,null,null,null,null," "]
[null,null,null,null,null," "]
[null,null,null,null,null," "]
[null,null,null,null,null," "]
[null,null,null,null,null," "]
[null,null,null,null,null," "]
[null,null,null,null,null," "]
[null,null,null,null,null," "]
[null,null,null,null,null," "]
[null,null,null,null,null," "]
[null,null,null,null,null," "]
[null,null,null,null,null," "]
[null,null,null,null,null," "]
[null,null,null,null,null," "]
[null,null,null,null,null," "]
[null,null,null,null,null," "]
[null,null,null,null,null," "]
[null,null,null,null,null," "]
[null,null,null,null,null," "]
[null,null,null,null,null," "]
[null,null,null,null,null," "]
[null,null,null,null,null," "]
[null,null,null,null,null," "]
[null,null,null,null,null," "]
[null,null,null,null,null," "]
[null,null,null,null,null," "]
[null,null,null,null,null," "]
[null,null,null,null,null," "]
[null,null,null,null,null," "]
[null,null,null,null,null," "]
[null,null,null,null,null," "]
[null,null,null,null,null," "]
[null,null,null,null,null," "]
[null,null,null,null,null," "]
[null,null,null,null,null," "]
[null,null,null,null,null," "]
[null,null,null,null,null," "]
[null,null,null,null,null," "]
[null,null,null,null,null," "]
[null,null,null,null,null," "]
[null,null,null,null,null," "]
[null,null,null,null,null," "]
[null,null,null,null,null," "]
[null,null,null,null,null," "]
[null,null,null,null,null," "]
[null,null,null,null,null," "]
[null,null,null,null,null," "]
[null,null,null,null,null," "]
[null,null,null,null,null," "]
[null,null,null,null,null," "]
[null,null,null,null,null," "]
[null,null,null,null,null," "]
[null,null,null,null,null," "]
[null,null,null,null,null," "]
[null,null,null,null,null," "]
[null,null,null,null,null," "]
[null,null,null,null,null," "]
[null,null,null,null,null," "]
[null,null,null,null,null," "]
[null,null,null,null,null," "]
[null,null,null,null,null," "]
[null,null,null,null,null," "]
[null,null,null,null,null," "]
[null,null,null,null,null," "]
[null,null,null,null,null," "]
[null,null,null,null,null," "]
[null,null,null,null,null," "]
[null,null,null,null,null," "]
[null,null,null,null,null," "]
[null,null,null,null,null," "]
[null,null,null,null,null," "]
[null,null,null,null,null," "]
[null,null,null,null,null," "]
[null,null,null,null,null," "]
[null,null,null,null,null," "]
[null,null,null,null,null," "]
[null,null,null,null,null," "]
[null,null,null,null,null," "]
[null,null,null,null,null," "]
[null,null,null,null,null," "]
[null,null,null,null,null," "]
[null,null,null,null,null," "]
[null,null,null,null,null," "]
[null,null,null,null,null," "]
[null,null,null,null,null," "]
[null,null,null,null,null," "]
[null,null,null,null,null," "]
[null,null,null,null,null," "]
[null,null,null,null,null," "]
[null,null,null,null,null," "]
[null,null,null,null,null," "]
[null,null,null,null,null," "]
[null,null,null,null,null," "]
[null,null,null,null,null," "]
[null,null,null,null,null," "]
[null,null,null,null,null," "]
[null,null,null,null,null," "]
[null,null,null,null,null," "]
[null,null,null,null,null," "]
[null,null,null,null,null," "]
[null,null,null,null,null," "]
[null,null,null,null,null," "]
[null,null,null,null,null," "]
[null,null,null,null,null," "]
[null,null,null,null,null," "]
[null,null,null,null,null," "]
[null,null,null,null,null," "]
[null,null,null,null,null," "]
[null,null,null,null,null," "]
[null,null,null,null,null," "]
[null,null,null,null,null," "]
[null,null,null,null,null," "]
[null,null,null,null,null," "]
[null,null,null,null,null," "]
[null,null,null,null,null," "]
[null,null,null,null,null," "]
[null,null,null,null,null," "]
[null,null,null,null,null," "]
[null,null,null,null,null," "]
[null,null,null,null,null," "]
[null,null,null,null,null," "]
[null,null,null,null,null," "]
[null,null,null,null,null," "]
[null,null,null,null,null," "]
[null,null,null,null,null," "]
[null,null,null,null,null," "]
[null,null,null,null,null," "]
[null,null,null,null,null," "]
[null,null,null,null,null," "]
[null,null,null,null,null," "]
[null,null,null,null,null," "]
[null,null,null,null,null," "]
[null,null,null,null,null," "]
[null,null,null,null,null," "]
[null,null,null,null,null," "]
[null,null,null,null,null," "]
[null,null,null,null,null," "]
[null,null,null,null,null," "]
[null,null,null,null,null," "]
[null,null,null,null,null," "]
[null,null,null,null,null," "]
[null,null,null,null,null," "]
[null,null,null,null,null," "]
[null,null,null,null,null," "]
[null,null,null,null,null," "]
[null,null,null,null,null," "]
[null,null,null,null,null," "]
[null,null,null,null,null," "]
[null,null,null,null,null," "]
[null,null,null,null,null," "]
[null,null,null,null,null," "]
[null,null,null,null,null," "]
[null,null,null,null,null," "]
[null,null,null,null,null," "]
[null,null,null,null,null," "]
[null,null,null,null,null," "]
[null,null,null,null,null," "]
[null,null,null,null,null," "]
[null,null,null,null,null," "]
[null,null,null,null,null," "]
[null,null,null,null,null," "]
[null,null,null,null,null," "]
[null,null,null,null,null," "]
[null,null,null,null,null," "]
[null,null,null,null,null," "]
[null,null,null,null,null," "]
[null,null,null,null,null," "]
[null,null,null,null,null," "]
[null,null,null,null,null," "]
[null,null,null,null,null," "]
[null,null,null,null,null," "]
[null,null,null,null,null," "]
[null,null,null,null,null," "]
[null,null,null,null,null," "]
[null,null,null,null,null," "]
[null,null,null,null,null," "]
[null,null,null,null,null," "]
[null,null,null,null,null," "]
[null,null,null,null,null," "]
[null,null,null,null,null," "]
[null,null,null,null,null," "]
[null,null,null,null,null," "]
[null,null,null,null,null," "]
[null,null,null,null,null," "]
[null,null,null,null,null," "]
[null,null,null,null,null," "]
[null,null,null,null,null," "]
[null,null,null,null,null," "]
[null,null,null,null,null," "]
[null,null,null,null,null," "]
[null,null,null,null,null," "]
[null,null,null,null,null," "]
[null,null,null,null,null," "]
[null,null,null,null,null," "]
[null,null,null,null,null," "]
[null,null,null,null,null," "]
[null,null,null,null,null," "]
[null,null,null,null,null," "]
[null,null,null,null,null," "]
[null,null,null,null,null," "]
[null,null,null,null,null," "]
[null,null,null,null,null," "]
[null,null,null,null,null," "]
[null,null,null,null,null," "]
[null,null,null,null,null," "]
[null,null,null,null,null," "]
[null,null,null,null,null," "]
[null,null,null,null,null," "]
[null,null,null,null,null," "]
[null,null,null,null,null," "]
[null,null,null,null,null," "]
[null,null,null,null,null," "]
[null,null,null,null,null," "]
[null,null,null,null,null," "]
[null,null,null,null,null," "]
[null,null,null,null,null," "]
[null,null,null,null,null," "]
[null,null,null,null,null," "]
[null,null,null,null,null," "]
[null,null,null,null,null," "]
[null,null,null,null,null," "]
[null,null,null,null,null," "]
[null,null,null,null,null," "]
[null,null,null,null,null," "]
[null,null,null,null,null," "]
[null,null,null,null,null," "]
[null,null,null,null,null," "]
[null,null,null,null,null," "]
[null,null,null,null,null," "]
[null,null,null,null,null," "]
[null,null,null,null,null," "]
[null,null,null,null,null," "]
[null,null,null,null,null," "]
[null,null,null,null,null," "]
[null,null,null,null,null," "]
[null,null,null,null,null," "]
[null,null,null,null,null," "]
[null,null,null,null,null," "]
[null,null,null,null,null," "]
[null,null,null,null,null," "]
[null,null,null,null,null," "]
[null,null,null,null,null," "]
[null,null,null,null,null," "]
[null,null,null,null,null," "]
[null,null,null,null,null," "]
[null,null,null,null,null," "]
[null,null,null,null,null," "]
[null,null,null,null,null," "]
[null,null,null,null,null," "]
[null,null,null,null,null," "]
[null,null,null,null,null," "]
[null,null,null,null,null," "]
[null,null,null,null,null," "]
[null,null,null,null,null," "]
[null,null,null,null,null," "]
[null,null,null,null,null," "]
[null,null,null,null,null," "]
[null,null,null,null,null," "]
[null,null,null,null,null," "]
[null,null,null,null,null," "]
[null,null,null,null,null," "]
[null,null,null,null,null," "]
[null,null,null,null,null," "]
[null,null,null,null,null," "]
[null,null,null,null,null," "]
[null,null,null,null,null," "]
[null,null,null,null,null," "]
[null,null,null,null,null," "]
[null,null,null,null,null," "]
[null,null,null,null,null," "]
[null,null,null,null,null," "]
[null,null,null,null,null," "]
[null,null,null,null,null," "]
[null,null,null,null,null," "]
[null,null,null,null,null," "]
[null,null,null,null,null," "]
[null,null,null,null,null," "]
[null,null,null,null,null," "]
[null,null,null,null,null," "]
[null,null,null,null,null," "]
[null,null,null,null,null," "]
[null,null,null,null,null," "]
[null,null,null,null,null," "]
[null,null,null,null,null," "]
[null,null,null,null,null," "]
[null,null,null,null,null," "]
[null,null,null,null,null," "]
[null,null,null,null,null," "]
[null,null,null,null,null," "]
[null,null,null,null,null," "]
[null,null,null,null,null," "]
[null,null,null,null,null," "]
[null,null,null,null,null," "]
[null,null,null,null,null," "]
[null,null,null,null,null," "]
[null,null,null,null,null," "]
[null,null,null,null,null," "]
[null,null,null,null,null," "]
[null,null,null,null,null," "]
[null,null,null,null,null," "]
[null,null,null,null,null," "]
[null,null,null,null,null," "]
[null,null,null,null,null," "]
[null,null,null,null,null," "]
[null,null,null,null,null," "]
[null,null,null,null,null," "]
[null,null,null,null,null," "]
[null,null,null,null,null," "]
[null,null,null,null,null," "]
[null,null,null,null,null," "]
[null,null,null,null,null," "]
[null,null,null,null,null," "]
[null,null,null,null,null," "]
[null,null,null,null,null," "]
[null,null,null,null,null," "]
[null,null,null,null,null," "]
[null,null,null,null,null," "]
[null,null,null,null,null," "]
[null,null,null,null,null," "]
[null,null,null,null,null," "]
[null,null,null,null,null," "]
[null,null,null,null,null," "]
[null,null,null,null,null," "]
[null,null,null,null,null," "]
[null,null,null,null,null," "]
[null,null,null,null,null," "]
[null,null,null,null,null," "]
[null,null,null,null,null," "]
[null,null,null,null,null," "]
[null,null,null,null,null," "]
[null,null,null,null,null," "]
[null,null,null,null,null," "]
[null,null,null,null,null," "]
[null,null,null,null,null," "]
[null,null,null,null,null," "]
[null,null,null,null,null," "]
[null,null,null,null,null," "]
[null,null,null,null,null," "]
[null,null,null,null,null," "]
[null,null,null,null,null," "]
[null,null,null,null,null," "]
[null,null,null,null,null," "]
[null,null,null,null,null," "]
[null,null,null,null,null," "]
[null,null,null,null,null," "]
[null,null,null,null,null," "]
[null,null,null,null,null," "]
[null,null,null,null,null," "]
[null,null,null,null,null," "]
[null,null,null,null,null," "]
[null,null,null,null,null," "]
[null,null,null,null,null," "]
[null,null,null,null,null," "]
[null,null,null,null,null," "]
[null,null,null,null,null," "]
[null,null,null,null,null," "]
[null,null,null,null,null," "]
[null,null,null,null,null," "]
[null,null,null,null,null," "]
[null,null,null,null,null," "]
[null,null,null,null,null," "]
[null,null,null,null,null," "]
[null,null,null,null,null," "]
[null,null,null,null,null," "]
[null,null,null,null,null," "]
[null,null,null,null,null," "]
[null,null,null,null,null," "]
[null,null,null,null,null," "]
[null,null,null,null,null," "]
[null,null,null,null,null," "]
[null,null,null,null,null," "]
[null,null,null,null,null," "]
[null,null,null,null,null," "]
[null,null,null,null,null," "]
[null,null,null,null,null," "]
[null,null,null,null,null," "]
[null,null,null,null,null," "]
[null,null,null,null,null," "]
[null,null,null,null,null," "]
[null,null,null,null,null," "]
[null,null,null,null,null," "]
[null,null,null,null,null," "]
[null,null,null,null,null," "]
[null,null,null,null,null," "]
[null,null,null,null,null," "]
[null,null,null,null,null," "]
[null,null,null,null,null," "]
[null,null,null,null,null," "]
[null,null,null,null,null," "]
[null,null,null,null,null," "]
[null,null,null,null,null," "]
[null,null,null,null,null," "]
[null,null,null,null,null," "]
[null,null,null,null,null," "]
[null,null,null,null,null," "]
[null,null,null,null,null," "]
[null,null,null,null,null," "]
[null,null,null,null,null," "]
[null,null,null,null,null," "]
[null,null,null,null,null," "]
[null,null,null,null,null," "]
[null,null,null,null,null," "]
[null,null,null,null,null," "]
[null,null,null,null,null," "]
[null,null,null,null,null," "]
[null,null,null,null,null," "]
[null,null,null,null,null," "]
[null,null,null,null,null," "]
[null,null,null,null,null," "]
[null,null,null,null,null," "]
[null,null,null,null,null," "]
[null,null,null,null,null," "]
[null,null,null,null,null," "]
[null,null,null,null,null," "]
[null,null,null,null,null," "]
[null,null,null,null,null," "]
[null,null,null,null,null," "]
[null,null,null,null,null," "]
[null,null,null,null,null," "]
[null,null,null,null,null," "]
[null,null,null,null,null," "]
[null,null,null,null,null," "]
[null,null,null,null,null," "]
[null,null,null,null,null," "]
[null,null,null,null,null," "]
[null,null,null,null,null," "]
[null,null,null,null,null," "]
[null,null,null,null,null," "]
[null,null,null,null,null," "]
[null,null,null,null,null," "]
[null,null,null,null,null," "]
[null,null,null,null,null," "]
[null,null,null,null,null," "]
[null,null,null,null,null," "]
[null,null,null,null,null," "]
[null,null,null,null,null," "]
[null,null,null,null,null," "]
[null,null,null,null,null," "]
[null,null,null,null,null," "]
[null,null,null,null,null," "]
[null,null,null,null,null," "]
[null,null,null,null,null," "]
[null,null,null,null,null," "]
[null,null,null,null,null," "]
[null,null,null,null,null," "]
[null,null,null,null,null," "]
[null,null,null,null,null," "]
[null,null,null,null,null," "]
[null,null,null,null,null," "]
[null,null,null,null,null," "]
[null,null,null,null,null," "]
[null,null,null,null,null," "]
[null,null,null,null,null," "]
[null,null,null,null,null," "]
[null,null,null,null,null," "]
[null,null,null,null,null," "]
[null,null,null,null,null," "]
[null,null,null,null,null," "]
[null,null,null,null,null," "]
[null,null,null,null,null," "]
[null,null,null,null,null," "]
[null,null,null,null,null," "]
[null,null,null,null,null," "]
[null,null,null,null,null," "]
[null,null,null,null,null," "]
[null,null,null,null,null," "]
[null,null,null,null,null," "]
[null,null,null,null,null," "]
[null,null,null,null,null," "]
[null,null,null,null,null," "]
[null,null,null,null,null," "]
[null,null,null,null,null," "]
[null,null,null,null,null," "]
[null,null,null,null,null," "]
[null,null,null,null,null," "]
[null,null,null,null,null," "]
[null,null,null,null,null," "]
[null,null,null,null,null," "]
[null,null,null,null,null," "]
[null,null,null,null,null," "]
[null,null,null,null,null," "]
[null,null,null,null,null," "]
[null,null,null,null,null," "]
[null,null,null,null,null," "]
[null,null,null,null,null," "]
[null,null,null,null,null," "]
[null,null,null,null,null," "]
[null,null,null,null,null," "]
[null,null,null,null,null," "]
[null,null,null,null,null," "]
[null,null,null,null,null," "]
[null,null,null,null,null," "]
[null,null,null,null,null," "]
[null,null,null,null,null," "]
[null,null,null,null,null," "]
[null,null,null,null,null," "]
[null,null,null,null,null," "]
[null,null,null,null,null," "]
[null,null,null,null,null," "]
[null,null,null,null,null," "]
[null,null,null,null,null," "]
[null,null,null,null,null," "]
[null,null,null,null,null," "]
[null,null,null,null,null," "]
[null,null,null,null,null," "]
[null,null,null,null,null," "]
[null,null,null,null,null," "]
[null,null,null,null,null," "]
[null,null,null,null,null," "]
[null,null,null,null,null," "]
[null,null,null,null,null," "]
[null,null,null,null,null," "]
[null,null,null,null,null," "]
[null,null,null,null,null," "]
[null,null,null,null,null," "]
[null,null,null,null,null," "]
[null,null,null,null,null," "]
[null,null,null,null,null," "]
[null,null,null,null,null," "]
[null,null,null,null,null," "]
[null,null,null,null,null," "]
[null,null,null,null,null," "]
[null,null,null,null,null," "]
[null,null,null,null,null," "]
[null,null,null,null,null," "]
[null,null,null,null,null," "]
[null,null,null,null,null," "]
[null,null,null,null,null," "]
[null,null,null,null,null," "]
[null,null,null,null,null," "]
[null,null,null,null,null," "]
[null,null,null,null,null," "]
[null,null,null,null,null," "]
[null,null,null,null,null," "]
[null,null,null,null,null," "]
[null,null,null,null,null," "]
[null,null,null,null,null," "]
[null,null,null,null,null," "]
[null,null,null,null,null," "]
[null,null,null,null,null," "]
[null,null,null,null,null," "]
[null,null,null,null,null," "]
[null,null,null,null,null," "]
[null,null,null,null,null," "]
[null,null,null,null,null," "]
[null,null,null,null,null," "]
[null,null,null,null,null," "]
[null,null,null,null,null," "]
[null,null,null,null,null," "]
[null,null,null,null,null," "]
[null,null,null,null,null," "]
[null,null,null,null,null," "]
[null,null,null,null,null," "]
[null,null,null,null,null," "]
[null,null,null,null,null," "]
[null,null,null,null,null," "]
[null,null,null,null,null," "]
[null,null,null,null,null," "]
[null,null,null,null,null," "]
[null,null,null,null,null," "]
[null,null,null,null,null," "]
[null,null,null,null,null," "]
[null,null,null,null,null," "]
[null,null,null,null,null," "]
[null,null,null,null,null," "]
[null,null,null,null,null," "]
[null,null,null,null,null," "]
[null,null,null,null,null," "]
[null,null,null,null,null," "]
[null,null,null,null,null," "]
[null,null,null,null,null," "]
[null,null,null,null,null," "]
[null,null,null,null,null," "]
[null,null,null,null,null," "]
[null,null,null,null,null," "]
[null,null,null,null,null," "]
[null,null,null,null,null," "]
[null,null,null,null,null," "]
[null,null,null,null,null," "]
[null,null,null,null,null," "]
[null,null,null,null,null," "]
[null,null,null,null,null," "]
[null,null,null,null,null," "]
[null,null,null,null,null," "]
[null,null,null,null,null," "]
[null,null,null,null,null," "]
[null,null,null,null,null," "]
[null,null,null,null,null," "]
[null,null,null,null,null," "]
[null,null,null,null,null," "]
[null,null,null,null,null," "]
[null,null,null,null,null," "]
[null,null,null,null,null," "]
[null,null,null,null,null," "]
[null,null,null,null,null," "]
[null,null,null,null,null," "]
[null,null,null,null,null," "]
[null,null,null,null,null," "]
[null,null,null,null,null," "]
[null,null,null,null,null," "]
[null,null,null,null,null," "]
[null,null,null,null,null," "]
[null,null,null,null,null," "]
[null,null,null,null,null," "]
[null,null,null,null,null," "]
[null,null,null,null,null," "]
[null,null,null,null,null," "]
[null,null,null,null,null," "]
[null,null,null,null,null," "]
[null,null,null,null,null," "]
[null,null,null,null,null," "]
[null,null,null,null,null," "]
[null,null,null,null,null," "]
[null,null,null,null,null," "]
[null,null,null,null,null," "]
[null,null,null,null,null," "]
[null,null,null,null,null," "]
[null,null,null,null,null," "]
[null,null,null,null,null," "]
[null,null,null,null,null," "]
[null,null,null,null,null," "]
[null,null,null,null,null," "]
[null,null,null,null,null," "]
[null,null,null,null,null," "]
[null,null,null,null,null," "]
[null,null,null,null,null," "]
[null,null,null,null,null," "]
[null,null,null,null,null," "]
[null,null,null,null,null," "]
[null,null,null,null,null," "]
[null,null,null,null,null," "]
[null,null,null,null,null," "]
[null,null,null,null,null," "]
[null,null,null,null,null," "]
[null,null,null,null,null," "]
[null,null,null,null,null," "]
[null,null,null,null,null," "]
[null,null,null,null,null," "]
[null,null,null,null,null," "]
[null,null,null,null,null," "]
[null,null,null,null,null," "]
[null,null,null,null,null," "]
[null,null,null,null,null," "]
[null,null,null,null,null," "]
[null,null,null,null,null," "]
[null,null,null,null,null," "]
[null,null,null,null,null," "]
[null,null,null,null,null," "]
[null,null,null,null,null," "]
[null,null,null,null,null," "]
[null,null,null,null,null," "]
[null,null,null,null,null," "]
[null,null,null,null,null," "]
[null,null,null,null,null," "]
[null,null,null,null,null," "]
[null,null,null,null,null," "]
[null,null,null,null,null," "]
[null,null,null,null,null," "]
[null,null,null,null,null," "]
[null,null,null,null,null," "]
[null,null,null,null,null," "]
[null,null,null,null,null," "]
[null,null,null,null,null," "]
[null,null,null,null,null," "]
[null,null,null,null,null," "]
[null,null,null,null,null," "]
[null,null,null,null,null," "]
[null,null,null,null,null," "]
[null,null,null,null,null," "]
[null,null,null,null,null," "]
[null,null,null,null,null," "]
[null,null,null,null,null," "]
[null,null,null,null,null," "]
[null,null,null,null,null," "]
[null,null,null,null,null," "]
[null,null,null,null,null," "]
[null,null,null,null,null," "]
[null,null,null,null,null," "]
[null,null,null,null,null," "]
[null,null,null,null,null," "]
[null,null,null,null,null," "]
[null,null,null,null,null," "]
[null,null,null,null,null," "]
[null,null,null,null,null," "]
[null,null,null,null,null," "]
[null,null,null,null,null," "]
[null,null,null,null,null," "]
[null,null,null,null,null," "]
[null,null,null,null,null," "]
[null,null,null,null,null," "]
[null,null,null,null,null," "]
[null,null,null,null,null," "]
[null,null,null,null,null," "]
[null,null,null,null,null," "]
[null,null,null,null,null," "]
[null,null,null,null,null," "]
[null,null,null,null,null," "]
[null,null,null,null,null," "]
[null,null,null,null,null," "]
[null,null,null,null,null," "]
[null,null,null,null,null," "]
[null,null,null,null,null," "]
[null,null,null,null,null," "]
[null,null,null,null,null," "]
[null,null,null,null,null," "]
[null,null,null,null,null," "]
[null,null,null,null,null," "]
[null,null,null,null,null," "]
[null,null,null,null,null," "]
[null,null,null,null,null," "]
[null,null,null,null,null," "]
[null,null,null,null,null," "]
[null,null,null,null,null," "]
[null,null,null,null,null," "]
[null,null,null,null,null," "]
[null,null,null,null,null," "]
[null,null,null,null,null," "]
[null,null,null,null,null," "]
[null,null,null,null,null," "]
[null,null,null,null,null," "]
[null,null,null,null,null," "]
[null,null,null,null,null," "]
[null,null,null,null,null," "]
[null,null,null,null,null," "]
[null,null,null,null,null," "]
[null,null,null,null,null," "]
[null,null,null,null,null," "]
[null,null,null,null,null," "]
[null,null,null,null,null," "]
[null,null,null,null,null," "]
[null,null,null,null,null," "]
[null,null,null,null,null," "]
[null,null,null,null,null," "]
[null,null,null,null,null," "]
[null,null,null,null,null," "]
[null,null,null,null,null," "]
[null,null,null,null,null," "]
[null,null,null,null,null," "]
[null,null,null,null,null," "]
[null,null,null,null,null," "]
[null,null,null,null,null," "]
[null,null,null,null,null," "]
[null,null,null,null,null," "]
[null,null,null,null,null," "]
[null,null,null,null,null," "]
[null,null,null,null,null," "]
[null,null,null,null,null," "]
[null,null,null,null,null," "]
[null,null,null,null,null," "]
[null,null,null,null,null," "]
[null,null,null,null,null," "]
[null,null,null,null,null," "]
[null,null,null,null,null," "]
[null,null,null,null,null," "]
[null,null,null,null,null," "]
[null,null,null,null,null," "]
[null,null,null,null,null," "]
[null,null,null,null,null," "]
[null,null,null,null,null," "]
[null,null,null,null,null," "]
[null,null,null,null,null," "]
[null,null,null,null,null," "]
[null,null,null,null,null," "]
[null,null,null,null,null," "]
[null,null,null,null,null," "]
[null,null,null,null,null," "]
[null,null,null,null,null," "]
[null,null,null,null,null," "]
[null,null,null,null,null," "]
[null,null,null,null,null," "]
[null,null,null,null,null," "]
[null,null,null,null,null," "]
[null,null,null,null,null," "]
[null,null,null,null,null," "]
[null,null,null,null,null," "]
[null,null,null,null,null," "]
[null,null,null,null,null," "]
[null,null,null,null,null," "]
[null,null,null,null,null," "]
[null,null,null,null,null," "]
[null,null,null,null,null," "]
[null,null,null,null,null," "]
[null,null,null,null,null," "]
[null,null,null,null,null," "]
[null,null,null,null,null," "]
[null,null,null,null,null," "]
[null,null,null,null,null," "]
[null,null,null,null,null," "]
[null,null,null,null,null," "]
[null,null,null,null,null," "]
[null,null,null,null,null," "]
[null,null,null,null,null," "]
[null,null,null,null,null," "]
[null,null,null,null,null," "]
[null,null,null,null,null," "]
[null,null,null,null,null," "]
[null,null,null,null,null," "]
[null,null,null,null,null," "]
[null,null,null,null,null," "]
[null,null,null,null,null," "]
[null,null,null,null,null," "]
[null,null,null,null,null," "]
[null,null,null,null,null," "]
[null,null,null,null,null," "]
[null,null,null,null,null," "]
[null,null,null,null,null," "]
[null,null,null,null,null," "]
[null,null,null,null,null," "]
[null,null,null,null,null," "]
[null,null,null,null,null," "]
[null,null,null,null,null," "]
[null,null,null,null,null," "]
[null,null,null,null,null," "]
[null,null,null,null,null," "]
[null,null,null,null,null," "]
[null,null,null,null,null," "]
[null,null,null,null,null," "]
[null,null,null,null,null," "]
[null,null,null,null,null," "]
[null,null,null,null,null," "]
[null,null,null,null,null," "]
[null,null,null,null,null," "]
[null,null,null,null,null," "]
[null,null,null,null,null," "]
[null,null,null,null,null," "]
[null,null,null,null,null," "]
[null,null,null,null,null," "]
[null,null,null,null,null," "]
[null,null,null,null,null," "]
[null,null,null,null,null," "]
[null,null,null,null,null," "]
[null,null,null,null,null," "]
[null,null,null,null,null," "]
[null,null,null,null,null," "]
[null,null,null,null,null," "]
[null,null,null,null,null," "]
[null,null,null,null,null," "]
[null,null,null,null,null," "]
[null,null,null,null,null," "]
[null,null,null,null,null," "]
[null,null,null,null,null," "]
[null,null,null,null,null," "]
[null,null,null,null,null," "]
[null,null,null,null,null," "]
[null,null,null,null,null," "]
[null,null,null,null,null," "]
[null,null,null,null,null," "]
[null,null,null,null,null," "]
[null,null,null,null,null," "]
[null,null,null,null,null," "]
[null,null,null,null,null," "]
[null,null,null,null,null," "]
[null,null,null,null,null," "]
[null,null,null,null,null," "]
[null,null,null,null,null," "]
[null,null,null,null,null," "]
[null,null,null,null,null," "]
[null,null,null,null,null," "]
[null,null,null,null,null," "]
[null,null,null,null,null," "]
[null,null,null,null,null," "]
[null,null,null,null,null," "]
[null,null,null,null,null," "]
[null,null,null,null,null," "]
[null,null,null,null,null," "]
[null,null,null,null,null," "]
[null,null,null,null,null," "]
[null,null,null,null,null," "]
[null,null,null,null,null," "]
[null,null,null,null,null," "]
[null,null,null,null,null," "]
[null,null,null,null,null," "]
[null,null,null,null,null," "]
[null,null,null,null,null," "]
[null,null,null,null,null," "]
[null,null,null,null,null," "]
[null,null,null,null,null," "]
[null,null,null,null,null," "]
[null,null,null,null,null," "]
[null,null,null,null,null," "]
[null,null,null,null,null," "]
[null,null,null,null,null," "]
[null,null,null,null,null," "]
[null,null,null,null,null," "]
[null,null,null,null,null," "]
[null,null,null,null,null," "]
[null,null,null,null,null," "]
[null,null,null,null,null," "]
[null,null,null,null,null," "]
[null,null,null,null,null," "]
[null,null,null,null,null," "]
[null,null,null,null,null," "]
[null,null,null,null,null," "]
[null,null,null,null,null," "]
[null,null,null,null,null," "]
[null,null,null,null,null," "]
[null,null,null,null,null," "]
[null,null,null,null,null," "]
[null,null,null,null,null," "]
[null,null,null,null,null," "]
[null,null,null,null,null," "]
[null,null,null,null,null," "]
[null,null,null,null,null," "]
[null,null,null,null,null," "]
[null,null,null,null,null," "]
[null,null,null,null,null," "]
[null,null,null,null,null," "]
[null,null,null,null,null," "]
[null,null,null,null,null," "]
[null,null,null,null,null," "]
[null,null,null,null,null," "]
[null,null,null,null,null," "]
[null,null,null,null,null," "]
[null,null,null,null,null," "]
[null,null,null,null,null," "]
[null,null,null,null,null," "]
[null,null,null,null,null," "]
[null,null,null,null,null," "]
[null,null,null,null,null," "]
[null,null,null,null,null," "]
[null,null,null,null,null," "]
[null,null,null,null,null," "]
[null,null,null,null,null," "]
[null,null,null,null,null," "]
[null,null,null,null,null," "]
[null,null,null,null,null," "]
[null,null,null,null,null," "]
[null,null,null,null,null," "]
[null,null,null,null,null," "]
[null,null,null,null,null," "]
[null,null,null,null,null," "]
[null,null,null,null,null," "]
[null,null,null,null,null," "]
[null,null,null,null,null," "]
[null,null,null,null,null," "]
[null,null,null,null,null," "]
[null,null,null,null,null," "]
[null,null,null,null,null," "]
[null,null,null,null,null," "]
[null,null,null,null,null," "]
[null,null,null,null,null," "]
[null,null,null,null,null," "]
[null,null,null,null,null," "]
[null,null,null,null,null," "]
[null,null,null,null,null," "]
[null,null,null,null,null," "]
[null,null,null,null,null," "]
[null,null,null,null,null," "]
[null,null,null,null,null," "]
[null,null,null,null,null," "]
[null,null,null,null,null," "]
[null,null,null,null,null," "]
[null,null,null,null,null," "]
[null,null,null,null,null," "]
[null,null,null,null,null," "]
[null,null,null,null,null," "]
[null,null,null,null,null," "]
[null,null,null,null,null," "]
[null,null,null,null,null," "]
[null,null,null,null,null," "]
[null,null,null,null,null," "]
[null,null,null,null,null," "]
[null,null,null,null,null," "]
[null,null,null,null,null," "]
[null,null,null,null,null," "]
[null,null,null,null,null," "]
[null,null,null,null,null," "]
[null,null,null,null,null," "]
[null,null,null,null,null," "]
[null,null,null,null,null," "]
[null,null,null,null,null," "]
[null,null,null,null,null," "]
[null,null,null,null,null," "]
[null,null,null,null,null," "]
[null,null,null,null,null," "]
[null,null,null,null,null," "]
[null,null,null,null,null," "]
[null,null,null,null,null," "]
[null,null,null,null,null," "]
[null,null,null,null,null," "]
[null,null,null,null,null," "]
[null,null,null,null,null," "]
[null,null,null,null,null," "]
[null,null,null,null,null," "]
[null,null,null,null,null," "]
[null,null,null,null,null," "]
[null,null,null,null,null," "]
[null,null,null,null,null," "]
[null,null,null,null,null," "]
[null,null,null,null,null," "]
[null,null,null,null,null," "]
[null,null,null,null,null," "]
[null,null,null,null,null," "]
[null,null,null,null,null," "]
[null,null,null,null,null," "]
[null,null,null,null,null," "]
[null,null,null,null,null," "]
[null,null,null,null,null," "]
[null,null,null,null,null," "]
[null,null,null,null,null," "]
[null,null,null,null,null," "]
[null,null,null,null,null," "]
[null,null,null,null,null," "]
[null,null,null,null,null," "]
[null,null,null,null,null," "]
[null,null,null,null,null," "]
[null,null,null,null,null," "]
[null,null,null,null,null," "]
[null,null,null,null,null," "]
[null,null,null,null,null," "]
[null,null,null,null,null," "]
[null,null,null,null,null," "]
[null,null,null,null,null," "]
[null,null,null,null,null," "]
[null,null,null,null,null," "]
[null,null,null,null,null," "]
[null,null,null,null,null," "]
[null,null,null,null,null," "]
[null,null,null,null,null," "]
[null,null,null,null,null," "]
[null,null,null,null,null," "]
[null,null,null,null,null," "]
[null,null,null,null,null," "]
[null,null,null,null,null," "]
[null,null,null,null,null," "]
[null,null,null,null,null," "]
[null,null,null,null,null," "]
[null,null,null,null,null," "]
[null,null,null,null,null," "]
[null,null,null,null,null," "]
[null,null,null,null,null," "]
[null,null,null,null,null," "]
[null,null,null,null,null," "]
[null,null,null,null,null," "]
[null,null,null,null,null," "]
[null,null,null,null,null," "]
[null,null,null,null,null," "]
[null,null,null,null,null," "]
[null,null,null,null,null," "]
[null,null,null,null,null," "]
[null,null,null,null,null," "]
[null,null,null,null,null," "]
[null,null,null,null,null," "]
[null,null,null,null,null," "]
[null,null,null,null,null," "]
[null,null,null,null,null," "]
[null,null,null,null,null," "]
[null,null,null,null,null," "]
[null,null,null,null,null," "]
[null,null,null,null,null," "]
[null,null,null,null,null," "]
[null,null,null,null,null," "]
[null,null,null,null,null," "]
[null,null,null,null,null," "]
[null,null,null,null,null," "]
[null,null,null,null,null," "]
[null,null,null,null,null," "]
[null,null,null,null,null," "]
[null,null,null,null,null," "]
[null,null,null,null,null," "]
[null,null,null,null,null," "]
[null,null,null,null,null," "]
[null,null,null,null,null," "]
[null,null,null,null,null," "]
[null,null,null,null,null," "]
[null,null,null,null,null," "]
[null,null,null,null,null," "]
[null,null,null,null,null," "]
[null,null,null,null,null," "]
[null,null,null,null,null," "]
[null,null,null,null,null," "]
[null,null,null,null,null," "]
[null,null,null,null,null," "]
[null,null,null,null,null," "]
[null,null,null,null,null," "]
[null,null,null,null,null," "]
[null,null,null,null,null," "]
[null,null,null,null,null," "]
[null,null,null,null,null," "]
[null,null,null,null,null," "]
[null,null,null,null,null," "]
[null,null,null,null,null," "]
[null,null,null,null,null," "]
[null,null,null,null,null," "]
[null,null,null,null,null," "]
[null,null,null,null,null," "]
[null,null,null,null,null," "]
[null,null,null,null,null," "]
[null,null,null,null,null," "]
[null,null,null,null,null," "]
[null,null,null,null,null," "]
[null,null,null,null,null," "]
[null,null,null,null,null," "]
[null,null,null,null,null," "]
[null,null,null,null,null," "]
[null,null,null,null,null," "]
[null,null,null,null,null," "]
[null,null,null,null,null," "]
[null,null,null,null,null," "]
[null,null,null,null,null," "]
[null,null,null,null,null," "]
[null,null,null,null,null," "]
[null,null,null,null,null," "]
[null,null,null,null,null," "]
[null,null,null,null,null," "]
[null,null,null,null,null," "]
[null,null,null,null,null," "]
[null,null,null,null,null," "]
[null,null,null,null,null," "]
[null,null,null,null,null," "]
[null,null,null,null,null," "]
[null,null,null,null,null," "]
[null,null,null,null,null," "]
[null,null,null,null,null," "]
[null,null,null,null,null," "]
[null,null,null,null,null," "]
[null,null,null,null,null," "]
[null,null,null,null,null," "]
[null,null,null,null,null," "]
[null,null,null,null,null," "]
[null,null,null,null,null," "]
[null,null,null,null,null," "]
[null,null,null,null,null," "]
[null,null,null,null,null," "]
[null,null,null,null,null," "]
[null,null,null,null,null," "]
[null,null,null,null,null," "]
[null,null,null,null,null," "]
[null,null,null,null,null," "]
[null,null,null,null,null," "]
[null,null,null,null,null," "]
[null,null,null,null,null," "]
[null,null,null,null,null," "]
[null,null,null,null,null," "]
[null,null,null,null,null," "]
[null,null,null,null,null," "]
[null,null,null,null,null," "]
[null,null,null,null,null," "]
[null,null,null,null,null," "]
[null,null,null,null,null," "]
[null,null,null,null,null," "]
[null,null,null,null,null," "]
[null,null,null,null,null," "]
[null,null,null,null,null," "]
[null,null,null,null,null," "]
[null,null,null,null,null," "]
[null,null,null,null,null," "]
[null,null,null,null,null," "]
[null,null,null,null,null," "]
[null,null,null,null,null," "]
[null,null,null,null,null," "]
[null,null,null,null,null," "]
[null,null,null,null,null," "]
[null,null,null,null,null," "]
[null,null,null,null,null," "]
[null,null,null,null,null," "]
[null,null,null,null,null," "]
[null,null,null,null,null," "]
[null,null,null,null,null," "]
[null,null,null,null,null," "]
[null,null,null,null,null," "]
[null,null,null,null,null," "]
[null,null,null,null,null," "]
[null,null,null,null,null," "]
[null,null,null,null,null," "]
[null,null,null,null,null," "]
[null,null,null,null,null," "]
[null,null,null,null,null," "]
[null,null,null,null,null," "]
[null,null,null,null,null," "]
[null,null,null,null,null," "]
[null,null,null,null,null," "]
[null,null,null,null,null," "]
[null,null,null,null,null," "]
[null,null,null,null,null," "]
[null,null,null,null,null," "]
[null,null,null,null,null," "]
[null,null,null,null,null," "]
[null,null,null,null,null," "]
[null,null,null,null,null," "]
[null,null,null,null,null," "]
[null,null,null,null,null," "]
[null,null,null,null,null," "]
[null,null,null,null,null," "]
[null,null,null,null,null," "]
[null,null,null,null,null," "]
[null,null,null,null,null," "]
[null,null,null,null,null," "]
[null,null,null,null,null," "]
[null,null,null,null,null," "]
[null,null,null,null,null," "]
[null,null,null,null,null," "]
[null,null,null,null,null," "]
[null,null,null,null,null," "]
[null,null,null,null,null," "]
[null,null,null,null,null," "]
[null,null,null,null,null," "]
[null,null,null,null,null," "]
[null,null,null,null,null," "]
[null,null,null,null,null," "]
[null,null,null,null,null," "]
[null,null,null,null,null," "]
[null,null,null,null,null," "]
[null,null,null,null,null," "]
[null,null,null,null,null," "]
[null,null,null,null,null," "]
[null,null,null,null,null," "]
[null,null,null,null,null," "]
[null,null,null,null,null," "]
[null,null,null,null,null," "]
[null,null,null,null,null," "]
[null,null,null,null,null," "]
[null,null,null,null,null," "]
[null,null,null,null,null," "]
[null,null,null,null,null," "]
[null,null,null,null,null," "]
[null,null,null,null,null," "]
[null,null,null,null,null," "]
[null,null,null,null,null," "]
[null,null,null,null,null," "]
[null,null,null,null,null," "]
[null,null,null,null,null," "]
[null,null,null,null,null," "]
[null,null,null,null,null," "]
[null,null,null,null,null," "]
[null,null,null,null,null," "]
[null,null,null,null,null," "]
[null,null,null,null,null," "]
[null,null,null,null,null," "]
[null,null,null,null,null," "]
[null,null,null,null,null," "]
[null,null,null,null,null," "]
[null,null,null,null,null," "]
[null,null,null,null,null," "]
[null,null,null,null,null," "]
[null,null,null,null,null," "]
[null,null,null,null,null," "]
[null,null,null,null,null," "]
[null,null,null,null,null," "]
[null,null,null,null,null," "]
[null,null,null,null,null," "]
[null,null,null,null,null," "]
[null,null,null,null,null," "]
[null,null,null,null,null," "]
[null,null,null,null,null," "]
[null,null,null,null,null," "]
[null,null,null,null,null," "]
[null,null,null,null,null," "]
[null,null,null,null,null," "]
[null,null,null,null,null," "]
[null,null,null,null,null," "]
[null,null,null,null,null," "]
[null,null,null,null,null," "]
[null,null,null,null,null," "]
[null,null,null,null,null," "]
[null,null,null,null,null," "]
[null,null,null,null,null," "]
[null,null,null,null,null," "]
[null,null,null,null,null," "]
[null,null,null,null,null," "]
[null,null,null,null,null," "]
[null,null,null,null,null," "]
[null,null,null,null,null," "]
[null,null,null,null,null," "]
[null,null,null,null,null," "]
[null,null,null,null,null," "]
[null,null,null,null,null," "]
[null,null,null,null,null," "]
[null,null,null,null,null," "]
[null,null,null,null,null," "]
[null,null,null,null,null," "]
[null,null,null,null,null," "]
[null,null,null,null,null," "]
[null,null,null,null,null," "]
[null,null,null,null,null," "]
[null,null,null,null,null," "]
[null,null,null,null,null," "]
[null,null,null,null,null," "]
[null,null,null,null,null," "]
[null,null,null,null,null," "]
[null,null,null,null,null," "]
[null,null,null,null,null," "]
[null,null,null,null,null," "]
[null,null,null,null,null," "]
[null,null,null,null,null," "]
[null,null,null,null,null," "]
[null,null,null,null,null," "]
[null,null,null,null,null," "]
[null,null,null,null,null," "]
[null,null,null,null,null," "]
[null,null,null,null,null," "]
[null,null,null,null,null," "]
[null,null,null,null,null," "]
[null,null,null,null,null," "]
[null,null,null,null,null," "]
[null,null,null,null,null," "]
[null,null,null,null,null," "]
[null,null,null,null,null," "]
[null,null,null,null,null," "]
[null,null,null,null,null," "]
[null,null,null,null,null," "]
[null,null,null,null,null," "]
[null,null,null,null,null," "]
[null,null,null,null,null," "]
[null,null,null,null,null," "]
[null,null,null,null,null," "]
[null,null,null,null,null," "]
[null,null,null,null,null," "]
[null,null,null,null,null," "]
[null,null,null,null,null," "]
[null,null,null,null,null," "]
[null,null,null,null,null," "]
[null,null,null,null,null," "]
[null,null,null,null,null," "]
[null,null,null,null,null," "]
[null,null,null,null,null," "]
[null,null,null,null,null," "]
[null,null,null,null,null," "]
[null,null,null,null,null," "]
[null,null,null,null,null," "]
[null,null,null,null,null," "]
[null,null,null,null,null," "]
[null,null,null,null,null," "]
[null,null,null,null,null," "]
[null,null,null,null,null," "]
[null,null,null,null,null," "]
[null,null,null,null,null," "]
[null,null,null,null,null," "]
[null,null,null,null,null," "]
[null,null,null,null,null," "]
[null,null,null,null,null," "]
[null,null,null,null,null," "]
[null,null,null,null,null," "]
[null,null,null,null,null," "]
[null,null,null,null,null," "]
[null,null,null,null,null," "]
[null,null,null,null,null," "]
[null,null,null,null,null," "]
[null,null,null,null,null," "]
[null,null,null,null,null," "]
[null,null,null,null,null," "]
[null,null,null,null,null," "]
[null,null,null,null,null," "]
[null,null,null,null,null," "]
[null,null,null,null,null," "]
[null,null,null,null,null," "]
[null,null,null,null,null," "]
[null,null,null,null,null," "]
[null,null,null,null,null," "]
[null,null,null,null,null," "]
[null,null,null,null,null," "]
[null,null,null,null,null," "]
[null,null,null,null,null," "]
[null,null,null,null,null," "]
[null,null,null,null,null," "]
[null,null,null,null,null," "]
[null,null,null,null,null," "]
[null,null,null,null,null," "]
[null,null,null,null,null," "]
[null,null,null,null,null," "]
[null,null,null,null,null," "]
[null,null,null,null,null," "]
[null,null,null,null,null," "]
[null,null,null,null,null," "]
[null,null,null,null,null," "]
[null,null,null,null,null," "]
[null,null,null,null,null," "]
[null,null,null,null,null," "]
[null,null,null,null,null," "]
[null,null,null,null,null," "]
[null,null,null,null,null," "]
[null,null,null,null,null," "]
[null,null,null,null,null," "]
[null,null,null,null,null," "]
[null,null,null,null,null," "]
[null,null,null,null,null," "]
[null,null,null,null,null," "]
[null,null,null,null,null," "]
[null,null,null,null,null," "]
[null,null,null,null,null," "]
[null,null,null,null,null," "]
[null,null,null,null,null," "]
[null,null,null,null,null," "]
[null,null,null,null,null," "]
[null,null,null,null,null," "]
[null,null,null,null,null," "]
[null,null,null,null,null," "]
[null,null,null,null,null," "]
[null,null,null,null,null," "]
[null,null,null,null,null," "]
[null,null,null,null,null," "]
[null,null,null,null,null," "]
[null,null,null,null,null," "]
[null,null,null,null,null," "]
[null,null,null,null,null," "]
[null,null,null,null,null," "]
[null,null,null,null,null," "]
[null,null,null,null,null," "]
[null,null,null,null,null," "]
[null,null,null,null,null," "]
[null,null,null,null,null," "]
[null,null,null,null,null," "]
[null,null,null,null,null," "]
[null,null,null,null,null," "]
[null,null,null,null,null," "]
[null,null,null,null,null," "]
[null,null,null,null,null," "]
[null,null,null,null,null," "]
[null,null,null,null,null," "]
[null,null,null,null,null," "]
[null,null,null,null,null," "]
[null,null,null,null,null," "]
[null,null,null,null,null," "]
[null,null,null,null,null," "]
[null,null,null,null,null," "]
[null,null,null,null,null," "]
[null,null,null,null,null," "]
[null,null,null,null,null," "]
[null,null,null,null,null," "]
[null,null,null,null,null," "]
[null,null,null,null,null," "]
[null,null,null,null,null," "]
[null,null,null,null,null," "]
[null,null,null,null,null," "]
[null,null,null,null,null," "]
[null,null,null,null,null," "]
[null,null,null,null,null," "]
[null,null,null,null,null," "]
[null,null,null,null,null," "]
[null,null,null,null,null," "]
[null,null,null,null,null," "]
[null,null,null,null,null," "]
[null,null,null,null,null," "]
[null,null,null,null,null," "]
[null,null,null,null,null," "]
[null,null,null,null,null," "]
[null,null,null,null,null," "]
[null,null,null,null,null," "]
[null,null,null,null,null," "]
[null,null,null,null,null," "]
[null,null,null,null,null," "]
[null,null,null,null,null," "]
[null,null,null,null,null," "]
[null,null,null,null,null," "]
[null,null,null,null,null," "]
[null,null,null,null,null," "]
[null,null,null,null,null," "]
[null,null,null,null,null," "]
[null,null,null,null,null," "]
[null,null,null,null,null," "]
[null,null,null,null,null," "]
[null,null,null,null,null," "]
[null,null,null,null,null," "]
[null,null,null,null,null," "]
[null,null,null,null,null," "]
[null,null,null,null,null," "]
[null,null,null,null,null," "]
[null,null,null,null,null," "]
[null,null,null,null,null," "]
[null,null,null,null,null," "]
[null,null,null,null,null," "]
[null,null,null,null,null," "]
[null,null,null,null,null," "]
[null,null,null,null,null," "]
[null,null,null,null,null," "]
[null,null,null,null,null," "]
[null,null,null,null,null," "]
[null,null,null,null,null," "]
[null,null,null,null,null," "]
[null,null,null,null,null," "]
[null,null,null,null,null," "]
[null,null,null,null,null," "]
[null,null,null,null,null," "]
[null,null,null,null,null," "]
[null,null,null,null,null," "]
[null,null,null,null,null," "]
[null,null,null,null,null," "]
[null,null,null,null,null," "]
[null,null,null,null,null," "]
[null,null,null,null,null," "]
[null,null,null,null,null," "]
[null,null,null,null,null," "]
[null,null,null,null,null," "]
[null,null,null,null,null," "]
[null,null,null,null,null," "]
[null,null,null,null,null," "]
[null,null,null,null,null," "]
[null,null,null,null,null," "]
[null,null,null,null,null," "]
[null,null,null,null,null," "]
[null,null,null,null,null," "]
[null,null,null,null,null," "]
[null,null,null,null,null," "]
[null,null,null,null,null," "]
[null,null,null,null,null," "]
[null,null,null,null,null," "]
[null,null,null,null,null," "]
[null,null,null,null,null," "]
[null,null,null,null,null," "]
[null,null,null,null,null," "]
[null,null,null,null,null," "]
[null,null,null,null,null," "]
[null,null,null,null,null," "]
[null,null,null,null,null," "]
[null,null,null,null,null," "]
[null,null,null,null,null," "]
[null,null,null,null,null," "]
[null,null,null,null,null," "]
[null,null,null,null,null," "]
[null,null,null,null,null," "]
[null,null,null,null,null," "]
[null,null,null,null,null," "]
[null,null,null,null,null," "]
[null,null,null,null,null," "]
[null,null,null,null,null," "]
[null,null,null,null,null," "]
[null,null,null,null,null," "]
[null,null,null,null,null," "]
[null,null,null,null,null," "]
[null,null,null,null,null," "]
[null,null,null,null,null," "]
[null,null,null,null,null," "]
[null,null,null,null,null," "]
[null,null,null,null,null," "]
[null,null,null,null,null," "]
[null,null,null,null,null," "]
[null,null,null,null,null," "]
[null,null,null,null,null," "]
[null,null,null,null,null," "]
[null,null,null,null,null," "]
[null,null,null,null,null," "]
[null,null,null,null,null," "]
[null,null,null,null,null," "]
[null,null,null,null,null," "]
[null,null,null,null,null," "]
[null,null,null,null,null," "]
[null,null,null,null,null," "]
[null,null,null,null,null," "]
[null,null,null,null,null," "]
[null,null,null,null,null," "]
[null,null,null,null,null," "]
[null,null,null,null,null," "]
[null,null,null,null,null," "]
[null,null,null,null,null," "]
[null,null,null,null,null," "]
[null,null,null,null,null," "]
[null,null,null,null,null," "]
[null,null,null,null,null," "]
[null,null,null,null,null," "]
[null,null,null,null,null," "]
[null,null,null,null,null," "]
[null,null,null,null,null," "]
[null,null,null,null,null," "]
[null,null,null,null,null," "]
[null,null,null,null,null," "]
[null,null,null,null,null," "]
[null,null,null,null,null," "]
[null,null,null,null,null," "]
[null,null,null,null,null," "]
[null,null,null,null,null," "]
[null,null,null,null,null," "]
[null,null,null,null,null," "]
[null,null,null,null,null," "]
[null,null,null,null,null," "]
[null,null,null,null,null," "]
[null,null,null,null,null," "]
[null,null,null,null,null," "]
[null,null,null,null,null," "]
[null,null,null,null,null," "]
[null,null,null,null,null," "]
[null,null,null,null,null," "]
[null,null,null,null,null," "]
[null,null,null,null,null," "]
[null,null,null,null,null," "]
[null,null,null,null,null," "]
[null,null,null,null,null," "]
[null,null,null,null,null," "]
[null,null,null,null,null," "]
[null,null,null,null,null," "]
[null,null,null,null,null," "]
[null,null,null,null,null," "]
[null,null,null,null,null," "]
[null,null,null,null,null," "]
[null,null,null,null,null," "]
[null,null,null,null,null," "]
[null,null,null,null,null," "]
[null,null,null,null,null," "]
[null,null,null,null,null," "]
[null,null,null,null,null," "]
[null,null,null,null,null," "]
[null,null,null,null,null," "]
[null,null,null,null,null," "]
[null,null,null,null,null," "]
[null,null,null,null,null," "]
[null,null,null,null,null," "]
[null,null,null,null,null," "]
[null,null,null,null,null," "]
[null,null,null,null,null," "]
[null,null,null,null,null," "]
[null,null,null,null,null," "]
[null,null,null,null,null," "]
[null,null,null,null,null," "]
[null,null,null,null,null," "]
[null,null,null,null,null," "]
[null,null,null,null,null," "]
[null,null,null,null,null," "]
[null,null,null,null,null," "]
[null,null,null,null,null," "]
[null,null,null,null,null," "]
[null,null,null,null,null," "]
[null,null,null,null,null," "]
[null,null,null,null,null," "]
[null,null,null,null,null," "]
[null,null,null,null,null," "]
[null,null,null,null,null," "]
[null,null,null,null,null," "]
[null,null,null,null,null," "]
[null,null,null,null,null," "]
[null,null,null,null,null," "]
[null,null,null,null,null," "]
[null,null,null,null,null," "]
[null,null,null,null,null," "]
[null,null,null,null,null," "]
[null,null,null,null,null," "]
[null,null,null,null,null," "]
[null,null,null,null,null," "]
[null,null,null,null,null," "]
[null,null,null,null,null," "]
[null,null,null,null,null," "]
[null,null,null,null,null," "]
[null,null,null,null,null," "]
[null,null,null,null,null," "]
[null,null,null,null,null," "]
[null,null,null,null,null," "]
[null,null,null,null,null," "]
[null,null,null,null,null," "]
[null,null,null,null,null," "]
[null,null,null,null,null," "]
[null,null,null,null,null," "]
[null,null,null,null,null," "]
[null,null,null,null,null," "]
[null,null,null,null,null," "]
[null,null,null,null,null," "]
[null,null,null,null,null," "]
[null,null,null,null,null," "]
[null,null,null,null,null," "]
[null,null,null,null,null," "]
[null,null,null,null,null," "]
[null,null,null,null,null," "]
[null,null,null,null,null," "]
[null,null,null,null,null," "]
[null,null,null,null,null," "]
[null,null,null,null,null," "]
[null,null,null,null,null," "]
[null,null,null,null,null," "]
[null,null,null,null,null," "]
[null,null,null,null,null," "]
[null,null,null,null,null," "]
[null,null,null,null,null," "]
[null,null,null,null,null," "]
[null,null,null,null,null," "]
[null,null,null,null,null," "]
[null,null,null,null,null," "]
[null,null,null,null,null," "]
[null,null,null,null,null," "]
[null,null,null,null,null," "]
[null,null,null,null,null," "]
[null,null,null,null,null," "]
[null,null,null,null,null," "]
[null,null,null,null,null," "]
[null,null,null,null,null," "]
[null,null,null,null,null," "]
[null,null,null,null,null," "]
[null,null,null,null,null," "]
[null,null,null,null,null," "]
[null,null,null,null,null," "]
[null,null,null,null,null," "]
[null,null,null,null,null," "]
[null,null,null,null,null," "]
[null,null,null,null,null," "]
[null,null,null,null,null," "]
[null,null,null,null,null," "]
[null,null,null,null,null," "]
[null,null,null,null,null," "]
[null,null,null,null,null," "]
[null,null,null,null,null," "]
[null,null,null,null,null," "]
[null,null,null,null,null," "]
[null,null,null,null,null," "]
[null,null,null,null,null," "]
[null,null,null,null,null," "]
[null,null,null,null,null," "]
[null,null,null,null,null," "]
[null,null,null,null,null," "]
[null,null,null,null,null," "]
[null,null,null,null,null," "]
[null,null,null,null,null," "]
[null,null,null,null,null," "]
[null,null,null,null,null," "]
[null,null,null,null,null," "]
[null,null,null,null,null," "]
[null,null,null,null,null," "]
[null,null,null,null,null," "]
[null,null,null,null,null," "]
[null,null,null,null,null," "]
[null,null,null,null,null," "]
[null,null,null,null,null," "]
[null,null,null,null,null," "]
[null,null,null,null,null," "]
[null,null,null,null,null," "]
[null,null,null,null,null," "]
[null,null,null,null,null," "]
[null,null,null,null,null," "]
[null,null,null,null,null," "]
[null,null,null,null,null," "]
[null,null,null,null,null," "]
[null,null,null,null,null," "]
[null,null,null,null,null," "]
[null,null,null,null,null," "]
[null,null,null,null,null," "]
[null,null,null,null,null," "]
[null,null,null,null,null," "]
[null,null,null,null,null," "]
[null,null,null,null,null," "]
[null,null,null,null,null," "]
[null,null,null,null,null," "]
[null,null,null,null,null," "]
[null,null,null,null,null," "]
[null,null,null,null,null," "]
[null,null,null,null,null," "]
[null,null,null,null,null," "]
[null,null,null,null,null," "]
[null,null,null,null,null," "]
[null,null,null,null,null," "]
[null,null,null,null,null," "]
[null,null,null,null,null," "]
[null,null,null,null,null," "]
[null,null,null,null,null," "]
[null,null,null,null,null," "]
[null,null,null,null,null," "]
[null,null,null,null,null," "]
[null,null,null,null,null," "]
[null,null,null,null,null," "]
[null,null,null,null,null," "]
[null,null,null,null,null," "]
[null,null,null,null,null," "]
[null,null,null,null,null," "]
[null,null,null,null,null," "]
[null,null,null,null,null," "]
[null,null,null,null,null," "]
[null,null,null,null,null," "]
[null,null,null,null,null," "]
[null,null,null,null,null," "]
[null,null,null,null,null," "]
[null,null,null,null,null," "]
[null,null,null,null,null," "]
[null,null,null,null,null," "]
[null,null,null,null,null," "]
[null,null,null,null,null," "]
[null,null,null,null,null," "]
[null,null,null,null,null," "]
[null,null,null,null,null," "]
[null,null,null,null,null," "]
[null,null,null,null,null," "]
[null,null,null,null,null," "]
[null,null,null,null,null," "]
[null,null,null,null,null," "]
[null,null,null,null,null," "]
[null,null,null,null,null," "]
[null,null,null,null,null," "]
[null,null,null,null,null," "]
[null,null,null,null,null," "]
[null,null,null,null,null," "]
[null,null,null,null,null," "]
[null,null,null,null,null," "]
[null,null,null,null,null," "]
[null,null,null,null,null," "]
[null,null,null,null,null," "]
[null,null,null,null,null," "]
[null,null,null,null,null," "]
[null,null,null,null,null," "]
[null,null,null,null,null," "]
[null,null,null,null,null," "]
[null,null,null,null,null," "]
[null,null,null,null,null," "]
[null,null,null,null,null," "]
[null,null,null,null,null," "]
[null,null,null,null,null," "]
[null,null,null,null,null," "]
[null,null,null,null,null," "]
[null,null,null,null,null," "]
[null,null,null,null,null," "]
[null,null,null,null,null," "]
[null,null,null,null,null," "]
[null,null,null,null,null," "]
[null,null,null,null,null," "]
[null,null,null,null,null," "]
[null,null,null,null,null," "]
[null,null,null,null,null," "]
[null,null,null,null,null," "]
[null,null,null,null,null," "]
[null,null,null,null,null," "]
[null,null,null,null,null," "]
[null,null,null,null,null," "]
[null,null,null,null,null," "]
[null,null,null,null,null," "]
[null,null,null,null,null," "]
[null,null,null,null,null," "]
[null,null,null,null,null," "]
[null,null,null,null,null," "]
[null,null,null,null,null," "]
[null,null,null,null,null," "]
[null,null,null,null,null," "]
[null,null,null,null,null," "]
[null,null,null,null,null," "]
[null,null,null,null,null," "]
[null,null,null,null,null," "]
[null,null,null,null,null," "]
[null,null,null,null,null," "]
[null,null,null,null,null," "]
[null,null,null,null,null," "]
[null,null,null,null,null," "]
[null,null,null,null,null," "]
[null,null,null,null,null," "]
[null,null,null,null,null," "]
[null,null,null,null,null," "]
[null,null,null,null,null," "]
[null,null,null,null,null," "]
[null,null,null,null,null," "]
[null,null,null,null,null," "]
[null,null,null,null,null," "]
[null,null,null,null,null," "]
[null,null,null,null,null," "]
[null,null,null,null,null," "]
[null,null,null,null,null," "]
[null,null,null,null,null," "]
[null,null,null,null,null," "]
[null,null,null,null,null," "]
[null,null,null,null,null," "]
[null,null,null,null,null," "]
[null,null,null,null,null," "]
[null,null,null,null,null," "]
[null,null,null,null,null," "]
[null,null,null,null,null," "]
[null,null,null,null,null," "]
[null,null,null,null,null," "]
[null,null,null,null,null," "]
[null,null,null,null,null," "]
[null,null,null,null,null," "]
[null,null,null,null,null," "]
[null,null,null,null,null," "]
[null,null,null,null,null," "]
[null,null,null,null,null," "]
[null,null,null,null,null," "]
[null,null,null,null,null," "]
[null,null,null,null,null," "]
[null,null,null,null,null," "]
[null,null,null,null,null," "]
[null,null,null,null,null," "]
[null,null,null,null,null," "]
[null,null,null,null,null," "]
[null,null,null,null,null," "]
[null,null,null,null,null," "]
[null,null,null,null,null," "]
[null,null,null,null,null," "]
[null,null,null,null,null," "]
[null,null,null,null,null," "]
[null,null,null,null,null," "]
[null,null,null,null,null," "]
[null,null,null,null,null," "]
[null,null,null,null,null," "]
[null,null,null,null,null," "]
[null,null,null,null,null," "]
[null,null,null,null,null," "]
[null,null,null,null,null," "]
[null,null,null,null,null," "]
[null,null,null,null,null," "]
[null,null,null,null,null," "]
[null,null,null,null,null," "]
[null,null,null,null,null," "]
[null,null,null,null,null," "]
[null,null,null,null,null," "]
[null,null,null,null,null," "]
[null,null,null,null,null," "]
[null,null,null,null,null," "]
[null,null,null,null,null," "]
[null,null,null,null,null," "]
[null,null,null,null,null," "]
[null,null,null,null,null," "]
[null,null,null,null,null," "]
[null,null,null,null,null," "]
[null,null,null,null,null," "]
[null,null,null,null,null," "]
[null,null,null,null,null," "]
[null,null,null,null,null," "]
[null,null,null,null,null," "]
[null,null,null,null,null," "]
[null,null,null,null,null," "]
[null,null,null,null,null," "]
[null,null,null,null,null," "]
[null,null,null,null,null," "]
[null,null,null,null,null," "]
[null,null,null,null,null," "]
[null,null,null,null,null," "]
[null,null,null,null,null," "]
[null,null,null,null,null," "]
[null,null,null,null,null," "]
[null,null,null,null,null," "]
[null,null,null,null,null," "]
[null,null,null,null,null," "]
[null,null,null,null,null," "]
[null,null,null,null,null," "]
[null,null,null,null,null," "]
[null,null,null,null,null," "]
[null,null,null,null,null," "]
[null,null,null,null,null," "]
[null,null,null,null,null," "]
[null,null,null,null,null," "]
[null,null,null,null,null," "]
[null,null,null,null,null," "]
[null,null,null,null,null," "]
[null,null,null,null,null," "]
[null,null,null,null,null," "]
[null,null,null,null,null," "]
[null,null,null,null,null," "]
[null,null,null,null,null," "]
[null,null,null,null,null," "]
[null,null,null,null,null," "]
[null,null,null,null,null," "]
[null,null,null,null,null," "]
[null,null,null,null,null," "]
[null,null,null,null,null," "]
[null,null,null,null,null," "]
[null,null,null,null,null," "]
[null,null,null,null,null," "]
[null,null,null,null,null," "]
[null,null,null,null,null," "]
[null,null,null,null,null," "]
[null,null,null,null,null," "]
[null,null,null,null,null," "]
[null,null,null,null,null," "]
[null,null,null,null,null," "]
[null,null,null,null,null," "]
[null,null,null,null,null," "]
[null,null,null,null,null," "]
[null,null,null,null,null," "]
[null,null,null,null,null," "]
[null,null,null,null,null," "]
[null,null,null,null,null," "]
[null,null,null,null,null," "]
[null,null,null,null,null," "]
[null,null,null,null,null," "]
[null,null,null,null,null," "]
[null,null,null,null,null," "]
[null,null,null,null,null," "]
[null,null,null,null,null," "]
[null,null,null,null,null," "]
[null,null,null,null,null," "]
[null,null,null,null,null," "]
[null,null,null,null,null," "]
[null,null,null,null,null," "]
[null,null,null,null,null," "]
[null,null,null,null,null," "]
[null,null,null,null,null," "]
[null,null,null,null,null," "]
[null,null,null,null,null," "]
[null,null,null,null,null," "]
[null,null,null,null,null," "]
[null,null,null,null,null," "]
[null,null,null,null,null," "]
[null,null,null,null,null," "]
[null,null,null,null,null," "]
[null,null,null,null,null," "]
[null,null,null,null,null," "]
[null,null,null,null,null," "]
[null,null,null,null,null," "]
[null,null,null,null,null," "]
[null,null,null,null,null," "]
[null,null,null,null,null," "]
[null,null,null,null,null," "]
[null,null,null,null,null," "]
[null,null,null,null,null," "]
[null,null,null,null,null," "]
[null,null,null,null,null," "]
[null,null,null,null,null," "]
[null,null,null,null,null," "]
[null,null,null,null,null," "]
[null,null,null,null,null," "]
[null,null,null,null,null," "]
[null,null,null,null,null," "]
[null,null,null,null,null," "]
[null,null,null,null,null," "]
[null,null,null,null,null," "]
[null,null,null,null,null," "]
[null,null,null,null,null," "]
[null,null,null,null,null," "]
[null,null,null,null,null," "]
[null,null,null,null,null," "]
[null,null,null,null,null," "]
[null,null,null,null,null," "]
[null,null,null,null,null," "]
[null,null,null,null,null," "]
[null,null,null,null,null," "]
[null,null,null,null,null," "]
[null,null,null,null,null," "]
[null,null,null,null,null," "]
[null,null,null,null,null," "]
[null,null,null,null,null," "]
[null,null,null,null,null," "]
[null,null,null,null,null," "]
[null,null,null,null,null," "]
[null,null,null,null,null," "]
[null,null,null,null,null," "]
[null,null,null,null,null," "]
[null,null,null,null,null," "]
[null,null,null,null,null," "]
[null,null,null,null,null," "]
[null,null,null,null,null," "]
[null,null,null,null,null," "]
[null,null,null,null,null," "]
[null,null,null,null,null," "]
[null,null,null,null,null," "]
[null,null,null,null,null," "]
[null,null,null,null,null," "]
[null,null,null,null,null," "]
[null,null,null,null,null," "]
[null,null,null,null,null," "]
[null,null,null,null,null," "]
[null,null,null,null,null," "]
[null,null,null,null,null," "]
[null,null,null,null,null," "]
[null,null,null,null,null," "]
[null,null,null,null,null," "]
[null,null,null,null,null," "]
[null,null,null,null,null," "]
[null,null,null,null,null," "]
[null,null,null,null,null," "]
[null,null,null,null,null," "]
[null,null,null,null,null," "]
[null,null,null,null,null," "]
[null,null,null,null,null," "]
[null,null,null,null,null," "]
[null,null,null,null,null," "]
[null,null,null,null,null," "]
[null,null,null,null,null," "]
[null,null,null,null,null," "]
[null,null,null,null,null," "]
[null,null,null,null,null," "]
[null,null,null,null,null," "]
[null,null,null,null,null," "]
[null,null,null,null,null," "]
[null,null,null,null,null," "]
[null,null,null,null,null," "]
[null,null,null,null,null," "]
[null,null,null,null,null," "]
[null,null,null,null,null," "]
[null,null,null,null,null," "]
[null,null,null,null,null," "]
[null,null,null,null,null," "]
[null,null,null,null,null," "]
[null,null,null,null,null," "]
[null,null,null,null,null," "]
[null,null,null,null,null," "]
[null,null,null,null,null," "]
[null,null,null,null,null," "]
[null,null,null,null,null," "]
[null,null,null,null,null," "]
[null,null,null,null,null," "]
[null,null,null,null,null," "]
[null,null,null,null,null," "]
[null,null,null,null,null," "]
[null,null,null,null,null," "]
[null,null,null,null,null," "]
[null,null,null,null,null," "]
[null,null,null,null,null," "]
[null,null,null,null,null," "]
[null,null,null,null,null," "]
[null,null,null,null,null," "]
[null,null,null,null,null," "]
[null,null,null,null,null," "]
[null,null,null,null,null," "]
[null,null,null,null,null," "]
[null,null,null,null,null," "]
[null,null,null,null,null," "]
[null,null,null,null,null," "]
[null,null,null,null,null," "]
[null,null,null,null,null," "]
[null,null,null,null,null," "]
[null,null,null,null,null," "]
[null,null,null,null,null," "]
[null,null,null,null,null," "]
[null,null,null,null,null," "]
[null,null,null,null,null," "]
[null,null,null,null,null," "]
[null,null,null,null,null," "]
[null,null,null,null,null," "]
[null,null,null,null,null," "]
[null,null,null,null,null," "]
[null,null,null,null,null," "]
[null,null,null,null,null," "]
[null,null,null,null,null," "]
[null,null,null,null,null," "]
[null,null,null,null,null," "]
[null,null,null,null,null," "]
[null,null,null,null,null," "]
[null,null,null,null,null," "]
[null,null,null,null,null," "]
[null,null,null,null,null," "]
[null,null,null,null,null," "]
[null,null,null,null,null," "]
[null,null,null,null,null," "]
[null,null,null,null,null," "]
[null,null,null,null,null," "]
[null,null,null,null,null," "]
[null,null,null,null,null," "]
[null,null,null,null,null," "]
[null,null,null,null,null," "]
[null,null,null,null,null," "]
[null,null,null,null,null," "]
[null,null,null,null,null," "]
[null,null,null,null,null," "]
[null,null,null,null,null," "]
[null,null,null,null,null," "]
[null,null,null,null,null," "]
[null,null,null,null,null," "]
[null,null,null,null,null," "]
[null,null,null,null,null," "]
[null,null,null,null,null," "]
[null,null,null,null,null," "]
[null,null,null,null,null," "]
[null,null,null,null,null," "]
[null,null,null,null,null," "]
[null,null,null,null,null," "]
[null,null,null,null,null," "]
[null,null,null,null,null," "]
[null,null,null,null,null," "]
[null,null,null,null,null," "]
[null,null,null,null,null," "]
[null,null,null,null,null," "]
[null,null,null,null,null," "]
[null,null,null,null,null," "]
[null,null,null,null,null," "]
[null,null,null,null,null," "]
[null,null,null,null,null," "]
[null,null,null,null,null," "]
[null,null,null,null,null," "]
[null,null,null,null,null," "]
[null,null,null,null,null," "]
[null,null,null,null,null," "]
[null,null,null,null,null," "]
[null,null,null,null,null," "]
[null,null,null,null,null," "]
[null,null,null,null,null," "]
[null,null,null,null,null," "]
[null,null,null,null,null," "]
[null,null,null,null,null," "]
[null,null,null,null,null," "]
[null,null,null,null,null," "]
[null,null,null,null,null," "]
[null,null,null,null,null," "]
[null,null,null,null,null," "]
[null,null,null,null,null," "]
[null,null,null,null,null," "]
[null,null,null,null,null," "]
[null,null,null,null,null," "]
[null,null,null,null,null," "]
[null,null,null,null,null," "]
[null,null,null,null,null," "]
[null,null,null,null,null," "]
[null,null,null,null,null," "]
[null,null,null,null,null," "]
[null,null,null,null,null," "]
[null,null,null,null,null," "]
[null,null,null,null,null," "]
[null,null,null,null,null," "]
[null,null,null,null,null," "]
[null,null,null,null,null," "]
[null,null,null,null,null," "]
[null,null,null,null,null," "]
[null,null,null,null,null," "]
[null,null,null,null,null," "]
[null,null,null,null,null," "]
[null,null,null,null,null," "]
[null,null,null,null,null," "]
[null,null,null,null,null," "]
[null,null,null,null,null," "]
[null,null,null,null,null," "]
[null,null,null,null,null," "]
[null,null,null,null,null," "]
[null,null,null,null,null," "]
[null,null,null,null,null," "]
[null,null,null,null,null," "]
[null,null,null,null,null," "]
[null,null,null,null,null," "]
[null,null,null,null,null," "]
[null,null,null,null,null," "]
[null,null,null,null,null," "]
[null,null,null,null,null," "]
[null,null,null,null,null," "]
[null,null,null,null,null," "]
[null,null,null,null,null," "]
[null,null,null,null,null," "]
[null,null,null,null,null," "]
[null,null,null,null,null," "]
[null,null,null,null,null," "]
[null,null,null,null,null," "]
[null,null,null,null,null," "]
[null,null,null,null,null," "]
[null,null,null,null,null," "]
[null,null,null,null,null," "]
[null,null,null,null,null," "]
[null,null,null,null,null," "]
[null,null,null,null,null," "]
[null,null,null,null,null," "]
[null,null,null,null,null," "]
[null,null,null,null,null," "]
[null,null,null,null,null," "]
[null,null,null,null,null," "]
[null,null,null,null,null," "]
[null,null,null,null,null," "]
[null,null,null,null,null," "]
[null,null,null,null,null," "]
[null,null,null,null,null," "]
[null,null,null,null,null," "]
[null,null,null,null,null," "]
[null,null,null,null,null," "]
[null,null,null,null,null," "]
[null,null,null,null,null," "]
[null,null,null,null,null," "]
[null,null,null,null,null," "]
[null,null,null,null,null," "]
[null,null,null,null,null," "]
[null,null,null,null,null," "]
[null,null,null,null,null," "]
[null,null,null,null,null," "]
[null,null,null,null,null," "]
[null,null,null,null,null," "]
[null,null,null,null,null," "]
[null,null,null,null,null," "]
[null,null,null,null,null," "]
[null,null,null,null,null," "]
[null,null,null,null,null," "]
[null,null,null,null,null," "]
[null,null,null,null,null," "]
[null,null,null,null,null," "]
[null,null,null,null,null," "]
[null,null,null,null,null," "]
[null,null,null,null,null," "]
[null,null,null,null,null," "]
[null,null,null,null,null," "]
[null,null,null,null,null," "]
[null,null,null,null,null," "]
[null,null,null,null,null," "]
[null,null,null,null,null," "]
[null,null,null,null,null," "]
[null,null,null,null,null," "]
[null,null,null,null,null," "]
[null,null,null,null,null," "]
[null,null,null,null,null," "]
[null,null,null,null,null," "]
[null,null,null,null,null," "]
[null,null,null,null,null," "]
[null,null,null,null,null," "]
[null,null,null,null,null," "]
[null,null,null,null,null," "]
[null,null,null,null,null," "]
[null,null,null,null,null," "]
[null,null,null,null,null," "]
[null,null,null,null,null," "]
[null,null,null,null,null," "]
[null,null,null,null,null," "]
[null,null,null,null,null," "]
[null,null,null,null,null," "]
[null,null,null,null,null," "]
[null,null,null,null,null," "]
[null,null,null,null,null," "]
[null,null,null,null,null," "]
[null,null,null,null,null," "]
[null,null,null,null,null," "]
[null,null,null,null,null," "]
[null,null,null,null,null," "]
[null,null,null,null,null," "]
[null,null,null,null,null," "]
[null,null,null,null,null," "]
[null,null,null,null,null," "]
[null,null,null,null,null," "]
[null,null,null,null,null," "]
[null,null,null,null,null," "]
[null,null,null,null,null," "]
[null,null,null,null,null," "]
[null,null,null,null,null," "]
[null,null,null,null,null," "]
[null,null,null,null,null," "]
[null,null,null,null,null," "]
[null,null,null,null,null," "]
[null,null,null,null,null," "]
[null,null,null,null,null," "]
[null,null,null,null,null," "]
[null,null,null,null,null," "]
[null,null,null,null,null," "]
[null,null,null,null,null," "]
[null,null,null,null,null," "]
[null,null,null,null,null," "]
[null,null,null,null,null," "]
[null,null,null,null,null," "]
[null,null,null,null,null," "]
[null,null,null,null,null," "]
[null,null,null,null,null," "]
[null,null,null,null,null," "]
[null,null,null,null,null," "]
[null,null,null,null,null," "]
[null,null,null,null,null," "]
[null,null,null,null,null," "]
[null,null,null,null,null," "]
[null,null,null,null,null," "]
[null,null,null,null,null," "]
[null,null,null,null,null," "]
[null,null,null,null,null," "]
[null,null,null,null,null," "]
[null,null,null,null,null," "]
[null,null,null,null,null," "]
[null,null,null,null,null," "]
[null,null,null,null,null," "]
[null,null,null,null,null," "]
[null,null,null,null,null," "]
[null,null,null,null,null," "]
[null,null,null,null,null," "]
[null,null,null,null,null," "]
[null,null,null,null,null," "]
[null,null,null,null,null," "]
[null,null,null,null,null," "]
[null,null,null,null,null," "]
[null,null,null,null,null," "]
[null,null,null,null,null," "]
[null,null,null,null,null," "]
[null,null,null,null,null," "]
[null,null,null,null,null," "]
[null,null,null,null,null," "]
[null,null,null,null,null," "]
[null,null,null,null,null," "]
[null,null,null,null,null," "]
[null,null,null,null,null," "]
[null,null,null,null,null," "]
[null,null,null,null,null," "]
[null,null,null,null,null," "]
[null,null,null,null,null," "]
[null,null,null,null,null," "]
[null,null,null,null,null," "]
[null,null,null,null,null," "]
[null,null,null,null,null," "]
[null,null,null,null,null," "]
[null,null,null,null,null," "]
[null,null,null,null,null," "]
[null,null,null,null,null," "]
[null,null,null,null,null," "]
[null,null,null,null,null," "]
[null,null,null,null,null," "]
[null,null,null,null,null," "]
[null,null,null,null,null," "]
[null,null,null,null,null," "]
[null,null,null,null,null," "]
[null,null,null,null,null," "]
[null,null,null,null,null," "]
[null,null,null,null,null," "]
[null,null,null,null,null," "]
[null,null,null,null,null," "]
[null,null,null,null,null," "]
[null,null,null,null,null," "]
[null,null,null,null,null," "]
[null,null,null,null,null," "]
[null,null,null,null,null," "]
[null,null,null,null,null," "]
[null,null,null,null,null," "]
[null,null,null,null,null," "]
[null,null,null,null,null," "]
[null,null,null,null,null," "]
[null,null,null,null,null," "]
[null,null,null,null,null," "]
[null,null,null,null,null," "]
[null,null,null,null,null," "]
[null,null,null,null,null," "]
[null,null,null,null,null," "]
[null,null,null,null,null," "]
[null,null,null,null,null," "]
[null,null,null,null,null," "]
[null,null,null,null,null," "]
[null,null,null,null,null," "]
[null,null,null,null,null," "]
[null,null,null,null,null," "]
[null,null,null,null,null," "]
[null,null,null,null,null," "]
[null,null,null,null,null," "]
[null,null,null,null,null," "]
[null,null,null,null,null," "]
[null,null,null,null,null," "]
[null,null,null,null,null," "]
[null,null,null,null,null," "]
[null,null,null,null,null," "]
[null,null,null,null,null," "]
[null,null,null,null,null," "]
[null,null,null,null,null," "]
[null,null,null,null,null," "]
[null,null,null,null,null," "]
[null,null,null,null,null," "]
[null,null,null,null,null," "]
[null,null,null,null,null," "]
[null,null,null,null,null," "]
[null,null,null,null,null," "]
[null,null,null,null,null," "]
[null,null,null,null,null," "]
[null,null,null,null,null," "]
[null,null,null,null,null," "]
[null,null,null,null,null," "]
[null,null,null,null,null," "]
[null,null,null,null,null," "]
[null,null,null,null,null," "]
[null,null,null,null,null," "]
[null,null,null,null,null," "]
[null,null,null,null,null," "]
[null,null,null,null,null," "]
[null,null,null,null,null," "]
[null,null,null,null,null," "]
[null,null,null,null,null," "]
[null,null,null,null,null," "]
[null,null,null,null,null," "]
[null,null,null,null,null," "]
[null,null,null,null,null," "]
[null,null,null,null,null," "]
[null,null,null,null,null," "]
[null,null,null,null,null," "]
[null,null,null,null,null," "]
[null,null,null,null,null," "]
[null,null,null,null,null," "]
[null,null,null,null,null," "]
[null,null,null,null,null," "]
[null,null,null,null,null," "]
[null,null,null,null,null," "]
[null,null,null,null,null," "]
[null,null,null,null,null," "]
[null,null,null,null,null," "]
[null,null,null,null,null," "]
[null,null,null,null,null," "]
[null,null,null,null,null," "]
[null,null,null,null,null," "]
[null,null,null,null,null," "]
[null,null,null,null,null," "]
[null,null,null,null,null," "]
[null,null,null,null,null," "]
[null,null,null,null,null," "]
[null,null,null,null,null," "]
[null,null,null,null,null," "]
[null,null,null,null,null," "]
[null,null,null,null,null," "]
[null,null,null,null,null," "]
[null,null,null,null,null," "]
[null,null,null,null,null," "]
[null,null,null,null,null," "]
[null,null,null,null,null," "]
[null,null,null,null,null," "]
[null,null,null,null,null," "]
[null,null,null,null,null," "]
[null,null,null,null,null," "]
[null,null,null,null,null," "]
[null,null,null,null,null," "]
[null,null,null,null,null," "]
[null,null,null,null,null," "]
[null,null,null,null,null," "]
[null,null,null,null,null," "]
[null,null,null,null,null," "]
[null,null,null,null,null," "]
[null,null,null,null,null," "]
[null,null,null,null,null," "]
[null,null,null,null,null," "]
[null,null,null,null,null," "]
[null,null,null,null,null," "]
[null,null,null,null,null," "]
[null,null,null,null,null," "]
[null,null,null,null,null," "]
[null,null,null,null,null," "]
[null,null,null,null,null," "]
[null,null,null,null,null," "]
[null,null,null,null,null," "]
[null,null,null,null,null," "]
[null,null,null,null,null," "]
[null,null,null,null,null," "]
[null,null,null,null,null," "]
[null,null,null,null,null," "]
[null,null,null,null,null," "]
[null,null,null,null,null," "]
[null,null,null,null,null," "]
[null,null,null,null,null," "]
[null,null,null,null,null," "]
[null,null,null,null,null," "]
[null,null,null,null,null," "]
[null,null,null,null,null," "]
[null,null,null,null,null," "]
[null,null,null,null,null," "]
[null,null,null,null,null," "]
[null,null,null,null,null," "]
[null,null,null,null,null," "]
[null,null,null,null,null," "]
[null,null,null,null,null," "]
[null,null,null,null,null," "]
[null,null,null,null,null," "]
[null,null,null,null,null," "]
[null,null,null,null,null," "]
[null,null,null,null,null," "]
[null,null,null,null,null," "]
[null,null,null,null,null," "]
[null,null,null,null,null," "]
[null,null,null,null,null," "]
[null,null,null,null,null," "]
[null,null,null,null,null," "]
[null,null,null,null,null," "]
[null,null,null,null,null," "]
[null,null,null,null,null," "]
[null,null,null,null,null," "]
[null,null,null,null,null," "]
[null,null,null,null,null," "]
[null,null,null,null,null," "]
[null,null,null,null,null," "]
[null,null,null,null,null," "]
[null,null,null,null,null," "]
[null,null,null,null,null," "]
[null,null,null,null,null," "]
[null,null,null,null,null," "]
[null,null,null,null,null," "]
[null,null,null,null,null," "]
[null,null,null,null,null," "]
[null,null,null,null,null," "]
[null,null,null,null,null," "]
[null,null,null,null,null," "]
[null,null,null,null,null," "]
[null,null,null,null,null," "]
[null,null,null,null,null," "]
[null,null,null,null,null," "]
[null,null,null,null,null," "]
[null,null,null,null,null," "]
[null,null,null,null,null," "]
[null,null,null,null,null," "]
[null,null,null,null,null," "]
[null,null,null,null,null," "]
[null,null,null,null,null," "]
[null,null,null,null,null," "]
[null,null,null,null,null," "]
[null,null,null,null,null," "]
[null,null,null,null,null," "]
[null,null,null,null,null," "]
[null,null,null,null,null," "]
[null,null,null,null,null," "]
[null,null,null,null,null," "]
[null,null,null,null,null," "]
[null,null,null,null,null," "]
[null,null,null,null,null," "]
[null,null,null,null,null," "]
[null,null,null,null,null," "]
[null,null,null,null,null," "]
[null,null,null,null,null," "]
[null,null,null,null,null," "]
[null,null,null,null,null," "]
[null,null,null,null,null," "]
[null,null,null,null,null," "]
[null,null,null,null,null," "]
[null,null,null,null,null," "]
[null,null,null,null,null," "]
[null,null,null,null,null," "]
[null,null,null,null,null," "]
[null,null,null,null,null," "]
[null,null,null,null,null," "]
[null,null,null,null,null," "]
[null,null,null,null,null," "]
[null,null,null,null,null," "]
[null,null,null,null,null," "]
[null,null,null,null,null," "]
[null,null,null,null,null," "]
[null,null,null,null,null," "]
[null,null,null,null,null," "]
[null,null,null,null,null," "]
[null,null,null,null,null," "]
[null,null,null,null,null," "]
[null,null,null,null,null," "]
[null,null,null,null,null," "]
[null,null,null,null,null," "]
[null,null,null,null,null," "]
[null,null,null,null,null," "]
[null,null,null,null,null," "]
[null,null,null,null,null," "]
[null,null,null,null,null," "]
[null,null,null,null,null," "]
[null,null,null,null,null," "]
[null,null,null,null,null," "]
[null,null,null,null,null," "]
[null,null,null,null,null," "]
[null,null,null,null,null," "]
[null,null,null,null,null," "]
[null,null,null,null,null," "]
[null,null,null,null,null," "]
[null,null,null,null,null," "]
[null,null,null,null,null," "]
[null,null,null,null,null," "]
[null,null,null,null,null," "]
[null,null,null,null,null," "]
[null,null,null,null,null," "]
[null,null,null,null,null," "]
[null,null,null,null,null," "]
[null,null,null,null,null," "]
[null,null,null,null,null," "]
[null,null,null,null,null," "]
[null,null,null,null,null," "]
[null,null,null,null,null," "]
[null,null,null,null,null," "]
[null,null,null,null,null," "]
[null,null,null,null,null," "]
[null,null,null,null,null," "]
[null,null,null,null,null," "]
[null,null,null,null,null," "]
[null,null,null,null,null," "]
[null,null,null,null,null," "]
[null,null,null,null,null," "]
[null,null,null,null,null," "]
[null,null,null,null,null," "]
[null,null,null,null,null," "]
[null,null,null,null,null," "]
[null,null,null,null,null," "]
[null,null,null,null,null," "]
[null,null,null,null,null," "]
[null,null,null,null,null," "]
[null,null,null,null,null," "]
[null,null,null,null,null," "]
[null,null,null,null,null," "]
[null,null,null,null,null," "]
[null,null,null,null,null," "]
[null,null,null,null,null," "]
[null,null,null,null,null," "]
[null,null,null,null,null," "]
[null,null,null,null,null," "]
[null,null,null,null,null," "]
[null,null,null,null,null," "]
[null,null,null,null,null," "]
[null,null,null,null,null," "]
[null,null,null,null,null," "]
[null,null,null,null,null," "]
[null,null,null,null,null," "]
[null,null,null,null,null," "]
[null,null,null,null,null," "]
[null,null,null,null,null," "]
[null,null,null,null,null," "]
[null,null,null,null,null," "]
[null,null,null,null,null," "]
[null,null,null,null,null," "]
[null,null,null,null,null," "]
[null,null,null,null,null," "]
[null,null,null,null,null," "]
[null,null,null,null,null," "]
[null,null,null,null,null," "]
[null,null,null,null,null," "]
[null,null,null,null,null," "]
[null,null,null,null,null," "]
[null,null,null,null,null," "]
[null,null,null,null,null," "]
[null,null,null,null,null," "]
[null,null,null,null,null," "]
[null,null,null,null,null," "]
[null,null,null,null,null," "]
[null,null,null,null,null," "]
[null,null,null,null,null," "]
[null,null,null,null,null," "]
[null,null,null,null,null," "]
[null,null,null,null,null," "]
[null,null,null,null,null," "]
[null,null,null,null,null," "]
[null,null,null,null,null," "]
[null,null,null,null,null," "]
[null,null,null,null,null," "]
[null,null,null,null,null," "]
[null,null,null,null,null," "]
[null,null,null,null,null," "]
[null,null,null,null,null," "]
[null,null,null,null,null," "]
[null,null,null,null,null," "]
[null,null,null,null,null," "]
[null,null,null,null,null," "]
[null,null,null,null,null," "]
[null,null,null,null,null," "]
[null,null,null,null,null," "]
[null,null,null,null,null," "]
[null,null,null,null,null," "]
[null,null,null,null,null," "]
[null,null,null,null,null," "]
[null,null,null,null,null," "]
[null,null,null,null,null," "]
[null,null,null,null,null," "]
[null,null,null,null,null," "]
[null,null,null,null,null," "]
[null,null,null,null,null," "]
[null,null,null,null,null," "]
[null,null,null,null,null," "]
[null,null,null,null,null," "]
[null,null,null,null,null," "]
[null,null,null,null,null," "]
[null,null,null,null,null," "]
[null,null,null,null,null," "]
[null,null,null,null,null," "]
[null,null,null,null,null," "]
[null,null,null,null,null," "]
[null,null,null,null,null," "]
[null,null,null,null,null," "]
[null,null,null,null,null," "]
[null,null,null,null,null," "]
[null,null,null,null,null," "]
[null,null,null,null,null," "]
[null,null,null,null,null," "]
[null,null,null,null,null," "]
[null,null,null,null,null," "]
[null,null,null,null,null," "]
[null,null,null,null,null," "]
[null,null,null,null,null," "]
[null,null,null,null,null," "]
[null,null,null,null,null," "]
[null,null,null,null,null," "]
[null,null,null,null,null," "]
[null,null,null,null,null," "]
[null,null,null,null,null," "]
[null,null,null,null,null," "]
[null,null,null,null,null," "]
[null,null,null,null,null," "]
[null,null,null,null,null," "]
[null,null,null,null,null," "]
[null,null,null,null,null," "]
[null,null,null,null,null," "]
[null,null,null,null,null," "]
[null,null,null,null,null," "]
[null,null,null,null,null," "]
[null,null,null,null,null," "]
[null,null,null,null,null," "]
[null,null,null,null,null," "]
[null,null,null,null,null," "]
[null,null,null,null,null," "]
[null,null,null,null,null," "]
[null,null,null,null,null," "]
[null,null,null,null,null," "]
[null,null,null,null,null," "]
[null,null,null,null,null," "]
[null,null,null,null,null," "]
[null,null,null,null,null," "]
[null,null,null,null,null," "]
[null,null,null,null,null," "]
[null,null,null,null,null," "]
[null,null,null,null,null," "]
[null,null,null,null,null," "]
[null,null,null,null,null," "]
[null,null,null,null,null," "]
[null,null,null,null,null," "]
[null,null,null,null,null," "]
[null,null,null,null,null," "]
[null,null,null,null,null," "]
[null,null,null,null,null," "]
[null,null,null,null,null," "]
[null,null,null,null,null," "]
[null,null,null,null,null," "]
[null,null,null,null,null," "]
[null,null,null,null,null," "]
[null,null,null,null,null," "]
[null,null,null,null,null," "]
[null,null,null,null,null," "]
[null,null,null,null,null," "]
[null,null,null,null,null," "]
[null,null,null,null,null," "]
[null,null,null,null,null," "]
[null,null,null,null,null," "]
[null,null,null,null,null," "]
[null,null,null,null,null," "]
[null,null,null,null,null," "]
[null,null,null,null,null," "]
[null,null,null,null,null," "]
[null,null,null,null,null," "]
[null,null,null,null,null," "]
[null,null,null,null,null," "]
[null,null,null,null,null," "]
[null,null,null,null,null," "]
[null,null,null,null,null," "]
[null,null,null,null,null," "]
[null,null,null,null,null," "]
[null,null,null,null,null," "]
[null,null,null,null,null," "]
[null,null,null,null,null," "]
[null,null,null,null,null," "]
[null,null,null,null,null," "]
[null,null,null,null,null," "]
[null,null,null,null,null," "]
[null,null,null,null,null," "]
[null,null,null,null,null," "]
[null,null,null,null,null," "]
[null,null,null,null,null," "]
[null,null,null,null,null," "]
[null,null,null,null,null," "]
[null,null,null,null,null," "]
[null,null,null,null,null," "]
[null,null,null,null,null," "]
[null,null,null,null,null," "]
[null,null,null,null,null," "]
[null,null,null,null,null," "]
[null,null,null,null,null," "]
[null,null,null,null,null," "]
[null,null,null,null,null," "]
[null,null,null,null,null," "]
[null,null,null,null,null," "]
[null,null,null,null,null," "]
[null,null,null,null,null," "]
[null,null,null,null,null," "]
[null,null,null,null,null," "]
[null,null,null,null,null," "]
[null,null,null,null,null," "]
[null,null,null,null,null," "]
[null,null,null,null,null," "]
[null,null,null,null,null," "]
[null,null,null,null,null," "]
[null,null,null,null,null," "]
[null,null,null,null,null," "]
[null,null,null,null,null," "]
[null,null,null,null,null," "]
[null,null,null,null,null," "]
[null,null,null,null,null," "]
[null,null,null,null,null," "]
[null,null,null,null,null," "]
[null,null,null,null,null," "]
[null,null,null,null,null," "]
[null,null,null,null,null," "]
[null,null,null,null,null," "]
[null,null,null,null,null," "]
[null,null,null,null,null," "]
[null,null,null,null,null," "]
[null,null,null,null,null," "]
[null,null,null,null,null," "]
[null,null,null,null,null," "]
[null,null,null,null,null," "]
[null,null,null,null,null," "]
[null,null,null,null,null," "]
[null,null,null,null,null," "]
[null,null,null,null,null," "]
[null,null,null,null,null," "]
[null,null,null,null,null," "]
[null,null,null,null,null," "]
[null,null,null,null,null," "]
[null,null,null,null,null," "]
[null,null,null,null,null," "]
[null,null,null,null,null," "]
[null,null,null,null,null," "]
[null,null,null,null,null," "]
[null,null,null,null,null," "]
[null,null,null,null,null," "]
[null,null,null,null,null," "]
[null,null,null,null,null," "]
[null,null,null,null,null," "]
[null,null,null,null,null," "]
[null,null,null,null,null," "]
[null,null,null,null,null," "]
[null,null,null,null,null," "]
[null,null,null,null,null," "]
[null,null,null,null,null," "]
[null,null,null,null,null," "]
[null,null,null,null,null," "]
[null,null,null,null,null," "]
[null,null,null,null,null," "]
[null,null,null,null,null," "]
[null,null,null,null,null," "]
[null,null,null,null,null," "]
[null,null,null,null,null," "]
[null,null,null,null,null," "]
[null,null,null,null,null," "]
[null,null,null,null,null," "]
[null,null,null,null,null," "]
[null,null,null,null,null," "]
[null,null,null,null,null," "]
[null,null,null,null,null," "]
[null,null,null,null,null," "]
[null,null,null,null,null," "]
[null,null,null,null,null," "]
[null,null,null,null,null," "]
[null,null,null,null,null," "]
[null,null,null,null,null," "]
[null,null,null,null,null," "]
[null,null,null,null,null," "]
[null,null,null,null,null," "]
[null,null,null,null,null," "]
[null,null,null,null,null," "]
[null,null,null,null,null," "]
[null,null,null,null,null," "]
[null,null,null,null,null," "]
[null,null,null,null,null," "]
[null,null,null,null,null," "]
[null,null,null,null,null," "]
[null,null,null,null,null," "]
[null,null,null,null,null," "]
[null,null,null,null,null," "]
[null,null,null,null,null," "]
[null,null,null,null,null," "]
[null,null,null,null,null," "]
[null,null,null,null,null," "]
[null,null,null,null,null," "]
[null,null,null,null,null," "]
[null,null,null,null,null," "]
[null,null,null,null,null," "]
[null,null,null,null,null," "]
[null,null,null,null,null," "]
[null,null,null,null,null," "]
[null,null,null,null,null," "]
[null,null,null,null,null," "]
[null,null,null,null,null," "]
[null,null,null,null,null," "]
[null,null,null,null,null," "]
[null,null,null,null,null," "]
[null,null,null,null,null," "]
[null,null,null,null,null," "]
[null,null,null,null,null," "]
[null,null,null,null,null," "]
[null,null,null,null,null," "]
[null,null,null,null,null," "]
[null,null,null,null,null," "]
[null,null,null,null,null," "]
[null,null,null,null,null," "]
[null,null,null,null,null," "]
[null,null,null,null,null," "]
[null,null,null,null,null," "]
[null,null,null,null,null," "]
[null,null,null,null,null," "]
[null,null,null,null,null," "]
[null,null,null,null,null," "]
[null,null,null,null,null," "]
[null,null,null,null,null," "]
[null,null,null,null,null," "]
[null,null,null,null,null," "]
[null,null,null,null,null," "]
[null,null,null,null,null," "]
[null,null,null,null,null," "]
[null,null,null,null,null," "]
[null,null,null,null,null," "]
[null,null,null,null,null," "]
[null,null,null,null,null," "]
[null,null,null,null,null," "]
[null,null,null,null,null," "]
[null,null,null,null,null," "]
[null,null,null,null,null," "]
[null,null,null,null,null," "]
[null,null,null,null,null," "]
[null,null,null,null,null," "]
[null,null,null,null,null," "]
[null,null,null,null,null," "]
[null,null,null,null,null," "]
[null,null,null,null,null," "]
[null,null,null,null,null," "]
[null,null,null,null,null," "]
[null,null,null,null,null," "]
[null,null,null,null,null," "]
[null,null,null,null,null," "]
[null,null,null,null,null," "]
[null,null,null,null,null," "]
[null,null,null,null,null," "]
[null,null,null,null,null," "]
[null,null,null,null,null," "]
[null,null,null,null,null," "]
[null,null,null,null,null," "]
[null,null,null,null,null," "]
[null,null,null,null,null," "]
[null,null,null,null,null," "]
[null,null,null,null,null," "]
[null,null,null,null,null," "]
[null,null,null,null,null," "]
[null,null,null,null,null," "]
[null,null,null,null,null," "]
[null,null,null,null,null," "]
[null,null,null,null,null," "]
[null,null,null,null,null," "]
[null,null,null,null,null," "]
[null,null,null,null,null," "]
[null,null,null,null,null," "]
[null,null,null,null,null," "]
[null,null,null,null,null," "]
[null,null,null,null,null," "]
[null,null,null,null,null," "]
[null,null,null,null,null," "]
[null,null,null,null,null," "]
[null,null,null,null,null," "]
[null,null,null,null,null," "]
[null,null,null,null,null," "]
[null,null,null,null,null," "]
[null,null,null,null,null," "]
[null,null,null,null,null," "]
[null,null,null,null,null," "]
[null,null,null,null,null," "]
[null,null,null,null,null," "]
[null,null,null,null,null," "]
[null,null,null,null,null," "]
[null,null,null,null,null," "]
[null,null,null,null,null," "]
[null,null,null,null,null," "]
[null,null,null,null,null," "]
[null,null,null,null,null," "]
[null,null,null,null,null," "]
[null,null,null,null,null," "]
[null,null,null,null,null," "]
[null,null,null,null,null," "]
[null,null,null,null,null," "]
[null,null,null,null,null," "]
[null,null,null,null,null," "]
[null,null,null,null,null," "]
[null,null,null,null,null," "]
[null,null,null,null,null," "]
[null,null,null,null,null," "]
[null,null,null,null,null," "]
[null,null,null,null,null," "]
[null,null,null,null,null," "]
[null,null,null,null,null," "]
[null,null,null,null,null," "]
[null,null,null,null,null," "]
[null,null,null,null,null," "]
[null,null,null,null,null," "]
[null,null,null,null,null," "]
[null,null,null,null,null," "]
[null,null,null,null,null," "]
[null,null,null,null,null," "]
[null,null,null,null,null," "]
[null,null,null,null,null," "]
[null,null,null,null,null," "]
[null,null,null,null,null," "]
[null,null,null,null,null," "]
[null,null,null,null,null," "]
[null,null,null,null,null," "]
[null,null,null,null,null," "]
[null,null,null,null,null," "]
[null,null,null,null,null," "]
[null,null,null,null,null," "]
[null,null,null,null,null," "]
[null,null,null,null,null," "]
[null,null,null,null,null," "]
[null,null,null,null,null," "]
[null,null,null,null,null," "]
[null,null,null,null,null," "]
[null,null,null,null,null," "]
[null,null,null,null,null," "]
[null,null,null,null,null," "]
[null,null,null,null,null," "]
[null,null,null,null,null," "]
[null,null,null,null,null," "]
[null,null,null,null,null," "]
[null,null,null,null,null," "]
[null,null,null,null,null," "]
[null,null,null,null,null," "]
[null,null,null,null,null," "]
[null,null,null,null,null," "]
[null,null,null,null,null," "]
[null,null,null,null,null," "]
[null,null,null,null,null," "]
[null,null,null,null,null," "]
[null,null,null,null,null," "]
[null,null,null,null,null," "]
[null,null,null,null,null," "]
[null,null,null,null,null," "]
[null,null,null,null,null," "]
[null,null,null,null,null," "]
[null,null,null,null,null," "]
[null,null,null,null,null," "]
[null,null,null,null,null," "]
[null,null,null,null,null," "]
[null,null,null,null,null," "]
[null,null,null,null,null," "]
[null,null,null,null,null," "]
[null,null,null,null,null," "]
[null,null,null,null,null," "]
[null,null,null,null,null," "]
[null,null,null,null,null," "]
[null,null,null,null,null," "]
[null,null,null,null,null," "]
[null,null,null,null,null," "]
[null,null,null,null,null," "]
[null,null,null,null,null," "]
[null,null,null,null,null," "]
[null,null,null,null,null," "]
[null,null,null,null,null," "]
[null,null,null,null,null," "]
[null,null,null,null,null," "]
[null,null,null,null,null," "]
[null,null,null,null,null," "]
[null,null,null,null,null," "]
[null,null,null,null,null," "]
[null,null,null,null,null," "]
[null,null,null,null,null," "]
[null,null,null,null,null," "]
[null,null,null,null,null," "]
[null,null,null,null,null," "]
[null,null,null,null,null," "]
[null,null,null,null,null," "]
[null,null,null,null,null," "]
[null,null,null,null,null," "]
[null,null,null,null,null," "]
[null,null,null,null,null," "]
[null,null,null,null,null," "]
[null,null,null,null,null," "]
[null,null,null,null,null," "]
[null,null,null,null,null," "]
[null,null,null,null,null," "]
[null,null,null,null,null," "]
[null,null,null,null,null," "]
[null,null,null,null,null," "]
[null,null,null,null,null," "]
[null,null,null,null,null," "]
[null,null,null,null,null," "]
[null,null,null,null,null," "]
[null,null,null,null,null," "]
[null,null,null,null,null," "]
[null,null,null,null,null," "]
[null,null,null,null,null," "]
[null,null,null,null,null," "]
[null,null,null,null,null," "]
[null,null,null,null,null," "]
[null,null,null,null,null," "]
[null,null,null,null,null," "]
[null,null,null,null,null," "]
[null,null,null,null,null," "]
[null,null,null,null,null," "]
[null,null,null,null,null," "]
[null,null,null,null,null," "]
[null,null,null,null,null," "]
[null,null,null,null,null," "]
[null,null,null,null,null," "]
[null,null,null,null,null," "]
[null,null,null,null,null," "]
[null,null,null,null,null," "]
[null,null,null,null,null," "]
[null,null,null,null,null," "]
[null,null,null,null,null," "]
[null,null,null,null,null," "]
[null,null,null,null,null," "]
[null,null,null,null,null," "]
[null,null,null,null,null," "]
[null,null,null,null,null," "]
[null,null,null,null,null," "]
[null,null,null,null,null," "]
[null,null,null,null,null," "]
[null,null,null,null,null," "]
[null,null,null,null,null," "]
[null,null,null,null,null," "]
[null,null,null,null,null," "]
[null,null,null,null,null," "]
[null,null,null,null,null," "]
[null,null,null,null,null," "]
[null,null,null,null,null," "]
[null,null,null,null,null," "]
[null,null,null,null,null," "]
[null,null,null,null,null," "]
[null,null,null,null,null," "]
[null,null,null,null,null," "]
[null,null,null,null,null," "]
[null,null,null,null,null," "]
[null,null,null,null,null," "]
[null,null,null,null,null," "]
[null,null,null,null,null," "]
[null,null,null,null,null," "]
[null,null,null,null,null," "]
[null,null,null,null,null," "]
[null,null,null,null,null," "]
[null,null,null,null,null," "]
[null,null,null,null,null," "]
[null,null,null,null,null," "]
[null,null,null,null,null," "]
[null,null,null,null,null," "]
[null,null,null,null,null," "]
[null,null,null,null,null," "]
[null,null,null,null,null," "]
[null,null,null,null,null," "]
[null,null,null,null,null," "]
[null,null,null,null,null," "]
[null,null,null,null,null," "]
[null,null,null,null,null," "]
[null,null,null,null,null," "]
[null,null,null,null,null," "]
[null,null,null,null,null," "]
[null,null,null,null,null," "]
[null,null,null,null,null," "]
[null,null,null,null,null," "]
[null,null,null,null,null," "]
[null,null,null,null,null," "]
[null,null,null,null,null," "]
[null,null,null,null,null," "]
[null,null,null,null,null," "]
[null,null,null,null,null," "]
[null,null,null,null,null," "]
[null,null,null,null,null," "]
[null,null,null,null,null," "]
[null,null,null,null,null," "]
[null,null,null,null,null," "]
[null,null,null,null,null," "]
[null,null,null,null,null," "]
[null,null,null,null,null," "]
[null,null,null,null,null," "]
[null,null,null,null,null," "]
[null,null,null,null,null," "]
[null,null,null,null,null," "]
[null,null,null,null,null," "]
[null,null,null,null,null," "]
[null,null,null,null,null," "]
[null,null,null,null,null," "]
[null,null,null,null,null," "]
[null,null,null,null,null," "]
[null,null,null,null,null," "]
[null,null,null,null,null," "]
[null,null,null,null,null," "]
[null,null,null,null,null," "]
[null,null,null,null,null," "]
[null,null,null,null,null," "]
[null,null,null,null,null," "]
[null,null,null,null,null," "]
[null,null,null,null,null," "]
[null,null,null,null,null," "]
[null,null,null,null,null," "]
[null,null,null,null,null," "]
[null,null,null,null,null," "]
[null,null,null,null,null," "]
[null,null,null,null,null," "]
[null,null,null,null,null," "]
[null,null,null,null,null," "]
[null,null,null,null,null," "]
[null,null,null,null,null," "]
[null,null,null,null,null," "]
[null,null,null,null,null," "]
[null,null,null,null,null," "]
[null,null,null,null,null," "]
[null,null,null,null,null," "]
[null,null,null,null,null," "]
[null,null,null,null,null," "]
[null,null,null,null,null," "]
[null,null,null,null,null," "]
[null,null,null,null,null," "]
[null,null,null,null,null," "]
[null,null,null,null,null," "]
[null,null,null,null,null," "]
[null,null,null,null,null," "]
[null,null,null,null,null," "]
[null,null,null,null,null," "]
[null,null,null,null,null," "]
[null,null,null,null,null," "]
[null,null,null,null,null," "]
[null,null,null,null,null," "]
[null,null,null,null,null," "]
[null,null,null,null,null," "]
[null,null,null,null,null," "]
[null,null,null,null,null," "]
[null,null,null,null,null," "]
[null,null,null,null,null," "]
[null,null,null,null,null," "]
[null,null,null,null,null," "]
[null,null,null,null,null," "]
[null,null,null,null,null," "]
[null,null,null,null,null," "]
[null,null,null,null,null," "]
[null,null,null,null,null," "]
[null,null,null,null,null," "]
[null,null,null,null,null," "]
[null,null,null,null,null," "]
[null,null,null,null,null," "]
[null,null,null,null,null," "]
[null,null,null,null,null," "]
[null,null,null,null,null," "]
[null,null,null,null,null," "]
[null,null,null,null,null," "]
[null,null,null,null,null," "]
[null,null,null,null,null," "]
[null,null,null,null,null," "]
[null,null,null,null,null," "]
[null,null,null,null,null," "]
[null,null,null,null,null," "]
[null,null,null,null,null," "]
[null,null,null,null,null," "]
[null,null,null,null,null," "]
[null,null,null,null,null," "]
[null,null,null,null,null," "]
[null,null,null,null,null," "]
[null,null,null,null,null," "]
[null,null,null,null,null," "]
[null,null,null,null,null," "]
[null,null,null,null,null," "]
[null,null,null,null,null," "]
[null,null,null,null,null," "]
[null,null,null,null,null," "]
[null,null,null,null,null," "]
[null,null,null,null,null," "]
[null,null,null,null,null," "]
[null,null,null,null,null," "]
[null,null,null,null,null," "]
[null,null,null,null,null," "]
[null,null,null,null,null," "]
[null,null,null,null,null," "]
[null,null,null,null,null," "]
[null,null,null,null,null," "]
[null,null,null,null,null," "]
[null,null,null,null,null," "]
[null,null,null,null,null," "]
[null,null,null,null,null," "]
[null,null,null,null,null," "]
[null,null,null,null,null," "]
[null,null,null,null,null," "]
[null,null,null,null,null," "]
[null,null,null,null,null," "]
[null,null,null,null,null," "]
[null,null,null,null,null," "]
[null,null,null,null,null," "]
[null,null,null,null,null," "]
[null,null,null,null,null," "]
[null,null,null,null,null," "]
[null,null,null,null,null," "]
[null,null,null,null,null," "]
[null,null,null,null,null," "]
[null,null,null,null,null," "]
[null,null,null,null,null," "]
[null,null,null,null,null," "]
[null,null,null,null,null," "]
[null,null,null,null,null," "]
[null,null,null,null,null," "]
[null,null,null,null,null," "]
[null,null,null,null,null," "]
[null,null,null,null,null," "]
[null,null,null,null,null," "]
[null,null,null,null,null," "]
[null,null,null,null,null," "]
[null,null,null,null,null," "]
[null,null,null,null,null," "]
[null,null,null,null,null," "]
[null,null,null,null,null," "]
[null,null,null,null,null," "]
[null,null,null,null,null," "]
[null,null,null,null,null," "]
[null,null,null,null,null," "]
[null,null,null,null,null," "]
[null,null,null,null,null," "]
[null,null,null,null,null," "]
[null,null,null,null,null," "]
[null,null,null,null,null," "]
[null,null,null,null,null," "]
[null,null,null,null,null," "]
[null,null,null,null,null," "]
[null,null,null,null,null," "]
[null,null,null,null,null," "]
[null,null,null,null,null," "]
[null,null,null,null,null," "]
[null,null,null,null,null," "]
[null,null,null,null,null," "]
[null,null,null,null,null," "]
[null,null,null,null,null," "]
[null,null,null,null,null," "]
[null,null,null,null,null," "]
[null,null,null,null,null," "]
[null,null,null,null,null," "]
[null,null,null,null,null," "]
[null,null,null,null,null," "]
[null,null,null,null,null," "]
[null,null,null,null,null," "]
[null,null,null,null,null," "]
[null,null,null,null,null," "]
[null,null,null,null,null," "]
[null,null,null,null,null," "]
[null,null,null,null,null," "]
[null,null,null,null,null," "]
[null,null,null,null,null," "]
[null,null,null,null,null," "]
[null,null,null,null,null," "]
[null,null,null,null,null," "]
[null,null,null,null,null," "]
[null,null,null,null,null," "]
[null,null,null,null,null," "]
[null,null,null,null,null," "]
[null,null,null,null,null," "]
[null,null,null,null,null," "]
[null,null,null,null,null," "]
[null,null,null,null,null," "]
[null,null,null,null,null," "]
[null,null,null,null,null," "]
[null,null,null,null,null," "]
[null,null,null,null,null," "]
[null,null,null,null,null," "]
[null,null,null,null,null," "]
[null,null,null,null,null," "]
[null,null,null,null,null," "]
[null,null,null,null,null," "]
[null,null,null,null,null," "]
[null,null,null,null,null," "]
[null,null,null,null,null," "]
[null,null,null,null,null," "]
[null,null,null,null,null," "]
[null,null,null,null,null," "]
[null,null,null,null,null," "]
[null,null,null,null,null," "]
[null,null,null,null,null," "]
[null,null,null,null,null," "]
[null,null,null,null,null," "]
[null,null,null,null,null," "]
[null,null,null,null,null," "]
[null,null,null,null,null," "]
[null,null,null,null,null," "]
[null,null,null,null,null," "]
[null,null,null,null,null," "]
[null,null,null,null,null," "]
[null,null,null,null,null," "]
[null,null,null,null,null," "]
[null,null,null,null,null," "]
[null,null,null,null,null," "]
[null,null,null,null,null," "]
[null,null,null,null,null," "]
[null,null,null,null,null," "]
[null,null,null,null,null," "]
[null,null,null,null,null," "]
[null,null,null,null,null," "]
[null,null,null,null,null," "]
[null,null,null,null,null," "]
[null,null,null,null,null," "]
[null,null,null,null,null," "]
[null,null,null,null,null," "]
[null,null,null,null,null," "]
[null,null,null,null,null," "]
[null,null,null,null,null," "]
[null,null,null,null,null," "]
[null,null,null,null,null," "]
[null,null,null,null,null," "]
[null,null,null,null,null," "]
[null,null,null,null,null," "]
[null,null,null,null,null," "]
[null,null,null,null,null," "]
[null,null,null,null,null," "]
[null,null,null,null,null," "]
[null,null,null,null,null," "]
[null,null,null,null,null," "]
[null,null,null,null,null," "]
[null,null,null,null,null," "]
[null,null,null,null,null," "]
[null,null,null,null,null," "]
[null,null,null,null,null," "]
[null,null,null,null,null," "]
[null,null,null,null,null," "]
[null,null,null,null,null," "]
[null,null,null,null,null," "]
[null,null,null,null,null," "]
[null,null,null,null,null," "]
[null,null,null,null,null," "]
[null,null,null,null,null," "]
[null,null,null,null,null," "]
[null,null,null,null,null," "]
[null,null,null,null,null," "]
[null,null,null,null,null," "]
[null,null,null,null,null," "]
[null,null,null,null,null," "]
[null,null,null,null,null," "]
[null,null,null,null,null," "]
[null,null,null,null,null," "]
[null,null,null,null,null," "]
[null,null,null,null,null," "]
[null,null,null,null,null," "]
[null,null,null,null,null," "]
[null,null,null,null,null," "]
[null,null,null,null,null," "]
[null,null,null,null,null," "]
[null,null,null,null,null," "]
[null,null,null,null,null," "]
[null,null,null,null,null," "]
[null,null,null,null,null," "]
[null,null,null,null,null," "]
[null,null,null,null,null," "]
[null,null,null,null,null," "]
[null,null,null,null,null," "]
[null,null,null,null,null," "]
[null,null,null,null,null," "]
[null,null,null,null,null," "]
[null,null,null,null,null," "]
[null,null,null,null,null," "]
[null,null,null,null,null," "]
[null,null,null,null,null," "]
[null,null,null,null,null," "]
[null,null,null,null,null," "]
[null,null,null,null,null," "]
[null,null,null,null,null," "]
[null,null,null,null,null," "]
[null,null,null,null,null," "]
[null,null,null,null,null," "]
[null,null,null,null,null," "]
[null,null,null,null,null," "]
[null,null,null,null,null," "]
[null,null,null,null,null," "]
[null,null,null,null,null," "]
[null,null,null,null,null," "]
[null,null,null,null,null," "]
[null,null,null,null,null," "]
[null,null,null,null,null," "]
[null,null,null,null,null," "]
[null,null,null,null,null," "]
[null,null,null,null,null," "]
[null,null,null,null,null," "]
[null,null,null,null,null," "]
[null,null,null,null,null," "]
[null,null,null,null,null," "]
[null,null,null,null,null," "]
[null,null,null,null,null," "]
[null,null,null,null,null," "]
[null,null,null,null,null," "]
[null,null,null,null,null," "]
[null,null,null,null,null," "]
[null,null,null,null,null," "]
[null,null,null,null,null," "]
[null,null,null,null,null," "]
[null,null,null,null,null," "]
[null,null,null,null,null," "]
[null,null,null,null,null," "]
[null,null,null,null,null," "]
[null,null,null,null,null," "]
[null,null,null,null,null," "]
[null,null,null,null,null," "]
[null,null,null,null,null," "]
[null,null,null,null,null," "]
[null,null,null,null,null," "]
[null,null,null,null,null," "]
[null,null,null,null,null," "]
[null,null,null,null,null," "]
[null,null,null,null,null," "]
[null,null,null,null,null," "]
[null,null,null,null,null," "]
[null,null,null,null,null," "]
[null,null,null,null,null," "]
[null,null,null,null,null," "]
[null,null,null,null,null," "]
[null,null,null,null,null," "]
[null,null,null,null,null," "]
[null,null,null,null,null," "]
[null,null,null,null,null," "]
[null,null,null,null,null," "]
[null,null,null,null,null," "]
[null,null,null,null,null," "]
[null,null,null,null,null," "]
[null,null,null,null,null," "]
[null,null,null,null,null," "]
[null,null,null,null,null," "]
[null,null,null,null,null," "]
[null,null,null,null,null," "]
[null,null,null,null,null," "]
[null,null,null,null,null," "]
[null,null,null,null,null," "]
[null,null,null,null,null," "]
[null,null,null,null,null," "]
[null,null,null,null,null," "]
[null,null,null,null,null," "]
[null,null,null,null,null," "]
[null,null,null,null,null," "]
[null,null,null,null,null," "]
[null,null,null,null,null," "]
[null,null,null,null,null," "]
[null,null,null,null,null," "]
[null,null,null,null,null," "]
[null,null,null,null,null," "]
[null,null,null,null,null," "]
[null,null,null,null,null," "]
[null,null,null,null,null," "]
[null,null,null,null,null," "]
[null,null,null,null,null," "]
[null,null,null,null,null," "]
[null,null,null,null,null," "]
[null,null,null,null,null," "]
[null,null,null,null,null," "]
[null,null,null,null,null," "]
[null,null,null,null,null," "]
[null,null,null,null,null," "]
[null,null,null,null,null," "]
[null,null,null,null,null," "]
[null,null,null,null,null," "]
[null,null,null,null,null," "]
[null,null,null,null,null," "]
[null,null,null,null,null," "]
[null,null,null,null,null," "]
[null,null,null,null,null," "]
[null,null,null,null,null," "]
[null,null,null,null,null," "]
[null,null,null,null,null," "]
[null,null,null,null,null," "]
[null,null,null,null,null," "]
[null,null,null,null,null," "]
[null,null,null,null,null," "]
[null,null,null,null,null," "]
[null,null,null,null,null," "]
[null,null,null,null,null," "]
[null,null,null,null,null," "]
[null,null,null,null,null," "]
[null,null,null,null,null," "]
[null,null,null,null,null," "]
[null,null,null,null,null," "]
[null,null,null,null,null," "]
[null,null,null,null,null," "]
[null,null,null,null,null," "]
[null,null,null,null,null," "]
[null,null,null,null,null," "]
[null,null,null,null,null," "]
[null,null,null,null,null," "]
[null,null,null,null,null," "]
[null,null,null,null,null," "]
[null,null,null,null,null," "]
[null,null,null,null,null," "]
[null,null,null,null,null," "]
[null,null,null,null,null," "]
[null,null,null,null,null," "]
[null,null,null,null,null," "]
[null,null,null,null,null," "]
[null,null,null,null,null," "]
[null,null,null,null,null," "]
[null,null,null,null,null," "]
[null,null,null,null,null," "]
[null,null,null,null,null," "]
[null,null,null,null,null," "]
[null,null,null,null,null," "]
[null,null,null,null,null," "]
[null,null,null,null,null," "]
[null,null,null,null,null," "]
[null,null,null,null,null," "]
[null,null,null,null,null," "]
[null,null,null,null,null," "]
[null,null,null,null,null," "]
[null,null,null,null,null," "]
[null,null,null,null,null," "]
[null,null,null,null,null," "]
[null,null,null,null,null," "]
[null,null,null,null,null," "]
[null,null,null,null,null," "]
[null,null,null,null,null," "]
[null,null,null,null,null," "]
[null,null,null,null,null," "]
[null,null,null,null,null," "]
[null,null,null,null,null," "]
[null,null,null,null,null," "]
[null,null,null,null,null," "]
[null,null,null,null,null," "]
[null,null,null,null,null," "]
[null,null,null,null,null," "]
[null,null,null,null,null," "]
[null,null,null,null,null," "]
[null,null,null,null,null," "]
[null,null,null,null,null," "]
[null,null,null,null,null," "]
[null,null,null,null,null," "]
[null,null,null,null,null," "]
[null,null,null,null,null," "]
[null,null,null,null,null," "]
[null,null,null,null,null," "]
[null,null,null,null,null," "]
[null,null,null,null,null," "]
[null,null,null,null,null," "]
[null,null,null,null,null," "]
[null,null,null,null,null," "]
[null,null,null,null,null," "]
[null,null,null,null,null," "]
[null,null,null,null,null," "]
[null,null,null,null,null," "]
[null,null,null,null,null," "]
[null,null,null,null,null," "]
[null,null,null,null,null," "]
[null,null,null,null,null," "]
[null,null,null,null,null," "]
[null,null,null,null,null," "]
[null,null,null,null,null," "]
[null,null,null,null,null," "]
[null,null,null,null,null," "]
[null,null,null,null,null," "]
[null,null,null,null,null," "]
[null,null,null,null,null," "]
[null,null,null,null,null," "]
[null,null,null,null,null," "]
[null,null,null,null,null," "]
[null,null,null,null,null," "]
[null,null,null,null,null," "]
[null,null,null,null,null," "]
[null,null,null,null,null," "]
[null,null,null,null,null," "]
[null,null,null,null,null," "]
[null,null,null,null,null," "]
[null,null,null,null,null," "]
[null,null,null,null,null," "]
[null,null,null,null,null," "]
[null,null,null,null,null," "]
[null,null,null,null,null," "]
[null,null,null,null,null," "]
[null,null,null,null,null," "]
[null,null,null,null,null," "]
[null,null,null,null,null," "]
[null,null,null,null,null," "]
[null,null,null,null,null," "]
[null,null,null,null,null," "]
[null,null,null,null,null," "]
[null,null,null,null,null," "]
[null,null,null,null,null," "]
[null,null,null,null,null," "]
[null,null,null,null,null," "]
[null,null,null,null,null," "]
[null,null,null,null,null," "]
[null,null,null,null,null," "]
[null,null,null,null,null," "]
[null,null,null,null,null," "]
[null,null,null,null,null," "]
[null,null,null,null,null," "]
[null,null,null,null,null," "]
[null,null,null,null,null," "]
[null,null,null,null,null," "]
[null,null,null,null,null," "]
[null,null,null,null,null," "]
[null,null,null,null,null," "]
[null,null,null,null,null," "]
[null,null,null,null,null," "]
[null,null,null,null,null," "]
[null,null,null,null,null," "]
[null,null,null,null,null," "]
[null,null,null,null,null," "]
[null,null,null,null,null," "]
[null,null,null,null,null," "]
[null,null,null,null,null," "]
[null,null,null,null,null," "]
[null,null,null,null,null," "]
[null,null,null,null,null," "]
[null,null,null,null,null," "]
[null,null,null,null,null," "]
[null,null,null,null,null," "]
[null,null,null,null,null," "]
[null,null,null,null,null," "]
[null,null,null,null,null," "]
[null,null,null,null,null," "]
[null,null,null,null,null," "]
[null,null,null,null,null," "]
[null,null,null,null,null," "]
[null,null,null,null,null," "]
[null,null,null,null,null," "]
[null,null,null,null,null," "]
[null,null,null,null,null," "]
[null,null,null,null,null," "]
[null,null,null,null,null," "]
[null,null,null,null,null," "]
[null,null,null,null,null," "]
[null,null,null,null,null," "]
[null,null,null,null,null," "]
[null,null,null,null,null," "]
[null,null,null,null,null," "]
[null,null,null,null,null," "]
[null,null,null,null,null," "]
[null,null,null,null,null," "]
[null,null,null,null,null," "]
[null,null,null,null,null," "]
[null,null,null,null,null," "]
[null,null,null,null,null," "]
[null,null,null,null,null," "]
[null,null,null,null,null," "]
[null,null,null,null,null," "]
[null,null,null,null,null," "]
[null,null,null,null,null," "]
[null,null,null,null,null," "]
[null,null,null,null,null," "]
[null,null,null,null,null," "]
[null,null,null,null,null," "]
[null,null,null,null,null," "]
[null,null,null,null,null," "]
[null,null,null,null,null," "]
[null,null,null,null,null," "]
[null,null,null,null,null," "]
[null,null,null,null,null," "]
[null,null,null,null,null," "]
[null,null,null,null,null," "]
[null,null,null,null,null," "]
[null,null,null,null,null," "]
[null,null,null,null,null," "]
[null,null,null,null,null," "]
[null,null,null,null,null," "]
[null,null,null,null,null," "]
[null,null,null,null,null," "]
[null,null,null,null,null," "]
[null,null,null,null,null," "]
[null,null,null,null,null," "]
[null,null,null,null,null," "]
[null,null,null,null,null," "]
[null,null,null,null,null," "]
[null,null,null,null,null," "]
[null,null,null,null,null," "]
[null,null,null,null,null," "]
[null,null,null,null,null," "]
[null,null,null,null,null," "]
[null,null,null,null,null," "]
[null,null,null,null,null," "]
[null,null,null,null,null," "]
[null,null,null,null,null," "]
[null,null,null,null,null," "]
[null,null,null,null,null," "]
[null,null,null,null,null," "]
[null,null,null,null,null," "]
[null,null,null,null,null," "]
[null,null,null,null,null," "]
[null,null,null,null,null," "]
[null,null,null,null,null," "]
[null,null,null,null,null," "]
[null,null,null,null,null," "]
[null,null,null,null,null," "]
[null,null,null,null,null," "]
[null,null,null,null,null," "]
[null,null,null,null,null," "]
[null,null,null,null,null," "]
[null,null,null,null,null," "]
[null,null,null,null,null," "]
[null,null,null,null,null," "]
[null,null,null,null,null," "]
[null,null,null,null,null," "]
[null,null,null,null,null," "]
[null,null,null,null,null," "]
[null,null,null,null,null," "]
[null,null,null,null,null," "]
[null,null,null,null,null," "]
[null,null,null,null,null," "]
[null,null,null,null,null," "]
[null,null,null,null,null," "]
[null,null,null,null,null," "]
[null,null,null,null,null," "]
[null,null,null,null,null," "]
[null,null,null,null,null," "]
[null,null,null,null,null," "]
[null,null,null,null,null," "]
[null,null,null,null,null," "]
[null,null,null,null,null," "]
[null,null,null,null,null," "]
[null,null,null,null,null," "]
[null,null,null,null,null," "]
[null,null,null,null,null," "]
[null,null,null,null,null," "]
[null,null,null,null,null," "]
[null,null,null,null,null," "]
[null,null,null,null,null," "]
[null,null,null,null,null," "]
[null,null,null,null,null," "]
[null,null,null,null,null," "]
[null,null,null,null,null," "]
[null,null,null,null,null," "]
[null,null,null,null,null," "]
[null,null,null,null,null," "]
[null,null,null,null,null," "]
[null,null,null,null,null," "]
[null,null,null,null,null," "]
[null,null,null,null,null," "]
[null,null,null,null,null," "]
[null,null,null,null,null," "]
[null,null,null,null,null," "]
[null,null,null,null,null," "]
[null,null,null,null,null," "]
[null,null,null,null,null," "]
[null,null,null,null,null," "]
[null,null,null,null,null," "]
[null,null,null,null,null," "]
[null,null,null,null,null," "]
[null,null,null,null,null," "]
[null,null,null,null,null," "]
[null,null,null,null,null," "]
[null,null,null,null,null," "]
[null,null,null,null,null," "]
[null,null,null,null,null," "]
[null,null,null,null,null," "]
[null,null,null,null,null," "]
[null,null,null,null,null," "]
[null,null,null,null,null," "]
[null,null,null,null,null," "]
[null,null,null,null,null," "]
[null,null,null,null,null," "]
[null,null,null,null,null," "]
[null,null,null,null,null," "]
[null,null,null,null,null," "]
[null,null,null,null,null," "]
[null,null,null,null,null," "]
[null,null,null,null,null," "]
[null,null,null,null,null," "]
[null,null,null,null,null," "]
[null,null,null,null,null," "]
[null,null,null,null,null," "]
[null,null,null,null,null," "]
[null,null,null,null,null," "]
[null,null,null,null,null," "]
[null,null,null,null,null," "]
[null,null,null,null,null," "]
[null,null,null,null,null," "]
[null,null,null,null,null," "]
[null,null,null,null,null," "]
[null,null,null,null,null," "]
[null,null,null,null,null," "]
[null,null,null,null,null," "]
[null,null,null,null,null," "]
[null,null,null,null,null," "]
[null,null,null,null,null," "]
[null,null,null,null,null," "]
[null,null,null,null,null," "]
[null,null,null,null,null," "]
[null,null,null,null,null," "]
[null,null,null,null,null," "]
[null,null,null,null,null," "]
[null,null,null,null,null," "]
[null,null,null,null,null," "]
[null,null,null,null,null," "]
[null,null,null,null,null," "]
[null,null,null,null,null," "]
[null,null,null,null,null," "]
[null,null,null,null,null," "]
[null,null,null,null,null," "]
[null,null,null,null,null," "]
[null,null,null,null,null," "]
[null,null,null,null,null," "]
[null,null,null,null,null," "]
[null,null,null,null,null," "]
[null,null,null,null,null," "]
[null,null,null,null,null," "]
[null,null,null,null,null," "]
[null,null,null,null,null," "]
[null,null,null,null,null," "]
[null,null,null,null,null," "]
[null,null,null,null,null," "]
[null,null,null,null,null," "]
[null,null,null,null,null," "]
[null,null,null,null,null," "]
[null,null,null,null,null," "]
[null,null,null,null,null," "]
[null,null,null,null,null," "]
[null,null,null,null,null," "]
[null,null,null,null,null," "]
[null,null,null,null,null," "]
[null,null,null,null,null," "]
[null,null,null,null,null," "]
[null,null,null,null,null," "]
[null,null,null,null,null," "]
[null,null,null,null,null," "]
[null,null,null,null,null," "]
[null,null,null,null,null," "]
[null,null,null,null,null," "]
[null,null,null,null,null," "]
[null,null,null,null,null," "]
[null,null,null,null,null," "]
[null,null,null,null,null," "]
[null,null,null,null,null," "]
[null,null,null,null,null," "]
[null,null,null,null,null," "]
[null,null,null,null,null," "]
[null,null,null,null,null," "]
[null,null,null,null,null," "]
[null,null,null,null,null," "]
[null,null,null,null,null," "]
[null,null,null,null,null," "]
[null,null,null,null,null," "]
[null,null,null,null,null," "]
[null,null,null,null,null," "]
[null,null,null,null,null," "]
[null,null,null,null,null," "]
[null,null,null,null,null," "]
[null,null,null,null,null," "]
[null,null,null,null,null," "]
[null,null,null,null,null," "]
[null,null,null,null,null," "]
[null,null,null,null,null," "]
[null,null,null,null,null," "]
[null,null,null,null,null," "]
[null,null,null,null,null," "]
[null,null,null,null,null," "]
[null,null,null,null,null," "]
[null,null,null,null,null," "]
[null,null,null,null,null," "]
[null,null,null,null,null," "]
[null,null,null,null,null," "]
[null,null,null,null,null," "]
[null,null,null,null,null," "]
[null,null,null,null,null," "]
[null,null,null,null,null," "]
[null,null,null,null,null," "]
[null,null,null,null,null," "]
[null,null,null,null,null," "]
[null,null,null,null,null," "]
[null,null,null,null,null," "]
[null,null,null,null,null," "]
[null,null,null,null,null," "]
[null,null,null,null,null," "]
[null,null,null,null,null," "]
[null,null,null,null,null," "]
[null,null,null,null,null," "]
[null,null,null,null,null," "]
[null,null,null,null,null," "]
[null,null,null,null,null," "]
[null,null,null,null,null," "]
[null,null,null,null,null," "]
[null,null,null,null,null," "]
[null,null,null,null,null," "]
[null,null,null,null,null," "]
[null,null,null,null,null," "]
[null,null,null,null,null," "]
[null,null,null,null,null," "]
[null,null,null,null,null," "]
[null,null,null,null,null," "]
[null,null,null,null,null," "]
[null,null,null,null,null," "]
[null,null,null,null,null," "]
[null,null,null,null,null," "]
[null,null,null,null,null," "]
[null,null,null,null,null," "]
[null,null,null,null,null," "]
[null,null,null,null,null," "]
[null,null,null,null,null," "]
[null,null,null,null,null," "]
[null,null,null,null,null," "]
[null,null,null,null,null," "]
[null,null,null,null,null," "]
[null,null,null,null,null," "]
[null,null,null,null,null," "]
[null,null,null,null,null," "]
[null,null,null,null,null," "]
[null,null,null,null,null," "]
[null,null,null,null,null," "]
[null,null,null,null,null," "]
[null,null,null,null,null," "]
[null,null,null,null,null," "]
[null,null,null,null,null," "]
[null,null,null,null,null," "]
[null,null,null,null,null," "]
[null,null,null,null,null," "]
[null,null,null,null,null," "]
[null,null,null,null,null," "]
[null,null,null,null,null," "]
[null,null,null,null,null," "]
[null,null,null,null,null," "]
[null,null,null,null,null," "]
[null,null,null,null,null," "]
[null,null,null,null,null," "]
[null,null,null,null,null," "]
[null,null,null,null,null," "]
[null,null,null,null,null," "]
[null,null,null,null,null," "]
[null,null,null,null,null," "]
[null,null,null,null,null," "]
[null,null,null,null,null," "]
[null,null,null,null,null," "]
[null,null,null,null,null," "]
[null,null,null,null,null," "]
[null,null,null,null,null," "]
[null,null,null,null,null," "]
[null,null,null,null,null," "]
[null,null,null,null,null," "]
[null,null,null,null,null," "]
[null,null,null,null,null," "]
[null,null,null,null,null," "]
[null,null,null,null,null," "]
[null,null,null,null,null," "]
[null,null,null,null,null," "]
[null,null,null,null,null," "]
[null,null,null,null,null," "]
[null,null,null,null,null," "]
[null,null,null,null,null," "]
[null,null,null,null,null," "]
[null,null,null,null,null," "]
[null,null,null,null,null," "]
[null,null,null,null,null," "]
[null,null,null,null,null," "]
[null,null,null,null,null," "]
[null,null,null,null,null," "]
[null,null,null,null,null," "]
[null,null,null,null,null," "]
[null,null,null,null,null," "]
[null,null,null,null,null," "]
[null,null,null,null,null," "]
[null,null,null,null,null," "]
[null,null,null,null,null," "]
[null,null,null,null,null," "]
[null,null,null,null,null," "]
[null,null,null,null,null," "]
[null,null,null,null,null," "]
[null,null,null,null,null," "]
[null,null,null,null,null," "]
[null,null,null,null,null," "]
[null,null,null,null,null," "]
[null,null,null,null,null," "]
[null,null,null,null,null," "]
[null,null,null,null,null," "]
[null,null,null,null,null," "]
[null,null,null,null,null," "]
[null,null,null,null,null," "]
[null,null,null,null,null," "]
[null,null,null,null,null," "]
[null,null,null,null,null," "]
[null,null,null,null,null," "]
[null,null,null,null,null," "]
[null,null,null,null,null," "]
[null,null,null,null,null," "]
[null,null,null,null,null," "]
[null,null,null,null,null," "]
[null,null,null,null,null," "]
[null,null,null,null,null," "]
[null,null,null,null,null," "]
[null,null,null,null,null," "]
[null,null,null,null,null," "]
[null,null,null,null,null," "]
[null,null,null,null,null," "]
[null,null,null,null,null," "]
[null,null,null,null,null," "]
[null,null,null,null,null," "]
[null,null,null,null,null," "]
[null,null,null,null,null," "]
[null,null,null,null,null," "]
[null,null,null,null,null," "]
[null,null,null,null,null," "]
[null,null,null,null,null," "]
[null,null,null,null,null," "]
[null,null,null,null,null," "]
[null,null,null,null,null," "]
[null,null,null,null,null," "]
[null,null,null,null,null," "]
[null,null,null,null,null," "]
[null,null,null,null,null," "]
[null,null,null,null,null," "]
[null,null,null,null,null," "]
[null,null,null,null,null," "]
[null,null,null,null,null," "]
[null,null,null,null,null," "]
[null,null,null,null,null," "]
[null,null,null,null,null," "]
[null,null,null,null,null," "]
[null,null,null,null,null," "]
[null,null,null,null,null," "]
[null,null,null,null,null," "]
[null,null,null,null,null," "]
[null,null,null,null,null," "]
[null,null,null,null,null," "]
[null,null,null,null,null," "]
[null,null,null,null,null," "]
[null,null,null,null,null," "]
[null,null,null,null,null," "]
[null,null,null,null,null," "]
[null,null,null,null,null," "]
[null,null,null,null,null," "]
[null,null,null,null,null," "]
[null,null,null,null,null," "]
[null,null,null,null,null," "]
[null,null,null,null,null," "]
[null,null,null,null,null," "]
[null,null,null,null,null," "]
[null,null,null,null,null," "]
[null,null,null,null,null," "]
[null,null,null,null,null," "]
[null,null,null,null,null," "]
[null,null,null,null,null," "]
[null,null,null,null,null," "]
[null,null,null,null,null," "]
[null,null,null,null,null," "]
[null,null,null,null,null," "]
[null,null,null,null,null," "]
[null,null,null,null,null," "]
[null,null,null,null,null," "]
[null,null,null,null,null," "]
[null,null,null,null,null," "]
[null,null,null,null,null," "]
[null,null,null,null,null," "]
[null,null,null,null,null," "]
[null,null,null,null,null," "]
[null,null,null,null,null," "]
[null,null,null,null,null," "]
[null,null,null,null,null," "]
[null,null,null,null,null," "]
[null,null,null,null,null," "]
[null,null,null,null,null," "]
[null,null,null,null,null," "]
[null,null,null,null,null," "]
[null,null,null,null,null," "]
[null,null,null,null,null," "]
[null,null,null,null,null," "]
[null,null,null,null,null," "]
[null,null,null,null,null," "]
[null,null,null,null,null," "]
[null,null,null,null,null," "]
[null,null,null,null,null," "]
[null,null,null,null,null," "]
[null,null,null,null,null," "]
[null,null,null,null,null," "]
[null,null,null,null,null," "]
[null,null,null,null,null," "]
[null,null,null,null,null," "]
[null,null,null,null,null," "]
[null,null,null,null,null," "]
[null,null,null,null,null," "]
[null,null,null,null,null," "]
[null,null,null,null,null," "]
[null,null,null,null,null," "]
[null,null,null,null,null," "]
[null,null,null,null,null," "]
[null,null,null,null,null," "]
[null,null,null,null,null," "]
[null,null,null,null,null," "]
[null,null,null,null,null," "]
[null,null,null,null,null," "]
[null,null,null,null,null," "]
[null,null,null,null,null," "]
[null,null,null,null,null," "]
[null,null,null,null,null," "]
[null,null,null,null,null," "]
[null,null,null,null,null," "]
[null,null,null,null,null," "]
[null,null,null,null,null," "]
[null,null,null,null,null," "]
[null,null,null,null,null," "]
[null,null,null,null,null," "]
[null,null,null,null,null," "]
[null,null,null,null,null," "]
[null,null,null,null,null," "]
[null,null,null,null,null," "]
[null,null,null,null,null," "]
[null,null,null,null,null," "]
[null,null,null,null,null," "]
[null,null,null,null,null," "]
[null,null,null,null,null," "]
[null,null,null,null,null," "]
[null,null,null,null,null," "]
[null,null,null,null,null," "]
[null,null,null,null,null," "]
[null,null,null,null,null," "]
[null,null,null,null,null," "]
[null,null,null,null,null," "]
[null,null,null,null,null," "]
[null,null,null,null,null," "]
[null,null,null,null,null," "]
[null,null,null,null,null," "]
[null,null,null,null,null," "]
[null,null,null,null,null," "]
[null,null,null,null,null," "]
[null,null,null,null,null," "]
[null,null,null,null,null," "]
[null,null,null,null,null," "]
[null,null,null,null,null," "]
[null,null,null,null,null," "]
[null,null,null,null,null," "]
[null,null,null,null,null," "]
[null,null,null,null,null," "]
[null,null,null,null,null," "]
[null,null,null,null,null," "]
[null,null,null,null,null," "]
[null,null,null,null,null," "]
[null,null,null,null,null," "]
[null,null,null,null,null," "]
[null,null,null,null,null," "]
[null,null,null,null,null," "]
[null,null,null,null,null," "]
[null,null,null,null,null," "]
[null,null,null,null,null," "]
[null,null,null,null,null," "]
[null,null,null,null,null," "]
[null,null,null,null,null," "]
[null,null,null,null,null," "]
[null,null,null,null,null," "]
[null,null,null,null,null," "]
[null,null,null,null,null," "]
[null,null,null,null,null," "]
[null,null,null,null,null," "]
[null,null,null,null,null," "]
[null,null,null,null,null," "]
[null,null,null,null,null," "]
[null,null,null,null,null," "]
[null,null,null,null,null," "]
[null,null,null,null,null," "]
[null,null,null,null,null," "]
[null,null,null,null,null," "]
[null,null,null,null,null," "]
[null,null,null,null,null," "]
[null,null,null,null,null," "]
[null,null,null,null,null," "]
[null,null,null,null,null," "]
[null,null,null,null,null," "]
[null,null,null,null,null," "]
[null,null,null,null,null," "]
[null,null,null,null,null," "]
[null,null,null,null,null," "]
[null,null,null,null,null," "]
[null,null,null,null,null," "]
[null,null,null,null,null," "]
[null,null,null,null,null," "]
[null,null,null,null,null," "]
[null,null,null,null,null," "]
[null,null,null,null,null," "]
[null,null,null,null,null," "]
[null,null,null,null,null," "]
[null,null,null,null,null," "]
[null,null,null,null,null," "]
[null,null,null,null,null," "]
[null,null,null,null,null," "]
[null,null,null,null,null," "]
[null,null,null,null,null," "]
[null,null,null,null,null," "]
[null,null,null,null,null," "]
[null,null,null,null,null," "]
[null,null,null,null,null," "]
[null,null,null,null,null," "]
[null,null,null,null,null," "]
[null,null,null,null,null," "]
[null,null,null,null,null," "]
[null,null,null,null,null," "]
[null,null,null,null,null," "]
[null,null,null,null,null," "]
[null,null,null,null,null," "]
[null,null,null,null,null," "]
[null,null,null,null,null," "]
[null,null,null,null,null," "]
[null,null,null,null,null," "]
[null,null,null,null,null," "]
[null,null,null,null,null," "]
[null,null,null,null,null," "]
[null,null,null,null,null," "]
[null,null,null,null,null," "]
[null,null,null,null,null," "]
[null,null,null,null,null," "]
[null,null,null,null,null," "]
[null,null,null,null,null," "]
[null,null,null,null,null," "]
[null,null,null,null,null," "]
[null,null,null,null,null," "]
[null,null,null,null,null," "]
[null,null,null,null,null," "]
[null,null,null,null,null," "]
[null,null,null,null,null," "]
[null,null,null,null,null," "]
[null,null,null,null,null," "]
[null,null,null,null,null," "]
[null,null,null,null,null," "]
[null,null,null,null,null," "]
[null,null,null,null,null," "]
[null,null,null,null,null," "]
[null,null,null,null,null," "]
[null,null,null,null,null," "]
[null,null,null,null,null," "]
[null,null,null,null,null," "]
[null,null,null,null,null," "]
[null,null,null,null,null," "]
[null,null,null,null,null," "]
[null,null,null,null,null," "]
[null,null,null,null,null," "]
[null,null,null,null,null," "]
[null,null,null,null,null," "]
[null,null,null,null,null," "]
[null,null,null,null,null," "]
[null,null,null,null,null," "]
[null,null,null,null,null," "]
[null,null,null,null,null," "]
[null,null,null,null,null," "]
[null,null,null,null,null," "]
[null,null,null,null,null," "]
[null,null,null,null,null," "]
[null,null,null,null,null," "]
[null,null,null,null,null," "]
[null,null,null,null,null," "]
[null,null,null,null,null," "]
[null,null,null,null,null," "]
[null,null,null,null,null," "]
[null,null,null,null,null," "]
[null,null,null,null,null," "]
[null,null,null,null,null," "]
[null,null,null,null,null," "]
[null,null,null,null,null," "]
[null,null,null,null,null," "]
[null,null,null,null,null," "]
[null,null,null,null,null," "]
[null,null,null,null,null," "]
[null,null,null,null,null," "]
[null,null,null,null,null," "]
[null,null,null,null,null," "]
[null,null,null,null,null," "]
[null,null,null,null,null," "]
[null,null,null,null,null," "]
[null,null,null,null,null," "]
[null,null,null,null,null," "]
[null,null,null,null,null," "]
[null,null,null,null,null," "]
[null,null,null,null,null," "]
[null,null,null,null,null," "]
[null,null,null,null,null," "]
[null,null,null,null,null," "]
[null,null,null,null,null," "]
[null,null,null,null,null," "]
[null,null,null,null,null," "]
[null,null,null,null,null," "]
[null,null,null,null,null," "]
[null,null,null,null,null," "]
[null,null,null,null,null," "]
[null,null,null,null,null," "]
[null,null,null,null,null," "]
[null,null,null,null,null," "]
[null,null,null,null,null," "]
[null,null,null,null,null," "]
[null,null,null,null,null," "]
[null,null,null,null,null," "]
[null,null,null,null,null," "]
[null,null,null,null,null," "]
[null,null,null,null,null," "]
[null,null,null,null,null," "]
[null,null,null,null,null," "]
[null,null,null,null,null," "]
[null,null,null,null,null," "]
[null,null,null,null,null," "]
[null,null,null,null,null," "]
[null,null,null,null,null," "]
[null,null,null,null,null," "]
[null,null,null,null,null," "]
[null,null,null,null,null," "]
[null,null,null,null,null," "]
[null,null,null,null,null," "]
[null,null,null,null,null," "]
[null,null,null,null,null," "]
[null,null,null,null,null," "]
[null,null,null,null,null," "]
[null,null,null,null,null," "]
[null,null,null,null,null," "]
[null,null,null,null,null," "]
[null,null,null,null,null," "]
[null,null,null,null,null," "]
[null,null,null,null,null," "]
[null,null,null,null,null," "]
[null,null,null,null,null," "]
[null,null,null,null,null," "]
[null,null,null,null,null," "]
[null,null,null,null,null," "]
[null,null,null,null,null," "]
[null,null,null,null,null," "]
[null,null,null,null,null," "]
[null,null,null,null,null," "]
[null,null,null,null,null," "]
[null,null,null,null,null," "]
[null,null,null,null,null," "]
[null,null,null,null,null," "]
[null,null,null,null,null," "]
[null,null,null,null,null," "]
[null,null,null,null,null," "]
[null,null,null,null,null," "]
[null,null,null,null,null," "]
[null,null,null,null,null," "]
[null,null,null,null,null," "]
[null,null,null,null,null," "]
[null,null,null,null,null," "]
[null,null,null,null,null," "]
[null,null,null,null,null," "]
[null,null,null,null,null," "]
[null,null,null,null,null," "]
[null,null,null,null,null," "]
[null,null,null,null,null," "]
[null,null,null,null,null," "]
[null,null,null,null,null," "]
[null,null,null,null,null," "]
[null,null,null,null,null," "]
[null,null,null,null,null," "]
[null,null,null,null,null," "]
[null,null,null,null,null," "]
[null,null,null,null,null," "]
[null,null,null,null,null," "]
[null,null,null,null,null," "]
[null,null,null,null,null," "]
[null,null,null,null,null," "]
[null,null,null,null,null," "]
[null,null,null,null,null," "]
[null,null,null,null,null," "]
[null,null,null,null,null," "]
[null,null,null,null,null," "]
[null,null,null,null,null," "]
[null,null,null,null,null," "]
[null,null,null,null,null," "]
[null,null,null,null,null," "]
[null,null,null,null,null," "]
[null,null,null,null,null," "]
[null,null,null,null,null," "]
[null,null,null,null,null," "]
[null,null,null,null,null," "]
[null,null,null,null,null," "]
[null,null,null,null,null," "]
[null,null,null,null,null," "]
[null,null,null,null,null," "]
[null,null,null,null,null," "]
[null,null,null,null,null," "]
[null,null,null,null,null," "]
[null,null,null,null,null," "]
[null,null,null,null,null," "]
[null,null,null,null,null," "]
[null,null,null,null,null," "]
[null,null,null,null,null," "]
[null,null,null,null,null," "]
[null,null,null,null,null," "]
[null,null,null,null,null," "]
[null,null,null,null,null," "]
[null,null,null,null,null," "]
[null,null,null,null,null," "]
[null,null,null,null,null," "]
[null,null,null,null,null," "]
[null,null,null,null,null," "]
[null,null,null,null,null," "]
[null,null,null,null,null," "]
[null,null,null,null,null," "]
[null,null,null,null,null," "]
[null,null,null,null,null," "]
[null,null,null,null,null," "]
[null,null,null,null,null," "]
[null,null,null,null,null," "]
[null,null,null,null,null," "]
[null,null,null,null,null," "]
[null,null,null,null,null," "]
[null,null,null,null,null," "]
[null,null,null,null,null," "]
[null,null,null,null,null," "]
[null,null,null,null,null," "]
[null,null,null,null,null," "]
[null,null,null,null,null," "]
[null,null,null,null,null," "]
[null,null,null,null,null," "]
[null,null,null,null,null," "]
[null,null,null,null,null," "]
[null,null,null,null,null," "]
[null,null,null,null,null," "]
[null,null,null,null,null," "]
[null,null,null,null,null," "]
[null,null,null,null,null," "]
[null,null,null,null,null," "]
[null,null,null,null,null," "]
[null,null,null,null,null," "]
[null,null,null,null,null," "]
[null,null,null,null,null," "]
[null,null,null,null,null," "]
[null,null,null,null,null," "]
[null,null,null,null,null," "]
[null,null,null,null,null," "]
[null,null,null,null,null," "]
[null,null,null,null,null," "]
[null,null,null,null,null," "]
[null,null,null,null,null," "]
[null,null,null,null,null," "]
[null,null,null,null,null," "]
[null,null,null,null,null," "]
[null,null,null,null,null," "]
[null,null,null,null,null," "]
[null,null,null,null,null," "]
[null,null,null,null,null," "]
[null,null,null,null,null," "]
[null,null,null,null,null," "]
[null,null,null,null,null," "]
[null,null,null,null,null," "]
[null,null,null,null,null," "]
[null,null,null,null,null," "]
[null,null,null,null,null," "]
[null,null,null,null,null," "]
[null,null,null,null,null," "]
[null,null,null,null,null," "]
[null,null,null,null,null," "]
[null,null,null,null,null," "]
[null,null,null,null,null," "]
[null,null,null,null,null," "]
[null,null,null,null,null," "]
[null,null,null,null,null," "]
[null,null,null,null,null," "]
[null,null,null,null,null," "]
[null,null,null,null,null," "]
[null,null,null,null,null," "]
[null,null,null,null,null," "]
[null,null,null,null,null," "]
[null,null,null,null,null," "]
[null,null,null,null,null," "]
[null,null,null,null,null," "]
[null,null,null,null,null," "]
[null,null,null,null,null," "]
[null,null,null,null,null," "]
[null,null,null,null,null," "]
[null,null,null,null,null," "]
[null,null,null,null,null," "]
[null,null,null,null,null," "]
[null,null,null,null,null," "]
[null,null,null,null,null," "]
[null,null,null,null,null," "]
[null,null,null,null,null," "]
[null,null,null,null,null," "]
[null,null,null,null,null," "]
[null,null,null,null,null," "]
[null,null,null,null,null," "]
[null,null,null,null,null," "]
[null,null,null,null,null," "]
[null,null,null,null,null," "]
[null,null,null,null,null," "]
[null,null,null,null,null," "]
[null,null,null,null,null," "]
[null,null,null,null,null," "]
[null,null,null,null,null," "]
[null,null,null,null,null," "]
[null,null,null,null,null," "]
[null,null,null,null,null," "]
[null,null,null,null,null," "]
[null,null,null,null,null," "]
[null,null,null,null,null," "]
[null,null,null,null,null," "]
[null,null,null,null,null," "]
[null,null,null,null,null," "]
[null,null,null,null,null," "]
[null,null,null,null,null," "]
[null,null,null,null,null," "]
[null,null,null,null,null," "]
[null,null,null,null,null," "]
[null,null,null,null,null," "]
[null,null,null,null,null," "]
[null,null,null,null,null," "]
[null,null,null,null,null," "]
[null,null,null,null,null," "]
[null,null,null,null,null," "]
[null,null,null,null,null," "]
[null,null,null,null,null," "]
[null,null,null,null,null," "]
[null,null,null,null,null," "]
[null,null,null,null,null," "]
[null,null,null,null,null," "]
[null,null,null,null,null," "]
[null,null,null,null,null," "]
[null,null,null,null,null," "]
[null,null,null,null,null," "]
[null,null,null,null,null," "]
[null,null,null,null,null," "]
[null,null,null,null,null," "]
[null,null,null,null,null," "]
[null,null,null,null,null," "]
[null,null,null,null,null," "]
[null,null,null,null,null," "]
[null,null,null,null,null," "]
[null,null,null,null,null," "]
[null,null,null,null,null," "]
[null,null,null,null,null," "]
[null,null,null,null,null," "]
[null,null,null,null,null," "]
[null,null,null,null,null," "]
[null,null,null,null,null," "]
[null,null,null,null,null," "]
[null,null,null,null,null," "]
[null,null,null,null,null," "]
[null,null,null,null,null," "]
[null,null,null,null,null," "]
[null,null,null,null,null," "]
[null,null,null,null,null," "]
[null,null,null,null,null," "]
[null,null,null,null,null," "]
[null,null,null,null,null," "]
[null,null,null,null,null," "]
[null,null,null,null,null," "]
[null,null,null,null,null," "]
[null,null,null,null,null," "]
[null,null,null,null,null," "]
[null,null,null,null,null," "]
[null,null,null,null,null," "]
[null,null,null,null,null," "]
[null,null,null,null,null," "]
[null,null,null,null,null," "]
[null,null,null,null,null," "]
[null,null,null,null,null," "]
[null,null,null,null,null," "]
[null,null,null,null,null," "]
[null,null,null,null,null," "]
[null,null,null,null,null," "]
[null,null,null,null,null," "]
[null,null,null,null,null," "]
[null,null,null,null,null," "]
[null,null,null,null,null," "]
[null,null,null,null,null," "]
[null,null,null,null,null," "]
[null,null,null,null,null," "]
[null,null,null,null,null," "]
[null,null,null,null,null," "]
[null,null,null,null,null," "]
[null,null,null,null,null," "]
[null,null,null,null,null," "]
[null,null,null,null,null," "]
[null,null,null,null,null," "]
[null,null,null,null,null," "]
[null,null,null,null,null," "]
[null,null,null,null,null," "]
[null,null,null,null,null," "]
[null,null,null,null,null," "]
[null,null,null,null,null," "]
[null,null,null,null,null," "]
[null,null,null,null,null," "]
[null,null,null,null,null," "]
[null,null,null,null,null," "]
[null,null,null,null,null," "]
[null,null,null,null,null," "]
[null,null,null,null,null," "]
[null,null,null,null,null," "]
[null,null,null,null,null," "]
[null,null,null,null,null," "]
[null,null,null,null,null," "]
[null,null,null,null,null," "]
[null,null,null,null,null," "]
[null,null,null,null,null," "]
[null,null,null,null,null," "]
[null,null,null,null,null," "]
[null,null,null,null,null," "]
[null,null,null,null,null," "]
[null,null,null,null,null," "]
[null,null,null,null,null," "]
[null,null,null,null,null," "]
[null,null,null,null,null," "]
[null,null,null,null,null," "]
[null,null,null,null,null," "]
[null,null,null,null,null," "]
[null,null,null,null,null," "]
[null,null,null,null,null," "]
[null,null,null,null,null," "]
[null,null,null,null,null," "]
[null,null,null,null,null," "]
[null,null,null,null,null," "]
[null,null,null,null,null," "]
[null,null,null,null,null," "]
[null,null,null,null,null," "]
[null,null,null,null,null," "]
[null,null,null,null,null," "]
[null,null,null,null,null," "]
[null,null,null,null,null," "]
[null,null,null,null,null," "]
[null,null,null,null,null," "]
[null,null,null,null,null," "]
[null,null,null,null,null," "]
[null,null,null,null,null," "]
[null,null,null,null,null," "]
[null,null,null,null,null," "]
[null,null,null,null,null," "]
[null,null,null,null,null," "]
[null,null,null,null,null," "]
[null,null,null,null,null," "]
[null,null,null,null,null," "]
[null,null,null,null,null," "]
[null,null,null,null,null," "]
[null,null,null,null,null," "]
[null,null,null,null,null," "]
[null,null,null,null,null," "]
[null,null,null,null,null," "]
[null,null,null,null,null," "]
[null,null,null,null,null," "]
[null,null,null,null,null," "]
[null,null,null,null,null," "]
[null,null,null,null,null," "]
[null,null,null,null,null," "]
[null,null,null,null,null," "]
[null,null,null,null,null," "]
[null,null,null,null,null," "]
[null,null,null,null,null," "]
[null,null,null,null,null," "]
[null,null,null,null,null," "]
[null,null,null,null,null," "]
[null,null,null,null,null," "]
[null,null,null,null,null," "]
[null,null,null,null,null," "]
[null,null,null,null,null," "]
[null,null,null,null,null," "]
[null,null,null,null,null," "]
[null,null,null,null,null," "]
[null,null,null,null,null," "]
[null,null,null,null,null," "]
[null,null,null,null,null," "]
[null,null,null,null,null," "]
[null,null,null,null,null," "]
[null,null,null,null,null," "]
[null,null,null,null,null," "]
[null,null,null,null,null," "]
[null,null,null,null,null," "]
[null,null,null,null,null," "]
[null,null,null,null,null," "]
[null,null,null,null,null," "]
[null,null,null,null,null," "]
[null,null,null,null,null," "]
[null,null,null,null,null," "]
[null,null,null,null,null," "]
[null,null,null,null,null," "]
[null,null,null,null,null," "]
[null,null,null,null,null," "]
[null,null,null,null,null," "]
[null,null,null,null,null," "]
[null,null,null,null,null," "]
[null,null,null,null,null," "]
[null,null,null,null,null," "]
[null,null,null,null,null," "]
[null,null,null,null,null," "]
[null,null,null,null,null," "]
[null,null,null,null,null," "]
[null,null,null,null,null," "]
[null,null,null,null,null," "]
[null,null,null,null,null," "]
[null,null,null,null,null," "]
[null,null,null,null,null," "]
[null,null,null,null,null," "]
[null,null,null,null,null," "]
[null,null,null,null,null," "]
[null,null,null,null,null," "]
[null,null,null,null,null," "]
[null,null,null,null,null," "]
[null,null,null,null,null," "]
[null,null,null,null,null," "]
[null,null,null,null,null," "]
[null,null,null,null,null," "]
[null,null,null,null,null," "]
[null,null,null,null,null," "]
[null,null,null,null,null," "]
[null,null,null,null,null," "]
[null,null,null,null,null," "]
[null,null,null,null,null," "]
[null,null,null,null,null," "]
[null,null,null,null,null," "]
[null,null,null,null,null," "]
[null,null,null,null,null," "]
[null,null,null,null,null," "]
[null,null,null,null,null," "]
[null,null,null,null,null," "]
[null,null,null,null,null," "]
[null,null,null,null,null," "]
[null,null,null,null,null," "]
[null,null,null,null,null," "]
[null,null,null,null,null," "]
[null,null,null,null,null," "]
[null,null,null,null,null," "]
[null,null,null,null,null," "]
[null,null,null,null,null," "]
[null,null,null,null,null," "]
[null,null,null,null,null," "]
[null,null,null,null,null," "]
[null,null,null,null,null," "]
[null,null,null,null,null," "]
[null,null,null,null,null," "]
[null,null,null,null,null," "]
[null,null,null,null,null," "]
[null,null,null,null,null," "]
[null,null,null,null,null," "]
[null,null,null,null,null," "]
[null,null,null,null,null," "]
[null,null,null,null,null," "]
[null,null,null,null,null," "]
[null,null,null,null,null," "]
[null,null,null,null,null," "]
[null,null,null,null,null," "]
[null,null,null,null,null," "]
[null,null,null,null,null," "]
[null,null,null,null,null," "]
[null,null,null,null,null," "]
[null,null,null,null,null," "]
[null,null,null,null,null," "]
[null,null,null,null,null," "]
[null,null,null,null,null," "]
[null,null,null,null,null," "]
[null,null,null,null,null," "]
[null,null,null,null,null," "]
[null,null,null,null,null," "]
[null,null,null,null,null," "]
[null,null,null,null,null," "]
[null,null,null,null,null," "]
[null,null,null,null,null," "]
[null,null,null,null,null," "]
[null,null,null,null,null," "]
[null,null,null,null,null," "]
[null,null,null,null,null," "]
[null,null,null,null,null," "]
[null,null,null,null,null," "]
[null,null,null,null,null," "]
[null,null,null,null,null," "]
[null,null,null,null,null," "]
[null,null,null,null,null," "]
[null,null,null,null,null," "]
[null,null,null,null,null," "]
[null,null,null,null,null," "]
[null,null,null,null,null," "]
[null,null,null,null,null," "]
[null,null,null,null,null," "]
[null,null,null,null,null," "]
[null,null,null,null,null," "]
[null,null,null,null,null," "]
[null,null,null,null,null," "]
[null,null,null,null,null," "]
[null,null,null,null,null," "]
[null,null,null,null,null," "]
[null,null,null,null,null," "]
[null,null,null,null,null," "]
[null,null,null,null,null," "]
[null,null,null,null,null," "]
[null,null,null,null,null," "]
[null,null,null,null,null," "]
[null,null,null,null,null," "]
[null,null,null,null,null," "]
[null,null,null,null,null," "]
[null,null,null,null,null," "]
[null,null,null,null,null," "]
[null,null,null,null,null," "]
[null,null,null,null,null," "]
[null,null,null,null,null," "]
[null,null,null,null,null," "]
[null,null,null,null,null," "]
[null,null,null,null,null," "]
[null,null,null,null,null," "]
[null,null,null,null,null," "]
[null,null,null,null,null," "]
[null,null,null,null,null," "]
[null,null,null,null,null," "]
[null,null,null,null,null," "]
[null,null,null,null,null," "]
[null,null,null,null,null," "]
[null,null,null,null,null," "]
[null,null,null,null,null," "]
[null,null,null,null,null," "]
[null,null,null,null,null," "]
[null,null,null,null,null," "]
[null,null,null,null,null," "]
[null,null,null,null,null," "]
[null,null,null,null,null," "]
[null,null,null,null,null," "]
[null,null,null,null,null," "]
[null,null,null,null,null," "]
[null,null,null,null,null," "]
[null,null,null,null,null," "]
[null,null,null,null,null," "]
[null,null,null,null,null," "]
[null,null,null,null,null," "]
[null,null,null,null,null," "]
[null,null,null,null,null," "]
[null,null,null,null,null," "]
[null,null,null,null,null," "]
[null,null,null,null,null," "]
[null,null,null,null,null," "]
[null,null,null,null,null," "]
[null,null,null,null,null," "]
[null,null,null,null,null," "]
[null,null,null,null,null," "]
[null,null,null,null,null," "]
[null,null,null,null,null," "]
[null,null,null,null,null," "]
[null,null,null,null,null," "]
[null,null,null,null,null," "]
[null,null,null,null,null," "]
[null,null,null,null,null," "]
[null,null,null,null,null," "]
[null,null,null,null,null," "]
[null,null,null,null,null," "]
[null,null,null,null,null," "]
[null,null,null,null,null," "]
[null,null,null,null,null," "]
[null,null,null,null,null," "]
[null,null,null,null,null," "]
[null,null,null,null,null," "]
[null,null,null,null,null," "]
[null,null,null,null,null," "]
[null,null,null,null,null," "]
[null,null,null,null,null," "]
[null,null,null,null,null," "]
[null,null,null,null,null," "]
[null,null,null,null,null," "]
[null,null,null,null,null," "]
[null,null,null,null,null," "]
[null,null,null,null,null," "]
[null,null,null,null,null," "]
[null,null,null,null,null," "]
[null,null,null,null,null," "]
[null,null,null,null,null," "]
[null,null,null,null,null," "]
[null,null,null,null,null," "]
[null,null,null,null,null," "]
[null,null,null,null,null," "]
[null,null,null,null,null," "]
[null,null,null,null,null," "]
[null,null,null,null,null," "]
[null,null,null,null,null," "]
[null,null,null,null,null," "]
[null,null,null,null,null," "]
[null,null,null,null,null," "]
[null,null,null,null,null," "]
[null,null,null,null,null," "]
[null,null,null,null,null," "]
[null,null,null,null,null," "]
[null,null,null,null,null," "]
[null,null,null,null,null," "]
[null,null,null,null,null," "]
[null,null,null,null,null," "]
[null,null,null,null,null," "]
[null,null,null,null,null," "]
[null,null,null,null,null," "]
[null,null,null,null,null," "]
[null,null,null,null,null," "]
[null,null,null,null,null," "]
[null,null,null,null,null," "]
[null,null,null,null,null," "]
[null,null,null,null,null," "]
[null,null,null,null,null," "]
[null,null,null,null,null," "]
[null,null,null,null,null," "]
[null,null,null,null,null," "]
[null,null,null,null,null," "]
[null,null,null,null,null," "]
[null,null,null,null,null," "]
[null,null,null,null,null," "]
[null,null,null,null,null," "]
[null,null,null,null,null," "]
[null,null,null,null,null," "]
[null,null,null,null,null," "]
[null,null,null,null,null," "]
[null,null,null,null,null," "]
[null,null,null,null,null," "]
[null,null,null,null,null," "]
[null,null,null,null,null," "]
[null,null,null,null,null," "]
[null,null,null,null,null," "]
[null,null,null,null,null," "]
[null,null,null,null,null," "]
[null,null,null,null,null," "]
[null,null,null,null,null," "]
[null,null,null,null,null," "]
[null,null,null,null,null," "]
[null,null,null,null,null," "]
[null,null,null,null,null," "]
[null,null,null,null,null," "]
[null,null,null,null,null," "]
[null,null,null,null,null," "]
[null,null,null,null,null," "]
[null,null,null,null,null," "]
[null,null,null,null,null," "]
[null,null,null,null,null," "]
[null,null,null,null,null," "]
[null,null,null,null,null," "]
[null,null,null,null,null," "]
[null,null,null,null,null," "]
[null,null,null,null,null," "]
[null,null,null,null,null," "]
[null,null,null,null,null," "]
[null,null,null,null,null," "]
[null,null,null,null,null," "]
[null,null,null,null,null," "]
[null,null,null,null,null," "]
[null,null,null,null,null," "]
[null,null,null,null,null," "]
[null,null,null,null,null," "]
[null,null,null,null,null," "]
[null,null,null,null,null," "]
[null,null,null,null,null," "]
[null,null,null,null,null," "]
[null,null,null,null,null," "]
[null,null,null,null,null," "]
[null,null,null,null,null," "]
[null,null,null,null,null," "]
[null,null,null,null,null," "]
[null,null,null,null,null," "]
[null,null,null,null,null," "]
[null,null,null,null,null," "]
[null,null,null,null,null," "]
[null,null,null,null,null," "]
[null,null,null,null,null," "]
[null,null,null,null,null," "]
[null,null,null,null,null," "]
[null,null,null,null,null," "]
[null,null,null,null,null," "]
[null,null,null,null,null," "]
[null,null,null,null,null," "]
[null,null,null,null,null," "]
[null,null,null,null,null," "]
[null,null,null,null,null," "]
[null,null,null,null,null," "]
[null,null,null,null,null," "]
[null,null,null,null,null," "]
[null,null,null,null,null," "]
[null,null,null,null,null," "]
[null,null,null,null,null," "]
[null,null,null,null,null," "]
[null,null,null,null,null," "]
[null,null,null,null,null," "]
[null,null,null,null,null," "]
[null,null,null,null,null," "]
[null,null,null,null,null," "]
[null,null,null,null,null," "]
[null,null,null,null,null," "]
[null,null,null,null,null," "]
[null,null,null,null,null," "]
[null,null,null,null,null," "]
[null,null,null,null,null," "]
[null,null,null,null,null," "]
[null,null,null,null,null," "]
[null,null,null,null,null," "]
[null,null,null,null,null," "]
[null,null,null,null,null," "]
[null,null,null,null,null," "]
[null,null,null,null,null," "]
[null,null,null,null,null," "]
[null,null,null,null,null," "]
[null,null,null,null,null," "]
[null,null,null,null,null," "]
[null,null,null,null,null," "]
[null,null,null,null,null," "]
[null,null,null,null,null," "]
[null,null,null,null,null," "]
[null,null,null,null,null," "]
[null,null,null,null,null," "]
[null,null,null,null,null," "]
[null,null,null,null,null," "]
[null,null,null,null,null," "]
[null,null,null,null,null," "]
[null,null,null,null,null," "]
[null,null,null,null,null," "]
[null,null,null,null,null," "]
[null,null,null,null,null," "]
[null,null,null,null,null," "]
[null,null,null,null,null," "]
[null,null,null,null,null," "]
[null,null,null,null,null," "]
[null,null,null,null,null," "]
[null,null,null,null,null," "]
[null,null,null,null,null," "]
[null,null,null,null,null," "]
[null,null,null,null,null," "]
[null,null,null,null,null," "]
[null,null,null,null,null," "]
[null,null,null,null,null," "]
[null,null,null,null,null," "]
[null,null,null,null,null," "]
[null,null,null,null,null," "]
[null,null,null,null,null," "]
[null,null,null,null,null," "]
[null,null,null,null,null," "]
[null,null,null,null,null," "]
[null,null,null,null,null," "]
[null,null,null,null,null," "]
[null,null,null,null,null," "]
[null,null,null,null,null," "]
[null,null,null,null,null," "]
[null,null,null,null,null," "]
[null,null,null,null,null," "]
[null,null,null,null,null," "]
[null,null,null,null,null," "]
[null,null,null,null,null," "]
[null,null,null,null,null," "]
[null,null,null,null,null," "]
[null,null,null,null,null," "]
[null,null,null,null,null," "]
[null,null,null,null,null," "]
[null,null,null,null,null," "]
[null,null,null,null,null," "]
[null,null,null,null,null," "]
[null,null,null,null,null," "]
[null,null,null,null,null," "]
[null,null,null,null,null," "]
[null,null,null,null,null," "]
[null,null,null,null,null," "]
[null,null,null,null,null," "]
[null,null,null,null,null," "]
[null,null,null,null,null," "]
[null,null,null,null,null," "]
[null,null,null,null,null," "]
[null,null,null,null,null," "]
[null,null,null,null,null," "]
[null,null,null,null,null," "]
[null,null,null,null,null," "]
[null,null,null,null,null," "]
[null,null,null,null,null," "]
[null,null,null,null,null," "]
[null,null,null,null,null," "]
[null,null,null,null,null," "]
[null,null,null,null,null," "]
[null,null,null,null,null," "]
[null,null,null,null,null," "]
[null,null,null,null,null," "]
[null,null,null,null,null," "]
[null,null,null,null,null," "]
[null,null,null,null,null," "]
[null,null,null,null,null," "]
[null,null,null,null,null," "]
[null,null,null,null,null," "]
[null,null,null,null,null," "]
[null,null,null,null,null," "]
[null,null,null,null,null," "]
[null,null,null,null,null," "]
[null,null,null,null,null," "]
[null,null,null,null,null," "]
[null,null,null,null,null," "]
[null,null,null,null,null," "]
[null,null,null,null,null," "]
[null,null,null,null,null," "]
[null,null,null,null,null," "]
[null,null,null,null,null," "]
[null,null,null,null,null," "]
[null,null,null,null,null," "]
[null,null,null,null,null," "]
[null,null,null,null,null," "]
[null,null,null,null,null," "]
[null,null,null,null,null," "]
[null,null,null,null,null," "]
[null,null,null,null,null," "]
[null,null,null,null,null," "]
[null,null,null,null,null," "]
[null,null,null,null,null," "]
[null,null,null,null,null," "]
[null,null,null,null,null," "]
[null,null,null,null,null," "]
[null,null,null,null,null," "]
[null,null,null,null,null," "]
[null,null,null,null,null," "]
[null,null,null,null,null," "]
[null,null,null,null,null," "]
[null,null,null,null,null," "]
[null,null,null,null,null," "]
[null,null,null,null,null," "]
[null,null,null,null,null," "]
[null,null,null,null,null," "]
[null,null,null,null,null," "]
[null,null,null,null,null," "]
[null,null,null,null,null," "]
[null,null,null,null,null," "]
[null,null,null,null,null," "]
[null,null,null,null,null," "]
[null,null,null,null,null," "]
[null,null,null,null,null," "]
[null,null,null,null,null," "]
[null,null,null,null,null," "]
[null,null,null,null,null," "]
[null,null,null,null,null," "]
[null,null,null,null,null," "]
[null,null,null,null,null," "]
[null,null,null,null,null," "]
[null,null,null,null,null," "]
[null,null,null,null,null," "]
[null,null,null,null,null," "]
[null,null,null,null,null," "]
[null,null,null,null,null," "]
[null,null,null,null,null," "]
[null,null,null,null,null," "]
[null,null,null,null,null," "]
[null,null,null,null,null," "]
[null,null,null,null,null," "]
[null,null,null,null,null," "]
[null,null,null,null,null," "]
[null,null,null,null,null," "]
[null,null,null,null,null," "]
[null,null,null,null,null," "]
[null,null,null,null,null," "]
[null,null,null,null,null," "]
[null,null,null,null,null," "]
[null,null,null,null,null," "]
[null,null,null,null,null," "]
[null,null,null,null,null," "]
[null,null,null,null,null," "]
[null,null,null,null,null," "]
[null,null,null,null,null," "]
[null,null,null,null,null," "]
[null,null,null,null,null," "]
[null,null,null,null,null," "]
[null,null,null,null,null," "]
[null,null,null,null,null," "]
[null,null,null,null,null," "]
[null,null,null,null,null," "]
[null,null,null,null,null," "]
[null,null,null,null,null," "]
[null,null,null,null,null," "]
[null,null,null,null,null," "]
[null,null,null,null,null," "]
[null,null,null,null,null," "]
[null,null,null,null,null," "]
[null,null,null,null,null," "]
[null,null,null,null,null," "]
[null,null,null,null,null," "]
[null,null,null,null,null," "]
[null,null,null,null,null," "]
[null,null,null,null,null," "]
[null,null,null,null,null," "]
[null,null,null,null,null," "]
[null,null,null,null,null," "]
[null,null,null,null,null," "]
[null,null,null,null,null," "]
[null,null,null,null,null," "]
[null,null,null,null,null," "]
[null,null,null,null,null," "]
[null,null,null,null,null," "]
[null,null,null,null,null," "]
[null,null,null,null,null," "]
[null,null,null,null,null," "]
[null,null,null,null,null," "]
[null,null,null,null,null," "]
[null,null,null,null,null," "]
[null,null,null,null,null," "]
[null,null,null,null,null," "]
[null,null,null,null,null," "]
[null,null,null,null,null," "]
[null,null,null,null,null," "]
[null,null,null,null,null," "]
[null,null,null,null,null," "]
[null,null,null,null,null," "]
[null,null,null,null,null," "]
[null,null,null,null,null," "]
[null,null,null,null,null," "]
[null,null,null,null,null," "]
[null,null,null,null,null," "]
[null,null,null,null,null," "]
[null,null,null,null,null," "]
[null,null,null,null,null," "]
[null,null,null,null,null," "]
[null,null,null,null,null," "]
[null,null,null,null,null," "]
[null,null,null,null,null," "]
[null,null,null,null,null," "]
[null,null,null,null,null," "]
[null,null,null,null,null," "]
[null,null,null,null,null," "]
[null,null,null,null,null," "]
[null,null,null,null,null," "]
[null,null,null,null,null," "]
[null,null,null,null,null," "]
[null,null,null,null,null," "]
[null,null,null,null,null," "]
[null,null,null,null,null," "]
[null,null,null,null,null," "]
[null,null,null,null,null," "]
[null,null,null,null,null," "]
[null,null,null,null,null," "]
[null,null,null,null,null," "]
[null,null,null,null,null," "]
[null,null,null,null,null," "]
[null,null,null,null,null," "]
[null,null,null,null,null," "]
[null,null,null,null,null," "]
[null,null,null,null,null," "]
[null,null,null,null,null," "]
[null,null,null,null,null," "]
[null,null,null,null,null," "]
[null,null,null,null,null," "]
[null,null,null,null,null," "]
[null,null,null,null,null," "]
[null,null,null,null,null," "]
[null,null,null,null,null," "]
[null,null,null,null,null," "]
[null,null,null,null,null," "]
[null,null,null,null,null," "]
[null,null,null,null,null," "]
[null,null,null,null,null," "]
[null,null,null,null,null," "]
[null,null,null,null,null," "]
[null,null,null,null,null," "]
[null,null,null,null,null," "]
[null,null,null,null,null," "]
[null,null,null,null,null," "]
[null,null,null,null,null," "]
[null,null,null,null,null," "]
[null,null,null,null,null," "]
[null,null,null,null,null," "]
[null,null,null,null,null," "]
[null,null,null,null,null," "]
[null,null,null,null,null," "]
[null,null,null,null,null," "]
[null,null,null,null,null," "]
[null,null,null,null,null," "]
[null,null,null,null,null," "]
[null,null,null,null,null," "]
[null,null,null,null,null," "]
[null,null,null,null,null," "]
[null,null,null,null,null," "]
[null,null,null,null,null," "]
[null,null,null,null,null," "]
[null,null,null,null,null," "]
[null,null,null,null,null," "]
[null,null,null,null,null," "]
[null,null,null,null,null," "]
[null,null,null,null,null," "]
[null,null,null,null,null," "]
[null,null,null,null,null," "]
[null,null,null,null,null," "]
[null,null,null,null,null," "]
[null,null,null,null,null," "]
[null,null,null,null,null," "]
[null,null,null,null,null," "]
[null,null,null,null,null," "]
[null,null,null,null,null," "]
[null,null,null,null,null," "]
[null,null,null,null,null," "]
[null,null,null,null,null," "]
[null,null,null,null,null," "]
[null,null,null,null,null," "]
[null,null,null,null,null," "]
[null,null,null,null,null," "]
[null,null,null,null,null," "]
[null,null,null,null,null," "]
[null,null,null,null,null," "]
[null,null,null,null,null," "]
[null,null,null,null,null," "]
[null,null,null,null,null," "]
[null,null,null,null,null," "]
[null,null,null,null,null," "]
[null,null,null,null,null," "]
[null,null,null,null,null," "]
[null,null,null,null,null," "]
[null,null,null,null,null," "]
[null,null,null,null,null," "]
[null,null,null,null,null," "]
[null,null,null,null,null," "]
[null,null,null,null,null," "]
[null,null,null,null,null," "]
[null,null,null,null,null," "]
[null,null,null,null,null," "]
[null,null,null,null,null," "]
[null,null,null,null,null," "]
[null,null,null,null,null," "]
[null,null,null,null,null," "]
[null,null,null,null,null," "]
[null,null,null,null,null," "]
[null,null,null,null,null," "]
[null,null,null,null,null," "]
[null,null,null,null,null," "]
[null,null,null,null,null," "]
[null,null,null,null,null," "]
[null,null,null,null,null," "]
[null,null,null,null,null," "]
[null,null,null,null,null," "]
[null,null,null,null,null," "]
[null,null,null,null,null," "]
[null,null,null,null,null," "]
[null,null,null,null,null," "]
[null,null,null,null,null," "]
[null,null,null,null,null," "]
[null,null,null,null,null," "]
[null,null,null,null,null," "]
[null,null,null,null,null," "]
[null,null,null,null,null," "]
[null,null,null,null,null," "]
[null,null,null,null,null," "]
[null,null,null,null,null," "]
[null,null,null,null,null," "]
[null,null,null,null,null," "]
[null,null,null,null,null," "]
[null,null,null,null,null," "]
[null,null,null,null,null," "]
[null,null,null,null,null," "]
[null,null,null,null,null," "]
[null,null,null,null,null," "]
[null,null,null,null,null," "]
[null,null,null,null,null," "]
[null,null,null,null,null," "]
[null,null,null,null,null," "]
[null,null,null,null,null," "]
[null,null,null,null,null," "]
[null,null,null,null,null," "]
[null,null,null,null,null," "]
[null,null,null,null,null," "]
[null,null,null,null,null," "]
[null,null,null,null,null," "]
[null,null,null,null,null," "]
[null,null,null,null,null," "]
[null,null,null,null,null," "]
[null,null,null,null,null," "]
[null,null,null,null,null," "]
[null,null,null,null,null," "]
[null,null,null,null,null," "]
[null,null,null,null,null," "]
[null,null,null,null,null," "]
[null,null,null,null,null," "]
[null,null,null,null,null," "]
[null,null,null,null,null," "]
[null,null,null,null,null," "]
[null,null,null,null,null," "]
[null,null,null,null,null," "]
[null,null,null,null,null," "]
[null,null,null,null,null," "]
[null,null,null,null,null," "]
[null,null,null,null,null," "]
[null,null,null,null,null," "]
[null,null,null,null,null," "]
[null,null,null,null,null," "]
[null,null,null,null,null," "]
[null,null,null,null,null," "]
[null,null,null,null,null," "]
[null,null,null,null,null," "]
[null,null,null,null,null," "]
[null,null,null,null,null," "]
[null,null,null,null,null," "]
[null,null,null,null,null," "]
[null,null,null,null,null," "]
[null,null,null,null,null," "]
[null,null,null,null,null," "]
[null,null,null,null,null," "]
[null,null,null,null,null," "]
[null,null,null,null,null," "]
[null,null,null,null,null," "]
[null,null,null,null,null," "]
[null,null,null,null,null," "]
[null,null,null,null,null," "]
[null,null,null,null,null," "]
[null,null,null,null,null," "]
[null,null,null,null,null," "]
[null,null,null,null,null," "]
[null,null,null,null,null," "]
[null,null,null,null,null," "]
[null,null,null,null,null," "]
[null,null,null,null,null," "]
[null,null,null,null,null," "]
[null,null,null,null,null," "]
[null,null,null,null,null," "]
[null,null,null,null,null," "]
[null,null,null,null,null," "]
[null,null,null,null,null," "]
[null,null,null,null,null," "]
[null,null,null,null,null," "]
[null,null,null,null,null," "]
[null,null,null,null,null," "]
[null,null,null,null,null," "]
[null,null,null,null,null," "]
[null,null,null,null,null," "]
[null,null,null,null,null," "]
[null,null,null,null,null," "]
[null,null,null,null,null," "]
[null,null,null,null,null," "]
[null,null,null,null,null," "]
[null,null,null,null,null," "]
[null,null,null,null,null," "]
[null,null,null,null,null," "]
[null,null,null,null,null," "]
[null,null,null,null,null," "]
[null,null,null,null,null," "]
[null,null,null,null,null," "]
[null,null,null,null,null," "]
[null,null,null,null,null," "]
[null,null,null,null,null," "]
[null,null,null,null,null," "]
[null,null,null,null,null," "]
[null,null,null,null,null," "]
[null,null,null,null,null," "]
[null,null,null,null,null," "]
[null,null,null,null,null," "]
[null,null,null,null,null," "]
[null,null,null,null,null," "]
[null,null,null,null,null," "]
[null,null,null,null,null," "]
[null,null,null,null,null," "]
[null,null,null,null,null," "]
[null,null,null,null,null," "]
[null,null,null,null,null," "]
[null,null,null,null,null," "]
[null,null,null,null,null," "]
[null,null,null,null,null," "]
[null,null,null,null,null," "]
[null,null,null,null,null," "]
[null,null,null,null,null," "]
[null,null,null,null,null," "]
[null,null,null,null,null," "]
[null,null,null,null,null," "]
[null,null,null,null,null," "]
[null,null,null,null,null," "]
[null,null,null,null,null," "]
[null,null,null,null,null," "]
[null,null,null,null,null," "]
[null,null,null,null,null," "]
[null,null,null,null,null," "]
[null,null,null,null,null," "]
[null,null,null,null,null," "]
[null,null,null,null,null," "]
[null,null,null,null,null," "]
[null,null,null,null,null," "]
[null,null,null,null,null," "]
[null,null,null,null,null," "]
[null,null,null,null,null," "]
[null,null,null,null,null," "]
[null,null,null,null,null," "]
[null,null,null,null,null," "]
[null,null,null,null,null," "]
[null,null,null,null,null," "]
[null,null,null,null,null," "]
[null,null,null,null,null," "]
[null,null,null,null,null," "]
[null,null,null,null,null," "]
[null,null,null,null,null," "]
[null,null,null,null,null," "]
[null,null,null,null,null," "]
[null,null,null,null,null," "]
[null,null,null,null,null," "]
[null,null,null,null,null," "]
[null,null,null,null,null," "]
[null,null,null,null,null," "]
[null,null,null,null,null," "]
[null,null,null,null,null," "]
[null,null,null,null,null," "]
[null,null,null,null,null," "]
[null,null,null,null,null," "]
[null,null,null,null,null," "]
[null,null,null,null,null," "]
[null,null,null,null,null," "]
[null,null,null,null,null," "]
[null,null,null,null,null," "]
[null,null,null,null,null," "]
[null,null,null,null,null," "]
[null,null,null,null,null," "]
[null,null,null,null,null," "]
[null,null,null,null,null," "]
[null,null,null,null,null," "]
[null,null,null,null,null," "]
[null,null,null,null,null," "]
[null,null,null,null,null," "]
[null,null,null,null,null," "]
[null,null,null,null,null," "]
[null,null,null,null,null," "]
[null,null,null,null,null," "]
[null,null,null,null,null," "]
[null,null,null,null,null," "]
[null,null,null,null,null," "]
[null,null,null,null,null," "]
[null,null,null,null,null," "]
[null,null,null,null,null," "]
[null,null,null,null,null," "]
[null,null,null,null,null," "]
[null,null,null,null,null," "]
[null,null,null,null,null," "]
[null,null,null,null,null," "]
[null,null,null,null,null," "]
[null,null,null,null,null," "]
[null,null,null,null,null," "]
[null,null,null,null,null," "]
[null,null,null,null,null," "]
[null,null,null,null,null," "]
[null,null,null,null,null," "]
[null,null,null,null,null," "]
[null,null,null,null,null," "]
[null,null,null,null,null," "]
[null,null,null,null,null," "]
[null,null,null,null,null," "]
[null,null,null,null,null," "]
[null,null,null,null,null," "]
[null,null,null,null,null," "]
[null,null,null,null,null," "]
[null,null,null,null,null," "]
[null,null,null,null,null," "]
[null,null,null,null,null," "]
[null,null,null,null,null," "]
[null,null,null,null,null," "]
[null,null,null,null,null," "]
[null,null,null,null,null," "]
[null,null,null,null,null," "]
[null,null,null,null,null," "]
[null,null,null,null,null," "]
[null,null,null,null,null," "]
[null,null,null,null,null," "]
[null,null,null,null,null," "]
[null,null,null,null,null," "]
[null,null,null,null,null," "]
[null,null,null,null,null," "]
[null,null,null,null,null," "]
[null,null,null,null,null," "]
[null,null,null,null,null," "]
[null,null,null,null,null," "]
[null,null,null,null,null," "]
[null,null,null,null,null," "]
[null,null,null,null,null," "]
[null,null,null,null,null," "]
[null,null,null,null,null," "]
[null,null,null,null,null," "]
[null,null,null,null,null," "]
[null,null,null,null,null," "]
[null,null,null,null,null," "]
[null,null,null,null,null," "]
[null,null,null,null,null," "]
[null,null,null,null,null," "]
[null,null,null,null,null," "]
[null,null,null,null,null," "]
[null,null,null,null,null," "]
[null,null,null,null,null," "]
[null,null,null,null,null," "]
[null,null,null,null,null," "]
[null,null,null,null,null," "]
[null,null,null,null,null," "]
[null,null,null,null,null," "]
[null,null,null,null,null," "]
[null,null,null,null,null," "]
[null,null,null,null,null," "]
[null,null,null,null,null," "]
[null,null,null,null,null," "]
[null,null,null,null,null," "]
[null,null,null,null,null," "]
[null,null,null,null,null," "]
[null,null,null,null,null," "]
[null,null,null,null,null," "]
[null,null,null,null,null," "]
[null,null,null,null,null," "]
[null,null,null,null,null," "]
[null,null,null,null,null," "]
[null,null,null,null,null," "]
[null,null,null,null,null," "]
[null,null,null,null,null," "]
[null,null,null,null,null," "]
[null,null,null,null,null," "]
[null,null,null,null,null," "]
[null,null,null,null,null," "]
[null,null,null,null,null," "]
[null,null,null,null,null," "]
[null,null,null,null,null," "]
[null,null,null,null,null," "]
[null,null,null,null,null," "]
[null,null,null,null,null," "]
[null,null,null,null,null," "]
[null,null,null,null,null," "]
[null,null,null,null,null," "]
[null,null,null,null,null," "]
[null,null,null,null,null," "]
[null,null,null,null,null," "]
[null,null,null,null,null," "]
[null,null,null,null,null," "]
[null,null,null,null,null," "]
[null,null,null,null,null," "]
[null,null,null,null,null," "]
[null,null,null,null,null," "]
[null,null,null,null,null," "]
[null,null,null,null,null," "]
[null,null,null,null,null," "]
[null,null,null,null,null," "]
[null,null,null,null,null," "]
[null,null,null,null,null," "]
[null,null,null,null,null," "]
[null,null,null,null,null," "]
[null,null,null,null,null," "]
[null,null,null,null,null," "]
[null,null,null,null,null," "]
[null,null,null,null,null," "]
[null,null,null,null,null," "]
[null,null,null,null,null," "]
[null,null,null,null,null," "]
[null,null,null,null,null," "]
[null,null,null,null,null," "]
[null,null,null,null,null," "]
[null,null,null,null,null," "]
[null,null,null,null,null," "]
[null,null,null,null,null," "]
[null,null,null,null,null," "]
[null,null,null,null,null," "]
[null,null,null,null,null," "]
[null,null,null,null,null," "]
[null,null,null,null,null," "]
[null,null,null,null,null," "]
[null,null,null,null,null," "]
[null,null,null,null,null," "]
[null,null,null,null,null," "]
[null,null,null,null,null," "]
[null,null,null,null,null," "]
[null,null,null,null,null," "]
[null,null,null,null,null," "]
[null,null,null,null,null," "]
[null,null,null,null,null," "]
[null,null,null,null,null," "]
[null,null,null,null,null," "]
[null,null,null,null,null," "]
[null,null,null,null,null," "]
[null,null,null,null,null," "]
[null,null,null,null,null," "]
[null,null,null,null,null," "]
[null,null,null,null,null," "]
[null,null,null,null,null," "]
[null,null,null,null,null," "]
[null,null,null,null,null," "]
[null,null,null,null,null," "]
[null,null,null,null,null," "]
[null,null,null,null,null," "]
[null,null,null,null,null," "]
[null,null,null,null,null," "]
[null,null,null,null,null," "]
[null,null,null,null,null," "]
[null,null,null,null,null," "]
[null,null,null,null,null," "]
[null,null,null,null,null," "]
[null,null,null,null,null," "]
[null,null,null,null,null," "]
[null,null,null,null,null," "]
[null,null,null,null,null," "]
[null,null,null,null,null," "]
[null,null,null,null,null," "]
[null,null,null,null,null," "]
[null,null,null,null,null," "]
[null,null,null,null,null," "]
[null,null,null,null,null," "]
[null,null,null,null,null," "]
[null,null,null,null,null," "]
[null,null,null,null,null," "]
[null,null,null,null,null," "]
[null,null,null,null,null," "]
[null,null,null,null,null," "]
[null,null,null,null,null," "]
[null,null,null,null,null," "]
[null,null,null,null,null," "]
[null,null,null,null,null," "]
[null,null,null,null,null," "]
[null,null,null,null,null," "]
[null,null,null,null,null," "]
[null,null,null,null,null," "]
[null,null,null,null,null," "]
[null,null,null,null,null," "]
[null,null,null,null,null," "]
[null,null,null,null,null," "]
[null,null,null,null,null," "]
[null,null,null,null,null," "]
[null,null,null,null,null," "]
[null,null,null,null,null," "]
[null,null,null,null,null," "]
[null,null,null,null,null," "]
[null,null,null,null,null," "]
[null,null,null,null,null," "]
[null,null,null,null,null," "]
[null,null,null,null,null," "]
[null,null,null,null,null," "]
[null,null,null,null,null," "]
[null,null,null,null,null," "]
[null,null,null,null,null," "]
[null,null,null,null,null," "]
[null,null,null,null,null," "]
[null,null,null,null,null," "]
[null,null,null,null,null," "]
[null,null,null,null,null," "]
[null,null,null,null,null," "]
[null,null,null,null,null," "]
[null,null,null,null,null," "]
[null,null,null,null,null," "]
[null,null,null,null,null," "]
[null,null,null,null,null," "]
[null,null,null,null,null," "]
[null,null,null,null,null," "]
[null,null,null,null,null," "]
[null,null,null,null,null," "]
[null,null,null,null,null," "]
[null,null,null,null,null," "]
[null,null,null,null,null," "]
[null,null,null,null,null," "]
[null,null,null,null,null," "]
[null,null,null,null,null," "]
[null,null,null,null,null," "]
[null,null,null,null,null," "]
[null,null,null,null,null," "]
[null,null,null,null,null," "]
[null,null,null,null,null," "]
[null,null,null,null,null," "]
[null,null,null,null,null," "]
[null,null,null,null,null," "]
[null,null,null,null,null," "]
[null,null,null,null,null," "]
[null,null,null,null,null," "]
[null,null,null,null,null," "]
[null,null,null,null,null," "]
[null,null,null,null,null," "]
[null,null,null,null,null," "]
[null,null,null,null,null," "]
[null,null,null,null,null," "]
[null,null,null,null,null," "]
[null,null,null,null,null," "]
[null,null,null,null,null," "]
[null,null,null,null,null," "]
[null,null,null,null,null," "]
[null,null,null,null,null," "]
[null,null,null,null,null," "]
[null,null,null,null,null," "]
[null,null,null,null,null," "]
[null,null,null,null,null," "]
[null,null,null,null,null," "]
[null,null,null,null,null," "]
[null,null,null,null,null," "]
[null,null,null,null,null," "]
[null,null,null,null,null," "]
[null,null,null,null,null," "]
[null,null,null,null,null," "]
[null,null,null,null,null," "]
[null,null,null,null,null," "]
[null,null,null,null,null," "]
[null,null,null,null,null," "]
[null,null,null,null,null," "]
[null,null,null,null,null," "]
[null,null,null,null,null," "]
[null,null,null,null,null," "]
[null,null,null,null,null," "]
[null,null,null,null,null," "]
[null,null,null,null,null," "]
[null,null,null,null,null," "]
[null,null,null,null,null," "]
[null,null,null,null,null," "]
[null,null,null,null,null," "]
[null,null,null,null,null," "]
[null,null,null,null,null," "]
[null,null,null,null,null," "]
[null,null,null,null,null," "]
[null,null,null,null,null," "]
[null,null,null,null,null," "]
[null,null,null,null,null," "]
[null,null,null,null,null," "]
[null,null,null,null,null," "]
[null,null,null,null,null," "]
[null,null,null,null,null," "]
[null,null,null,null,null," "]
[null,null,null,null,null," "]
[null,null,null,null,null," "]
[null,null,null,null,null," "]
[null,null,null,null,null," "]
[null,null,null,null,null," "]
[null,null,null,null,null," "]
[null,null,null,null,null," "]
[null,null,null,null,null," "]
[null,null,null,null,null," "]
[null,null,null,null,null," "]
[null,null,null,null,null," "]
[null,null,null,null,null," "]
[null,null,null,null,null," "]
[null,null,null,null,null," "]
[null,null,null,null,null," "]
[null,null,null,null,null," "]
[null,null,null,null,null," "]
[null,null,null,null,null," "]
[null,null,null,null,null," "]
[null,null,null,null,null," "]
[null,null,null,null,null," "]
[null,null,null,null,null," "]
[null,null,null,null,null," "]
[null,null,null,null,null," "]
[null,null,null,null,null," "]
[null,null,null,null,null," "]
[null,null,null,null,null," "]
[null,null,null,null,null," "]
[null,null,null,null,null," "]
[null,null,null,null,null," "]
[null,null,null,null,null," "]
[null,null,null,null,null," "]
[null,null,null,null,null," "]
[null,null,null,null,null," "]
[null,null,null,null,null," "]
[null,null,null,null,null," "]
[null,null,null,null,null," "]
[null,null,null,null,null," "]
[null,null,null,null,null," "]
[null,null,null,null,null," "]
[null,null,null,null,null," "]
[null,null,null,null,null," "]
[null,null,null,null,null," "]
[null,null,null,null,null," "]
[null,null,null,null,null," "]
[null,null,null,null,null," "]
[null,null,null,null,null," "]
[null,null,null,null,null," "]
[null,null,null,null,null," "]
[null,null,null,null,null," "]
[null,null,null,null,null," "]
[null,null,null,null,null," "]
[null,null,null,null,null," "]
[null,null,null,null,null," "]
[null,null,null,null,null," "]
[null,null,null,null,null," "]
[null,null,null,null,null," "]
[null,null,null,null,null," "]
[null,null,null,null,null," "]
[null,null,null,null,null," "]
[null,null,null,null,null," "]
[null,null,null,null,null," "]
[null,null,null,null,null," "]
[null,null,null,null,null," "]
[null,null,null,null,null," "]
[null,null,null,null,null," "]
[null,null,null,null,null," "]
[null,null,null,null,null," "]
[null,null,null,null,null," "]
[null,null,null,null,null," "]
[null,null,null,null,null," "]
[null,null,null,null,null," "]
[null,null,null,null,null," "]
[null,null,null,null,null," "]
[null,null,null,null,null," "]
[null,null,null,null,null," "]
[null,null,null,null,null," "]
[null,null,null,null,null," "]
[null,null,null,null,null," "]
[null,null,null,null,null," "]
[null,null,null,null,null," "]
[null,null,null,null,null," "]
[null,null,null,null,null," "]
[null,null,null,null,null," "]
[null,null,null,null,null," "]
[null,null,null,null,null," "]
[null,null,null,null,null," "]
[null,null,null,null,null," "]
[null,null,null,null,null," "]
[null,null,null,null,null," "]
[null,null,null,null,null," "]
[null,null,null,null,null," "]
[null,null,null,null,null," "]
[null,null,null,null,null," "]
[null,null,null,null,null," "]
[null,null,null,null,null," "]
[null,null,null,null,null," "]
[null,null,null,null,null," "]
[null,null,null,null,null," "]
[null,null,null,null,null," "]
[null,null,null,null,null," "]
[null,null,null,null,null," "]
[null,null,null,null,null," "]
[null,null,null,null,null," "]
[null,null,null,null,null," "]
[null,null,null,null,null," "]
[null,null,null,null,null," "]
[null,null,null,null,null," "]
[null,null,null,null,null," "]
[null,null,null,null,null," "]
[null,null,null,null,null," "]
[null,null,null,null,null," "]
[null,null,null,null,null," "]
[null,null,null,null,null," "]
[null,null,null,null,null," "]
[null,null,null,null,null," "]
[null,null,null,null,null," "]
[null,null,null,null,null," "]
[null,null,null,null,null," "]
[null,null,null,null,null," "]
[null,null,null,null,null," "]
[null,null,null,null,null," "]
[null,null,null,null,null," "]
[null,null,null,null,null," "]
[null,null,null,null,null," "]
[null,null,null,null,null," "]
[null,null,null,null,null," "]
[null,null,null,null,null," "]
[null,null,null,null,null," "]
[null,null,null,null,null," "]
[null,null,null,null,null," "]
[null,null,null,null,null," "]
[null,null,null,null,null," "]
[null,null,null,null,null," "]
[null,null,null,null,null," "]
[null,null,null,null,null," "]
[null,null,null,null,null," "]
[null,null,null,null,null," "]
[null,null,null,null,null," "]
[null,null,null,null,null," "]
[null,null,null,null,null," "]
[null,null,null,null,null," "]
[null,null,null,null,null," "]
[null,null,null,null,null," "]
[null,null,null,null,null," "]
[null,null,null,null,null," "]
[null,null,null,null,null," "]
[null,null,null,null,null," "]
[null,null,null,null,null," "]
[null,null,null,null,null," "]
[null,null,null,null,null," "]
[null,null,null,null,null," "]
[null,null,null,null,null," "]
[null,null,null,null,null," "]
[null,null,null,null,null," "]
[null,null,null,null,null," "]
[null,null,null,null,null," "]
[null,null,null,null,null," "]
[null,null,null,null,null," "]
[null,null,null,null,null," "]
[null,null,null,null,null," "]
[null,null,null,null,null," "]
[null,null,null,null,null," "]
[null,null,null,null,null," "]
[null,null,null,null,null," "]
[null,null,null,null,null," "]
[null,null,null,null,null," "]
[null,null,null,null,null," "]
[null,null,null,null,null," "]
[null,null,null,null,null," "]
[null,null,null,null,null," "]
[null,null,null,null,null," "]
[null,null,null,null,null," "]
[null,null,null,null,null," "]
[null,null,null,null,null," "]
[null,null,null,null,null," "]
[null,null,null,null,null," "]
[null,null,null,null,null," "]
[null,null,null,null,null," "]
[null,null,null,null,null," "]
[null,null,null,null,null," "]
[null,null,null,null,null," "]
[null,null,null,null,null," "]
[null,null,null,null,null," "]
[null,null,null,null,null," "]
[null,null,null,null,null," "]
[null,null,null,null,null," "]
[null,null,null,null,null," "]
[null,null,null,null,null," "]
[null,null,null,null,null," "]
[null,null,null,null,null," "]
[null,null,null,null,null," "]
[null,null,null,null,null," "]
[null,null,null,null,null," "]
[null,null,null,null,null," "]
[null,null,null,null,null," "]
[null,null,null,null,null," "]
[null,null,null,null,null," "]
[null,null,null,null,null," "]
[null,null,null,null,null," "]
[null,null,null,null,null," "]
[null,null,null,null,null," "]
[null,null,null,null,null," "]
[null,null,null,null,null," "]
[null,null,null,null,null," "]
[null,null,null,null,null," "]
[null,null,null,null,null," "]
[null,null,null,null,null," "]
[null,null,null,null,null," "]
[null,null,null,null,null," "]
[null,null,null,null,null," "]
[null,null,null,null,null," "]
[null,null,null,null,null," "]
[null,null,null,null,null," "]
[null,null,null,null,null," "]
[null,null,null,null,null," "]
[null,null,null,null,null," "]
[null,null,null,null,null," "]
[null,null,null,null,null," "]
[null,null,null,null,null," "]
[null,null,null,null,null," "]
[null,null,null,null,null," "]
[null,null,null,null,null," "]
[null,null,null,null,null," "]
[null,null,null,null,null," "]
[null,null,null,null,null," "]
[null,null,null,null,null," "]
[null,null,null,null,null," "]
[null,null,null,null,null," "]
[null,null,null,null,null," "]
[null,null,null,null,null," "]
[null,null,null,null,null," "]
[null,null,null,null,null," "]
[null,null,null,null,null," "]
[null,null,null,null,null," "]
[null,null,null,null,null," "]
[null,null,null,null,null," "]
[null,null,null,null,null," "]
[null,null,null,null,null," "]
[null,null,null,null,null," "]
[null,null,null,null,null," "]
[null,null,null,null,null," "]
[null,null,null,null,null," "]
[null,null,null,null,null," "]
[null,null,null,null,null," "]
[null,null,null,null,null," "]
[null,null,null,null,null," "]
[null,null,null,null,null," "]
[null,null,null,null,null," "]
[null,null,null,null,null," "]
[null,null,null,null,null," "]
[null,null,null,null,null," "]
[null,null,null,null,null," "]
[null,null,null,null,null," "]
[null,null,null,null,null," "]
[null,null,null,null,null," "]
[null,null,null,null,null," "]
[null,null,null,null,null," "]
[null,null,null,null,null," "]
[null,null,null,null,null," "]
[null,null,null,null,null," "]
[null,null,null,null,null," "]
[null,null,null,null,null," "]
[null,null,null,null,null," "]
[null,null,null,null,null," "]
[null,null,null,null,null," "]
[null,null,null,null,null," "]
[null,null,null,null,null," "]
[null,null,null,null,null," "]
[null,null,null,null,null," "]
[null,null,null,null,null," "]
[null,null,null,null,null," "]
[null,null,null,null,null," "]
[null,null,null,null,null," "]
[null,null,null,null,null," "]
[null,null,null,null,null," "]
[null,null,null,null,null," "]
[null,null,null,null,null," "]
[null,null,null,null,null," "]
[null,null,null,null,null," "]
[null,null,null,null,null," "]
[null,null,null,null,null," "]
[null,null,null,null,null," "]
[null,null,null,null,null," "]
[null,null,null,null,null," "]
[null,null,null,null,null," "]
[null,null,null,null,null," "]
[null,null,null,null,null," "]
[null,null,null,null,null," "]
[null,null,null,null,null," "]
[null,null,null,null,null," "]
[null,null,null,null,null," "]
[null,null,null,null,null," "]
[null,null,null,null,null," "]
[null,null,null,null,null," "]
[null,null,null,null,null," "]
[null,null,null,null,null," "]
[null,null,null,null,null," "]
[null,null,null,null,null," "]
[null,null,null,null,null," "]
[null,null,null,null,null," "]
[null,null,null,null,null," "]
[null,null,null,null,null," "]
[null,null,null,null,null," "]
[null,null,null,null,null," "]
[null,null,null,null,null," "]
[null,null,null,null,null," "]
[null,null,null,null,null," "]
[null,null,null,null,null," "]
[null,null,null,null,null," "]
[null,null,null,null,null," "]
[null,null,null,null,null," "]
[null,null,null,null,null," "]
[null,null,null,null,null," "]
[null,null,null,null,null," "]
[null,null,null,null,null," "]
[null,null,null,null,null," "]
[null,null,null,null,null," "]
[null,null,null,null,null," "]
[null,null,null,null,null," "]
[null,null,null,null,null," "]
[null,null,null,null,null," "]
[null,null,null,null,null," "]
[null,null,null,null,null," "]
[null,null,null,null,null," "]
[null,null,null,null,null," "]
[null,null,null,null,null," "]
[null,null,null,null,null," "]
[null,null,null,null,null," "]
[null,null,null,null,null," "]
[null,null,null,null,null," "]
[null,null,null,null,null," "]
[null,null,null,null,null," "]
[null,null,null,null,null," "]
[null,null,null,null,null," "]
[null,null,null,null,null," "]
[null,null,null,null,null," "]
[null,null,null,null,null," "]
[null,null,null,null,null," "]
[null,null,null,null,null," "]
[null,null,null,null,null," "]
[null,null,null,null,null," "]
[null,null,null,null,null," "]
[null,null,null,null,null," "]
[null,null,null,null,null," "]
[null,null,null,null,null," "]
[null,null,null,null,null," "]
[null,null,null,null,null," "]
[null,null,null,null,null," "]
[null,null,null,null,null," "]
[null,null,null,null,null," "]
[null,null,null,null,null," "]
[null,null,null,null,null," "]
[null,null,null,null,null," "]
[null,null,null,null,null," "]
[null,null,null,null,null," "]
[null,null,null,null,null," "]
[null,null,null,null,null," "]
[null,null,null,null,null," "]
[null,null,null,null,null," "]
[null,null,null,null,null," "]
[null,null,null,null,null," "]
[null,null,null,null,null," "]
[null,null,null,null,null," "]
[null,null,null,null,null," "]
[null,null,null,null,null," "]
[null,null,null,null,null," "]
[null,null,null,null,null," "]
[null,null,null,null,null," "]
[null,null,null,null,null," "]
[null,null,null,null,null," "]
[null,null,null,null,null," "]
[null,null,null,null,null," "]
[null,null,null,null,null," "]
[null,null,null,null,null," "]
[null,null,null,null,null," "]
[null,null,null,null,null," "]
[null,null,null,null,null," "]
[null,null,null,null,null," "]
[null,null,null,null,null," "]
[null,null,null,null,null," "]
[null,null,null,null,null," "]
[null,null,null,null,null," "]
[null,null,null,null,null," "]
[null,null,null,null,null," "]
[null,null,null,null,null," "]
[null,null,null,null,null," "]
[null,null,null,null,null," "]
[null,null,null,null,null," "]
[null,null,null,null,null," "]
[null,null,null,null,null," "]
[null,null,null,null,null," "]
[null,null,null,null,null," "]
[null,null,null,null,null," "]
[null,null,null,null,null," "]
[null,null,null,null,null," "]
[null,null,null,null,null," "]
[null,null,null,null,null," "]
[null,null,null,null,null," "]
[null,null,null,null,null," "]
[null,null,null,null,null," "]
[null,null,null,null,null," "]
[null,null,null,null,null," "]
[null,null,null,null,null," "]
[null,null,null,null,null," "]
[null,null,null,null,null," "]
[null,null,null,null,null," "]
[null,null,null,null,null," "]
[null,null,null,null,null," "]
[null,null,null,null,null," "]
[null,null,null,null,null," "]
[null,null,null,null,null," "]
[null,null,null,null,null," "]
[null,null,null,null,null," "]
[null,null,null,null,null," "]
[null,null,null,null,null," "]
[null,null,null,null,null," "]
[null,null,null,null,null," "]
[null,null,null,null,null," "]
[null,null,null,null,null," "]
[null,null,null,null,null," "]
[null,null,null,null,null," "]
[null,null,null,null,null," "]
[null,null,null,null,null," "]
[null,null,null,null,null," "]
[null,null,null,null,null," "]
[null,null,null,null,null," "]
[null,null,null,null,null," "]
[null,null,null,null,null," "]
[null,null,null,null,null," "]
[null,null,null,null,null," "]
[null,null,null,null,null," "]
[null,null,null,null,null," "]
[null,null,null,null,null," "]
[null,null,null,null,null," "]
[null,null,null,null,null," "]
[null,null,null,null,null," "]
[null,null,null,null,null," "]
[null,null,null,null,null," "]
[null,null,null,null,null," "]
[null,null,null,null,null," "]
[null,null,null,null,null," "]
[null,null,null,null,null," "]
[null,null,null,null,null," "]
[null,null,null,null,null," "]
[null,null,null,null,null," "]
[null,null,null,null,null," "]
[null,null,null,null,null," "]
[null,null,null,null,null," "]
[null,null,null,null,null," "]
[null,null,null,null,null," "]
[null,null,null,null,null," "]
[null,null,null,null,null," "]
[null,null,null,null,null," "]
[null,null,null,null,null," "]
[null,null,null,null,null," "]
[null,null,null,null,null," "]
[null,null,null,null,null," "]
[null,null,null,null,null," "]
[null,null,null,null,null," "]
[null,null,null,null,null," "]
[null,null,null,null,null," "]
[null,null,null,null,null," "]
[null,null,null,null,null," "]
[null,null,null,null,null," "]
[null,null,null,null,null," "]
[null,null,null,null,null," "]
[null,null,null,null,null," "]
[null,null,null,null,null," "]
[null,null,null,null,null," "]
[null,null,null,null,null," "]
[null,null,null,null,null," "]
[null,null,null,null,null," "]
[null,null,null,null,null," "]
[null,null,null,null,null," "]
[null,null,null,null,null," "]
[null,null,null,null,null," "]
[null,null,null,null,null," "]
[null,null,null,null,null," "]
[null,null,null,null,null," "]
[null,null,null,null,null," "]
[null,null,null,null,null," "]
[null,null,null,null,null," "]
[null,null,null,null,null," "]
[null,null,null,null,null," "]
[null,null,null,null,null," "]
[null,null,null,null,null," "]
[null,null,null,null,null," "]
[null,null,null,null,null," "]
[null,null,null,null,null," "]
[null,null,null,null,null," "]
[null,null,null,null,null," "]
[null,null,null,null,null," "]
[null,null,null,null,null," "]
[null,null,null,null,null," "]
[null,null,null,null,null," "]
[null,null,null,null,null," "]
[null,null,null,null,null," "]
[null,null,null,null,null," "]
[null,null,null,null,null," "]
[null,null,null,null,null," "]
[null,null,null,null,null," "]
[null,null,null,null,null," "]
[null,null,null,null,null," "]
[null,null,null,null,null," "]
[null,null,null,null,null," "]
[null,null,null,null,null," "]
[null,null,null,null,null," "]
[null,null,null,null,null," "]
[null,null,null,null,null," "]
[null,null,null,null,null," "]
[null,null,null,null,null," "]
[null,null,null,null,null," "]
[null,null,null,null,null," "]
[null,null,null,null,null," "]
[null,null,null,null,null," "]
[null,null,null,null,null," "]
[null,null,null,null,null," "]
[null,null,null,null,null," "]
[null,null,null,null,null," "]
[null,null,null,null,null," "]
[null,null,null,null,null," "]
[null,null,null,null,null," "]
[null,null,null,null,null," "]
[null,null,null,null,null," "]
[null,null,null,null,null," "]
[null,null,null,null,null," "]
[null,null,null,null,null," "]
[null,null,null,null,null," "]
[null,null,null,null,null," "]
[null,null,null,null,null," "]
[null,null,null,null,null," "]
[null,null,null,null,null," "]
[null,null,null,null,null," "]
[null,null,null,null,null," "]
[null,null,null,null,null," "]
[null,null,null,null,null," "]
[null,null,null,null,null," "]
[null,null,null,null,null," "]
[null,null,null,null,null," "]
[null,null,null,null,null," "]
[null,null,null,null,null," "]
[null,null,null,null,null," "]
[null,null,null,null,null," "]
[null,null,null,null,null," "]
[null,null,null,null,null," "]
[null,null,null,null,null," "]
[null,null,null,null,null," "]
[null,null,null,null,null," "]
[null,null,null,null,null," "]
[null,null,null,null,null," "]
[null,null,null,null,null," "]
[null,null,null,null,null," "]
[null,null,null,null,null," "]
[null,null,null,null,null," "]
[null,null,null,null,null," "]
[null,null,null,null,null," "]
[null,null,null,null,null," "]
[null,null,null,null,null," "]
[null,null,null,null,null," "]
[null,null,null,null,null," "]
[null,null,null,null,null," "]
[null,null,null,null,null," "]
[null,null,null,null,null," "]
[null,null,null,null,null," "]
[null,null,null,null,null," "]
[null,null,null,null,null," "]
[null,null,null,null,null," "]
[null,null,null,null,null," "]
[null,null,null,null,null," "]
[null,null,null,null,null," "]
[null,null,null,null,null," "]
[null,null,null,null,null," "]
[null,null,null,null,null," "]
[null,null,null,null,null," "]
[null,null,null,null,null," "]
[null,null,null,null,null," "]
[null,null,null,null,null," "]
[null,null,null,null,null," "]
[null,null,null,null,null," "]
[null,null,null,null,null," "]
[null,null,null,null,null," "]
[null,null,null,null,null," "]
[null,null,null,null,null," "]
[null,null,null,null,null," "]
[null,null,null,null,null," "]
[null,null,null,null,null," "]
[null,null,null,null,null," "]
[null,null,null,null,null," "]
[null,null,null,null,null," "]
[null,null,null,null,null," "]
[null,null,null,null,null," "]
[null,null,null,null,null," "]
[null,null,null,null,null," "]
[null,null,null,null,null," "]
[null,null,null,null,null," "]
[null,null,null,null,null," "]
[null,null,null,null,null," "]
[null,null,null,null,null," "]
[null,null,null,null,null," "]
[null,null,null,null,null," "]
[null,null,null,null,null," "]
[null,null,null,null,null," "]
[null,null,null,null,null," "]
[null,null,null,null,null," "]
[null,null,null,null,null," "]
[null,null,null,null,null," "]
[null,null,null,null,null," "]
[null,null,null,null,null," "]
[null,null,null,null,null," "]
[null,null,null,null,null," "]
[null,null,null,null,null," "]
[null,null,null,null,null," "]
[null,null,null,null,null," "]
[null,null,null,null,null," "]
[null,null,null,null,null," "]
[null,null,null,null,null," "]
[null,null,null,null,null," "]
[null,null,null,null,null," "]
[null,null,null,null,null," "]
[null,null,null,null,null," "]
[null,null,null,null,null," "]
[null,null,null,null,null," "]
[null,null,null,null,null," "]
[null,null,null,null,null," "]
[null,null,null,null,null," "]
[null,null,null,null,null," "]
[null,null,null,null,null," "]
[null,null,null,null,null," "]
[null,null,null,null,null," "]
[null,null,null,null,null," "]
[null,null,null,null,null," "]
[null,null,null,null,null," "]
[null,null,null,null,null," "]
[null,null,null,null,null," "]
[null,null,null,null,null," "]
[null,null,null,null,null," "]
[null,null,null,null,null," "]
[null,null,null,null,null," "]
[null,null,null,null,null," "]
[null,null,null,null,null," "]
[null,null,null,null,null," "]
[null,null,null,null,null," "]
[null,null,null,null,null," "]
[null,null,null,null,null," "]
[null,null,null,null,null," "]
[null,null,null,null,null," "]
[null,null,null,null,null," "]
[null,null,null,null,null," "]
[null,null,null,null,null," "]
[null,null,null,null,null," "]
[null,null,null,null,null," "]
[null,null,null,null,null," "]
[null,null,null,null,null," "]
[null,null,null,null,null," "]
[null,null,null,null,null," "]
[null,null,null,null,null," "]
[null,null,null,null,null," "]
[null,null,null,null,null," "]
[null,null,null,null,null," "]
[null,null,null,null,null," "]
[null,null,null,null,null," "]
[null,null,null,null,null," "]
[null,null,null,null,null," "]
[null,null,null,null,null," "]
[null,null,null,null,null," "]
[null,null,null,null,null," "]
[null,null,null,null,null," "]
[null,null,null,null,null," "]
[null,null,null,null,null," "]
[null,null,null,null,null," "]
[null,null,null,null,null," "]
[null,null,null,null,null," "]
[null,null,null,null,null," "]
[null,null,null,null,null," "]
[null,null,null,null,null," "]
[null,null,null,null,null," "]
[null,null,null,null,null," "]
[null,null,null,null,null," "]
[null,null,null,null,null," "]
[null,null,null,null,null," "]
[null,null,null,null,null," "]
[null,null,null,null,null," "]
[null,null,null,null,null," "]
[null,null,null,null,null," "]
[null,null,null,null,null," "]
[null,null,null,null,null," "]
[null,null,null,null,null," "]
[null,null,null,null,null," "]
[null,null,null,null,null," "]
[null,null,null,null,null," "]
[null,null,null,null,null," "]
[null,null,null,null,null," "]
[null,null,null,null,null," "]
[null,null,null,null,null," "]
[null,null,null,null,null," "]
[null,null,null,null,null," "]
[null,null,null,null,null," "]
[null,null,null,null,null," "]
[null,null,null,null,null," "]
[null,null,null,null,null," "]
[null,null,null,null,null," "]
[null,null,null,null,null," "]
[null,null,null,null,null," "]
[null,null,null,null,null," "]
[null,null,null,null,null," "]
[null,null,null,null,null," "]
[null,null,null,null,null," "]
[null,null,null,null,null," "]
[null,null,null,null,null," "]
[null,null,null,null,null," "]
[null,null,null,null,null," "]
[null,null,null,null,null," "]
[null,null,null,null,null," "]
[null,null,null,null,null," "]
[null,null,null,null,null," "]
[null,null,null,null,null," "]
[null,null,null,null,null," "]
[null,null,null,null,null," "]
[null,null,null,null,null," "]
[null,null,null,null,null," "]
[null,null,null,null,null," "]
[null,null,null,null,null," "]
[null,null,null,null,null," "]
[null,null,null,null,null," "]
[null,null,null,null,null," "]
[null,null,null,null,null," "]
[null,null,null,null,null," "]
[null,null,null,null,null," "]
[null,null,null,null,null," "]
[null,null,null,null,null," "]
[null,null,null,null,null," "]
[null,null,null,null,null," "]
[null,null,null,null,null," "]
[null,null,null,null,null," "]
[null,null,null,null,null," "]
[null,null,null,null,null," "]
[null,null,null,null,null," "]
[null,null,null,null,null," "]
[null,null,null,null,null," "]
[null,null,null,null,null," "]
[null,null,null,null,null," "]
[null,null,null,null,null," "]
[null,null,null,null,null," "]
[null,null,null,null,null," "]
[null,null,null,null,null," "]
[null,null,null,null,null," "]
[null,null,null,null,null," "]
[null,null,null,null,null," "]
[null,null,null,null,null," "]
[null,null,null,null,null," "]
[null,null,null,null,null," "]
[null,null,null,null,null," "]
[null,null,null,null,null," "]
[null,null,null,null,null," "]
[null,null,null,null,null," "]
[null,null,null,null,null," "]
[null,null,null,null,null," "]
[null,null,null,null,null," "]
[null,null,null,null,null," "]
[null,null,null,null,null," "]
[null,null,null,null,null," "]
[null,null,null,null,null," "]
[null,null,null,null,null," "]
[null,null,null,null,null," "]
[null,null,null,null,null," "]
[null,null,null,null,null," "]
[null,null,null,null,null," "]
[null,null,null,null,null," "]
[null,null,null,null,null," "]
[null,null,null,null,null," "]
[null,null,null,null,null," "]
[null,null,null,null,null," "]
[null,null,null,null,null," "]
[null,null,null,null,null," "]
[null,null,null,null,null," "]
[null,null,null,null,null," "]
[null,null,null,null,null," "]
[null,null,null,null,null," "]
[null,null,null,null,null," "]
[null,null,null,null,null," "]
[null,null,null,null,null," "]
[null,null,null,null,null," "]
[null,null,null,null,null," "]
[null,null,null,null,null," "]
[null,null,null,null,null," "]
[null,null,null,null,null," "]
[null,null,null,null,null," "]
[null,null,null,null,null," "]
[null,null,null,null,null," "]
[null,null,null,null,null," "]
[null,null,null,null,null," "]
[null,null,null,null,null," "]
[null,null,null,null,null," "]
[null,null,null,null,null," "]
[null,null,null,null,null," "]
[null,null,null,null,null," "]
[null,null,null,null,null," "]
[null,null,null,null,null," "]
[null,null,null,null,null," "]
[null,null,null,null,null," "]
[null,null,null,null,null," "]
[null,null,null,null,null," "]
[null,null,null,null,null," "]
[null,null,null,null,null," "]
[null,null,null,null,null," "]
[null,null,null,null,null," "]
[null,null,null,null,null," "]
[null,null,null,null,null," "]
[null,null,null,null,null," "]
[null,null,null,null,null," "]
[null,null,null,null,null," "]
[null,null,null,null,null," "]
[null,null,null,null,null," "]
[null,null,null,null,null," "]
[null,null,null,null,null," "]
[null,null,null,null,null," "]
[null,null,null,null,null," "]
[null,null,null,null,null," "]
[null,null,null,null,null," "]
[null,null,null,null,null," "]
[null,null,null,null,null," "]
[null,null,null,null,null," "]
[null,null,null,null,null," "]
[null,null,null,null,null," "]
[null,null,null,null,null," "]
[null,null,null,null,null," "]
[null,null,null,null,null," "]
[null,null,null,null,null," "]
[null,null,null,null,null," "]
[null,null,null,null,null," "]
[null,null,null,null,null," "]
[null,null,null,null,null," "]
[null,null,null,null,null," "]
[null,null,null,null,null," "]
[null,null,null,null,null," "]
[null,null,null,null,null," "]
[null,null,null,null,null," "]
[null,null,null,null,null," "]
[null,null,null,null,null," "]
[null,null,null,null,null," "]
[null,null,null,null,null," "]
[null,null,null,null,null," "]
[null,null,null,null,null," "]
[null,null,null,null,null," "]
[null,null,null,null,null," "]
[null,null,null,null,null," "]
[null,null,null,null,null," "]
[null,null,null,null,null," "]
[null,null,null,null,null," "]
[null,null,null,null,null," "]
[null,null,null,null,null," "]
[null,null,null,null,null," "]
[null,null,null,null,null," "]
[null,null,null,null,null," "]
[null,null,null,null,null," "]
[null,null,null,null,null," "]
[null,null,null,null,null," "]
[null,null,null,null,null," "]
[null,null,null,null,null," "]
[null,null,null,null,null," "]
[null,null,null,null,null," "]
[null,null,null,null,null," "]
[null,null,null,null,null," "]
[null,null,null,null,null," "]
[null,null,null,null,null," "]
[null,null,null,null,null," "]
[null,null,null,null,null," "]
[null,null,null,null,null," "]
[null,null,null,null,null," "]
[null,null,null,null,null," "]
[null,null,null,null,null," "]
[null,null,null,null,null," "]
[null,null,null,null,null," "]
[null,null,null,null,null," "]
[null,null,null,null,null," "]
[null,null,null,null,null," "]
[null,null,null,null,null," "]
[null,null,null,null,null," "]
[null,null,null,null,null," "]
[null,null,null,null,null," "]
[null,null,null,null,null," "]
[null,null,null,null,null," "]
[null,null,null,null,null," "]
[null,null,null,null,null," "]
[null,null,null,null,null," "]
[null,null,null,null,null," "]
[null,null,null,null,null," "]
[null,null,null,null,null," "]
[null,null,null,null,null," "]
[null,null,null,null,null," "]
[null,null,null,null,null," "]
[null,null,null,null,null," "]
[null,null,null,null,null," "]
[null,null,null,null,null," "]
[null,null,null,null,null," "]
[null,null,null,null,null," "]
[null,null,null,null,null," "]
[null,null,null,null,null," "]
[null,null,null,null,null," "]
[null,null,null,null,null," "]
[null,null,null,null,null," "]
[null,null,null,null,null," "]
[null,null,null,null,null," "]
[null,null,null,null,null," "]
[null,null,null,null,null," "]
[null,null,null,null,null," "]
[null,null,null,null,null," "]
[null,null,null,null,null," "]
[null,null,null,null,null," "]
[null,null,null,null,null," "]
[null,null,null,null,null," "]
[null,null,null,null,null," "]
[null,null,null,null,null," "]
[null,null,null,null,null," "]
[null,null,null,null,null," "]
[null,null,null,null,null," "]
[null,null,null,null,null," "]
[null,null,null,null,null," "]
[null,null,null,null,null," "]
[null,null,null,null,null," "]
[null,null,null,null,null," "]
[null,null,null,null,null," "]
[null,null,null,null,null," "]
[null,null,null,null,null," "]
[null,null,null,null,null," "]
[null,null,null,null,null," "]
[null,null,null,null,null," "]
[null,null,null,null,null," "]
[null,null,null,null,null," "]
[null,null,null,null,null," "]
[null,null,null,null,null," "]
[null,null,null,null,null," "]
[null,null,null,null,null," "]
[null,null,null,null,null," "]
[null,null,null,null,null," "]
[null,null,null,null,null," "]
[null,null,null,null,null," "]
[null,null,null,null,null," "]
[null,null,null,null,null," "]
[null,null,null,null,null," "]
[null,null,null,null,null," "]
[null,null,null,null,null," "]
[null,null,null,null,null," "]
[null,null,null,null,null," "]
[null,null,null,null,null," "]
[null,null,null,null,null," "]
[null,null,null,null,null," "]
[null,null,null,null,null," "]
[null,null,null,null,null," "]
[null,null,null,null,null," "]
[null,null,null,null,null," "]
[null,null,null,null,null," "]
[null,null,null,null,null," "]
[null,null,null,null,null," "]
[null,null,null,null,null," "]
[null,null,null,null,null," "]
[null,null,null,null,null," "]
[null,null,null,null,null," "]
[null,null,null,null,null," "]
[null,null,null,null,null," "]
[null,null,null,null,null," "]
[null,null,null,null,null," "]
[null,null,null,null,null," "]
[null,null,null,null,null," "]
[null,null,null,null,null," "]
[null,null,null,null,null," "]
[null,null,null,null,null," "]
[null,null,null,null,null," "]
[null,null,null,null,null," "]
[null,null,null,null,null," "]
[null,null,null,null,null," "]
[null,null,null,null,null," "]
[null,null,null,null,null," "]
[null,null,null,null,null," "]
[null,null,null,null,null," "]
[null,null,null,null,null," "]
[null,null,null,null,null," "]
[null,null,null,null,null," "]
[null,null,null,null,null," "]
[null,null,null,null,null," "]
[null,null,null,null,null," "]
[null,null,null,null,null," "]
[null,null,null,null,null," "]
[null,null,null,null,null," "]
[null,null,null,null,null," "]
[null,null,null,null,null," "]
[null,null,null,null,null," "]
[null,null,null,null,null," "]
[null,null,null,null,null," "]
[null,null,null,null,null," "]
[null,null,null,null,null," "]
[null,null,null,null,null," "]
[null,null,null,null,null," "]
[null,null,null,null,null," "]
[null,null,null,null,null," "]
[null,null,null,null,null," "]
[null,null,null,null,null," "]
[null,null,null,null,null," "]
[null,null,null,null,null," "]
[null,null,null,null,null," "]
[null,null,null,null,null," "]
[null,null,null,null,null," "]
[null,null,null,null,null," "]
[null,null,null,null,null," "]
[null,null,null,null,null," "]
[null,null,null,null,null," "]
[null,null,null,null,null," "]
[null,null,null,null,null," "]
[null,null,null,null,null," "]
[null,null,null,null,null," "]
[null,null,null,null,null," "]
[null,null,null,null,null," "]
[null,null,null,null,null," "]
[null,null,null,null,null," "]
[null,null,null,null,null," "]
[null,null,null,null,null," "]
[null,null,null,null,null," "]
[null,null,null,null,null," "]
[null,null,null,null,null," "]
[null,null,null,null,null," "]
[null,null,null,null,null," "]
[null,null,null,null,null," "]
[null,null,null,null,null," "]
[null,null,null,null,null," "]
[null,null,null,null,null," "]
[null,null,null,null,null," "]
[null,null,null,null,null," "]
[null,null,null,null,null," "]
[null,null,null,null,null," "]
[null,null,null,null,null," "]
[null,null,null,null,null," "]
[null,null,null,null,null," "]
[null,null,null,null,null," "]
[null,null,null,null,null," "]
[null,null,null,null,null," "]
[null,null,null,null,null," "]
[null,null,null,null,null," "]
[null,null,null,null,null," "]
[null,null,null,null,null," "]
[null,null,null,null,null," "]
[null,null,null,null,null," "]
[null,null,null,null,null," "]
[null,null,null,null,null," "]
[null,null,null,null,null," "]
[null,null,null,null,null," "]
[null,null,null,null,null," "]
[null,null,null,null,null," "]
[null,null,null,null,null," "]
[null,null,null,null,null," "]
[null,null,null,null,null," "]
[null,null,null,null,null," "]
[null,null,null,null,null," "]
[null,null,null,null,null," "]
[null,null,null,null,null," "]
[null,null,null,null,null," "]
[null,null,null,null,null," "]
[null,null,null,null,null," "]
[null,null,null,null,null," "]
[null,null,null,null,null," "]
[null,null,null,null,null," "]
[null,null,null,null,null," "]
[null,null,null,null,null," "]
[null,null,null,null,null," "]
[null,null,null,null,null," "]
[null,null,null,null,null," "]
[null,null,null,null,null," "]
[null,null,null,null,null," "]
[null,null,null,null,null," "]
[null,null,null,null,null," "]
[null,null,null,null,null," "]
[null,null,null,null,null," "]
[null,null,null,null,null," "]
[null,null,null,null,null," "]
[null,null,null,null,null," "]
[null,null,null,null,null," "]
[null,null,null,null,null," "]
[null,null,null,null,null," "]
[null,null,null,null,null," "]
[null,null,null,null,null," "]
[null,null,null,null,null," "]
[null,null,null,null,null," "]
[null,null,null,null,null," "]
[null,null,null,null,null," "]
[null,null,null,null,null," "]
[null,null,null,null,null," "]
[null,null,null,null,null," "]
[null,null,null,null,null," "]
[null,null,null,null,null," "]
[null,null,null,null,null," "]
[null,null,null,null,null," "]
[null,null,null,null,null," "]
[null,null,null,null,null," "]
[null,null,null,null,null," "]
[null,null,null,null,null," "]
[null,null,null,null,null," "]
[null,null,null,null,null," "]
[null,null,null,null,null," "]
[null,null,null,null,null," "]
[null,null,null,null,null," "]
[null,null,null,null,null," "]
[null,null,null,null,null," "]
[null,null,null,null,null," "]
[null,null,null,null,null," "]
[null,null,null,null,null," "]
[null,null,null,null,null," "]
[null,null,null,null,null," "]
[null,null,null,null,null," "]
[null,null,null,null,null," "]
[null,null,null,null,null," "]
[null,null,null,null,null," "]
[null,null,null,null,null," "]
[null,null,null,null,null," "]
[null,null,null,null,null," "]
[null,null,null,null,null," "]
[null,null,null,null,null," "]
[null,null,null,null,null," "]
[null,null,null,null,null," "]
[null,null,null,null,null," "]
[null,null,null,null,null," "]
[null,null,null,null,null," "]
[null,null,null,null,null," "]
[null,null,null,null,null," "]
[null,null,null,null,null," "]
[null,null,null,null,null," "]
[null,null,null,null,null," "]
[null,null,null,null,null," "]
[null,null,null,null,null," "]
[null,null,null,null,null," "]
[null,null,null,null,null," "]
[null,null,null,null,null," "]
[null,null,null,null,null," "]
[null,null,null,null,null," "]
[null,null,null,null,null," "]
[null,null,null,null,null," "]
[null,null,null,null,null," "]
[null,null,null,null,null," "]
[null,null,null,null,null," "]
[null,null,null,null,null," "]
[null,null,null,null,null," "]
[null,null,null,null,null," "]
[null,null,null,null,null," "]
[null,null,null,null,null," "]
[null,null,null,null,null," "]
[null,null,null,null,null," "]
[null,null,null,null,null," "]
[null,null,null,null,null," "]
[null,null,null,null,null," "]
[null,null,null,null,null," "]
[null,null,null,null,null," "]
[null,null,null,null,null," "]
[null,null,null,null,null," "]
[null,null,null,null,null," "]
[null,null,null,null,null," "]
[null,null,null,null,null," "]
[null,null,null,null,null," "]
[null,null,null,null,null," "]
[null,null,null,null,null," "]
[null,null,null,null,null," "]
[null,null,null,null,null," "]
[null,null,null,null,null," "]
[null,null,null,null,null," "]
[null,null,null,null,null," "]
[null,null,null,null,null," "]
[null,null,null,null,null," "]
[null,null,null,null,null," "]
[null,null,null,null,null," "]
[null,null,null,null,null," "]
[null,null,null,null,null," "]
[null,null,null,null,null," "]
[null,null,null,null,null," "]
[null,null,null,null,null," "]
[null,null,null,null,null," "]
[null,null,null,null,null," "]
[null,null,null,null,null," "]
[null,null,null,null,null," "]
[null,null,null,null,null," "]
[null,null,null,null,null," "]
[null,null,null,null,null," "]
[null,null,null,null,null," "]
[null,null,null,null,null," "]
[null,null,null,null,null," "]
[null,null,null,null,null," "]
[null,null,null,null,null," "]
[null,null,null,null,null," "]
[null,null,null,null,null," "]
[null,null,null,null,null," "]
[null,null,null,null,null," "]
[null,null,null,null,null," "]
[null,null,null,null,null," "]
[null,null,null,null,null," "]
[null,null,null,null,null," "]
[null,null,null,null,null," "]
[null,null,null,null,null," "]
[null,null,null,null,null," "]
[null,null,null,null,null," "]
[null,null,null,null,null," "]
[null,null,null,null,null," "]
[null,null,null,null,null," "]
[null,null,null,null,null," "]
[null,null,null,null,null," "]
[null,null,null,null,null," "]
[null,null,null,null,null," "]
[null,null,null,null,null," "]
[null,null,null,null,null," "]
[null,null,null,null,null," "]
[null,null,null,null,null," "]
[null,null,null,null,null," "]
[null,null,null,null,null," "]
[null,null,null,null,null," "]
[null,null,null,null,null," "]
[null,null,null,null,null," "]
[null,null,null,null,null," "]
[null,null,null,null,null," "]
[null,null,null,null,null," "]
[null,null,null,null,null," "]
[null,null,null,null,null," "]
[null,null,null,null,null," "]
[null,null,null,null,null," "]
[null,null,null,null,null," "]
[null,null,null,null,null," "]
[null,null,null,null,null," "]
[null,null,null,null,null," "]
[null,null,null,null,null," "]
[null,null,null,null,null," "]
[null,null,null,null,null," "]
[null,null,null,null,null," "]
[null,null,null,null,null," "]
[null,null,null,null,null," "]
[null,null,null,null,null," "]
[null,null,null,null,null," "]
[null,null,null,null,null," "]
[null,null,null,null,null," "]
[null,null,null,null,null," "]
[null,null,null,null,null," "]
[null,null,null,null,null," "]
[null,null,null,null,null," "]
[null,null,null,null,null," "]
[null,null,null,null,null," "]
[null,null,null,null,null," "]
[null,null,null,null,null," "]
[null,null,null,null,null," "]
[null,null,null,null,null," "]
[null,null,null,null,null," "]
[null,null,null,null,null," "]
[null,null,null,null,null," "]
[null,null,null,null,null," "]
[null,null,null,null,null," "]
[null,null,null,null,null," "]
[null,null,null,null,null," "]
[null,null,null,null,null," "]
[null,null,null,null,null," "]
[null,null,null,null,null," "]
[null,null,null,null,null," "]
[null,null,null,null,null," "]
[null,null,null,null,null," "]
[null,null,null,null,null," "]
[null,null,null,null,null," "]
[null,null,null,null,null," "]
[null,null,null,null,null," "]
[null,null,null,null,null," "]
[null,null,null,null,null," "]
[null,null,null,null,null," "]
[null,null,null,null,null," "]
[null,null,null,null,null," "]
[null,null,null,null,null," "]
[null,null,null,null,null," "]
[null,null,null,null,null," "]
[null,null,null,null,null," "]
[null,null,null,null,null," "]
[null,null,null,null,null," "]
[null,null,null,null,null," "]
[null,null,null,null,null," "]
[null,null,null,null,null," "]
[null,null,null,null,null," "]
[null,null,null,null,null," "]
[null,null,null,null,null," "]
[null,null,null,null,null," "]
[null,null,null,null,null," "]
[null,null,null,null,null," "]
[null,null,null,null,null," "]
[null,null,null,null,null," "]
[null,null,null,null,null," "]
[null,null,null,null,null," "]
[null,null,null,null,null," "]
[null,null,null,null,null," "]
[null,null,null,null,null," "]
[null,null,null,null,null," "]
[null,null,null,null,null," "]
[null,null,null,null,null," "]
[null,null,null,null,null," "]
[null,null,null,null,null," "]
[null,null,null,null,null," "]
[null,null,null,null,null," "]
[null,null,null,null,null," "]
[null,null,null,null,null," "]
[null,null,null,null,null," "]
[null,null,null,null,null," "]
[null,null,null,null,null," "]
[null,null,null,null,null," "]
[null,null,null,null,null," "]
[null,null,null,null,null," "]
[null,null,null,null,null," "]
[null,null,null,null,null," "]
[null,null,null,null,null," "]
[null,null,null,null,null," "]
[null,null,null,null,null," "]
[null,null,null,null,null," "]
[null,null,null,null,null," "]
[null,null,null,null,null," "]
[null,null,null,null,null," "]
[null,null,null,null,null," "]
[null,null,null,null,null," "]
[null,null,null,null,null," "]
[null,null,null,null,null," "]
[null,null,null,null,null," "]
[null,null,null,null,null," "]
[null,null,null,null,null," "]
[null,null,null,null,null," "]
[null,null,null,null,null," "]
[null,null,null,null,null," "]
[null,null,null,null,null," "]
[null,null,null,null,null," "]
[null,null,null,null,null," "]
[null,null,null,null,null," "]
[null,null,null,null,null," "]
[null,null,null,null,null," "]
[null,null,null,null,null," "]
[null,null,null,null,null," "]
[null,null,null,null,null," "]
[null,null,null,null,null," "]
[null,null,null,null,null," "]
[null,null,null,null,null," "]
[null,null,null,null,null," "]
[null,null,null,null,null," "]
[null,null,null,null,null," "]
[null,null,null,null,null," "]
[null,null,null,null,null," "]
[null,null,null,null,null," "]
[null,null,null,null,null," "]
[null,null,null,null,null," "]
[null,null,null,null,null," "]
[null,null,null,null,null," "]
[null,null,null,null,null," "]
[null,null,null,null,null," "]
[null,null,null,null,null," "]
[null,null,null,null,null," "]
[null,null,null,null,null," "]
[null,null,null,null,null," "]
[null,null,null,null,null," "]
[null,null,null,null,null," "]
[null,null,null,null,null," "]
[null,null,null,null,null," "]
[null,null,null,null,null," "]
[null,null,null,null,null," "]
[null,null,null,null,null," "]
[null,null,null,null,null," "]
[null,null,null,null,null," "]
[null,null,null,null,null," "]
[null,null,null,null,null," "]
[null,null,null,null,null," "]
[null,null,null,null,null," "]
[null,null,null,null,null," "]
[null,null,null,null,null," "]
[null,null,null,null,null," "]
[null,null,null,null,null," "]
[null,null,null,null,null," "]
[null,null,null,null,null," "]
[null,null,null,null,null," "]
[null,null,null,null,null," "]
[null,null,null,null,null," "]
[null,null,null,null,null," "]
[null,null,null,null,null," "]
[null,null,null,null,null," "]
[null,null,null,null,null," "]
[null,null,null,null,null," "]
[null,null,null,null,null," "]
[null,null,null,null,null," "]
[null,null,null,null,null," "]
[null,null,null,null,null," "]
[null,null,null,null,null," "]
[null,null,null,null,null," "]
[null,null,null,null,null," "]
[null,null,null,null,null," "]
[null,null,null,null,null," "]
[null,null,null,null,null," "]
[null,null,null,null,null," "]
[null,null,null,null,null," "]
[null,null,null,null,null," "]
[null,null,null,null,null," "]
[null,null,null,null,null," "]
[null,null,null,null,null," "]
[null,null,null,null,null," "]
[null,null,null,null,null," "]
[null,null,null,null,null," "]
[null,null,null,null,null," "]
[null,null,null,null,null," "]
[null,null,null,null,null," "]
[null,null,null,null,null," "]
[null,null,null,null,null," "]
[null,null,null,null,null," "]
[null,null,null,null,null," "]
[null,null,null,null,null," "]
[null,null,null,null,null," "]
[null,null,null,null,null," "]
[null,null,null,null,null," "]
[null,null,null,null,null," "]
[null,null,null,null,null," "]
[null,null,null,null,null," "]
[null,null,null,null,null," "]
[null,null,null,null,null," "]
[null,null,null,null,null," "]
[null,null,null,null,null," "]
[null,null,null,null,null," "]
[null,null,null,null,null," "]
[null,null,null,null,null," "]
[null,null,null,null,null," "]
[null,null,null,null,null," "]
[null,null,null,null,null," "]
[null,null,null,null,null," "]
[null,null,null,null,null," "]
[null,null,null,null,null," "]
[null,null,null,null,null," "]
[null,null,null,null,null," "]
[null,null,null,null,null," "]
[null,null,null,null,null," "]
[null,null,null,null,null," "]
[null,null,null,null,null," "]
[null,null,null,null,null," "]
[null,null,null,null,null," "]
[null,null,null,null,null," "]
[null,null,null,null,null," "]
[null,null,null,null,null," "]
[null,null,null,null,null," "]
[null,null,null,null,null," "]
[null,null,null,null,null," "]
[null,null,null,null,null," "]
[null,null,null,null,null," "]
[null,null,null,null,null," "]
[null,null,null,null,null," "]
[null,null,null,null,null," "]
[null,null,null,null,null," "]
[null,null,null,null,null," "]
[null,null,null,null,null," "]
[null,null,null,null,null," "]
[null,null,null,null,null," "]
[null,null,null,null,null," "]
[null,null,null,null,null," "]
[null,null,null,null,null," "]
[null,null,null,null,null," "]
[null,null,null,null,null," "]
[null,null,null,null,null," "]
[null,null,null,null,null," "]
[null,null,null,null,null," "]
[null,null,null,null,null," "]
[null,null,null,null,null," "]
[null,null,null,null,null," "]
[null,null,null,null,null," "]
[null,null,null,null,null," "]
[null,null,null,null,null," "]
[null,null,null,null,null," "]
[null,null,null,null,null," "]
[null,null,null,null,null," "]
[null,null,null,null,null," "]
[null,null,null,null,null," "]
[null,null,null,null,null," "]
[null,null,null,null,null," "]
[null,null,null,null,null," "]
[null,null,null,null,null," "]
[null,null,null,null,null," "]
[null,null,null,null,null," "]
[null,null,null,null,null," "]
[null,null,null,null,null," "]
[null,null,null,null,null," "]
[null,null,null,null,null," "]
[null,null,null,null,null," "]
[null,null,null,null,null," "]
[null,null,null,null,null," "]
[null,null,null,null,null," "]
[null,null,null,null,null," "]
[null,null,null,null,null," "]
[null,null,null,null,null," "]
[null,null,null,null,null," "]
[null,null,null,null,null," "]
[null,null,null,null,null," "]
[null,null,null,null,null," "]
[null,null,null,null,null," "]
[null,null,null,null,null," "]
[null,null,null,null,null," "]
[null,null,null,null,null," "]
[null,null,null,null,null," "]
[null,null,null,null,null," "]
[null,null,null,null,null," "]
[null,null,null,null,null," "]
[null,null,null,null,null," "]
[null,null,null,null,null," "]
[null,null,null,null,null," "]
[null,null,null,null,null," "]
[null,null,null,null,null," "]
[null,null,null,null,null," "]
[null,null,null,null,null," "]
[null,null,null,null,null," "]
[null,null,null,null,null," "]
[null,null,null,null,null," "]
[null,null,null,null,null," "]
[null,null,null,null,null," "]
[null,null,null,null,null," "]
[null,null,null,null,null," "]
[null,null,null,null,null," "]
[null,null,null,null,null," "]
[null,null,null,null,null," "]
[null,null,null,null,null," "]
[null,null,null,null,null," "]
[null,null,null,null,null," "]
[null,null,null,null,null," "]
[null,null,null,null,null," "]
[null,null,null,null,null," "]
[null,null,null,null,null," "]
[null,null,null,null,null," "]
[null,null,null,null,null," "]
[null,null,null,null,null," "]
[null,null,null,null,null," "]
[null,null,null,null,null," "]
[null,null,null,null,null," "]
[null,null,null,null,null," "]
[null,null,null,null,null," "]
[null,null,null,null,null," "]
[null,null,null,null,null," "]
[null,null,null,null,null," "]
[null,null,null,null,null," "]
[null,null,null,null,null," "]
[null,null,null,null,null," "]
[null,null,null,null,null," "]
[null,null,null,null,null," "]
[null,null,null,null,null," "]
[null,null,null,null,null," "]
[null,null,null,null,null," "]
[null,null,null,null,null," "]
[null,null,null,null,null," "]
[null,null,null,null,null," "]
[null,null,null,null,null," "]
[null,null,null,null,null," "]
[null,null,null,null,null," "]
[null,null,null,null,null," "]
[null,null,null,null,null," "]
[null,null,null,null,null," "]
[null,null,null,null,null," "]
[null,null,null,null,null," "]
[null,null,null,null,null," "]
[null,null,null,null,null," "]
[null,null,null,null,null," "]
[null,null,null,null,null," "]
[null,null,null,null,null," "]
[null,null,null,null,null," "]
[null,null,null,null,null," "]
[null,null,null,null,null," "]
[null,null,null,null,null," "]
[null,null,null,null,null," "]
[null,null,null,null,null," "]
[null,null,null,null,null," "]
[null,null,null,null,null," "]
[null,null,null,null,null," "]
[null,null,null,null,null," "]
[null,null,null,null,null," "]
[null,null,null,null,null," "]
[null,null,null,null,null," "]
[null,null,null,null,null," "]
[null,null,null,null,null," "]
[null,null,null,null,null," "]
[null,null,null,null,null," "]
[null,null,null,null,null," "]
[null,null,null,null,null," "]
[null,null,null,null,null," "]
[null,null,null,null,null," "]
[null,null,null,null,null," "]
[null,null,null,null,null," "]
[null,null,null,null,null," "]
[null,null,null,null,null," "]
[null,null,null,null,null," "]
[null,null,null,null,null," "]
[null,null,null,null,null," "]
[null,null,null,null,null," "]
[null,null,null,null,null," "]
[null,null,null,null,null," "]
[null,null,null,null,null," "]
[null,null,null,null,null," "]
[null,null,null,null,null," "]
[null,null,null,null,null," "]
[null,null,null,null,null," "]
[null,null,null,null,null," "]
[null,null,null,null,null," "]
[null,null,null,null,null," "]
[null,null,null,null,null," "]
[null,null,null,null,null," "]
[null,null,null,null,null," "]
[null,null,null,null,null," "]
[null,null,null,null,null," "]
[null,null,null,null,null," "]
[null,null,null,null,null," "]
[null,null,null,null,null," "]
[null,null,null,null,null," "]
[null,null,null,null,null," "]
[null,null,null,null,null," "]
[null,null,null,null,null," "]
[null,null,null,null,null," "]
[null,null,null,null,null," "]
[null,null,null,null,null," "]
[null,null,null,null,null," "]
[null,null,null,null,null," "]
[null,null,null,null,null," "]
[null,null,null,null,null," "]
[null,null,null,null,null," "]
[null,null,null,null,null," "]
[null,null,null,null,null," "]
[null,null,null,null,null," "]
[null,null,null,null,null," "]
[null,null,null,null,null," "]
[null,null,null,null,null," "]
[null,null,null,null,null," "]
[null,null,null,null,null," "]
[null,null,null,null,null," "]
[null,null,null,null,null," "]
[null,null,null,null,null," "]
[null,null,null,null,null," "]
[null,null,null,null,null," "]
[null,null,null,null,null," "]
[null,null,null,null,null," "]
[null,null,null,null,null," "]
[null,null,null,null,null," "]
[null,null,null,null,null," "]
[null,null,null,null,null," "]
[null,null,null,null,null," "]
[null,null,null,null,null," "]
[null,null,null,null,null," "]
[null,null,null,null,null," "]
[null,null,null,null,null," "]
[null,null,null,null,null," "]
[null,null,null,null,null," "]
[null,null,null,null,null," "]
[null,null,null,null,null," "]
[null,null,null,null,null," "]
[null,null,null,null,null," "]
[null,null,null,null,null," "]
[null,null,null,null,null," "]
[null,null,null,null,null," "]
[null,null,null,null,null," "]
[null,null,null,null,null," "]
[null,null,null,null,null," "]
[null,null,null,null,null," "]
[null,null,null,null,null," "]
[null,null,null,null,null," "]
[null,null,null,null,null," "]
[null,null,null,null,null," "]
[null,null,null,null,null," "]
[null,null,null,null,null," "]
[null,null,null,null,null," "]
[null,null,null,null,null," "]
[null,null,null,null,null," "]
[null,null,null,null,null," "]
[null,null,null,null,null," "]
[null,null,null,null,null," "]
[null,null,null,null,null," "]
[null,null,null,null,null," "]
[null,null,null,null,null," "]
[null,null,null,null,null," "]
[null,null,null,null,null," "]
[null,null,null,null,null," "]
[null,null,null,null,null," "]
[null,null,null,null,null," "]
[null,null,null,null,null," "]
[null,null,null,null,null," "]
[null,null,null,null,null," "]
[null,null,null,null,null," "]
[null,null,null,null,null," "]
[null,null,null,null,null," "]
[null,null,null,null,null," "]
[null,null,null,null,null," "]
[null,null,null,null,null," "]
[null,null,null,null,null," "]
[null,null,null,null,null," "]
[null,null,null,null,null," "]
[null,null,null,null,null," "]
[null,null,null,null,null," "]
[null,null,null,null,null," "]
[null,null,null,null,null," "]
[null,null,null,null,null," "]
[null,null,null,null,null," "]
[null,null,null,null,null," "]
[null,null,null,null,null," "]
[null,null,null,null,null," "]
[null,null,null,null,null," "]
[null,null,null,null,null," "]
[null,null,null,null,null," "]
[null,null,null,null,null," "]
[null,null,null,null,null," "]
[null,null,null,null,null," "]
[null,null,null,null,null," "]
[null,null,null,null,null," "]
[null,null,null,null,null," "]
[null,null,null,null,null," "]
[null,null,null,null,null," "]
[null,null,null,null,null," "]
[null,null,null,null,null," "]
[null,null,null,null,null," "]
[null,null,null,null,null," "]
[null,null,null,null,null," "]
[null,null,null,null,null," "]
[null,null,null,null,null," "]
[null,null,null,null,null," "]
[null,null,null,null,null," "]
[null,null,null,null,null," "]
[null,null,null,null,null," "]
[null,null,null,null,null," "]
[null,null,null,null,null," "]
[null,null,null,null,null," "]
[null,null,null,null,null," "]
[null,null,null,null,null," "]
[null,null,null,null,null," "]
[null,null,null,null,null," "]
[null,null,null,null,null," "]
[null,null,null,null,null," "]
[null,null,null,null,null," "]
[null,null,null,null,null," "]
[null,null,null,null,null," "]
[null,null,null,null,null," "]
[null,null,null,null,null," "]
[null,null,null,null,null," "]
[null,null,null,null,null," "]
[null,null,null,null,null," "]
[null,null,null,null,null," "]
[null,null,null,null,null," "]
[null,null,null,null,null," "]
[null,null,null,null,null," "]
[null,null,null,null,null," "]
[null,null,null,null,null," "]
[null,null,null,null,null," "]
[null,null,null,null,null," "]
[null,null,null,null,null," "]
[null,null,null,null,null," "]
[null,null,null,null,null," "]
[null,null,null,null,null," "]
[null,null,null,null,null," "]
[null,null,null,null,null," "]
[null,null,null,null,null," "]
[null,null,null,null,null," "]
[null,null,null,null,null," "]
[null,null,null,null,null," "]
[null,null,null,null,null," "]
[null,null,null,null,null," "]
[null,null,null,null,null," "]
[null,null,null,null,null," "]
[null,null,null,null,null," "]
[null,null,null,null,null," "]
[null,null,null,null,null," "]
[null,null,null,null,null," "]
[null,null,null,null,null," "]
[null,null,null,null,null," "]
[null,null,null,null,null," "]
[null,null,null,null,null," "]
[null,null,null,null,null," "]
[null,null,null,null,null," "]
[null,null,null,null,null," "]
[null,null,null,null,null," "]
[null,null,null,null,null," "]
[null,null,null,null,null," "]
[null,null,null,null,null," "]
[null,null,null,null,null," "]
[null,null,null,null,null," "]
[null,null,null,null,null," "]
[null,null,null,null,null," "]
[null,null,null,null,null," "]
[null,null,null,null,null," "]
[null,null,null,null,null," "]
[null,null,null,null,null," "]
[null,null,null,null,null," "]
[null,null,null,null,null," "]
[null,null,null,null,null," "]
[null,null,null,null,null," "]
[null,null,null,null,null," "]
[null,null,null,null,null," "]
[null,null,null,null,null," "]
[null,null,null,null,null," "]
[null,null,null,null,null," "]
[null,null,null,null,null," "]
[null,null,null,null,null," "]
[null,null,null,null,null," "]
[null,null,null,null,null," "]
[null,null,null,null,null," "]
[null,null,null,null,null," "]
[null,null,null,null,null," "]
[null,null,null,null,null," "]
[null,null,null,null,null," "]
[null,null,null,null,null," "]
[null,null,null,null,null," "]
[null,null,null,null,null," "]
[null,null,null,null,null," "]
[null,null,null,null,null," "]
[null,null,null,null,null," "]
[null,null,null,null,null," "]
[null,null,null,null,null," "]
[null,null,null,null,null," "]
[null,null,null,null,null," "]
[null,null,null,null,null," "]
[null,null,null,null,null," "]
[null,null,null,null,null," "]
[null,null,null,null,null," "]
[null,null,null,null,null," "]
[null,null,null,null,null," "]
[null,null,null,null,null," "]
[null,null,null,null,null," "]
[null,null,null,null,null," "]
[null,null,null,null,null," "]
[null,null,null,null,null," "]
[null,null,null,null,null," "]
[null,null,null,null,null," "]
[null,null,null,null,null," "]
[null,null,null,null,null," "]
[null,null,null,null,null," "]
[null,null,null,null,null," "]
[null,null,null,null,null," "]
[null,null,null,null,null," "]
[null,null,null,null,null," "]
[null,null,null,null,null," "]
[null,null,null,null,null," "]
[null,null,null,null,null," "]
[null,null,null,null,null," "]
[null,null,null,null,null," "]
[null,null,null,null,null," "]
[null,null,null,null,null," "]
[null,null,null,null,null," "]
[null,null,null,null,null," "]
[null,null,null,null,null," "]
[null,null,null,null,null," "]
[null,null,null,null,null," "]
[null,null,null,null,null," "]
[null,null,null,null,null," "]
[null,null,null,null,null," "]
[null,null,null,null,null," "]
[null,null,null,null,null," "]
[null,null,null,null,null," "]
[null,null,null,null,null," "]
[null,null,null,null,null," "]
[null,null,null,null,null," "]
[null,null,null,null,null," "]
[null,null,null,null,null," "]
[null,null,null,null,null," "]
[null,null,null,null,null," "]
[null,null,null,null,null," "]
[null,null,null,null,null," "]
[null,null,null,null,null," "]
[null,null,null,null,null," "]
[null,null,null,null,null," "]
[null,null,null,null,null," "]
[null,null,null,null,null," "]
[null,null,null,null,null," "]
[null,null,null,null,null," "]
[null,null,null,null,null," "]
[null,null,null,null,null," "]
[null,null,null,null,null," "]
[null,null,null,null,null," "]
[null,null,null,null,null," "]
[null,null,null,null,null," "]
[null,null,null,null,null," "]
[null,null,null,null,null," "]
[null,null,null,null,null," "]
[null,null,null,null,null," "]
[null,null,null,null,null," "]
[null,null,null,null,null," "]
[null,null,null,null,null," "]
[null,null,null,null,null," "]
[null,null,null,null,null," "]
[null,null,null,null,null," "]
[null,null,null,null,null," "]
[null,null,null,null,null," "]
[null,null,null,null,null," "]
[null,null,null,null,null," "]
[null,null,null,null,null," "]
[null,null,null,null,null," "]
[null,null,null,null,null," "]
[null,null,null,null,null," "]
[null,null,null,null,null," "]
[null,null,null,null,null," "]
[null,null,null,null,null," "]
[null,null,null,null,null," "]
[null,null,null,null,null," "]
[null,null,null,null,null," "]
[null,null,null,null,null," "]
[null,null,null,null,null," "]
[null,null,null,null,null," "]
[null,null,null,null,null," "]
[null,null,null,null,null," "]
[null,null,null,null,null," "]
[null,null,null,null,null," "]
[null,null,null,null,null," "]
[null,null,null,null,null," "]
[null,null,null,null,null," "]
[null,null,null,null,null," "]
[null,null,null,null,null," "]
[null,null,null,null,null," "]
[null,null,null,null,null," "]
[null,null,null,null,null," "]
[null,null,null,null,null," "]
[null,null,null,null,null," "]
[null,null,null,null,null," "]
[null,null,null,null,null," "]
[null,null,null,null,null," "]
[null,null,null,null,null," "]
[null,null,null,null,null," "]
[null,null,null,null,null," "]
[null,null,null,null,null," "]
[null,null,null,null,null," "]
[null,null,null,null,null," "]
[null,null,null,null,null," "]
[null,null,null,null,null," "]
[null,null,null,null,null," "]
[null,null,null,null,null," "]
[null,null,null,null,null," "]
[null,null,null,null,null," "]
[null,null,null,null,null," "]
[null,null,null,null,null," "]
[null,null,null,null,null," "]
[null,null,null,null,null," "]
[null,null,null,null,null," "]
[null,null,null,null,null," "]
[null,null,null,null,null," "]
[null,null,null,null,null," "]
[null,null,null,null,null," "]
[null,null,null,null,null," "]
[null,null,null,null,null," "]
[null,null,null,null,null," "]
[null,null,null,null,null," "]
[null,null,null,null,null," "]
[null,null,null,null,null," "]
[null,null,null,null,null," "]
[null,null,null,null,null," "]
[null,null,null,null,null," "]
[null,null,null,null,null," "]
[null,null,null,null,null," "]
[null,null,null,null,null," "]
[null,null,null,null,null," "]
[null,null,null,null,null," "]
[null,null,null,null,null," "]
[null,null,null,null,null," "]
[null,null,null,null,null," "]
[null,null,null,null,null," "]
[null,null,null,null,null," "]
[null,null,null,null,null," "]
[null,null,null,null,null," "]
[null,null,null,null,null," "]
[null,null,null,null,null," "]
[null,null,null,null,null," "]
[null,null,null,null,null," "]
[null,null,null,null,null," "]
[null,null,null,null,null," "]
[null,null,null,null,null," "]
[null,null,null,null,null," "]
[null,null,null,null,null," "]
[null,null,null,null,null," "]
[null,null,null,null,null," "]
[null,null,null,null,null," "]
[null,null,null,null,null," "]
[null,null,null,null,null," "]
[null,null,null,null,null," "]
[null,null,null,null,null," "]
[null,null,null,null,null," "]
[null,null,null,null,null," "]
[null,null,null,null,null," "]
[null,null,null,null,null," "]
[null,null,null,null,null," "]
[null,null,null,null,null," "]
[null,null,null,null,null," "]
[null,null,null,null,null," "]
[null,null,null,null,null," "]
[null,null,null,null,null," "]
[null,null,null,null,null," "]
[null,null,null,null,null," "]
[null,null,null,null,null," "]
[null,null,null,null,null," "]
[null,null,null,null,null," "]
[null,null,null,null,null," "]
[null,null,null,null,null," "]
[null,null,null,null,null," "]
[null,null,null,null,null," "]
[null,null,null,null,null," "]
[null,null,null,null,null," "]
[null,null,null,null,null," "]
[null,null,null,null,null," "]
[null,null,null,null,null," "]
[null,null,null,null,null," "]
[null,null,null,null,null," "]
[null,null,null,null,null," "]
[null,null,null,null,null," "]
[null,null,null,null,null," "]
[null,null,null,null,null," "]
[null,null,null,null,null," "]
[null,null,null,null,null," "]
[null,null,null,null,null," "]
[null,null,null,null,null," "]
[null,null,null,null,null," "]
[null,null,null,null,null," "]
[null,null,null,null,null," "]
[null,null,null,null,null," "]
[null,null,null,null,null," "]
[null,null,null,null,null," "]
[null,null,null,null,null," "]
[null,null,null,null,null," "]
[null,null,null,null,null," "]
[null,null,null,null,null," "]
[null,null,null,null,null," "]
[null,null,null,null,null," "]
[null,null,null,null,null," "]
[null,null,null,null,null," "]
[null,null,null,null,null," "]
[null,null,null,null,null," "]
[null,null,null,null,null," "]
[null,null,null,null,null," "]
[null,null,null,null,null," "]
[null,null,null,null,null," "]
[null,null,null,null,null," "]
[null,null,null,null,null," "]
[null,null,null,null,null," "]
[null,null,null,null,null," "]
[null,null,null,null,null," "]
[null,null,null,null,null," "]
[null,null,null,null,null," "]
[null,null,null,null,null," "]
[null,null,null,null,null," "]
[null,null,null,null,null," "]
[null,null,null,null,null," "]
[null,null,null,null,null," "]
[null,null,null,null,null," "]
[null,null,null,null,null," "]
[null,null,null,null,null," "]
[null,null,null,null,null," "]
[null,null,null,null,null," "]
[null,null,null,null,null," "]
[null,null,null,null,null," "]
[null,null,null,null,null," "]
[null,null,null,null,null," "]
[null,null,null,null,null," "]
[null,null,null,null,null," "]
[null,null,null,null,null," "]
[null,null,null,null,null," "]
[null,null,null,null,null," "]
[null,null,null,null,null," "]
[null,null,null,null,null," "]
[null,null,null,null,null," "]
[null,null,null,null,null," "]
[null,null,null,null,null," "]
[null,null,null,null,null," "]
[null,null,null,null,null," "]
[null,null,null,null,null," "]
[null,null,null,null,null," "]
[null,null,null,null,null," "]
[null,null,null,null,null," "]
[null,null,null,null,null," "]
[null,null,null,null,null," "]
[null,null,null,null,null," "]
[null,null,null,null,null," "]
[null,null,null,null,null," "]
[null,null,null,null,null," "]
[null,null,null,null,null," "]
[null,null,null,null,null," "]
[null,null,null,null,null," "]
[null,null,null,null,null," "]
[null,null,null,null,null," "]
[null,null,null,null,null," "]
[null,null,null,null,null," "]
[null,null,null,null,null," "]
[null,null,null,null,null," "]
[null,null,null,null,null," "]
[null,null,null,null,null," "]
[null,null,null,null,null," "]
[null,null,null,null,null," "]
[null,null,null,null,null," "]
[null,null,null,null,null," "]
[null,null,null,null,null," "]
[null,null,null,null,null," "]
[null,null,null,null,null," "]
[null,null,null,null,null," "]
[null,null,null,null,null," "]
[null,null,null,null,null," "]
[null,null,null,null,null," "]
[null,null,null,null,null," "]
[null,null,null,null,null," "]
[null,null,null,null,null," "]
[null,null,null,null,null," "]
[null,null,null,null,null," "]
[null,null,null,null,null," "]
[null,null,null,null,null," "]
[null,null,null,null,null," "]
[null,null,null,null,null," "]
[null,null,null,null,null," "]
[null,null,null,null,null," "]
[null,null,null,null,null," "]
[null,null,null,null,null," "]
[null,null,null,null,null," "]
[null,null,null,null,null," "]
[null,null,null,null,null," "]
[null,null,null,null,null," "]
[null,null,null,null,null," "]
[null,null,null,null,null," "]
[null,null,null,null,null," "]
[null,null,null,null,null," "]
[null,null,null,null,null," "]
[null,null,null,null,null," "]
[null,null,null,null,null," "]
[null,null,null,null,null," "]
[null,null,null,null,null," "]
[null,null,null,null,null," "]
[null,null,null,null,null," "]
[null,null,null,null,null," "]
[null,null,null,null,null," "]
[null,null,null,null,null," "]
[null,null,null,null,null," "]
[null,null,null,null,null," "]
[null,null,null,null,null," "]
[null,null,null,null,null," "]
[null,null,null,null,null," "]
[null,null,null,null,null," "]
[null,null,null,null,null," "]
[null,null,null,null,null," "]
[null,null,null,null,null," "]
[null,null,null,null,null," "]
[null,null,null,null,null," "]
[null,null,null,null,null," "]
[null,null,null,null,null," "]
[null,null,null,null,null," "]
[null,null,null,null,null," "]
[null,null,null,null,null," "]
[null,null,null,null,null," "]
[null,null,null,null,null," "]
[null,null,null,null,null," "]
[null,null,null,null,null," "]
[null,null,null,null,null," "]
[null,null,null,null,null," "]
[null,null,null,null,null," "]
[null,null,null,null,null," "]
[null,null,null,null,null," "]
[null,null,null,null,null," "]
[null,null,null,null,null," "]
[null,null,null,null,null," "]
[null,null,null,null,null," "]
[null,null,null,null,null," "]
[null,null,null,null,null," "]
[null,null,null,null,null," "]
[null,null,null,null,null," "]
[null,null,null,null,null," "]
[null,null,null,null,null," "]
[null,null,null,null,null," "]
[null,null,null,null,null," "]
[null,null,null,null,null," "]
[null,null,null,null,null," "]
[null,null,null,null,null," "]
[null,null,null,null,null," "]
[null,null,null,null,null," "]
[null,null,null,null,null," "]
[null,null,null,null,null," "]
[null,null,null,null,null," "]
[null,null,null,null,null," "]
[null,null,null,null,null," "]
[null,null,null,null,null," "]
[null,null,null,null,null," "]
[null,null,null,null,null," "]
[null,null,null,null,null," "]
[null,null,null,null,null," "]
[null,null,null,null,null," "]
[null,null,null,null,null," "]
[null,null,null,null,null," "]
[null,null,null,null,null," "]
[null,null,null,null,null," "]
[null,null,null,null,null," "]
[null,null,null,null,null," "]
[null,null,null,null,null," "]
[null,null,null,null,null," "]
[null,null,null,null,null," "]
[null,null,null,null,null," "]
[null,null,null,null,null," "]
[null,null,null,null,null," "]
[null,null,null,null,null," "]
[null,null,null,null,null," "]
[null,null,null,null,null," "]
[null,null,null,null,null," "]
[null,null,null,null,null," "]
[null,null,null,null,null," "]
[null,null,null,null,null," "]
[null,null,null,null,null," "]
[null,null,null,null,null," "]
[null,null,null,null,null," "]
[null,null,null,null,null," "]
[null,null,null,null,null," "]
[null,null,null,null,null," "]
[null,null,null,null,null," "]
[null,null,null,null,null," "]
[null,null,null,null,null," "]
[null,null,null,null,null," "]
[null,null,null,null,null," "]
[null,null,null,null,null," "]
[null,null,null,null,null," "]
[null,null,null,null,null," "]
[null,null,null,null,null," "]
[null,null,null,null,null," "]
[null,null,null,null,null," "]
[null,null,null,null,null," "]
[null,null,null,null,null," "]
[null,null,null,null,null," "]
[null,null,null,null,null," "]
[null,null,null,null,null," "]
[null,null,null,null,null," "]
[null,null,null,null,null," "]
[null,null,null,null,null," "]
[null,null,null,null,null," "]
[null,null,null,null,null," "]
[null,null,null,null,null," "]
[null,null,null,null,null," "]
[null,null,null,null,null," "]
[null,null,null,null,null," "]
[null,null,null,null,null," "]
[null,null,null,null,null," "]
[null,null,null,null,null," "]
[null,null,null,null,null," "]
[null,null,null,null,null," "]
[null,null,null,null,null," "]
[null,null,null,null,null," "]
[null,null,null,null,null," "]
[null,null,null,null,null," "]
[null,null,null,null,null," "]
[null,null,null,null,null," "]
[null,null,null,null,null," "]
[null,null,null,null,null," "]
[null,null,null,null,null," "]
[null,null,null,null,null," "]
[null,null,null,null,null," "]
[null,null,null,null,null," "]
[null,null,null,null,null," "]
[null,null,null,null,null," "]
[null,null,null,null,null," "]
[null,null,null,null,null," "]
[null,null,null,null,null," "]
[null,null,null,null,null," "]
[null,null,null,null,null," "]
[null,null,null,null,null," "]
[null,null,null,null,null," "]
[null,null,null,null,null," "]
[null,null,null,null,null," "]
[null,null,null,null,null," "]
[null,null,null,null,null," "]
[null,null,null,null,null," "]
[null,null,null,null,null," "]
[null,null,null,null,null," "]
[null,null,null,null,null," "]
[null,null,null,null,null," "]
[null,null,null,null,null," "]
[null,null,null,null,null," "]
[null,null,null,null,null," "]
[null,null,null,null,null," "]
[null,null,null,null,null," "]
[null,null,null,null,null," "]
[null,null,null,null,null," "]
[null,null,null,null,null," "]
[null,null,null,null,null," "]
[null,null,null,null,null," "]
[null,null,null,null,null," "]
[null,null,null,null,null," "]
[null,null,null,null,null," "]
[null,null,null,null,null," "]
[null,null,null,null,null," "]
[null,null,null,null,null," "]
[null,null,null,null,null," "]
[null,null,null,null,null," "]
[null,null,null,null,null," "]
[null,null,null,null,null," "]
[null,null,null,null,null," "]
[null,null,null,null,null," "]
[null,null,null,null,null," "]
[null,null,null,null,null," "]
[null,null,null,null,null," "]
[null,null,null,null,null," "]
[null,null,null,null,null," "]
[null,null,null,null,null," "]
[null,null,null,null,null," "]
[null,null,null,null,null," "]
[null,null,null,null,null," "]
[null,null,null,null,null," "]
[null,null,null,null,null," "]
[null,null,null,null,null," "]
[null,null,null,null,null," "]
[null,null,null,null,null," "]
[null,null,null,null,null," "]
[null,null,null,null,null," "]
[null,null,null,null,null," "]
[null,null,null,null,null," "]
[null,null,null,null,null," "]
[null,null,null,null,null," "]
[null,null,null,null,null," "]
[null,null,null,null,null," "]
[null,null,null,null,null," "]
[null,null,null,null,null," "]
[null,null,null,null,null," "]
[null,null,null,null,null," "]
[null,null,null,null,null," "]
[null,null,null,null,null," "]
[null,null,null,null,null," "]
[null,null,null,null,null," "]
[null,null,null,null,null," "]
[null,null,null,null,null," "]
[null,null,null,null,null," "]
[null,null,null,null,null," "]
[null,null,null,null,null," "]
[null,null,null,null,null," "]
[null,null,null,null,null," "]
[null,null,null,null,null," "]
[null,null,null,null,null," "]
[null,null,null,null,null," "]
[null,null,null,null,null," "]
[null,null,null,null,null," "]
[null,null,null,null,null," "]
[null,null,null,null,null," "]
[null,null,null,null,null," "]
[null,null,null,null,null," "]
[null,null,null,null,null," "]
[null,null,null,null,null," "]
[null,null,null,null,null," "]
[null,null,null,null,null," "]
[null,null,null,null,null," "]
[null,null,null,null,null," "]
[null,null,null,null,null," "]
[null,null,null,null,null," "]
[null,null,null,null,null," "]
[null,null,null,null,null," "]
[null,null,null,null,null," "]
[null,null,null,null,null," "]
[null,null,null,null,null," "]
[null,null,null,null,null," "]
[null,null,null,null,null," "]
[null,null,null,null,null," "]
[null,null,null,null,null," "]
[null,null,null,null,null," "]
[null,null,null,null,null," "]
[null,null,null,null,null," "]
[null,null,null,null,null," "]
[null,null,null,null,null," "]
[null,null,null,null,null," "]
[null,null,null,null,null," "]
[null,null,null,null,null," "]
[null,null,null,null,null," "]
[null,null,null,null,null," "]
[null,null,null,null,null," "]
[null,null,null,null,null," "]
[null,null,null,null,null," "]
[null,null,null,null,null," "]
[null,null,null,null,null," "]
[null,null,null,null,null," "]
[null,null,null,null,null," "]
[null,null,null,null,null," "]
[null,null,null,null,null," "]
[null,null,null,null,null," "]
[null,null,null,null,null," "]
[null,null,null,null,null," "]
[null,null,null,null,null," "]
[null,null,null,null,null," "]
[null,null,null,null,null," "]
[null,null,null,null,null," "]
[null,null,null,null,null," "]
[null,null,null,null,null," "]
[null,null,null,null,null," "]
[null,null,null,null,null," "]
[null,null,null,null,null," "]
[null,null,null,null,null," "]
[null,null,null,null,null," "]
[null,null,null,null,null," "]
[null,null,null,null,null," "]
[null,null,null,null,null," "]
[null,null,null,null,null," "]
[null,null,null,null,null," "]
[null,null,null,null,null," "]
[null,null,null,null,null," "]
[null,null,null,null,null," "]
[null,null,null,null,null," "]
[null,null,null,null,null," "]
[null,null,null,null,null," "]
[null,null,null,null,null," "]
[null,null,null,null,null," "]
[null,null,null,null,null," "]
[null,null,null,null,null," "]
[null,null,null,null,null," "]
[null,null,null,null,null," "]
[null,null,null,null,null," "]
[null,null,null,null,null," "]
[null,null,null,null,null," "]
[null,null,null,null,null," "]
[null,null,null,null,null," "]
[null,null,null,null,null," "]
[null,null,null,null,null," "]
[null,null,null,null,null," "]
[null,null,null,null,null," "]
[null,null,null,null,null," "]
[null,null,null,null,null," "]
[null,null,null,null,null," "]
[null,null,null,null,null," "]
[null,null,null,null,null," "]
[null,null,null,null,null," "]
[null,null,null,null,null," "]
[null,null,null,null,null," "]
[null,null,null,null,null," "]
[null,null,null,null,null," "]
[null,null,null,null,null," "]
[null,null,null,null,null," "]
[null,null,null,null,null," "]
[null,null,null,null,null," "]
[null,null,null,null,null," "]
[null,null,null,null,null," "]
[null,null,null,null,null," "]
[null,null,null,null,null," "]
[null,null,null,null,null," "]
[null,null,null,null,null," "]
[null,null,null,null,null," "]
[null,null,null,null,null," "]
[null,null,null,null,null," "]
[null,null,null,null,null," "]
[null,null,null,null,null," "]
[null,null,null,null,null," "]
[null,null,null,null,null," "]
[null,null,null,null,null," "]
[null,null,null,null,null," "]
[null,null,null,null,null," "]
[null,null,null,null,null," "]
[null,null,null,null,null," "]
[null,null,null,null,null," "]
[null,null,null,null,null," "]
[null,null,null,null,null," "]
[null,null,null,null,null," "]
[null,null,null,null,null," "]
[null,null,null,null,null," "]
[null,null,null,null,null," "]
[null,null,null,null,null," "]
[null,null,null,null,null," "]
[null,null,null,null,null," "]
[null,null,null,null,null," "]
[null,null,null,null,null," "]
[null,null,null,null,null," "]
[null,null,null,null,null," "]
[null,null,null,null,null," "]
[null,null,null,null,null," "]
[null,null,null,null,null," "]
[null,null,null,null,null," "]
[null,null,null,null,null," "]
[null,null,null,null,null," "]
[null,null,null,null,null," "]
[null,null,null,null,null," "]
[null,null,null,null,null," "]
[null,null,null,null,null," "]
[null,null,null,null,null," "]
[null,null,null,null,null," "]
[null,null,null,null,null," "]
[null,null,null,null,null," "]
[null,null,null,null,null," "]
[null,null,null,null,null," "]
[null,null,null,null,null," "]
[null,null,null,null,null," "]
[null,null,null,null,null," "]
[null,null,null,null,null," "]
[null,null,null,null,null," "]
[null,null,null,null,null," "]
[null,null,null,null,null," "]
[null,null,null,null,null," "]
[null,null,null,null,null," "]
[null,null,null,null,null," "]
[null,null,null,null,null," "]
[null,null,null,null,null," "]
[null,null,null,null,null," "]
[null,null,null,null,null," "]
[null,null,null,null,null," "]
[null,null,null,null,null," "]
[null,null,null,null,null," "]
[null,null,null,null,null," "]
[null,null,null,null,null," "]
[null,null,null,null,null," "]
[null,null,null,null,null," "]
[null,null,null,null,null," "]
[null,null,null,null,null," "]
[null,null,null,null,null," "]
[null,null,null,null,null," "]
[null,null,null,null,null," "]
[null,null,null,null,null," "]
[null,null,null,null,null," "]
[null,null,null,null,null," "]
[null,null,null,null,null," "]
[null,null,null,null,null," "]
[null,null,null,null,null," "]
[null,null,null,null,null," "]
[null,null,null,null,null," "]
[null,null,null,null,null," "]
[null,null,null,null,null," "]
[null,null,null,null,null," "]
[null,null,null,null,null," "]
[null,null,null,null,null," "]
[null,null,null,null,null," "]
[null,null,null,null,null," "]
[null,null,null,null,null," "]
[null,null,null,null,null," "]
[null,null,null,null,null," "]
[null,null,null,null,null," "]
[null,null,null,null,null," "]
[null,null,null,null,null," "]
[null,null,null,null,null," "]
[null,null,null,null,null," "]
[null,null,null,null,null," "]
[null,null,null,null,null," "]
[null,null,null,null,null," "]
[null,null,null,null,null," "]
[null,null,null,null,null," "]
[null,null,null,null,null," "]
[null,null,null,null,null," "]
[null,null,null,null,null," "]
[null,null,null,null,null," "]
[null,null,null,null,null," "]
[null,null,null,null,null," "]
[null,null,null,null,null," "]
[null,null,null,null,null," "]
[null,null,null,null,null," "]
[null,null,null,null,null," "]
[null,null,null,null,null," "]
[null,null,null,null,null," "]
[null,null,null,null,null," "]
[null,null,null,null,null," "]
[null,null,null,null,null," "]
[null,null,null,null,null," "]
[null,null,null,null,null," "]
[null,null,null,null,null," "]
[null,null,null,null,null," "]
[null,null,null,null,null," "]
[null,null,null,null,null," "]
[null,null,null,null,null," "]
[null,null,null,null,null," "]
[null,null,null,null,null," "]
[null,null,null,null,null," "]
[null,null,null,null,null," "]
[null,null,null,null,null," "]
[null,null,null,null,null," "]
[null,null,null,null,null," "]
[null,null,null,null,null," "]
[null,null,null,null,null," "]
[null,null,null,null,null," "]
[null,null,null,null,null," "]
[null,null,null,null,null," "]
[null,null,null,null,null," "]
[null,null,null,null,null," "]
[null,null,null,null,null," "]
[null,null,null,null,null," "]
[null,null,null,null,null," "]
[null,null,null,null,null," "]
[null,null,null,null,null," "]
[null,null,null,null,null," "]
[null,null,null,null,null," "]
[null,null,null,null,null," "]
[null,null,null,null,null," "]
[null,null,null,null,null," "]
[null,null,null,null,null," "]
[null,null,null,null,null," "]
[null,null,null,null,null," "]
[null,null,null,null,null," "]
[null,null,null,null,null," "]
[null,null,null,null,null," "]
[null,null,null,null,null," "]
[null,null,null,null,null," "]
[null,null,null,null,null," "]
[null,null,null,null,null," "]
[null,null,null,null,null," "]
[null,null,null,null,null," "]
[null,null,null,null,null," "]
[null,null,null,null,null," "]
[null,null,null,null,null," "]
[null,null,null,null,null," "]
[null,null,null,null,null," "]
[null,null,null,null,null," "]
[null,null,null,null,null," "]
[null,null,null,null,null," "]
[null,null,null,null,null," "]
[null,null,null,null,null," "]
[null,null,null,null,null," "]
[null,null,null,null,null," "]
[null,null,null,null,null," "]
[null,null,null,null,null," "]
[null,null,null,null,null," "]
[null,null,null,null,null," "]
[null,null,null,null,null," "]
[null,null,null,null,null," "]
[null,null,null,null,null," "]
[null,null,null,null,null," "]
[null,null,null,null,null," "]
[null,null,null,null,null," "]
[null,null,null,null,null," "]
[null,null,null,null,null," "]
[null,null,null,null,null," "]
[null,null,null,null,null," "]
[null,null,null,null,null," "]
[null,null,null,null,null," "]
[null,null,null,null,null," "]
[null,null,null,null,null," "]
[null,null,null,null,null," "]
[null,null,null,null,null," "]
[null,null,null,null,null," "]
[null,null,null,null,null," "]
[null,null,null,null,null," "]
[null,null,null,null,null," "]
[null,null,null,null,null," "]
[null,null,null,null,null," "]
[null,null,null,null,null," "]
[null,null,null,null,null," "]
[null,null,null,null,null," "]
[null,null,null,null,null," "]
[null,null,null,null,null," "]
[null,null,null,null,null," "]
[null,null,null,null,null," "]
[null,null,null,null,null," "]
[null,null,null,null,null," "]
[null,null,null,null,null," "]
[null,null,null,null,null," "]
[null,null,null,null,null," "]
[null,null,null,null,null," "]
[null,null,null,null,null," "]
[null,null,null,null,null," "]
[null,null,null,null,null," "]
[null,null,null,null,null," "]
[null,null,null,null,null," "]
[null,null,null,null,null," "]
[null,null,null,null,null," "]
[null,null,null,null,null," "]
[null,null,null,null,null," "]
[null,null,null,null,null," "]
[null,null,null,null,null," "]
[null,null,null,null,null," "]
[null,null,null,null,null," "]
[null,null,null,null,null," "]
[null,null,null,null,null," "]
[null,null,null,null,null," "]
[null,null,null,null,null," "]
[null,null,null,null,null," "]
[null,null,null,null,null," "]
[null,null,null,null,null," "]
[null,null,null,null,null," "]
[null,null,null,null,null," "]
[null,null,null,null,null," "]
[null,null,null,null,null," "]
[null,null,null,null,null," "]
[null,null,null,null,null," "]
[null,null,null,null,null," "]
[null,null,null,null,null," "]
[null,null,null,null,null," "]
[null,null,null,null,null," "]
[null,null,null,null,null," "]
[null,null,null,null,null," "]
[null,null,null,null,null," "]
[null,null,null,null,null," "]
[null,null,null,null,null," "]
[null,null,null,null,null," "]
[null,null,null,null,null," "]
[null,null,null,null,null," "]
[null,null,null,null,null," "]
[null,null,null,null,null," "]
[null,null,null,null,null," "]
[null,null,null,null,null," "]
[null,null,null,null,null," "]
[null,null,null,null,null," "]
[null,null,null,null,null," "]
[null,null,null,null,null," "]
[null,null,null,null,null," "]
[null,null,null,null,null," "]
[null,null,null,null,null," "]
[null,null,null,null,null," "]
[null,null,null,null,null," "]
[null,null,null,null,null," "]
[null,null,null,null,null," "]
[null,null,null,null,null," "]
[null,null,null,null,null," "]
[null,null,null,null,null," "]
[null,null,null,null,null," "]
[null,null,null,null,null," "]
[null,null,null,null,null," "]
[null,null,null,null,null," "]
[null,null,null,null,null," "]
[null,null,null,null,null," "]
[null,null,null,null,null," "]
[null,null,null,null,null," "]
[null,null,null,null,null," "]
[null,null,null,null,null," "]
[null,null,null,null,null," "]
[null,null,null,null,null," "]
[null,null,null,null,null," "]
[null,null,null,null,null," "]
[null,null,null,null,null," "]
[null,null,null,null,null," "]
[null,null,null,null,null," "]
[null,null,null,null,null," "]
[null,null,null,null,null," "]
[null,null,null,null,null," "]
[null,null,null,null,null," "]
[null,null,null,null,null," "]
[null,null,null,null,null," "]
[null,null,null,null,null," "]
[null,null,null,null,null," "]
[null,null,null,null,null," "]
[null,null,null,null,null," "]
[null,null,null,null,null," "]
[null,null,null,null,null," "]
[null,null,null,null,null," "]
[null,null,null,null,null," "]
[null,null,null,null,null," "]
[null,null,null,null,null," "]
[null,null,null,null,null," "]
[null,null,null,null,null," "]
[null,null,null,null,null," "]
[null,null,null,null,null," "]
[null,null,null,null,null," "]
[null,null,null,null,null," "]
[null,null,null,null,null," "]
[null,null,null,null,null," "]
[null,null,null,null,null," "]
[null,null,null,null,null," "]
[null,null,null,null,null," "]
[null,null,null,null,null," "]
[null,null,null,null,null," "]
[null,null,null,null,null," "]
[null,null,null,null,null," "]
[null,null,null,null,null," "]
[null,null,null,null,null," "]
[null,null,null,null,null," "]
[null,null,null,null,null," "]
[null,null,null,null,null," "]
[null,null,null,null,null," "]
[null,null,null,null,null," "]
[null,null,null,null,null," "]
[null,null,null,null,null," "]
[null,null,null,null,null," "]
[null,null,null,null,null," "]
[null,null,null,null,null," "]
[null,null,null,null,null," "]
[null,null,null,null,null," "]
[null,null,null,null,null," "]
[null,null,null,null,null," "]
[null,null,null,null,null," "]
[null,null,null,null,null," "]
[null,null,null,null,null," "]
[null,null,null,null,null," "]
[null,null,null,null,null," "]
[null,null,null,null,null," "]
[null,null,null,null,null," "]
[null,null,null,null,null," "]
[null,null,null,null,null," "]
[null,null,null,null,null," "]
[null,null,null,null,null," "]
[null,null,null,null,null," "]
[null,null,null,null,null," "]
[null,null,null,null,null," "]
[null,null,null,null,null," "]
[null,null,null,null,null," "]
[null,null,null,null,null," "]
[null,null,null,null,null," "]
[null,null,null,null,null," "]
[null,null,null,null,null," "]
[null,null,null,null,null," "]
[null,null,null,null,null," "]
[null,null,null,null,null," "]
[null,null,null,null,null," "]
[null,null,null,null,null," "]
[null,null,null,null,null," "]
[null,null,null,null,null," "]
[null,null,null,null,null," "]
[null,null,null,null,null," "]
[null,null,null,null,null," "]
[null,null,null,null,null," "]
[null,null,null,null,null," "]
[null,null,null,null,null," "]
[null,null,null,null,null," "]
[null,null,null,null,null," "]
[null,null,null,null,null," "]
[null,null,null,null,null," "]
[null,null,null,null,null," "]
[null,null,null,null,null," "]
[null,null,null,null,null," "]
[null,null,null,null,null," "]
[null,null,null,null,null," "]
[null,null,null,null,null," "]
[null,null,null,null,null," "]
[null,null,null,null,null," "]
[null,null,null,null,null," "]
[null,null,null,null,null," "]
[null,null,null,null,null," "]
[null,null,null,null,null," "]
[null,null,null,null,null," "]
[null,null,null,null,null," "]
[null,null,null,null,null," "]
[null,null,null,null,null," "]
[null,null,null,null,null," "]
[null,null,null,null,null," "]
[null,null,null,null,null," "]
[null,null,null,null,null," "]
[null,null,null,null,null," "]
[null,null,null,null,null," "]
[null,null,null,null,null," "]
[null,null,null,null,null," "]
[null,null,null,null,null," "]
[null,null,null,null,null," "]
[null,null,null,null,null," "]
[null,null,null,null,null," "]
[null,null,null,null,null," "]
[null,null,null,null,null," "]
[null,null,null,null,null," "]
[null,null,null,null,null," "]
[null,null,null,null,null," "]
[null,null,null,null,null," "]
[null,null,null,null,null," "]
[null,null,null,null,null," "]
[null,null,null,null,null," "]
[null,null,null,null,null," "]
[null,null,null,null,null," "]
[null,null,null,null,null," "]
[null,null,null,null,null," "]
[null,null,null,null,null," "]
[null,null,null,null,null," "]
[null,null,null,null,null," "]
[null,null,null,null,null," "]
[null,null,null,null,null," "]
[null,null,null,null,null," "]
[null,null,null,null,null," "]
[null,null,null,null,null," "]
[null,null,null,null,null," "]
[null,null,null,null,null," "]
[null,null,null,null,null," "]
[null,null,null,null,null," "]
[null,null,null,null,null," "]
[null,null,null,null,null," "]
[null,null,null,null,null," "]
[null,null,null,null,null," "]
[null,null,null,null,null," "]
[null,null,null,null,null," "]
[null,null,null,null,null," "]
[null,null,null,null,null," "]
[null,null,null,null,null," "]
[null,null,null,null,null," "]
[null,null,null,null,null," "]
[null,null,null,null,null," "]
[null,null,null,null,null," "]
[null,null,null,null,null," "]
[null,null,null,null,null," "]
[null,null,null,null,null," "]
[null,null,null,null,null," "]
[null,null,null,null,null," "]
[null,null,null,null,null," "]
[null,null,null,null,null," "]
[null,null,null,null,null," "]
[null,null,null,null,null," "]
[null,null,null,null,null," "]
[null,null,null,null,null," "]
[null,null,null,null,null," "]
[null,null,null,null,null," "]
[null,null,null,null,null," "]
[null,null,null,null,null," "]
[null,null,null,null,null," "]
[null,null,null,null,null," "]
[null,null,null,null,null," "]
[null,null,null,null,null," "]
[null,null,null,null,null," "]
[null,null,null,null,null," "]
[null,null,null,null,null," "]
[null,null,null,null,null," "]
[null,null,null,null,null," "]
[null,null,null,null,null," "]
[null,null,null,null,null," "]
[null,null,null,null,null," "]
[null,null,null,null,null," "]
[null,null,null,null,null," "]
[null,null,null,null,null," "]
[null,null,null,null,null," "]
[null,null,null,null,null," "]
[null,null,null,null,null," "]
[null,null,null,null,null," "]
[null,null,null,null,null," "]
[null,null,null,null,null," "]
[null,null,null,null,null," "]
[null,null,null,null,null," "]
[null,null,null,null,null," "]
[null,null,null,null,null," "]
[null,null,null,null,null," "]
[null,null,null,null,null," "]
[null,null,null,null,null," "]
[null,null,null,null,null," "]
[null,null,null,null,null," "]
[null,null,null,null,null," "]
[null,null,null,null,null," "]
[null,null,null,null,null," "]
[null,null,null,null,null," "]
[null,null,null,null,null," "]
[null,null,null,null,null," "]
[null,null,null,null,null," "]
[null,null,null,null,null," "]
[null,null,null,null,null," "]
[null,null,null,null,null," "]
[null,null,null,null,null," "]
[null,null,null,null,null," "]
[null,null,null,null,null," "]
[null,null,null,null,null," "]
[null,null,null,null,null," "]
[null,null,null,null,null," "]
[null,null,null,null,null," "]
[null,null,null,null,null," "]
[null,null,null,null,null," "]
[null,null,null,null,null," "]
[null,null,null,null,null," "]
[null,null,null,null,null," "]
[null,null,null,null,null," "]
[null,null,null,null,null," "]
[null,null,null,null,null," "]
[null,null,null,null,null," "]
[null,null,null,null,null," "]
[null,null,null,null,null," "]
[null,null,null,null,null," "]
[null,null,null,null,null," "]
[null,null,null,null,null," "]
[null,null,null,null,null," "]
[null,null,null,null,null," "]
[null,null,null,null,null," "]
[null,null,null,null,null," "]
[null,null,null,null,null," "]
[null,null,null,null,null," "]
[null,null,null,null,null," "]
[null,null,null,null,null," "]
[null,null,null,null,null," "]
[null,null,null,null,null," "]
[null,null,null,null,null," "]
[null,null,null,null,null," "]
[null,null,null,null,null," "]
[null,null,null,null,null," "]
[null,null,null,null,null," "]
[null,null,null,null,null," "]
[null,null,null,null,null," "]
[null,null,null,null,null," "]
[null,null,null,null,null," "]
[null,null,null,null,null," "]
[null,null,null,null,null," "]
[null,null,null,null,null," "]
[null,null,null,null,null," "]
[null,null,null,null,null," "]
[null,null,null,null,null," "]
[null,null,null,null,null," "]
[null,null,null,null,null," "]
[null,null,null,null,null," "]
[null,null,null,null,null," "]
[null,null,null,null,null," "]
[null,null,null,null,null," "]
[null,null,null,null,null," "]
[null,null,null,null,null," "]
[null,null,null,null,null," "]
[null,null,null,null,null," "]
[null,null,null,null,null," "]
[null,null,null,null,null," "]
[null,null,null,null,null," "]
[null,null,null,null,null," "]
[null,null,null,null,null," "]
[null,null,null,null,null," "]
[null,null,null,null,null," "]
[null,null,null,null,null," "]
[null,null,null,null,null," "]
[null,null,null,null,null," "]
[null,null,null,null,null," "]
[null,null,null,null,null," "]
[null,null,null,null,null," "]
[null,null,null,null,null," "]
[null,null,null,null,null," "]
[null,null,null,null,null," "]
[null,null,null,null,null," "]
[null,null,null,null,null," "]
[null,null,null,null,null," "]
[null,null,null,null,null," "]
[null,null,null,null,null," "]
[null,null,null,null,null," "]
[null,null,null,null,null," "]
[null,null,null,null,null," "]
[null,null,null,null,null," "]
[null,null,null,null,null," "]
[null,null,null,null,null," "]
[null,null,null,null,null," "]
[null,null,null,null,null," "]
[null,null,null,null,null," "]
[null,null,null,null,null," "]
[null,null,null,null,null," "]
[null,null,null,null,null," "]
[null,null,null,null,null," "]
[null,null,null,null,null," "]
[null,null,null,null,null," "]
[null,null,null,null,null," "]
[null,null,null,null,null," "]
[null,null,null,null,null," "]
[null,null,null,null,null," "]
[null,null,null,null,null," "]
[null,null,null,null,null," "]
[null,null,null,null,null," "]
[null,null,null,null,null," "]
[null,null,null,null,null," "]
[null,null,null,null,null," "]
[null,null,null,null,null," "]
[null,null,null,null,null," "]
[null,null,null,null,null," "]
[null,null,null,null,null," "]
[null,null,null,null,null," "]
[null,null,null,null,null," "]
[null,null,null,null,null," "]
[null,null,null,null,null," "]
[null,null,null,null,null," "]
[null,null,null,null,null," "]
[null,null,null,null,null," "]
[null,null,null,null,null," "]
[null,null,null,null,null," "]
[null,null,null,null,null," "]
[null,null,null,null,null," "]
[null,null,null,null,null," "]
[null,null,null,null,null," "]
[null,null,null,null,null," "]
[null,null,null,null,null," "]
[null,null,null,null,null," "]
[null,null,null,null,null," "]
[null,null,null,null,null," "]
[null,null,null,null,null," "]
[null,null,null,null,null," "]
[null,null,null,null,null," "]
[null,null,null,null,null," "]
[null,null,null,null,null," "]
[null,null,null,null,null," "]
[null,null,null,null,null," "]
[null,null,null,null,null," "]
[null,null,null,null,null," "]
[null,null,null,null,null," "]
[null,null,null,null,null," "]
[null,null,null,null,null," "]
[null,null,null,null,null," "]
[null,null,null,null,null," "]
[null,null,null,null,null," "]
[null,null,null,null,null," "]
[null,null,null,null,null," "]
[null,null,null,null,null," "]
[null,null,null,null,null," "]
[null,null,null,null,null," "]
[null,null,null,null,null," "]
[null,null,null,null,null," "]
[null,null,null,null,null," "]
[null,null,null,null,null," "]
[null,null,null,null,null," "]
[null,null,null,null,null," "]
[null,null,null,null,null," "]
[null,null,null,null,null," "]
[null,null,null,null,null," "]
[null,null,null,null,null," "]
[null,null,null,null,null," "]
[null,null,null,null,null," "]
[null,null,null,null,null," "]
[null,null,null,null,null," "]
[null,null,null,null,null," "]
[null,null,null,null,null," "]
[null,null,null,null,null," "]
[null,null,null,null,null," "]
[null,null,null,null,null," "]
[null,null,null,null,null," "]
[null,null,null,null,null," "]
[null,null,null,null,null," "]
[null,null,null,null,null," "]
[null,null,null,null,null," "]
[null,null,null,null,null," "]
[null,null,null,null,null," "]
[null,null,null,null,null," "]
[null,null,null,null,null," "]
[null,null,null,null,null," "]
[null,null,null,null,null," "]
[null,null,null,null,null," "]
[null,null,null,null,null," "]
[null,null,null,null,null," "]
[null,null,null,null,null," "]
[null,null,null,null,null," "]
[null,null,null,null,null," "]
[null,null,null,null,null," "]
[null,null,null,null,null," "]
[null,null,null,null,null," "]
[null,null,null,null,null," "]
[null,null,null,null,null," "]
[null,null,null,null,null," "]
[null,null,null,null,null," "]
[null,null,null,null,null," "]
[null,null,null,null,null," "]
[null,null,null,null,null," "]
[null,null,null,null,null," "]
[null,null,null,null,null," "]
[null,null,null,null,null," "]
[null,null,null,null,null," "]
[null,null,null,null,null," "]
[null,null,null,null,null," "]
[null,null,null,null,null," "]
[null,null,null,null,null," "]
[null,null,null,null,null," "]
[null,null,null,null,null," "]
[null,null,null,null,null," "]
[null,null,null,null,null," "]
[null,null,null,null,null," "]
[null,null,null,null,null," "]
[null,null,null,null,null," "]
[null,null,null,null,null," "]
[null,null,null,null,null," "]
[null,null,null,null,null," "]
[null,null,null,null,null," "]
[null,null,null,null,null," "]
[null,null,null,null,null," "]
[null,null,null,null,null," "]
[null,null,null,null,null," "]
[null,null,null,null,null," "]
[null,null,null,null,null," "]
[null,null,null,null,null," "]
[null,null,null,null,null," "]
[null,null,null,null,null," "]
[null,null,null,null,null," "]
[null,null,null,null,null," "]
[null,null,null,null,null," "]
[null,null,null,null,null," "]
[null,null,null,null,null," "]
[null,null,null,null,null," "]
[null,null,null,null,null," "]
[null,null,null,null,null," "]
[null,null,null,null,null," "]
[null,null,null,null,null," "]
[null,null,null,null,null," "]
[null,null,null,null,null," "]
[null,null,null,null,null," "]
[null,null,null,null,null," "]
[null,null,null,null,null," "]
[null,null,null,null,null," "]
[null,null,null,null,null," "]
[null,null,null,null,null," "]
[null,null,null,null,null," "]
[null,null,null,null,null," "]
[null,null,null,null,null," "]
[null,null,null,null,null," "]
[null,null,null,null,null," "]
[null,null,null,null,null," "]
[null,null,null,null,null," "]
[null,null,null,null,null," "]
[null,null,null,null,null," "]
[null,null,null,null,null," "]
[null,null,null,null,null," "]
[null,null,null,null,null," "]
[null,null,null,null,null," "]
[null,null,null,null,null," "]
[null,null,null,null,null," "]
[null,null,null,null,null," "]
[null,null,null,null,null," "]
[null,null,null,null,null," "]
[null,null,null,null,null," "]
[null,null,null,null,null," "]
[null,null,null,null,null," "]
[null,null,null,null,null," "]
[null,null,null,null,null," "]
[null,null,null,null,null," "]
[null,null,null,null,null," "]
[null,null,null,null,null," "]
[null,null,null,null,null," "]
[null,null,null,null,null," "]
[null,null,null,null,null," "]
[null,null,null,null,null," "]
[null,null,null,null,null," "]
[null,null,null,null,null," "]
[null,null,null,null,null," "]
[null,null,null,null,null," "]
[null,null,null,null,null," "]
[null,null,null,null,null," "]
[null,null,null,null,null," "]
[null,null,null,null,null," "]
[null,null,null,null,null," "]
[null,null,null,null,null," "]
[null,null,null,null,null," "]
[null,null,null,null,null," "]
[null,null,null,null,null," "]
[null,null,null,null,null," "]
[null,null,null,null,null," "]
[null,null,null,null,null," "]
[null,null,null,null,null," "]
[null,null,null,null,null," "]
[null,null,null,null,null," "]
[null,null,null,null,null," "]
[null,null,null,null,null," "]
[null,null,null,null,null," "]
[null,null,null,null,null," "]
[null,null,null,null,null," "]
[null,null,null,null,null," "]
[null,null,null,null,null," "]
[null,null,null,null,null," "]
[null,null,null,null,null," "]
[null,null,null,null,null," "]
[null,null,null,null,null," "]
[null,null,null,null,null," "]
[null,null,null,null,null," "]
[null,null,null,null,null," "]
[null,null,null,null,null," "]
[null,null,null,null,null," "]
[null,null,null,null,null," "]
[null,null,null,null,null," "]
[null,null,null,null,null," "]
[null,null,null,null,null," "]
[null,null,null,null,null," "]
[null,null,null,null,null," "]
[null,null,null,null,null," "]
[null,null,null,null,null," "]
[null,null,null,null,null," "]
[null,null,null,null,null," "]
[null,null,null,null,null," "]
[null,null,null,null,null," "]
[null,null,null,null,null," "]
[null,null,null,null,null," "]
[null,null,null,null,null," "]
[null,null,null,null,null," "]
[null,null,null,null,null," "]
[null,null,null,null,null," "]
[null,null,null,null,null," "]
[null,null,null,null,null," "]
[null,null,null,null,null," "]
[null,null,null,null,null," "]
[null,null,null,null,null," "]
[null,null,null,null,null," "]
[null,null,null,null,null," "]
[null,null,null,null,null," "]
[null,null,null,null,null," "]
[null,null,null,null,null," "]
[null,null,null,null,null," "]
[null,null,null,null,null," "]
[null,null,null,null,null," "]
[null,null,null,null,null," "]
[null,null,null,null,null," "]
[null,null,null,null,null," "]
[null,null,null,null,null," "]
[null,null,null,null,null," "]
[null,null,null,null,null," "]
[null,null,null,null,null," "]
[null,null,null,null,null," "]
[null,null,null,null,null," "]
[null,null,null,null,null," "]
[null,null,null,null,null," "]
[null,null,null,null,null," "]
[null,null,null,null,null," "]
[null,null,null,null,null," "]
[null,null,null,null,null," "]
[null,null,null,null,null," "]
[null,null,null,null,null," "]
[null,null,null,null,null," "]
[null,null,null,null,null," "]
[null,null,null,null,null," "]
[null,null,null,null,null," "]
[null,null,null,null,null," "]
[null,null,null,null,null," "]
[null,null,null,null,null," "]
[null,null,null,null,null," "]
[null,null,null,null,null," "]
[null,null,null,null,null," "]
[null,null,null,null,null," "]
[null,null,null,null,null," "]
[null,null,null,null,null," "]
[null,null,null,null,null," "]
[null,null,null,null,null," "]
[null,null,null,null,null," "]
[null,null,null,null,null," "]
[null,null,null,null,null," "]
[null,null,null,null,null," "]
[null,null,null,null,null," "]
[null,null,null,null,null," "]
[null,null,null,null,null," "]
[null,null,null,null,null," "]
[null,null,null,null,null," "]
[null,null,null,null,null," "]
[null,null,null,null,null," "]
[null,null,null,null,null," "]
[null,null,null,null,null," "]
[null,null,null,null,null," "]
[null,null,null,null,null," "]
[null,null,null,null,null," "]
[null,null,null,null,null," "]
[null,null,null,null,null," "]
[null,null,null,null,null," "]
[null,null,null,null,null," "]
[null,null,null,null,null," "]
[null,null,null,null,null," "]
[null,null,null,null,null," "]
[null,null,null,null,null," "]
[null,null,null,null,null," "]
[null,null,null,null,null," "]
[null,null,null,null,null," "]
[null,null,null,null,null," "]
[null,null,null,null,null," "]
[null,null,null,null,null," "]
[null,null,null,null,null," "]
[null,null,null,null,null," "]
[null,null,null,null,null," "]
[null,null,null,null,null," "]
[null,null,null,null,null," "]
[null,null,null,null,null," "]
[null,null,null,null,null," "]
[null,null,null,null,null," "]
[null,null,null,null,null," "]
[null,null,null,null,null," "]
[null,null,null,null,null," "]
[null,null,null,null,null," "]
[null,null,null,null,null," "]
[null,null,null,null,null," "]
[null,null,null,null,null," "]
[null,null,null,null,null," "]
[null,null,null,null,null," "]
[null,null,null,null,null," "]
[null,null,null,null,null," "]
[null,null,null,null,null," "]
[null,null,null,null,null," "]
[null,null,null,null,null," "]
[null,null,null,null,null," "]
[null,null,null,null,null," "]
[null,null,null,null,null," "]
[null,null,null,null,null," "]
[null,null,null,null,null," "]
[null,null,null,null,null," "]
[null,null,null,null,null," "]
[null,null,null,null,null," "]
[null,null,null,null,null," "]
[null,null,null,null,null," "]
[null,null,null,null,null," "]
[null,null,null,null,null," "]
[null,null,null,null,null," "]
[null,null,null,null,null," "]
[null,null,null,null,null," "]
[null,null,null,null,null," "]
[null,null,null,null,null," "]
[null,null,null,null,null," "]
[null,null,null,null,null," "]
[null,null,null,null,null," "]
[null,null,null,null,null," "]
[null,null,null,null,null," "]
[null,null,null,null,null," "]
[null,null,null,null,null," "]
[null,null,null,null,null," "]
[null,null,null,null,null," "]
[null,null,null,null,null," "]
[null,null,null,null,null," "]
[null,null,null,null,null," "]
[null,null,null,null,null," "]
[null,null,null,null,null," "]
[null,null,null,null,null," "]
[null,null,null,null,null," "]
[null,null,null,null,null," "]
[null,null,null,null,null," "]
[null,null,null,null,null," "]
[null,null,null,null,null," "]
[null,null,null,null,null," "]
[null,null,null,null,null," "]
[null,null,null,null,null," "]
[null,null,null,null,null," "]
[null,null,null,null,null," "]
[null,null,null,null,null," "]
[null,null,null,null,null," "]
[null,null,null,null,null," "]
[null,null,null,null,null," "]
[null,null,null,null,null," "]
[null,null,null,null,null," "]
[null,null,null,null,null," "]
[null,null,null,null,null," "]
[null,null,null,null,null," "]
[null,null,null,null,null," "]
[null,null,null,null,null," "]
[null,null,null,null,null," "]
[null,null,null,null,null," "]
[null,null,null,null,null," "]
[null,null,null,null,null," "]
[null,null,null,null,null," "]
[null,null,null,null,null," "]
[null,null,null,null,null," "]
[null,null,null,null,null," "]
[null,null,null,null,null," "]
[null,null,null,null,null," "]
[null,null,null,null,null," "]
[null,null,null,null,null," "]
[null,null,null,null,null," "]
[null,null,null,null,null," "]
[null,null,null,null,null," "]
[null,null,null,null,null," "]
[null,null,null,null,null," "]
[null,null,null,null,null," "]
[null,null,null,null,null," "]
[null,null,null,null,null," "]
[null,null,null,null,null," "]
[null,null,null,null,null," "]
[null,null,null,null,null," "]
[null,null,null,null,null," "]
[null,null,null,null,null," "]
[null,null,null,null,null," "]
[null,null,null,null,null," "]
[null,null,null,null,null," "]
[null,null,null,null,null," "]
[null,null,null,null,null," "]
[null,null,null,null,null," "]
[null,null,null,null,null," "]
[null,null,null,null,null," "]
[null,null,null,null,null," "]
[null,null,null,null,null," "]
[null,null,null,null,null," "]
[null,null,null,null,null," "]
[null,null,null,null,null," "]
[null,null,null,null,null," "]
[null,null,null,null,null," "]
[null,null,null,null,null," "]
[null,null,null,null,null," "]
[null,null,null,null,null," "]
[null,null,null,null,null," "]
[null,null,null,null,null," "]
[null,null,null,null,null," "]
[null,null,null,null,null," "]
[null,null,null,null,null," "]
[null,null,null,null,null," "]
[null,null,null,null,null," "]
[null,null,null,null,null," "]
[null,null,null,null,null," "]
[null,null,null,null,null," "]
[null,null,null,null,null," "]
[null,null,null,null,null," "]
[null,null,null,null,null," "]
[null,null,null,null,null," "]
[null,null,null,null,null," "]
[null,null,null,null,null," "]
[null,null,null,null,null," "]
[null,null,null,null,null," "]
[null,null,null,null,null," "]
[null,null,null,null,null," "]
[null,null,null,null,null," "]
[null,null,null,null,null," "]
[null,null,null,null,null," "]
[null,null,null,null,null," "]
[null,null,null,null,null," "]
[null,null,null,null,null," "]
[null,null,null,null,null," "]
[null,null,null,null,null," "]
[null,null,null,null,null," "]
[null,null,null,null,null," "]
[null,null,null,null,null," "]
[null,null,null,null,null," "]
[null,null,null,null,null," "]
[null,null,null,null,null," "]
[null,null,null,null,null," "]
[null,null,null,null,null," "]
[null,null,null,null,null," "]
[null,null,null,null,null," "]
[null,null,null,null,null," "]
[null,null,null,null,null," "]
[null,null,null,null,null," "]
[null,null,null,null,null," "]
[null,null,null,null,null," "]
[null,null,null,null,null," "]
[null,null,null,null,null," "]
[null,null,null,null,null," "]
[null,null,null,null,null," "]
[null,null,null,null,null," "]
[null,null,null,null,null," "]
[null,null,null,null,null," "]
[null,null,null,null,null," "]
[null,null,null,null,null," "]
[null,null,null,null,null," "]
[null,null,null,null,null," "]
[null,null,null,null,null," "]
[null,null,null,null,null," "]
[null,null,null,null,null," "]
[null,null,null,null,null," "]
[null,null,null,null,null," "]
[null,null,null,null,null," "]
[null,null,null,null,null," "]
[null,null,null,null,null," "]
[null,null,null,null,null," "]
[null,null,null,null,null," "]
[null,null,null,null,null," "]
[null,null,null,null,null," "]
[null,null,null,null,null," "]
[null,null,null,null,null," "]
[null,null,null,null,null," "]
[null,null,null,null,null," "]
[null,null,null,null,null," "]
[null,null,null,null,null," "]
[null,null,null,null,null," "]
[null,null,null,null,null," "]
[null,null,null,null,null," "]
[null,null,null,null,null," "]
[null,null,null,null,null," "]
[null,null,null,null,null," "]
[null,null,null,null,null," "]
[null,null,null,null,null," "]
[null,null,null,null,null," "]
[null,null,null,null,null," "]
[null,null,null,null,null," "]
[null,null,null,null,null," "]
[null,null,null,null,null," "]
[null,null,null,null,null," "]
[null,null,null,null,null," "]
[null,null,null,null,null," "]
[null,null,null,null,null," "]
[null,null,null,null,null," "]
[null,null,null,null,null," "]
[null,null,null,null,null," "]
[null,null,null,null,null," "]
[null,null,null,null,null," "]
[null,null,null,null,null," "]
[null,null,null,null,null," "]
[null,null,null,null,null," "]
[null,null,null,null,null," "]
[null,null,null,null,null," "]
[null,null,null,null,null," "]
[null,null,null,null,null," "]
[null,null,null,null,null," "]
[null,null,null,null,null," "]
[null,null,null,null,null," "]
[null,null,null,null,null," "]
[null,null,null,null,null," "]
[null,null,null,null,null," "]
[null,null,null,null,null," "]
[null,null,null,null,null," "]
[null,null,null,null,null," "]
[null,null,null,null,null," "]
[null,null,null,null,null," "]
[null,null,null,null,null," "]
[null,null,null,null,null," "]
[null,null,null,null,null," "]
[null,null,null,null,null," "]
[null,null,null,null,null," "]
[null,null,null,null,null," "]
[null,null,null,null,null," "]
[null,null,null,null,null," "]
[null,null,null,null,null," "]
[null,null,null,null,null," "]
[null,null,null,null,null," "]
[null,null,null,null,null," "]
[null,null,null,null,null," "]
[null,null,null,null,null," "]
[null,null,null,null,null," "]
[null,null,null,null,null," "]
[null,null,null,null,null," "]
[null,null,null,null,null," "]
[null,null,null,null,null," "]
[null,null,null,null,null," "]
[null,null,null,null,null," "]
[null,null,null,null,null," "]
[null,null,null,null,null," "]
[null,null,null,null,null," "]
[null,null,null,null,null," "]
[null,null,null,null,null," "]
[null,null,null,null,null," "]
[null,null,null,null,null," "]
[null,null,null,null,null," "]
[null,null,null,null,null," "]
[null,null,null,null,null," "]
[null,null,null,null,null," "]
[null,null,null,null,null," "]
[null,null,null,null,null," "]
[null,null,null,null,null," "]
[null,null,null,null,null," "]
[null,null,null,null,null," "]
[null,null,null,null,null," "]
[null,null,null,null,null," "]
[null,null,null,null,null," "]
[null,null,null,null,null," "]
[null,null,null,null,null," "]
[null,null,null,null,null," "]
[null,null,null,null,null," "]
[null,null,null,null,null," "]
[null,null,null,null,null," "]
[null,null,null,null,null," "]
[null,null,null,null,null," "]
[null,null,null,null,null," "]
[null,null,null,null,null," "]
[null,null,null,null,null," "]
[null,null,null,null,null," "]
[null,null,null,null,null," "]
[null,null,null,null,null," "]
[null,null,null,null,null," "]
[null,null,null,null,null," "]
[null,null,null,null,null," "]
[null,null,null,null,null," "]
[null,null,null,null,null," "]
[null,null,null,null,null," "]
[null,null,null,null,null," "]
[null,null,null,null,null," "]
[null,null,null,null,null," "]
[null,null,null,null,null," "]
[null,null,null,null,null," "]
[null,null,null,null,null," "]
[null,null,null,null,null," "]
[null,null,null,null,null," "]
[null,null,null,null,null," "]
[null,null,null,null,null," "]
[null,null,null,null,null," "]
[null,null,null,null,null," "]
[null,null,null,null,null," "]
[null,null,null,null,null," "]
[null,null,null,null,null," "]
[null,null,null,null,null," "]
[null,null,null,null,null," "]
[null,null,null,null,null," "]
[null,null,null,null,null," "]
[null,null,null,null,null," "]
[null,null,null,null,null," "]
[null,null,null,null,null," "]
[null,null,null,null,null," "]
[null,null,null,null,null," "]
[null,null,null,null,null," "]
[null,null,null,null,null," "]
[null,null,null,null,null," "]
[null,null,null,null,null," "]
[null,null,null,null,null," "]
[null,null,null,null,null," "]
[null,null,null,null,null," "]
[null,null,null,null,null," "]
[null,null,null,null,null," "]
[null,null,null,null,null," "]
[null,null,null,null,null," "]
[null,null,null,null,null," "]
[null,null,null,null,null," "]
[null,null,null,null,null," "]
[null,null,null,null,null," "]
[null,null,null,null,null," "]
[null,null,null,null,null," "]
[null,null,null,null,null," "]
[null,null,null,null,null," "]
[null,null,null,null,null," "]
[null,null,null,null,null," "]
[null,null,null,null,null," "]
[null,null,null,null,null," "]
[null,null,null,null,null," "]
[null,null,null,null,null," "]
[null,null,null,null,null," "]
[null,null,null,null,null," "]
[null,null,null,null,null," "]
[null,null,null,null,null," "]
[null,null,null,null,null," "]
[null,null,null,null,null," "]
[null,null,null,null,null," "]
[null,null,null,null,null," "]

{"sheet":"Bauteilkatalog","index":2,"n_rows":12625,"n_cols":37,"rows_kept":4500,"cut":true,"hidden":false,"merged":[[9,10,9,11],[7,0,7,3],[6,0,6,3],[0,0,0,12],[6,6,6,12],[7,6,7,12],[1,6,5,6],[2,8,2,12],[3,8,3,12],[4,8,4,12],[5,8,5,12],[1,8,1,12]],"bounds":{"rows_first":2000,"rows_last":500,"rows_between":2000,"halvings":0}}
["BAUTEILKATALOG\nfür BNB-Steckbrief 4.1.4 Version 2015\nStand BBSR-Bauteilkatalog: 28.11.2016"]
[null,null,null,null,null,null,"Bewertung \nder Eignung","++","sehr günstig"]
[null,null,null,null,null,null,null,"+","günstig"]
[null,null,null,null,null,null,null,"⌀","durchschnittlich"]
[null,null,null,null,null,null,null,"-","ungünstig"]
[null,null,null,null,null,null,null,"--","sehr ungünstig"]
["Bearbeiter projektspezifischer Katalog:",null,null,null,null,"Projekt:"]
["Datum projektspezifischer Katalog:",null,null,null,null,"BNB-Nummer:"]
[]
[null,"lfd. Nr.",null,"Kategorie","Bauteilbezeichnung","Kurzbeschreibung Schichtenaufbau","Rückbau","Trennung","Verwertung","Bezeichnung","lfd. Nr.\nKatalog",null,"R-Faktor","Schicht 1\n(innen / unten)","Schicht 2","Schicht 3","Schicht 4","Schicht 5","Schicht 6","Schicht 7","Schicht 8","Schicht 9","Schicht 10","Schicht 11","Schicht 12\n(außen / oben)","Schicht 1 - kurz","Schicht 2 - kurz","Schicht 3 - kurz","Schicht 4 - kurz","Schicht 5 - kurz","Schicht 6 - kurz","Schicht 7 - kurz","Schicht 8 - kurz","Schicht 9 - kurz","Schicht 10 - kurz","Schicht 11 - kurz","Schicht 12 - kurz"]
[null,null,null,"Gründung"]
[null,{"$f":"ROW(B12)-ROWS(B$1:B11)","v":1},"GRÜ","Gründung","Streifenfundament",{"$f":"CONCATENATE(Z12,IF(AA12=\"\",\"\",\"; \"),AA12,IF(AB12=\"\",\"\",\"; \"),AB12,IF(AC12=\"\",\"\",\"; \"),AC12,,IF(AD12=\"\",\"\",\"; \"),AD12,IF(AE12=\"\",\"\",\"; \"),AE12,IF(AF12=\"\",\"\",\"; \"),AF12,IF(AG12=\"\",\"\",\"; \"),AG12,IF(AH12=\"\",\"\",\"; \"),AH12,IF(AI12=\"\",\"\",\"; \"),AI12,IF(AJ12=\"\",\"\",\"; \"),AJ12,IF(AK12=\"\",\"\",\"; \"),AK12)","v":"StB."},"⌀","+","+",{"$f":"IF(E12=\"\",\"\",CONCATENATE(C12,\", \",E12,\": \",F12))","v":"GRÜ, Streifenfundament: StB."},{"$f":"B12","v":1},"GRÜ",{"$f":"IF(AND(NOT(ISBLANK(G12)),AND(NOT(ISBLANK(H12))),NOT(ISBLANK(I12))),(IF(G12=\"--\",Hilfstabelle!$B$1,IF(G12=\"-\",Hilfstabelle!$B$2,IF(G12=\"⌀\",Hilfstabelle!$B$3,IF(G12=\"+\",Hilfstabelle!$B$4,IF(G12=\"++\",Hilfstabelle!$B$5))))))*0.3+(IF(H12=\"--\",Hilfstabelle!$B$1,IF(H12=\"-\",Hilfstabelle!$B$2,IF(H12=\"⌀\",Hilfstabelle!$B$3,IF(H12=\"+\",Hilfstabelle!$B$4,IF(H12=\"++\",Hilfstabelle!$B$5))))))*0.3+(IF(I12=\"--\",Hilfstabelle!$B$1,IF(I12=\"-\",Hilfstabelle!$B$2,IF(I12=\"⌀\",Hilfstabelle!$B$3,IF(I12=\"+\",Hilfstabelle!$B$4,IF(I12=\"++\",Hilfstabelle!$B$5))))))*0.4,\"\")","v":6.75},"Stahlbeton (Ortbeton)",null,null,null,null,null,null,null,null,null,null,null,{"$f":"IF(N12=0,\"\",VLOOKUP(N12,Materialien!$C$8:$D$64981,2,0))","v":"StB."},{"$f":"IF(O12=0,\"\",VLOOKUP(O12,Materialien!$C$8:$D$64981,2,0))","v":""},{"$f":"IF(P12=0,\"\",VLOOKUP(P12,Materialien!$C$8:$D$64981,2,0))","v":""},{"$f":"IF(Q12=0,\"\",VLOOKUP(Q12,Materialien!$C$8:$D$64981,2,0))","v":""},{"$f":"IF(R12=0,\"\",VLOOKUP(R12,Materialien!$C$8:$D$64981,2,0))","v":""},{"$f":"IF(S12=0,\"\",VLOOKUP(S12,Materialien!$C$8:$D$64981,2,0))","v":""},{"$f":"IF(T12=0,\"\",VLOOKUP(T12,Materialien!$C$8:$D$64981,2,0))","v":""},{"$f":"IF(U12=0,\"\",VLOOKUP(U12,Materialien!$C$8:$D$64981,2,0))","v":""},{"$f":"IF(V12=0,\"\",VLOOKUP(V12,Materialien!$C$8:$D$64981,2,0))","v":""},{"$f":"IF(W12=0,\"\",VLOOKUP(W12,Materialien!$C$8:$D$64981,2,0))","v":""},{"$f":"IF(X12=0,\"\",VLOOKUP(X12,Materialien!$C$8:$D$64981,2,0))","v":""},{"$f":"IF(Y12=0,\"\",VLOOKUP(Y12,Materialien!$C$8:$D$64981,2,0))","v":""}]
[null,{"$f":"ROWS(B$12:B13)","v":2},"GRÜ","Gründung","Bohrpfahl Tiefgründung",{"$f":"CONCATENATE(Z13,IF(AA13=\"\",\"\",\"; \"),AA13,IF(AB13=\"\",\"\",\"; \"),AB13,IF(AC13=\"\",\"\",\"; \"),AC13,,IF(AD13=\"\",\"\",\"; \"),AD13,IF(AE13=\"\",\"\",\"; \"),AE13,IF(AF13=\"\",\"\",\"; \"),AF13,IF(AG13=\"\",\"\",\"; \"),AG13,IF(AH13=\"\",\"\",\"; \"),AH13,IF(AI13=\"\",\"\",\"; \"),AI13,IF(AJ13=\"\",\"\",\"; \"),AJ13,IF(AK13=\"\",\"\",\"; \"),AK13)","v":"StB."},"--","+","+",{"$f":"IF(E13=\"\",\"\",CONCATENATE(C13,\", \",E13,\": \",F13))","v":"GRÜ, Bohrpfahl Tiefgründung: StB."},2,"GRÜ",{"$f":"IF(AND(NOT(ISBLANK(G13)),AND(NOT(ISBLANK(H13))),NOT(ISBLANK(I13))),(IF(G13=\"--\",Hilfstabelle!$B$1,IF(G13=\"-\",Hilfstabelle!$B$2,IF(G13=\"⌀\",Hilfstabelle!$B$3,IF(G13=\"+\",Hilfstabelle!$B$4,IF(G13=\"++\",Hilfstabelle!$B$5))))))*0.3+(IF(H13=\"--\",Hilfstabelle!$B$1,IF(H13=\"-\",Hilfstabelle!$B$2,IF(H13=\"⌀\",Hilfstabelle!$B$3,IF(H13=\"+\",Hilfstabelle!$B$4,IF(H13=\"++\",Hilfstabelle!$B$5))))))*0.3+(IF(I13=\"--\",Hilfstabelle!$B$1,IF(I13=\"-\",Hilfstabelle!$B$2,IF(I13=\"⌀\",Hilfstabelle!$B$3,IF(I13=\"+\",Hilfstabelle!$B$4,IF(I13=\"++\",Hilfstabelle!$B$5))))))*0.4,\"\")","v":5.25},"Stahlbeton (Ortbeton)",null,null,null,null,null,null,null,null,null,null,null,{"$f":"IF(N13=0,\"\",VLOOKUP(N13,Materialien!$C$8:$D$64981,2,0))","v":"StB."},{"$f":"IF(O13=0,\"\",VLOOKUP(O13,Materialien!$C$8:$D$64981,2,0))","v":""},{"$f":"IF(P13=0,\"\",VLOOKUP(P13,Materialien!$C$8:$D$64981,2,0))","v":""},{"$f":"IF(Q13=0,\"\",VLOOKUP(Q13,Materialien!$C$8:$D$64981,2,0))","v":""},{"$f":"IF(R13=0,\"\",VLOOKUP(R13,Materialien!$C$8:$D$64981,2,0))","v":""},{"$f":"IF(S13=0,\"\",VLOOKUP(S13,Materialien!$C$8:$D$64981,2,0))","v":""},{"$f":"IF(T13=0,\"\",VLOOKUP(T13,Materialien!$C$8:$D$64981,2,0))","v":""},{"$f":"IF(U13=0,\"\",VLOOKUP(U13,Materialien!$C$8:$D$64981,2,0))","v":""},{"$f":"IF(V13=0,\"\",VLOOKUP(V13,Materialien!$C$8:$D$64981,2,0))","v":""},{"$f":"IF(W13=0,\"\",VLOOKUP(W13,Materialien!$C$8:$D$64981,2,0))","v":""},{"$f":"IF(X13=0,\"\",VLOOKUP(X13,Materialien!$C$8:$D$64981,2,0))","v":""},{"$f":"IF(Y13=0,\"\",VLOOKUP(Y13,Materialien!$C$8:$D$64981,2,0))","v":""}]
[null,{"$f":"ROWS(B$12:B14)","v":3},"GRÜ","Gründung","Bodenplatte",{"$f":"CONCATENATE(Z14,IF(AA14=\"\",\"\",\"; \"),AA14,IF(AB14=\"\",\"\",\"; \"),AB14,IF(AC14=\"\",\"\",\"; \"),AC14,,IF(AD14=\"\",\"\",\"; \"),AD14,IF(AE14=\"\",\"\",\"; \"),AE14,IF(AF14=\"\",\"\",\"; \"),AF14,IF(AG14=\"\",\"\",\"; \"),AG14,IF(AH14=\"\",\"\",\"; \"),AH14,IF(AI14=\"\",\"\",\"; \"),AI14,IF(AJ14=\"\",\"\",\"; \"),AJ14,IF(AK14=\"\",\"\",\"; \"),AK14)","v":"Epoxy; CT; StB.; Bitumenbahn; XPS; Leichtbet.; PE; Kies"},"⌀","⌀","⌀",{"$f":"IF(E14=\"\",\"\",CONCATENATE(C14,\", \",E14,\": \",F14))","v":"GRÜ, Bodenplatte: Epoxy; CT; StB.; Bitumenbahn; XPS; Leichtbet.; PE; Kies"},3,"GRÜ",{"$f":"IF(AND(NOT(ISBLANK(G14)),AND(NOT(ISBLANK(H14))),NOT(ISBLANK(I14))),(IF(G14=\"--\",Hilfstabelle!$B$1,IF(G14=\"-\",Hilfstabelle!$B$2,IF(G14=\"⌀\",Hilfstabelle!$B$3,IF(G14=\"+\",Hilfstabelle!$B$4,IF(G14=\"++\",Hilfstabelle!$B$5))))))*0.3+(IF(H14=\"--\",Hilfstabelle!$B$1,IF(H14=\"-\",Hilfstabelle!$B$2,IF(H14=\"⌀\",Hilfstabelle!$B$3,IF(H14=\"+\",Hilfstabelle!$B$4,IF(H14=\"++\",Hilfstabelle!$B$5))))))*0.3+(IF(I14=\"--\",Hilfstabelle!$B$1,IF(I14=\"-\",Hilfstabelle!$B$2,IF(I14=\"⌀\",Hilfstabelle!$B$3,IF(I14=\"+\",Hilfstabelle!$B$4,IF(I14=\"++\",Hilfstabelle!$B$5))))))*0.4,\"\")","v":5},"Epoxidharzbeschichtung","Estrich - Zement","Stahlbeton (Ortbeton)","Bitumenbahn","Dämmstoff - Extrudiertes Polystyrol","Leichtbeton","Kunststoff, PVC -frei (PE)","Kies",null,null,null,null,{"$f":"IF(N14=0,\"\",VLOOKUP(N14,Materialien!$C$8:$D$64981,2,0))","v":"Epoxy"},{"$f":"IF(O14=0,\"\",VLOOKUP(O14,Materialien!$C$8:$D$64981,2,0))","v":"CT"},{"$f":"IF(P14=0,\"\",VLOOKUP(P14,Materialien!$C$8:$D$64981,2,0))","v":"StB."},{"$f":"IF(Q14=0,\"\",VLOOKUP(Q14,Materialien!$C$8:$D$64981,2,0))","v":"Bitumenbahn"},{"$f":"IF(R14=0,\"\",VLOOKUP(R14,Materialien!$C$8:$D$64981,2,0))","v":"XPS"},{"$f":"IF(S14=0,\"\",VLOOKUP(S14,Materialien!$C$8:$D$64981,2,0))","v":"Leichtbet."},{"$f":"IF(T14=0,\"\",VLOOKUP(T14,Materialien!$C$8:$D$64981,2,0))","v":"PE"},{"$f":"IF(U14=0,\"\",VLOOKUP(U14,Materialien!$C$8:$D$64981,2,0))","v":"Kies"},{"$f":"IF(V14=0,\"\",VLOOKUP(V14,Materialien!$C$8:$D$64981,2,0))","v":""},{"$f":"IF(W14=0,\"\",VLOOKUP(W14,Materialien!$C$8:$D$64981,2,0))","v":""},{"$f":"IF(X14=0,\"\",VLOOKUP(X14,Materialien!$C$8:$D$64981,2,0))","v":""},{"$f":"IF(Y14=0,\"\",VLOOKUP(Y14,Materialien!$C$8:$D$64981,2,0))","v":""}]
[]
[null,null,null,"Eigenes Bauteil (Gründung):",null,null,null,null,null,"Eigene Bauteile (Gründung):"]
[null,1,"GRÜ-E","Gründung",null,{"$f":"CONCATENATE(Z17,IF(AA17=\"\",\"\",\"; \"),AA17,IF(AB17=\"\",\"\",\"; \"),AB17,IF(AC17=\"\",\"\",\"; \"),AC17,,IF(AD17=\"\",\"\",\"; \"),AD17,IF(AE17=\"\",\"\",\"; \"),AE17,IF(AF17=\"\",\"\",\"; \"),AF17,IF(AG17=\"\",\"\",\"; \"),AG17,IF(AH17=\"\",\"\",\"; \"),AH17,IF(AI17=\"\",\"\",\"; \"),AI17,IF(AJ17=\"\",\"\",\"; \"),AJ17,IF(AK17=\"\",\"\",\"; \"),AK17)","v":""},"--","⌀","++",{"$f":"IF(E17=\"\",\"\",CONCATENATE(C17,\", \",E17,\": \",F17))","v":""},{"$f":"B17","v":1},"GRÜ-E",{"$f":"IF(AND(NOT(ISBLANK(G17)),AND(NOT(ISBLANK(H17))),NOT(ISBLANK(I17))),(IF(G17=\"--\",Hilfstabelle!$B$1,IF(G17=\"-\",Hilfstabelle!$B$2,IF(G17=\"⌀\",Hilfstabelle!$B$3,IF(G17=\"+\",Hilfstabelle!$B$4,IF(G17=\"++\",Hilfstabelle!$B$5))))))*0.3+(IF(H17=\"--\",Hilfstabelle!$B$1,IF(H17=\"-\",Hilfstabelle!$B$2,IF(H17=\"⌀\",Hilfstabelle!$B$3,IF(H17=\"+\",Hilfstabelle!$B$4,IF(H17=\"++\",Hilfstabelle!$B$5))))))*0.3+(IF(I17=\"--\",Hilfstabelle!$B$1,IF(I17=\"-\",Hilfstabelle!$B$2,IF(I17=\"⌀\",Hilfstabelle!$B$3,IF(I17=\"+\",Hilfstabelle!$B$4,IF(I17=\"++\",Hilfstabelle!$B$5))))))*0.4,\"\")","v":5.5},null,null,null,null,null,null,null,null,null,null,null,null,{"$f":"IF(N17=0,\"\",VLOOKUP(N17,Materialien!$C$8:$D$64981,2,0))","v":""},{"$f":"IF(O17=0,\"\",VLOOKUP(O17,Materialien!$C$8:$D$64981,2,0))","v":""},{"$f":"IF(P17=0,\"\",VLOOKUP(P17,Materialien!$C$8:$D$64981,2,0))","v":""},{"$f":"IF(Q17=0,\"\",VLOOKUP(Q17,Materialien!$C$8:$D$64981,2,0))","v":""},{"$f":"IF(R17=0,\"\",VLOOKUP(R17,Materialien!$C$8:$D$64981,2,0))","v":""},{"$f":"IF(S17=0,\"\",VLOOKUP(S17,Materialien!$C$8:$D$64981,2,0))","v":""},{"$f":"IF(T17=0,\"\",VLOOKUP(T17,Materialien!$C$8:$D$64981,2,0))","v":""},{"$f":"IF(U17=0,\"\",VLOOKUP(U17,Materialien!$C$8:$D$64981,2,0))","v":""},{"$f":"IF(V17=0,\"\",VLOOKUP(V17,Materialien!$C$8:$D$64981,2,0))","v":""},{"$f":"IF(W17=0,\"\",VLOOKUP(W17,Materialien!$C$8:$D$64981,2,0))","v":""},{"$f":"IF(X17=0,\"\",VLOOKUP(X17,Materialien!$C$8:$D$64981,2,0))","v":""},{"$f":"IF(Y17=0,\"\",VLOOKUP(Y17,Materialien!$C$8:$D$64981,2,0))","v":""}]
[null,{"$f":"ROWS(B$17:B18)","v":2},null,null,null,{"$f":"CONCATENATE(Z18,IF(AA18=\"\",\"\",\"; \"),AA18,IF(AB18=\"\",\"\",\"; \"),AB18,IF(AC18=\"\",\"\",\"; \"),AC18,,IF(AD18=\"\",\"\",\"; \"),AD18,IF(AE18=\"\",\"\",\"; \"),AE18,IF(AF18=\"\",\"\",\"; \"),AF18,IF(AG18=\"\",\"\",\"; \"),AG18,IF(AH18=\"\",\"\",\"; \"),AH18,IF(AI18=\"\",\"\",\"; \"),AI18,IF(AJ18=\"\",\"\",\"; \"),AJ18,IF(AK18=\"\",\"\",\"; \"),AK18)","v":""},null,null,null,null,null,null,{"$f":"IF(AND(NOT(ISBLANK(G18)),AND(NOT(ISBLANK(H18))),NOT(ISBLANK(I18))),(IF(G18=\"--\",Hilfstabelle!$B$1,IF(G18=\"-\",Hilfstabelle!$B$2,IF(G18=\"⌀\",Hilfstabelle!$B$3,IF(G18=\"+\",Hilfstabelle!$B$4,IF(G18=\"++\",Hilfstabelle!$B$5))))))*0.3+(IF(H18=\"--\",Hilfstabelle!$B$1,IF(H18=\"-\",Hilfstabelle!$B$2,IF(H18=\"⌀\",Hilfstabelle!$B$3,IF(H18=\"+\",Hilfstabelle!$B$4,IF(H18=\"++\",Hilfstabelle!$B$5))))))*0.3+(IF(I18=\"--\",Hilfstabelle!$B$1,IF(I18=\"-\",Hilfstabelle!$B$2,IF(I18=\"⌀\",Hilfstabelle!$B$3,IF(I18=\"+\",Hilfstabelle!$B$4,IF(I18=\"++\",Hilfstabelle!$B$5))))))*0.4,\"\")","v":""},null,null,null,null,null,null,null,null,null,null,null,null,{"$f":"IF(N18=0,\"\",VLOOKUP(N18,Materialien!$C$8:$D$64981,2,0))","v":""},{"$f":"IF(O18=0,\"\",VLOOKUP(O18,Materialien!$C$8:$D$64981,2,0))","v":""},{"$f":"IF(P18=0,\"\",VLOOKUP(P18,Materialien!$C$8:$D$64981,2,0))","v":""},{"$f":"IF(Q18=0,\"\",VLOOKUP(Q18,Materialien!$C$8:$D$64981,2,0))","v":""},{"$f":"IF(R18=0,\"\",VLOOKUP(R18,Materialien!$C$8:$D$64981,2,0))","v":""},{"$f":"IF(S18=0,\"\",VLOOKUP(S18,Materialien!$C$8:$D$64981,2,0))","v":""},{"$f":"IF(T18=0,\"\",VLOOKUP(T18,Materialien!$C$8:$D$64981,2,0))","v":""},{"$f":"IF(U18=0,\"\",VLOOKUP(U18,Materialien!$C$8:$D$64981,2,0))","v":""},{"$f":"IF(V18=0,\"\",VLOOKUP(V18,Materialien!$C$8:$D$64981,2,0))","v":""},{"$f":"IF(W18=0,\"\",VLOOKUP(W18,Materialien!$C$8:$D$64981,2,0))","v":""},{"$f":"IF(X18=0,\"\",VLOOKUP(X18,Materialien!$C$8:$D$64981,2,0))","v":""},{"$f":"IF(Y18=0,\"\",VLOOKUP(Y18,Materialien!$C$8:$D$64981,2,0))","v":""}]
[null,{"$f":"ROWS(B$17:B19)","v":3},"GRÜ-E","Gründung",null,{"$f":"CONCATENATE(Z19,IF(AA19=\"\",\"\",\"; \"),AA19,IF(AB19=\"\",\"\",\"; \"),AB19,IF(AC19=\"\",\"\",\"; \"),AC19,,IF(AD19=\"\",\"\",\"; \"),AD19,IF(AE19=\"\",\"\",\"; \"),AE19,IF(AF19=\"\",\"\",\"; \"),AF19,IF(AG19=\"\",\"\",\"; \"),AG19,IF(AH19=\"\",\"\",\"; \"),AH19,IF(AI19=\"\",\"\",\"; \"),AI19,IF(AJ19=\"\",\"\",\"; \"),AJ19,IF(AK19=\"\",\"\",\"; \"),AK19)","v":""},null,null,null,{"$f":"IF(E19=\"\",\"\",CONCATENATE(C19,\", \",E19,\": \",F19))","v":""},{"$f":"B19","v":3},{"$f":"C19","v":"GRÜ-E"},{"$f":"IF(AND(NOT(ISBLANK(G19)),AND(NOT(ISBLANK(H19))),NOT(ISBLANK(I19))),(IF(G19=\"--\",Hilfstabelle!$B$1,IF(G19=\"-\",Hilfstabelle!$B$2,IF(G19=\"⌀\",Hilfstabelle!$B$3,IF(G19=\"+\",Hilfstabelle!$B$4,IF(G19=\"++\",Hilfstabelle!$B$5))))))*0.3+(IF(H19=\"--\",Hilfstabelle!$B$1,IF(H19=\"-\",Hilfstabelle!$B$2,IF(H19=\"⌀\",Hilfstabelle!$B$3,IF(H19=\"+\",Hilfstabelle!$B$4,IF(H19=\"++\",Hilfstabelle!$B$5))))))*0.3+(IF(I19=\"--\",Hilfstabelle!$B$1,IF(I19=\"-\",Hilfstabelle!$B$2,IF(I19=\"⌀\",Hilfstabelle!$B$3,IF(I19=\"+\",Hilfstabelle!$B$4,IF(I19=\"++\",Hilfstabelle!$B$5))))))*0.4,\"\")","v":""},null,null,null,null,null,null,null,null,null,null,null,null,{"$f":"IF(N19=0,\"\",VLOOKUP(N19,Materialien!$C$8:$D$64981,2,0))","v":""},{"$f":"IF(O19=0,\"\",VLOOKUP(O19,Materialien!$C$8:$D$64981,2,0))","v":""},{"$f":"IF(P19=0,\"\",VLOOKUP(P19,Materialien!$C$8:$D$64981,2,0))","v":""},{"$f":"IF(Q19=0,\"\",VLOOKUP(Q19,Materialien!$C$8:$D$64981,2,0))","v":""},{"$f":"IF(R19=0,\"\",VLOOKUP(R19,Materialien!$C$8:$D$64981,2,0))","v":""},{"$f":"IF(S19=0,\"\",VLOOKUP(S19,Materialien!$C$8:$D$64981,2,0))","v":""},{"$f":"IF(T19=0,\"\",VLOOKUP(T19,Materialien!$C$8:$D$64981,2,0))","v":""},{"$f":"IF(U19=0,\"\",VLOOKUP(U19,Materialien!$C$8:$D$64981,2,0))","v":""},{"$f":"IF(V19=0,\"\",VLOOKUP(V19,Materialien!$C$8:$D$64981,2,0))","v":""},{"$f":"IF(W19=0,\"\",VLOOKUP(W19,Materialien!$C$8:$D$64981,2,0))","v":""},{"$f":"IF(X19=0,\"\",VLOOKUP(X19,Materialien!$C$8:$D$64981,2,0))","v":""},{"$f":"IF(Y19=0,\"\",VLOOKUP(Y19,Materialien!$C$8:$D$64981,2,0))","v":""}]
[null,null,null,null,null,null,{"$f":"IF(G17=\"--\",Hilfstabelle!B1,IF(G17=\"-\",Hilfstabelle!B2,IF(G17=\"⌀\",Hilfstabelle!B3,IF(G17=\"+\",Hilfstabelle!B4,IF(G17=\"++\",Hilfstabelle!B5)))))","v":0},{"$f":"IF(H17=\"--\",Hilfstabelle!B1,IF(H17=\"-\",Hilfstabelle!B2,IF(H17=\"⌀\",Hilfstabelle!B3,IF(H17=\"+\",Hilfstabelle!B4,IF(H17=\"++\",Hilfstabelle!B5)))))","v":5},{"$f":"IF(I17=\"--\",Hilfstabelle!B1,IF(I17=\"-\",Hilfstabelle!B2,IF(I17=\"⌀\",Hilfstabelle!B3,IF(I17=\"+\",Hilfstabelle!B4,IF(I17=\"++\",Hilfstabelle!B5)))))","v":10}]
[null,null,null,"Außenwand Erdreich"]
[null,{"$f":"ROW(B22)-ROWS(B$1:B21)","v":1},"AER","Außenwand erdberührt","gedämmte Kelleraußenwand",{"$f":"CONCATENATE(Z22,IF(AA22=\"\",\"\",\"; \"),AA22,IF(AB22=\"\",\"\",\"; \"),AB22,IF(AC22=\"\",\"\",\"; \"),AC22,,IF(AD22=\"\",\"\",\"; \"),AD22,IF(AE22=\"\",\"\",\"; \"),AE22,IF(AF22=\"\",\"\",\"; \"),AF22,IF(AG22=\"\",\"\",\"; \"),AG22,IF(AH22=\"\",\"\",\"; \"),AH22,IF(AI22=\"\",\"\",\"; \"),AI22,IF(AJ22=\"\",\"\",\"; \"),AJ22,IF(AK22=\"\",\"\",\"; \"),AK22)","v":"gipsfr.Putz; StB.; Bitumenbesch.; XPS"},"⌀","+","+",{"$f":"IF(E22=\"\",\"\",CONCATENATE(C22,\", \",E22,\": \",F22))","v":"AER, gedämmte Kelleraußenwand: gipsfr.Putz; StB.; Bitumenbesch.; XPS"},{"$f":"B22","v":1},"AER",{"$f":"IF(AND(NOT(ISBLANK(G22)),AND(NOT(ISBLANK(H22))),NOT(ISBLANK(I22))),(IF(G22=\"--\",Hilfstabelle!$B$1,IF(G22=\"-\",Hilfstabelle!$B$2,IF(G22=\"⌀\",Hilfstabelle!$B$3,IF(G22=\"+\",Hilfstabelle!$B$4,IF(G22=\"++\",Hilfstabelle!$B$5))))))*0.3+(IF(H22=\"--\",Hilfstabelle!$B$1,IF(H22=\"-\",Hilfstabelle!$B$2,IF(H22=\"⌀\",Hilfstabelle!$B$3,IF(H22=\"+\",Hilfstabelle!$B$4,IF(H22=\"++\",Hilfstabelle!$B$5))))))*0.3+(IF(I22=\"--\",Hilfstabelle!$B$1,IF(I22=\"-\",Hilfstabelle!$B$2,IF(I22=\"⌀\",Hilfstabelle!$B$3,IF(I22=\"+\",Hilfstabelle!$B$4,IF(I22=\"++\",Hilfstabelle!$B$5))))))*0.4,\"\")","v":6.75},"Putz - nicht gipshaltig","Stahlbeton (Ortbeton)","Bitumenbeschichtung","Dämmstoff - Extrudiertes Polystyrol",null,null,null,null,null,null,null,null,{"$f":"IF(N22=0,\"\",VLOOKUP(N22,Materialien!$C$8:$D$64981,2,0))","v":"gipsfr.Putz"},{"$f":"IF(O22=0,\"\",VLOOKUP(O22,Materialien!$C$8:$D$64981,2,0))","v":"StB."},{"$f":"IF(P22=0,\"\",VLOOKUP(P22,Materialien!$C$8:$D$64981,2,0))","v":"Bitumenbesch."},{"$f":"IF(Q22=0,\"\",VLOOKUP(Q22,Materialien!$C$8:$D$64981,2,0))","v":"XPS"},{"$f":"IF(R22=0,\"\",VLOOKUP(R22,Materialien!$C$8:$D$64981,2,0))","v":""},{"$f":"IF(S22=0,\"\",VLOOKUP(S22,Materialien!$C$8:$D$64981,2,0))","v":""},{"$f":"IF(T22=0,\"\",VLOOKUP(T22,Materialien!$C$8:$D$64981,2,0))","v":""},{"$f":"IF(U22=0,\"\",VLOOKUP(U22,Materialien!$C$8:$D$64981,2,0))","v":""},{"$f":"IF(V22=0,\"\",VLOOKUP(V22,Materialien!$C$8:$D$64981,2,0))","v":""},{"$f":"IF(W22=0,\"\",VLOOKUP(W22,Materialien!$C$8:$D$64981,2,0))","v":""},{"$f":"IF(X22=0,\"\",VLOOKUP(X22,Materialien!$C$8:$D$64981,2,0))","v":""},{"$f":"IF(Y22=0,\"\",VLOOKUP(Y22,Materialien!$C$8:$D$64981,2,0))","v":""}]
[]
[null,null,null,"Eigenes Bauteil (Außenwand Erdreich):",null,null,null,null,null,"Eigene Bauteile (Außenwand Erdreich):"]
[null,1,"AER-E","Außenwand erdberührt",null,{"$f":"CONCATENATE(Z25,IF(AA25=\"\",\"\",\"; \"),AA25,IF(AB25=\"\",\"\",\"; \"),AB25,IF(AC25=\"\",\"\",\"; \"),AC25,,IF(AD25=\"\",\"\",\"; \"),AD25,IF(AE25=\"\",\"\",\"; \"),AE25,IF(AF25=\"\",\"\",\"; \"),AF25,IF(AG25=\"\",\"\",\"; \"),AG25,IF(AH25=\"\",\"\",\"; \"),AH25,IF(AI25=\"\",\"\",\"; \"),AI25,IF(AJ25=\"\",\"\",\"; \"),AJ25,IF(AK25=\"\",\"\",\"; \"),AK25)","v":""},null,null,null,{"$f":"IF(E25=\"\",\"\",CONCATENATE(C25,\", \",E25,\": \",F25))","v":""},{"$f":"B25","v":1},"AER-E",{"$f":"IF(AND(NOT(ISBLANK(G25)),AND(NOT(ISBLANK(H25))),NOT(ISBLANK(I25))),(IF(G25=\"--\",Hilfstabelle!$B$1,IF(G25=\"-\",Hilfstabelle!$B$2,IF(G25=\"⌀\",Hilfstabelle!$B$3,IF(G25=\"+\",Hilfstabelle!$B$4,IF(G25=\"++\",Hilfstabelle!$B$5))))))*0.3+(IF(H25=\"--\",Hilfstabelle!$B$1,IF(H25=\"-\",Hilfstabelle!$B$2,IF(H25=\"⌀\",Hilfstabelle!$B$3,IF(H25=\"+\",Hilfstabelle!$B$4,IF(H25=\"++\",Hilfstabelle!$B$5))))))*0.3+(IF(I25=\"--\",Hilfstabelle!$B$1,IF(I25=\"-\",Hilfstabelle!$B$2,IF(I25=\"⌀\",Hilfstabelle!$B$3,IF(I25=\"+\",Hilfstabelle!$B$4,IF(I25=\"++\",Hilfstabelle!$B$5))))))*0.4,\"\")","v":""},null,null,null,null,null,null,null,null,null,null,null,null,{"$f":"IF(N25=0,\"\",VLOOKUP(N25,Materialien!$C$8:$D$64981,2,0))","v":""},{"$f":"IF(O25=0,\"\",VLOOKUP(O25,Materialien!$C$8:$D$64981,2,0))","v":""},{"$f":"IF(P25=0,\"\",VLOOKUP(P25,Materialien!$C$8:$D$64981,2,0))","v":""},{"$f":"IF(Q25=0,\"\",VLOOKUP(Q25,Materialien!$C$8:$D$64981,2,0))","v":""},{"$f":"IF(R25=0,\"\",VLOOKUP(R25,Materialien!$C$8:$D$64981,2,0))","v":""},{"$f":"IF(S25=0,\"\",VLOOKUP(S25,Materialien!$C$8:$D$64981,2,0))","v":""},{"$f":"IF(T25=0,\"\",VLOOKUP(T25,Materialien!$C$8:$D$64981,2,0))","v":""},{"$f":"IF(U25=0,\"\",VLOOKUP(U25,Materialien!$C$8:$D$64981,2,0))","v":""},{"$f":"IF(V25=0,\"\",VLOOKUP(V25,Materialien!$C$8:$D$64981,2,0))","v":""},{"$f":"IF(W25=0,\"\",VLOOKUP(W25,Materialien!$C$8:$D$64981,2,0))","v":""},{"$f":"IF(X25=0,\"\",VLOOKUP(X25,Materialien!$C$8:$D$64981,2,0))","v":""},{"$f":"IF(Y25=0,\"\",VLOOKUP(Y25,Materialien!$C$8:$D$64981,2,0))","v":""}]
[null,{"$f":"ROWS(B$25:B26)","v":2},null,null,null,{"$f":"CONCATENATE(Z26,IF(AA26=\"\",\"\",\"; \"),AA26,IF(AB26=\"\",\"\",\"; \"),AB26,IF(AC26=\"\",\"\",\"; \"),AC26,,IF(AD26=\"\",\"\",\"; \"),AD26,IF(AE26=\"\",\"\",\"; \"),AE26,IF(AF26=\"\",\"\",\"; \"),AF26,IF(AG26=\"\",\"\",\"; \"),AG26,IF(AH26=\"\",\"\",\"; \"),AH26,IF(AI26=\"\",\"\",\"; \"),AI26,IF(AJ26=\"\",\"\",\"; \"),AJ26,IF(AK26=\"\",\"\",\"; \"),AK26)","v":""},null,null,null,null,null,null,{"$f":"IF(AND(NOT(ISBLANK(G26)),AND(NOT(ISBLANK(H26))),NOT(ISBLANK(I26))),(IF(G26=\"--\",Hilfstabelle!$B$1,IF(G26=\"-\",Hilfstabelle!$B$2,IF(G26=\"⌀\",Hilfstabelle!$B$3,IF(G26=\"+\",Hilfstabelle!$B$4,IF(G26=\"++\",Hilfstabelle!$B$5))))))*0.3+(IF(H26=\"--\",Hilfstabelle!$B$1,IF(H26=\"-\",Hilfstabelle!$B$2,IF(H26=\"⌀\",Hilfstabelle!$B$3,IF(H26=\"+\",Hilfstabelle!$B$4,IF(H26=\"++\",Hilfstabelle!$B$5))))))*0.3+(IF(I26=\"--\",Hilfstabelle!$B$1,IF(I26=\"-\",Hilfstabelle!$B$2,IF(I26=\"⌀\",Hilfstabelle!$B$3,IF(I26=\"+\",Hilfstabelle!$B$4,IF(I26=\"++\",Hilfstabelle!$B$5))))))*0.4,\"\")","v":""},null,null,null,null,null,null,null,null,null,null,null,null,{"$f":"IF(N26=0,\"\",VLOOKUP(N26,Materialien!$C$8:$D$64981,2,0))","v":""},{"$f":"IF(O26=0,\"\",VLOOKUP(O26,Materialien!$C$8:$D$64981,2,0))","v":""},{"$f":"IF(P26=0,\"\",VLOOKUP(P26,Materialien!$C$8:$D$64981,2,0))","v":""},{"$f":"IF(Q26=0,\"\",VLOOKUP(Q26,Materialien!$C$8:$D$64981,2,0))","v":""},{"$f":"IF(R26=0,\"\",VLOOKUP(R26,Materialien!$C$8:$D$64981,2,0))","v":""},{"$f":"IF(S26=0,\"\",VLOOKUP(S26,Materialien!$C$8:$D$64981,2,0))","v":""},{"$f":"IF(T26=0,\"\",VLOOKUP(T26,Materialien!$C$8:$D$64981,2,0))","v":""},{"$f":"IF(U26=0,\"\",VLOOKUP(U26,Materialien!$C$8:$D$64981,2,0))","v":""},{"$f":"IF(V26=0,\"\",VLOOKUP(V26,Materialien!$C$8:$D$64981,2,0))","v":""},{"$f":"IF(W26=0,\"\",VLOOKUP(W26,Materialien!$C$8:$D$64981,2,0))","v":""},{"$f":"IF(X26=0,\"\",VLOOKUP(X26,Materialien!$C$8:$D$64981,2,0))","v":""},{"$f":"IF(Y26=0,\"\",VLOOKUP(Y26,Materialien!$C$8:$D$64981,2,0))","v":""}]
[null,{"$f":"ROWS(B$25:B27)","v":3},"AER-E","Außenwand erdberührt",null,{"$f":"CONCATENATE(Z27,IF(AA27=\"\",\"\",\"; \"),AA27,IF(AB27=\"\",\"\",\"; \"),AB27,IF(AC27=\"\",\"\",\"; \"),AC27,,IF(AD27=\"\",\"\",\"; \"),AD27,IF(AE27=\"\",\"\",\"; \"),AE27,IF(AF27=\"\",\"\",\"; \"),AF27,IF(AG27=\"\",\"\",\"; \"),AG27,IF(AH27=\"\",\"\",\"; \"),AH27,IF(AI27=\"\",\"\",\"; \"),AI27,IF(AJ27=\"\",\"\",\"; \"),AJ27,IF(AK27=\"\",\"\",\"; \"),AK27)","v":""},null,null,null,{"$f":"IF(E27=\"\",\"\",CONCATENATE(C27,\", \",E27,\": \",F27))","v":""},{"$f":"B27","v":3},{"$f":"C27","v":"AER-E"},{"$f":"IF(AND(NOT(ISBLANK(G27)),AND(NOT(ISBLANK(H27))),NOT(ISBLANK(I27))),(IF(G27=\"--\",Hilfstabelle!$B$1,IF(G27=\"-\",Hilfstabelle!$B$2,IF(G27=\"⌀\",Hilfstabelle!$B$3,IF(G27=\"+\",Hilfstabelle!$B$4,IF(G27=\"++\",Hilfstabelle!$B$5))))))*0.3+(IF(H27=\"--\",Hilfstabelle!$B$1,IF(H27=\"-\",Hilfstabelle!$B$2,IF(H27=\"⌀\",Hilfstabelle!$B$3,IF(H27=\"+\",Hilfstabelle!$B$4,IF(H27=\"++\",Hilfstabelle!$B$5))))))*0.3+(IF(I27=\"--\",Hilfstabelle!$B$1,IF(I27=\"-\",Hilfstabelle!$B$2,IF(I27=\"⌀\",Hilfstabelle!$B$3,IF(I27=\"+\",Hilfstabelle!$B$4,IF(I27=\"++\",Hilfstabelle!$B$5))))))*0.4,\"\")","v":""},null,null,null,null,null,null,null,null,null,null,null,null,{"$f":"IF(N27=0,\"\",VLOOKUP(N27,Materialien!$C$8:$D$64981,2,0))","v":""},{"$f":"IF(O27=0,\"\",VLOOKUP(O27,Materialien!$C$8:$D$64981,2,0))","v":""},{"$f":"IF(P27=0,\"\",VLOOKUP(P27,Materialien!$C$8:$D$64981,2,0))","v":""},{"$f":"IF(Q27=0,\"\",VLOOKUP(Q27,Materialien!$C$8:$D$64981,2,0))","v":""},{"$f":"IF(R27=0,\"\",VLOOKUP(R27,Materialien!$C$8:$D$64981,2,0))","v":""},{"$f":"IF(S27=0,\"\",VLOOKUP(S27,Materialien!$C$8:$D$64981,2,0))","v":""},{"$f":"IF(T27=0,\"\",VLOOKUP(T27,Materialien!$C$8:$D$64981,2,0))","v":""},{"$f":"IF(U27=0,\"\",VLOOKUP(U27,Materialien!$C$8:$D$64981,2,0))","v":""},{"$f":"IF(V27=0,\"\",VLOOKUP(V27,Materialien!$C$8:$D$64981,2,0))","v":""},{"$f":"IF(W27=0,\"\",VLOOKUP(W27,Materialien!$C$8:$D$64981,2,0))","v":""},{"$f":"IF(X27=0,\"\",VLOOKUP(X27,Materialien!$C$8:$D$64981,2,0))","v":""},{"$f":"IF(Y27=0,\"\",VLOOKUP(Y27,Materialien!$C$8:$D$64981,2,0))","v":""}]
[]
[null,null,null,"Außenwand massiv"]
[null,{"$f":"ROW(B30)-ROWS(B$1:B29)","v":1},"AMA","Außenwand massiv","einschalige AW aus por. HLZ",{"$f":"CONCATENATE(Z30,IF(AA30=\"\",\"\",\"; \"),AA30,IF(AB30=\"\",\"\",\"; \"),AB30,IF(AC30=\"\",\"\",\"; \"),AC30,,IF(AD30=\"\",\"\",\"; \"),AD30,IF(AE30=\"\",\"\",\"; \"),AE30,IF(AF30=\"\",\"\",\"; \"),AF30,IF(AG30=\"\",\"\",\"; \"),AG30,IF(AH30=\"\",\"\",\"; \"),AH30,IF(AI30=\"\",\"\",\"; \"),AI30,IF(AJ30=\"\",\"\",\"; \"),AJ30,IF(AK30=\"\",\"\",\"; \"),AK30)","v":"Keramik; gipsfr.Putz; por.HLZ; gipsfr.Putz"},"+","+","⌀",{"$f":"IF(E30=\"\",\"\",CONCATENATE(C30,\", \",E30,\": \",F30))","v":"AMA, einschalige AW aus por. HLZ: Keramik; gipsfr.Putz; por.HLZ; gipsfr.Putz"},{"$f":"B30","v":1},{"$f":"C30","v":"AMA"},{"$f":"IF(AND(NOT(ISBLANK(G30)),AND(NOT(ISBLANK(H30))),NOT(ISBLANK(I30))),(IF(G30=\"--\",Hilfstabelle!$B$1,IF(G30=\"-\",Hilfstabelle!$B$2,IF(G30=\"⌀\",Hilfstabelle!$B$3,IF(G30=\"+\",Hilfstabelle!$B$4,IF(G30=\"++\",Hilfstabelle!$B$5))))))*0.3+(IF(H30=\"--\",Hilfstabelle!$B$1,IF(H30=\"-\",Hilfstabelle!$B$2,IF(H30=\"⌀\",Hilfstabelle!$B$3,IF(H30=\"+\",Hilfstabelle!$B$4,IF(H30=\"++\",Hilfstabelle!$B$5))))))*0.3+(IF(I30=\"--\",Hilfstabelle!$B$1,IF(I30=\"-\",Hilfstabelle!$B$2,IF(I30=\"⌀\",Hilfstabelle!$B$3,IF(I30=\"+\",Hilfstabelle!$B$4,IF(I30=\"++\",Hilfstabelle!$B$5))))))*0.4,\"\")","v":6.5},"Steingut, Steinzeug, sonstige Keramik","Putz - nicht gipshaltig","Porosierte Hochlochziegel ","Putz - nicht gipshaltig",null,null,null,null,null,null,null,null,{"$f":"IF(N30=0,\"\",VLOOKUP(N30,Materialien!$C$8:$D$64981,2,0))","v":"Keramik"},{"$f":"IF(O30=0,\"\",VLOOKUP(O30,Materialien!$C$8:$D$64981,2,0))","v":"gipsfr.Putz"},{"$f":"IF(P30=0,\"\",VLOOKUP(P30,Materialien!$C$8:$D$64981,2,0))","v":"por.HLZ"},{"$f":"IF(Q30=0,\"\",VLOOKUP(Q30,Materialien!$C$8:$D$64981,2,0))","v":"gipsfr.Putz"},{"$f":"IF(R30=0,\"\",VLOOKUP(R30,Materialien!$C$8:$D$64981,2,0))","v":""},{"$f":"IF(S30=0,\"\",VLOOKUP(S30,Materialien!$C$8:$D$64981,2,0))","v":""},{"$f":"IF(T30=0,\"\",VLOOKUP(T30,Materialien!$C$8:$D$64981,2,0))","v":""},{"$f":"IF(U30=0,\"\",VLOOKUP(U30,Materialien!$C$8:$D$64981,2,0))","v":""},{"$f":"IF(V30=0,\"\",VLOOKUP(V30,Materialien!$C$8:$D$64981,2,0))","v":""},{"$f":"IF(W30=0,\"\",VLOOKUP(W30,Materialien!$C$8:$D$64981,2,0))","v":""},{"$f":"IF(X30=0,\"\",VLOOKUP(X30,Materialien!$C$8:$D$64981,2,0))","v":""},{"$f":"IF(Y30=0,\"\",VLOOKUP(Y30,Materialien!$C$8:$D$64981,2,0))","v":""}]
[null,{"$f":"ROWS(B$30:B31)","v":2},"AMA","Außenwand massiv","einschalige AW aus por. HLZ","Keramik; gipsfr.Putz; por.HLZ mit Dämmf.; gipsfr.Putz","⌀","⌀","⌀",{"$f":"IF(E31=\"\",\"\",CONCATENATE(C31,\", \",E31,\": \",F31))","v":"AMA, einschalige AW aus por. HLZ: Keramik; gipsfr.Putz; por.HLZ mit Dämmf.; gipsfr.Putz"},2,"AMA",{"$f":"IF(AND(NOT(ISBLANK(G31)),AND(NOT(ISBLANK(H31))),NOT(ISBLANK(I31))),(IF(G31=\"--\",Hilfstabelle!$B$1,IF(G31=\"-\",Hilfstabelle!$B$2,IF(G31=\"⌀\",Hilfstabelle!$B$3,IF(G31=\"+\",Hilfstabelle!$B$4,IF(G31=\"++\",Hilfstabelle!$B$5))))))*0.3+(IF(H31=\"--\",Hilfstabelle!$B$1,IF(H31=\"-\",Hilfstabelle!$B$2,IF(H31=\"⌀\",Hilfstabelle!$B$3,IF(H31=\"+\",Hilfstabelle!$B$4,IF(H31=\"++\",Hilfstabelle!$B$5))))))*0.3+(IF(I31=\"--\",Hilfstabelle!$B$1,IF(I31=\"-\",Hilfstabelle!$B$2,IF(I31=\"⌀\",Hilfstabelle!$B$3,IF(I31=\"+\",Hilfstabelle!$B$4,IF(I31=\"++\",Hilfstabelle!$B$5))))))*0.4,\"\")","v":5},"Steingut, Steinzeug, sonstige Keramik","Putz - nicht gipshaltig","Porosierte Hochlochziegel mit Dämmfüllung","Putz - nicht gipshaltig",null,null,null,null,null,null,null,null,{"$f":"IF(N31=0,\"\",VLOOKUP(N31,Materialien!$C$8:$D$64981,2,0))","v":"Keramik"},{"$f":"IF(O31=0,\"\",VLOOKUP(O31,Materialien!$C$8:$D$64981,2,0))","v":"gipsfr.Putz"},{"$f":"IF(P31=0,\"\",VLOOKUP(P31,Materialien!$C$8:$D$64981,2,0))","v":"por.HLZ mit Dämmf."},{"$f":"IF(Q31=0,\"\",VLOOKUP(Q31,Materialien!$C$8:$D$64981,2,0))","v":"gipsfr.Putz"},{"$f":"IF(R31=0,\"\",VLOOKUP(R31,Materialien!$C$8:$D$64981,2,0))","v":""},{"$f":"IF(S31=0,\"\",VLOOKUP(S31,Materialien!$C$8:$D$64981,2,0))","v":""},{"$f":"IF(T31=0,\"\",VLOOKUP(T31,Materialien!$C$8:$D$64981,2,0))","v":""},{"$f":"IF(U31=0,\"\",VLOOKUP(U31,Materialien!$C$8:$D$64981,2,0))","v":""},{"$f":"IF(V31=0,\"\",VLOOKUP(V31,Materialien!$C$8:$D$64981,2,0))","v":""},{"$f":"IF(W31=0,\"\",VLOOKUP(W31,Materialien!$C$8:$D$64981,2,0))","v":""},{"$f":"IF(X31=0,\"\",VLOOKUP(X31,Materialien!$C$8:$D$64981,2,0))","v":""},{"$f":"IF(Y31=0,\"\",VLOOKUP(Y31,Materialien!$C$8:$D$64981,2,0))","v":""}]
[null,{"$f":"ROWS(B$30:B32)","v":3},"AMA","Außenwand massiv","einschalige AW aus Leichtbeton","gipsfr.Putz; Leichtbet.; gipsfr.Putz","+","+","⌀","AMA, einschalige AW aus Leichtbeton: gipsfr.Putz; Leichtbet.; gipsfr.Putz",3,"AMA",{"$f":"IF(AND(NOT(ISBLANK(G32)),AND(NOT(ISBLANK(H32))),NOT(ISBLANK(I32))),(IF(G32=\"--\",Hilfstabelle!$B$1,IF(G32=\"-\",Hilfstabelle!$B$2,IF(G32=\"⌀\",Hilfstabelle!$B$3,IF(G32=\"+\",Hilfstabelle!$B$4,IF(G32=\"++\",Hilfstabelle!$B$5))))))*0.3+(IF(H32=\"--\",Hilfstabelle!$B$1,IF(H32=\"-\",Hilfstabelle!$B$2,IF(H32=\"⌀\",Hilfstabelle!$B$3,IF(H32=\"+\",Hilfstabelle!$B$4,IF(H32=\"++\",Hilfstabelle!$B$5))))))*0.3+(IF(I32=\"--\",Hilfstabelle!$B$1,IF(I32=\"-\",Hilfstabelle!$B$2,IF(I32=\"⌀\",Hilfstabelle!$B$3,IF(I32=\"+\",Hilfstabelle!$B$4,IF(I32=\"++\",Hilfstabelle!$B$5))))))*0.4,\"\")","v":6.5},"Putz - nicht gipshaltig","Leichtbeton","Putz - nicht gipshaltig",null,null,null,null,null,null,null,null,null,{"$f":"IF(N32=0,\"\",VLOOKUP(N32,Materialien!$C$8:$D$64981,2,0))","v":"gipsfr.Putz"},{"$f":"IF(O32=0,\"\",VLOOKUP(O32,Materialien!$C$8:$D$64981,2,0))","v":"Leichtbet."},{"$f":"IF(P32=0,\"\",VLOOKUP(P32,Materialien!$C$8:$D$64981,2,0))","v":"gipsfr.Putz"},{"$f":"IF(Q32=0,\"\",VLOOKUP(Q32,Materialien!$C$8:$D$64981,2,0))","v":""},{"$f":"IF(R32=0,\"\",VLOOKUP(R32,Materialien!$C$8:$D$64981,2,0))","v":""},{"$f":"IF(S32=0,\"\",VLOOKUP(S32,Materialien!$C$8:$D$64981,2,0))","v":""},{"$f":"IF(T32=0,\"\",VLOOKUP(T32,Materialien!$C$8:$D$64981,2,0))","v":""},{"$f":"IF(U32=0,\"\",VLOOKUP(U32,Materialien!$C$8:$D$64981,2,0))","v":""},{"$f":"IF(V32=0,\"\",VLOOKUP(V32,Materialien!$C$8:$D$64981,2,0))","v":""},{"$f":"IF(W32=0,\"\",VLOOKUP(W32,Materialien!$C$8:$D$64981,2,0))","v":""},{"$f":"IF(X32=0,\"\",VLOOKUP(X32,Materialien!$C$8:$D$64981,2,0))","v":""},{"$f":"IF(Y32=0,\"\",VLOOKUP(Y32,Materialien!$C$8:$D$64981,2,0))","v":""}]
[null,{"$f":"ROWS(B$30:B33)","v":4},"AMA","Außenwand massiv","einschalige AW aus Porenbeton","gipsfr.Putz; Porenbet.; gipsfr.Putz","+","⌀","-","AMA, einschalige AW aus Porenbeton: gipsfr.Putz; Porenbet.; gipsfr.Putz",4,"AMA",{"$f":"IF(AND(NOT(ISBLANK(G33)),AND(NOT(ISBLANK(H33))),NOT(ISBLANK(I33))),(IF(G33=\"--\",Hilfstabelle!$B$1,IF(G33=\"-\",Hilfstabelle!$B$2,IF(G33=\"⌀\",Hilfstabelle!$B$3,IF(G33=\"+\",Hilfstabelle!$B$4,IF(G33=\"++\",Hilfstabelle!$B$5))))))*0.3+(IF(H33=\"--\",Hilfstabelle!$B$1,IF(H33=\"-\",Hilfstabelle!$B$2,IF(H33=\"⌀\",Hilfstabelle!$B$3,IF(H33=\"+\",Hilfstabelle!$B$4,IF(H33=\"++\",Hilfstabelle!$B$5))))))*0.3+(IF(I33=\"--\",Hilfstabelle!$B$1,IF(I33=\"-\",Hilfstabelle!$B$2,IF(I33=\"⌀\",Hilfstabelle!$B$3,IF(I33=\"+\",Hilfstabelle!$B$4,IF(I33=\"++\",Hilfstabelle!$B$5))))))*0.4,\"\")","v":4.75},"Putz - nicht gipshaltig","Porenbeton","Putz - nicht gipshaltig",null,null,null,null,null,null,null,null,null,{"$f":"IF(N33=0,\"\",VLOOKUP(N33,Materialien!$C$8:$D$64981,2,0))","v":"gipsfr.Putz"},{"$f":"IF(O33=0,\"\",VLOOKUP(O33,Materialien!$C$8:$D$64981,2,0))","v":"Porenbet."},{"$f":"IF(P33=0,\"\",VLOOKUP(P33,Materialien!$C$8:$D$64981,2,0))","v":"gipsfr.Putz"},{"$f":"IF(Q33=0,\"\",VLOOKUP(Q33,Materialien!$C$8:$D$64981,2,0))","v":""},{"$f":"IF(R33=0,\"\",VLOOKUP(R33,Materialien!$C$8:$D$64981,2,0))","v":""},{"$f":"IF(S33=0,\"\",VLOOKUP(S33,Materialien!$C$8:$D$64981,2,0))","v":""},{"$f":"IF(T33=0,\"\",VLOOKUP(T33,Materialien!$C$8:$D$64981,2,0))","v":""},{"$f":"IF(U33=0,\"\",VLOOKUP(U33,Materialien!$C$8:$D$64981,2,0))","v":""},{"$f":"IF(V33=0,\"\",VLOOKUP(V33,Materialien!$C$8:$D$64981,2,0))","v":""},{"$f":"IF(W33=0,\"\",VLOOKUP(W33,Materialien!$C$8:$D$64981,2,0))","v":""},{"$f":"IF(X33=0,\"\",VLOOKUP(X33,Materialien!$C$8:$D$64981,2,0))","v":""},{"$f":"IF(Y33=0,\"\",VLOOKUP(Y33,Materialien!$C$8:$D$64981,2,0))","v":""}]
[null,{"$f":"ROWS(B$30:B34)","v":5},"AMA","Außenwand massiv","einschalige AW aus Leichtbeton","gipshal.Putz; Leichtbet.; gipsfr.Putz","⌀","-","--","AMA, einschalige AW aus Leichtbeton: gipshal.Putz; Leichtbet.; gipsfr.Putz",5,"AMA",{"$f":"IF(AND(NOT(ISBLANK(G34)),AND(NOT(ISBLANK(H34))),NOT(ISBLANK(I34))),(IF(G34=\"--\",Hilfstabelle!$B$1,IF(G34=\"-\",Hilfstabelle!$B$2,IF(G34=\"⌀\",Hilfstabelle!$B$3,IF(G34=\"+\",Hilfstabelle!$B$4,IF(G34=\"++\",Hilfstabelle!$B$5))))))*0.3+(IF(H34=\"--\",Hilfstabelle!$B$1,IF(H34=\"-\",Hilfstabelle!$B$2,IF(H34=\"⌀\",Hilfstabelle!$B$3,IF(H34=\"+\",Hilfstabelle!$B$4,IF(H34=\"++\",Hilfstabelle!$B$5))))))*0.3+(IF(I34=\"--\",Hilfstabelle!$B$1,IF(I34=\"-\",Hilfstabelle!$B$2,IF(I34=\"⌀\",Hilfstabelle!$B$3,IF(I34=\"+\",Hilfstabelle!$B$4,IF(I34=\"++\",Hilfstabelle!$B$5))))))*0.4,\"\")","v":2.25},"Putz - gipshaltig","Leichtbeton","Putz - nicht gipshaltig",null,null,null,null,null,null,null,null,null,{"$f":"IF(N34=0,\"\",VLOOKUP(N34,Materialien!$C$8:$D$64981,2,0))","v":"gipshal.Putz"},{"$f":"IF(O34=0,\"\",VLOOKUP(O34,Materialien!$C$8:$D$64981,2,0))","v":"Leichtbet."},{"$f":"IF(P34=0,\"\",VLOOKUP(P34,Materialien!$C$8:$D$64981,2,0))","v":"gipsfr.Putz"},{"$f":"IF(Q34=0,\"\",VLOOKUP(Q34,Materialien!$C$8:$D$64981,2,0))","v":""},{"$f":"IF(R34=0,\"\",VLOOKUP(R34,Materialien!$C$8:$D$64981,2,0))","v":""},{"$f":"IF(S34=0,\"\",VLOOKUP(S34,Materialien!$C$8:$D$64981,2,0))","v":""},{"$f":"IF(T34=0,\"\",VLOOKUP(T34,Materialien!$C$8:$D$64981,2,0))","v":""},{"$f":"IF(U34=0,\"\",VLOOKUP(U34,Materialien!$C$8:$D$64981,2,0))","v":""},{"$f":"IF(V34=0,\"\",VLOOKUP(V34,Materialien!$C$8:$D$64981,2,0))","v":""},{"$f":"IF(W34=0,\"\",VLOOKUP(W34,Materialien!$C$8:$D$64981,2,0))","v":""},{"$f":"IF(X34=0,\"\",VLOOKUP(X34,Materialien!$C$8:$D$64981,2,0))","v":""},{"$f":"IF(Y34=0,\"\",VLOOKUP(Y34,Materialien!$C$8:$D$64981,2,0))","v":""}]
[null,{"$f":"ROWS(B$30:B35)","v":6},"AMA","Außenwand massiv","einschalige AW aus por. HLZ","gipshal.Putz; por.HLZ mit Dämmf.; gipshal.Putz","⌀","-","--","AMA, einschalige AW aus por. HLZ: gipshal.Putz; por.HLZ mit Dämmf.; gipshal.Putz",6,"AMA",{"$f":"IF(AND(NOT(ISBLANK(G35)),AND(NOT(ISBLANK(H35))),NOT(ISBLANK(I35))),(IF(G35=\"--\",Hilfstabelle!$B$1,IF(G35=\"-\",Hilfstabelle!$B$2,IF(G35=\"⌀\",Hilfstabelle!$B$3,IF(G35=\"+\",Hilfstabelle!$B$4,IF(G35=\"++\",Hilfstabelle!$B$5))))))*0.3+(IF(H35=\"--\",Hilfstabelle!$B$1,IF(H35=\"-\",Hilfstabelle!$B$2,IF(H35=\"⌀\",Hilfstabelle!$B$3,IF(H35=\"+\",Hilfstabelle!$B$4,IF(H35=\"++\",Hilfstabelle!$B$5))))))*0.3+(IF(I35=\"--\",Hilfstabelle!$B$1,IF(I35=\"-\",Hilfstabelle!$B$2,IF(I35=\"⌀\",Hilfstabelle!$B$3,IF(I35=\"+\",Hilfstabelle!$B$4,IF(I35=\"++\",Hilfstabelle!$B$5))))))*0.4,\"\")","v":2.25},"Putz - gipshaltig","Porosierte Hochlochziegel mit Dämmfüllung","Putz - gipshaltig",null,null,null,null,null,null,null,null,null,{"$f":"IF(N35=0,\"\",VLOOKUP(N35,Materialien!$C$8:$D$64981,2,0))","v":"gipshal.Putz"},{"$f":"IF(O35=0,\"\",VLOOKUP(O35,Materialien!$C$8:$D$64981,2,0))","v":"por.HLZ mit Dämmf."},{"$f":"IF(P35=0,\"\",VLOOKUP(P35,Materialien!$C$8:$D$64981,2,0))","v":"gipshal.Putz"},{"$f":"IF(Q35=0,\"\",VLOOKUP(Q35,Materialien!$C$8:$D$64981,2,0))","v":""},{"$f":"IF(R35=0,\"\",VLOOKUP(R35,Materialien!$C$8:$D$64981,2,0))","v":""},{"$f":"IF(S35=0,\"\",VLOOKUP(S35,Materialien!$C$8:$D$64981,2,0))","v":""},{"$f":"IF(T35=0,\"\",VLOOKUP(T35,Materialien!$C$8:$D$64981,2,0))","v":""},{"$f":"IF(U35=0,\"\",VLOOKUP(U35,Materialien!$C$8:$D$64981,2,0))","v":""},{"$f":"IF(V35=0,\"\",VLOOKUP(V35,Materialien!$C$8:$D$64981,2,0))","v":""},{"$f":"IF(W35=0,\"\",VLOOKUP(W35,Materialien!$C$8:$D$64981,2,0))","v":""},{"$f":"IF(X35=0,\"\",VLOOKUP(X35,Materialien!$C$8:$D$64981,2,0))","v":""},{"$f":"IF(Y35=0,\"\",VLOOKUP(Y35,Materialien!$C$8:$D$64981,2,0))","v":""}]
[null,{"$f":"ROWS(B$30:B36)","v":7},"AMA","Außenwand massiv","mehrschalige AW mit WDVS","gipsfr.Putz; StB.; MW; gipsfr.Putz","⌀","+","+","AMA, mehrschalige AW mit WDVS: gipsfr.Putz; StB.; MW; gipsfr.Putz",7,"AMA",{"$f":"IF(AND(NOT(ISBLANK(G36)),AND(NOT(ISBLANK(H36))),NOT(ISBLANK(I36))),(IF(G36=\"--\",Hilfstabelle!$B$1,IF(G36=\"-\",Hilfstabelle!$B$2,IF(G36=\"⌀\",Hilfstabelle!$B$3,IF(G36=\"+\",Hilfstabelle!$B$4,IF(G36=\"++\",Hilfstabelle!$B$5))))))*0.3+(IF(H36=\"--\",Hilfstabelle!$B$1,IF(H36=\"-\",Hilfstabelle!$B$2,IF(H36=\"⌀\",Hilfstabelle!$B$3,IF(H36=\"+\",Hilfstabelle!$B$4,IF(H36=\"++\",Hilfstabelle!$B$5))))))*0.3+(IF(I36=\"--\",Hilfstabelle!$B$1,IF(I36=\"-\",Hilfstabelle!$B$2,IF(I36=\"⌀\",Hilfstabelle!$B$3,IF(I36=\"+\",Hilfstabelle!$B$4,IF(I36=\"++\",Hilfstabelle!$B$5))))))*0.4,\"\")","v":6.75},"Putz - nicht gipshaltig","Stahlbeton (Ortbeton)","Dämmstoff - Mineralwolle","Putz - nicht gipshaltig",null,null,null,null,null,null,null,null,{"$f":"IF(N36=0,\"\",VLOOKUP(N36,Materialien!$C$8:$D$64981,2,0))","v":"gipsfr.Putz"},{"$f":"IF(O36=0,\"\",VLOOKUP(O36,Materialien!$C$8:$D$64981,2,0))","v":"StB."},{"$f":"IF(P36=0,\"\",VLOOKUP(P36,Materialien!$C$8:$D$64981,2,0))","v":"MW"},{"$f":"IF(Q36=0,\"\",VLOOKUP(Q36,Materialien!$C$8:$D$64981,2,0))","v":"gipsfr.Putz"},{"$f":"IF(R36=0,\"\",VLOOKUP(R36,Materialien!$C$8:$D$64981,2,0))","v":""},{"$f":"IF(S36=0,\"\",VLOOKUP(S36,Materialien!$C$8:$D$64981,2,0))","v":""},{"$f":"IF(T36=0,\"\",VLOOKUP(T36,Materialien!$C$8:$D$64981,2,0))","v":""},{"$f":"IF(U36=0,\"\",VLOOKUP(U36,Materialien!$C$8:$D$64981,2,0))","v":""},{"$f":"IF(V36=0,\"\",VLOOKUP(V36,Materialien!$C$8:$D$64981,2,0))","v":""},{"$f":"IF(W36=0,\"\",VLOOKUP(W36,Materialien!$C$8:$D$64981,2,0))","v":""},{"$f":"IF(X36=0,\"\",VLOOKUP(X36,Materialien!$C$8:$D$64981,2,0))","v":""},{"$f":"IF(Y36=0,\"\",VLOOKUP(Y36,Materialien!$C$8:$D$64981,2,0))","v":""}]
[null,{"$f":"ROWS(B$30:B37)","v":8},"AMA","Außenwand massiv","mehrschalige AW mit VHF","gipsfr.Putz; StB.; MW; Al.-UK; Faserzem.","⌀","+","+","AMA, mehrschalige AW mit VHF: gipsfr.Putz; StB.; MW; Al.-UK; Faserzem.",8,"AMA",{"$f":"IF(AND(NOT(ISBLANK(G37)),AND(NOT(ISBLANK(H37))),NOT(ISBLANK(I37))),(IF(G37=\"--\",Hilfstabelle!$B$1,IF(G37=\"-\",Hilfstabelle!$B$2,IF(G37=\"⌀\",Hilfstabelle!$B$3,IF(G37=\"+\",Hilfstabelle!$B$4,IF(G37=\"++\",Hilfstabelle!$B$5))))))*0.3+(IF(H37=\"--\",Hilfstabelle!$B$1,IF(H37=\"-\",Hilfstabelle!$B$2,IF(H37=\"⌀\",Hilfstabelle!$B$3,IF(H37=\"+\",Hilfstabelle!$B$4,IF(H37=\"++\",Hilfstabelle!$B$5))))))*0.3+(IF(I37=\"--\",Hilfstabelle!$B$1,IF(I37=\"-\",Hilfstabelle!$B$2,IF(I37=\"⌀\",Hilfstabelle!$B$3,IF(I37=\"+\",Hilfstabelle!$B$4,IF(I37=\"++\",Hilfstabelle!$B$5))))))*0.4,\"\")","v":6.75},"Putz - nicht gipshaltig","Stahlbeton (Ortbeton)","Dämmstoff - Mineralwolle","Unterkonstruktion - Aluminium","Faserzement",null,null,null,null,null,null,null,{"$f":"IF(N37=0,\"\",VLOOKUP(N37,Materialien!$C$8:$D$64981,2,0))","v":"gipsfr.Putz"},{"$f":"IF(O37=0,\"\",VLOOKUP(O37,Materialien!$C$8:$D$64981,2,0))","v":"StB."},{"$f":"IF(P37=0,\"\",VLOOKUP(P37,Materialien!$C$8:$D$64981,2,0))","v":"MW"},{"$f":"IF(Q37=0,\"\",VLOOKUP(Q37,Materialien!$C$8:$D$64981,2,0))","v":"Al.-UK"},{"$f":"IF(R37=0,\"\",VLOOKUP(R37,Materialien!$C$8:$D$64981,2,0))","v":"Faserzem."},{"$f":"IF(S37=0,\"\",VLOOKUP(S37,Materialien!$C$8:$D$64981,2,0))","v":""},{"$f":"IF(T37=0,\"\",VLOOKUP(T37,Materialien!$C$8:$D$64981,2,0))","v":""},{"$f":"IF(U37=0,\"\",VLOOKUP(U37,Materialien!$C$8:$D$64981,2,0))","v":""},{"$f":"IF(V37=0,\"\",VLOOKUP(V37,Materialien!$C$8:$D$64981,2,0))","v":""},{"$f":"IF(W37=0,\"\",VLOOKUP(W37,Materialien!$C$8:$D$64981,2,0))","v":""},{"$f":"IF(X37=0,\"\",VLOOKUP(X37,Materialien!$C$8:$D$64981,2,0))","v":""},{"$f":"IF(Y37=0,\"\",VLOOKUP(Y37,Materialien!$C$8:$D$64981,2,0))","v":""}]
[null,{"$f":"ROWS(B$30:B38)","v":9},"AMA","Außenwand massiv","AW Stb mit hinterlüfteter Natursteinfassade","StB.; MW; St.-UK; Naturst.","+","+","+","AMA-E, BMBF_AW_01_(Naturstein): StB.; MW; St.-UK; Naturst.",9,"AMA",{"$f":"IF(AND(NOT(ISBLANK(G38)),AND(NOT(ISBLANK(H38))),NOT(ISBLANK(I38))),(IF(G38=\"--\",Hilfstabelle!$B$1,IF(G38=\"-\",Hilfstabelle!$B$2,IF(G38=\"⌀\",Hilfstabelle!$B$3,IF(G38=\"+\",Hilfstabelle!$B$4,IF(G38=\"++\",Hilfstabelle!$B$5))))))*0.3+(IF(H38=\"--\",Hilfstabelle!$B$1,IF(H38=\"-\",Hilfstabelle!$B$2,IF(H38=\"⌀\",Hilfstabelle!$B$3,IF(H38=\"+\",Hilfstabelle!$B$4,IF(H38=\"++\",Hilfstabelle!$B$5))))))*0.3+(IF(I38=\"--\",Hilfstabelle!$B$1,IF(I38=\"-\",Hilfstabelle!$B$2,IF(I38=\"⌀\",Hilfstabelle!$B$3,IF(I38=\"+\",Hilfstabelle!$B$4,IF(I38=\"++\",Hilfstabelle!$B$5))))))*0.4,\"\")","v":7.5},"Stahlbeton (Ortbeton)","Dämmstoff - Mineralwolle","Unterkonstruktion - Stahl","Naturstein",null,null,null,null,null,null,null,null,{"$f":"IF(N38=0,\"\",VLOOKUP(N38,Materialien!$C$8:$D$64981,2,0))","v":"StB."},{"$f":"IF(O38=0,\"\",VLOOKUP(O38,Materialien!$C$8:$D$64981,2,0))","v":"MW"},{"$f":"IF(P38=0,\"\",VLOOKUP(P38,Materialien!$C$8:$D$64981,2,0))","v":"St.-UK"},{"$f":"IF(Q38=0,\"\",VLOOKUP(Q38,Materialien!$C$8:$D$64981,2,0))","v":"Naturst."},{"$f":"IF(R38=0,\"\",VLOOKUP(R38,Materialien!$C$8:$D$64981,2,0))","v":""},{"$f":"IF(S38=0,\"\",VLOOKUP(S38,Materialien!$C$8:$D$64981,2,0))","v":""},{"$f":"IF(T38=0,\"\",VLOOKUP(T38,Materialien!$C$8:$D$64981,2,0))","v":""},{"$f":"IF(U38=0,\"\",VLOOKUP(U38,Materialien!$C$8:$D$64981,2,0))","v":""},{"$f":"IF(V38=0,\"\",VLOOKUP(V38,Materialien!$C$8:$D$64981,2,0))","v":""},{"$f":"IF(W38=0,\"\",VLOOKUP(W38,Materialien!$C$8:$D$64981,2,0))","v":""},{"$f":"IF(X38=0,\"\",VLOOKUP(X38,Materialien!$C$8:$D$64981,2,0))","v":""},{"$f":"IF(Y38=0,\"\",VLOOKUP(Y38,Materialien!$C$8:$D$64981,2,0))","v":""}]
[]
[null,null,null,"Eigenes Bauteil (Außenwand massiv):",null,null,null,null,null,"Eigene Bauteile (Außenwand massiv):"]
[null,1,"AMA-E","Außenwand massiv",null,{"$f":"CONCATENATE(Z41,IF(AA41=\"\",\"\",\"; \"),AA41,IF(AB41=\"\",\"\",\"; \"),AB41,IF(AC41=\"\",\"\",\"; \"),AC41,,IF(AD41=\"\",\"\",\"; \"),AD41,IF(AE41=\"\",\"\",\"; \"),AE41,IF(AF41=\"\",\"\",\"; \"),AF41,IF(AG41=\"\",\"\",\"; \"),AG41,IF(AH41=\"\",\"\",\"; \"),AH41,IF(AI41=\"\",\"\",\"; \"),AI41,IF(AJ41=\"\",\"\",\"; \"),AJ41,IF(AK41=\"\",\"\",\"; \"),AK41)","v":""},null,null,null,{"$f":"IF(E41=\"\",\"\",CONCATENATE(C41,\", \",E41,\": \",F41))","v":""},{"$f":"B41","v":1},"AMA-E",{"$f":"IF(AND(NOT(ISBLANK(G41)),AND(NOT(ISBLANK(H41))),NOT(ISBLANK(I41))),(IF(G41=\"--\",Hilfstabelle!$B$1,IF(G41=\"-\",Hilfstabelle!$B$2,IF(G41=\"⌀\",Hilfstabelle!$B$3,IF(G41=\"+\",Hilfstabelle!$B$4,IF(G41=\"++\",Hilfstabelle!$B$5))))))*0.3+(IF(H41=\"--\",Hilfstabelle!$B$1,IF(H41=\"-\",Hilfstabelle!$B$2,IF(H41=\"⌀\",Hilfstabelle!$B$3,IF(H41=\"+\",Hilfstabelle!$B$4,IF(H41=\"++\",Hilfstabelle!$B$5))))))*0.3+(IF(I41=\"--\",Hilfstabelle!$B$1,IF(I41=\"-\",Hilfstabelle!$B$2,IF(I41=\"⌀\",Hilfstabelle!$B$3,IF(I41=\"+\",Hilfstabelle!$B$4,IF(I41=\"++\",Hilfstabelle!$B$5))))))*0.4,\"\")","v":""},null,null,null,null,null,null,null,null,null,null,null,null,{"$f":"IF(N41=0,\"\",VLOOKUP(N41,Materialien!$C$8:$D$64981,2,0))","v":""},{"$f":"IF(O41=0,\"\",VLOOKUP(O41,Materialien!$C$8:$D$64981,2,0))","v":""},{"$f":"IF(P41=0,\"\",VLOOKUP(P41,Materialien!$C$8:$D$64981,2,0))","v":""},{"$f":"IF(Q41=0,\"\",VLOOKUP(Q41,Materialien!$C$8:$D$64981,2,0))","v":""},{"$f":"IF(R41=0,\"\",VLOOKUP(R41,Materialien!$C$8:$D$64981,2,0))","v":""},{"$f":"IF(S41=0,\"\",VLOOKUP(S41,Materialien!$C$8:$D$64981,2,0))","v":""},{"$f":"IF(T41=0,\"\",VLOOKUP(T41,Materialien!$C$8:$D$64981,2,0))","v":""},{"$f":"IF(U41=0,\"\",VLOOKUP(U41,Materialien!$C$8:$D$64981,2,0))","v":""},{"$f":"IF(V41=0,\"\",VLOOKUP(V41,Materialien!$C$8:$D$64981,2,0))","v":""},{"$f":"IF(W41=0,\"\",VLOOKUP(W41,Materialien!$C$8:$D$64981,2,0))","v":""},{"$f":"IF(X41=0,\"\",VLOOKUP(X41,Materialien!$C$8:$D$64981,2,0))","v":""},{"$f":"IF(Y41=0,\"\",VLOOKUP(Y41,Materialien!$C$8:$D$64981,2,0))","v":""}]
[null,{"$f":"ROWS(B$41:B42)","v":2},null,null,null,{"$f":"CONCATENATE(Z42,IF(AA42=\"\",\"\",\"; \"),AA42,IF(AB42=\"\",\"\",\"; \"),AB42,IF(AC42=\"\",\"\",\"; \"),AC42,,IF(AD42=\"\",\"\",\"; \"),AD42,IF(AE42=\"\",\"\",\"; \"),AE42,IF(AF42=\"\",\"\",\"; \"),AF42,IF(AG42=\"\",\"\",\"; \"),AG42,IF(AH42=\"\",\"\",\"; \"),AH42,IF(AI42=\"\",\"\",\"; \"),AI42,IF(AJ42=\"\",\"\",\"; \"),AJ42,IF(AK42=\"\",\"\",\"; \"),AK42)","v":""},null,null,null,null,null,null,{"$f":"IF(AND(NOT(ISBLANK(G42)),AND(NOT(ISBLANK(H42))),NOT(ISBLANK(I42))),(IF(G42=\"--\",Hilfstabelle!$B$1,IF(G42=\"-\",Hilfstabelle!$B$2,IF(G42=\"⌀\",Hilfstabelle!$B$3,IF(G42=\"+\",Hilfstabelle!$B$4,IF(G42=\"++\",Hilfstabelle!$B$5))))))*0.3+(IF(H42=\"--\",Hilfstabelle!$B$1,IF(H42=\"-\",Hilfstabelle!$B$2,IF(H42=\"⌀\",Hilfstabelle!$B$3,IF(H42=\"+\",Hilfstabelle!$B$4,IF(H42=\"++\",Hilfstabelle!$B$5))))))*0.3+(IF(I42=\"--\",Hilfstabelle!$B$1,IF(I42=\"-\",Hilfstabelle!$B$2,IF(I42=\"⌀\",Hilfstabelle!$B$3,IF(I42=\"+\",Hilfstabelle!$B$4,IF(I42=\"++\",Hilfstabelle!$B$5))))))*0.4,\"\")","v":""},null,null,null,null,null,null,null,null,null,null,null,null,{"$f":"IF(N42=0,\"\",VLOOKUP(N42,Materialien!$C$8:$D$64981,2,0))","v":""},{"$f":"IF(O42=0,\"\",VLOOKUP(O42,Materialien!$C$8:$D$64981,2,0))","v":""},{"$f":"IF(P42=0,\"\",VLOOKUP(P42,Materialien!$C$8:$D$64981,2,0))","v":""},{"$f":"IF(Q42=0,\"\",VLOOKUP(Q42,Materialien!$C$8:$D$64981,2,0))","v":""},{"$f":"IF(R42=0,\"\",VLOOKUP(R42,Materialien!$C$8:$D$64981,2,0))","v":""},{"$f":"IF(S42=0,\"\",VLOOKUP(S42,Materialien!$C$8:$D$64981,2,0))","v":""},{"$f":"IF(T42=0,\"\",VLOOKUP(T42,Materialien!$C$8:$D$64981,2,0))","v":""},{"$f":"IF(U42=0,\"\",VLOOKUP(U42,Materialien!$C$8:$D$64981,2,0))","v":""},{"$f":"IF(V42=0,\"\",VLOOKUP(V42,Materialien!$C$8:$D$64981,2,0))","v":""},{"$f":"IF(W42=0,\"\",VLOOKUP(W42,Materialien!$C$8:$D$64981,2,0))","v":""},{"$f":"IF(X42=0,\"\",VLOOKUP(X42,Materialien!$C$8:$D$64981,2,0))","v":""},{"$f":"IF(Y42=0,\"\",VLOOKUP(Y42,Materialien!$C$8:$D$64981,2,0))","v":""}]
[null,{"$f":"ROWS(B$41:B43)","v":3},"AMA-E","Außenwand massiv",null,{"$f":"CONCATENATE(Z43,IF(AA43=\"\",\"\",\"; \"),AA43,IF(AB43=\"\",\"\",\"; \"),AB43,IF(AC43=\"\",\"\",\"; \"),AC43,,IF(AD43=\"\",\"\",\"; \"),AD43,IF(AE43=\"\",\"\",\"; \"),AE43,IF(AF43=\"\",\"\",\"; \"),AF43,IF(AG43=\"\",\"\",\"; \"),AG43,IF(AH43=\"\",\"\",\"; \"),AH43,IF(AI43=\"\",\"\",\"; \"),AI43,IF(AJ43=\"\",\"\",\"; \"),AJ43,IF(AK43=\"\",\"\",\"; \"),AK43)","v":""},null,null,null,"",{"$f":"B43","v":3},{"$f":"C43","v":"AMA-E"},{"$f":"IF(AND(NOT(ISBLANK(G43)),AND(NOT(ISBLANK(H43))),NOT(ISBLANK(I43))),(IF(G43=\"--\",Hilfstabelle!$B$1,IF(G43=\"-\",Hilfstabelle!$B$2,IF(G43=\"⌀\",Hilfstabelle!$B$3,IF(G43=\"+\",Hilfstabelle!$B$4,IF(G43=\"++\",Hilfstabelle!$B$5))))))*0.3+(IF(H43=\"--\",Hilfstabelle!$B$1,IF(H43=\"-\",Hilfstabelle!$B$2,IF(H43=\"⌀\",Hilfstabelle!$B$3,IF(H43=\"+\",Hilfstabelle!$B$4,IF(H43=\"++\",Hilfstabelle!$B$5))))))*0.3+(IF(I43=\"--\",Hilfstabelle!$B$1,IF(I43=\"-\",Hilfstabelle!$B$2,IF(I43=\"⌀\",Hilfstabelle!$B$3,IF(I43=\"+\",Hilfstabelle!$B$4,IF(I43=\"++\",Hilfstabelle!$B$5))))))*0.4,\"\")","v":""},null,null,null,null,null,null,null,null,null,null,null,null,{"$f":"IF(N43=0,\"\",VLOOKUP(N43,Materialien!$C$8:$D$64981,2,0))","v":""},{"$f":"IF(O43=0,\"\",VLOOKUP(O43,Materialien!$C$8:$D$64981,2,0))","v":""},{"$f":"IF(P43=0,\"\",VLOOKUP(P43,Materialien!$C$8:$D$64981,2,0))","v":""},{"$f":"IF(Q43=0,\"\",VLOOKUP(Q43,Materialien!$C$8:$D$64981,2,0))","v":""},{"$f":"IF(R43=0,\"\",VLOOKUP(R43,Materialien!$C$8:$D$64981,2,0))","v":""},{"$f":"IF(S43=0,\"\",VLOOKUP(S43,Materialien!$C$8:$D$64981,2,0))","v":""},{"$f":"IF(T43=0,\"\",VLOOKUP(T43,Materialien!$C$8:$D$64981,2,0))","v":""},{"$f":"IF(U43=0,\"\",VLOOKUP(U43,Materialien!$C$8:$D$64981,2,0))","v":""},{"$f":"IF(V43=0,\"\",VLOOKUP(V43,Materialien!$C$8:$D$64981,2,0))","v":""},{"$f":"IF(W43=0,\"\",VLOOKUP(W43,Materialien!$C$8:$D$64981,2,0))","v":""},{"$f":"IF(X43=0,\"\",VLOOKUP(X43,Materialien!$C$8:$D$64981,2,0))","v":""},{"$f":"IF(Y43=0,\"\",VLOOKUP(Y43,Materialien!$C$8:$D$64981,2,0))","v":""}]
[]
[null,null,null,"Außenwand elementiert"]
[null,{"$f":"ROW(B46)-ROWS(B$1:B45)","v":1},"AEL","Außenwand elementiert","Aluminiumfenster","Al; Glas","++","⌀","⌀","AEL, Aluminiumfenster: Al; Glas",1,"AEL",{"$f":"IF(AND(NOT(ISBLANK(G46)),AND(NOT(ISBLANK(H46))),NOT(ISBLANK(I46))),(IF(G46=\"--\",Hilfstabelle!$B$1,IF(G46=\"-\",Hilfstabelle!$B$2,IF(G46=\"⌀\",Hilfstabelle!$B$3,IF(G46=\"+\",Hilfstabelle!$B$4,IF(G46=\"++\",Hilfstabelle!$B$5))))))*0.3+(IF(H46=\"--\",Hilfstabelle!$B$1,IF(H46=\"-\",Hilfstabelle!$B$2,IF(H46=\"⌀\",Hilfstabelle!$B$3,IF(H46=\"+\",Hilfstabelle!$B$4,IF(H46=\"++\",Hilfstabelle!$B$5))))))*0.3+(IF(I46=\"--\",Hilfstabelle!$B$1,IF(I46=\"-\",Hilfstabelle!$B$2,IF(I46=\"⌀\",Hilfstabelle!$B$3,IF(I46=\"+\",Hilfstabelle!$B$4,IF(I46=\"++\",Hilfstabelle!$B$5))))))*0.4,\"\")","v":6.5},"Aluminium","Glas",null,null,null,null,null,null,null,null,null,null,{"$f":"IF(N46=0,\"\",VLOOKUP(N46,Materialien!$C$8:$D$64981,2,0))","v":"Al"},"","","","","","","","","","",""]
[]
[null,null,null,"Eigenes Bauteil (Außenwand elementiert):",null,null,null,null,null,"Eigene Bauteile (Außenwand elementiert):"]
[null,1,"AEL-E","Außenwand elementiert",null,{"$f":"CONCATENATE(Z49,IF(AA49=\"\",\"\",\"; \"),AA49,IF(AB49=\"\",\"\",\"; \"),AB49,IF(AC49=\"\",\"\",\"; \"),AC49,,IF(AD49=\"\",\"\",\"; \"),AD49,IF(AE49=\"\",\"\",\"; \"),AE49,IF(AF49=\"\",\"\",\"; \"),AF49,IF(AG49=\"\",\"\",\"; \"),AG49,IF(AH49=\"\",\"\",\"; \"),AH49,IF(AI49=\"\",\"\",\"; \"),AI49,IF(AJ49=\"\",\"\",\"; \"),AJ49,IF(AK49=\"\",\"\",\"; \"),AK49)","v":""},null,null,null,"",2,"AEL-E",{"$f":"IF(AND(NOT(ISBLANK(G49)),AND(NOT(ISBLANK(H49))),NOT(ISBLANK(I49))),(IF(G49=\"--\",Hilfstabelle!$B$1,IF(G49=\"-\",Hilfstabelle!$B$2,IF(G49=\"⌀\",Hilfstabelle!$B$3,IF(G49=\"+\",Hilfstabelle!$B$4,IF(G49=\"++\",Hilfstabelle!$B$5))))))*0.3+(IF(H49=\"--\",Hilfstabelle!$B$1,IF(H49=\"-\",Hilfstabelle!$B$2,IF(H49=\"⌀\",Hilfstabelle!$B$3,IF(H49=\"+\",Hilfstabelle!$B$4,IF(H49=\"++\",Hilfstabelle!$B$5))))))*0.3+(IF(I49=\"--\",Hilfstabelle!$B$1,IF(I49=\"-\",Hilfstabelle!$B$2,IF(I49=\"⌀\",Hilfstabelle!$B$3,IF(I49=\"+\",Hilfstabelle!$B$4,IF(I49=\"++\",Hilfstabelle!$B$5))))))*0.4,\"\")","v":""},null,null,null,null,null,null,null,null,null,null,null,null,{"$f":"IF(N49=0,\"\",VLOOKUP(N49,Materialien!$C$8:$D$64981,2,0))","v":""},{"$f":"IF(O49=0,\"\",VLOOKUP(O49,Materialien!$C$8:$D$64981,2,0))","v":""},{"$f":"IF(P49=0,\"\",VLOOKUP(P49,Materialien!$C$8:$D$64981,2,0))","v":""},{"$f":"IF(Q49=0,\"\",VLOOKUP(Q49,Materialien!$C$8:$D$64981,2,0))","v":""},{"$f":"IF(R49=0,\"\",VLOOKUP(R49,Materialien!$C$8:$D$64981,2,0))","v":""},{"$f":"IF(S49=0,\"\",VLOOKUP(S49,Materialien!$C$8:$D$64981,2,0))","v":""},{"$f":"IF(T49=0,\"\",VLOOKUP(T49,Materialien!$C$8:$D$64981,2,0))","v":""},{"$f":"IF(U49=0,\"\",VLOOKUP(U49,Materialien!$C$8:$D$64981,2,0))","v":""},{"$f":"IF(V49=0,\"\",VLOOKUP(V49,Materialien!$C$8:$D$64981,2,0))","v":""},{"$f":"IF(W49=0,\"\",VLOOKUP(W49,Materialien!$C$8:$D$64981,2,0))","v":""},{"$f":"IF(X49=0,\"\",VLOOKUP(X49,Materialien!$C$8:$D$64981,2,0))","v":""},{"$f":"IF(Y49=0,\"\",VLOOKUP(Y49,Materialien!$C$8:$D$64981,2,0))","v":""}]
[null,{"$f":"ROWS(B$49:B50)","v":2},null,null,null,"",null,null,null,null,null,null,{"$f":"IF(AND(NOT(ISBLANK(G50)),AND(NOT(ISBLANK(H50))),NOT(ISBLANK(I50))),(IF(G50=\"--\",Hilfstabelle!$B$1,IF(G50=\"-\",Hilfstabelle!$B$2,IF(G50=\"⌀\",Hilfstabelle!$B$3,IF(G50=\"+\",Hilfstabelle!$B$4,IF(G50=\"++\",Hilfstabelle!$B$5))))))*0.3+(IF(H50=\"--\",Hilfstabelle!$B$1,IF(H50=\"-\",Hilfstabelle!$B$2,IF(H50=\"⌀\",Hilfstabelle!$B$3,IF(H50=\"+\",Hilfstabelle!$B$4,IF(H50=\"++\",Hilfstabelle!$B$5))))))*0.3+(IF(I50=\"--\",Hilfstabelle!$B$1,IF(I50=\"-\",Hilfstabelle!$B$2,IF(I50=\"⌀\",Hilfstabelle!$B$3,IF(I50=\"+\",Hilfstabelle!$B$4,IF(I50=\"++\",Hilfstabelle!$B$5))))))*0.4,\"\")","v":""},null,null,null,null,null,null,null,null,null,null,null,null,{"$f":"IF(N50=0,\"\",VLOOKUP(N50,Materialien!$C$8:$D$64981,2,0))","v":""},{"$f":"IF(O50=0,\"\",VLOOKUP(O50,Materialien!$C$8:$D$64981,2,0))","v":""},{"$f":"IF(P50=0,\"\",VLOOKUP(P50,Materialien!$C$8:$D$64981,2,0))","v":""},{"$f":"IF(Q50=0,\"\",VLOOKUP(Q50,Materialien!$C$8:$D$64981,2,0))","v":""},{"$f":"IF(R50=0,\"\",VLOOKUP(R50,Materialien!$C$8:$D$64981,2,0))","v":""},{"$f":"IF(S50=0,\"\",VLOOKUP(S50,Materialien!$C$8:$D$64981,2,0))","v":""},{"$f":"IF(T50=0,\"\",VLOOKUP(T50,Materialien!$C$8:$D$64981,2,0))","v":""},{"$f":"IF(U50=0,\"\",VLOOKUP(U50,Materialien!$C$8:$D$64981,2,0))","v":""},{"$f":"IF(V50=0,\"\",VLOOKUP(V50,Materialien!$C$8:$D$64981,2,0))","v":""},{"$f":"IF(W50=0,\"\",VLOOKUP(W50,Materialien!$C$8:$D$64981,2,0))","v":""},{"$f":"IF(X50=0,\"\",VLOOKUP(X50,Materialien!$C$8:$D$64981,2,0))","v":""},{"$f":"IF(Y50=0,\"\",VLOOKUP(Y50,Materialien!$C$8:$D$64981,2,0))","v":""}]
[null,{"$f":"ROWS(B$49:B51)","v":3},"AEL-E","Außenwand elementiert",null,"",null,null,null,"",2,"AEL-E",{"$f":"IF(AND(NOT(ISBLANK(G51)),AND(NOT(ISBLANK(H51))),NOT(ISBLANK(I51))),(IF(G51=\"--\",Hilfstabelle!$B$1,IF(G51=\"-\",Hilfstabelle!$B$2,IF(G51=\"⌀\",Hilfstabelle!$B$3,IF(G51=\"+\",Hilfstabelle!$B$4,IF(G51=\"++\",Hilfstabelle!$B$5))))))*0.3+(IF(H51=\"--\",Hilfstabelle!$B$1,IF(H51=\"-\",Hilfstabelle!$B$2,IF(H51=\"⌀\",Hilfstabelle!$B$3,IF(H51=\"+\",Hilfstabelle!$B$4,IF(H51=\"++\",Hilfstabelle!$B$5))))))*0.3+(IF(I51=\"--\",Hilfstabelle!$B$1,IF(I51=\"-\",Hilfstabelle!$B$2,IF(I51=\"⌀\",Hilfstabelle!$B$3,IF(I51=\"+\",Hilfstabelle!$B$4,IF(I51=\"++\",Hilfstabelle!$B$5))))))*0.4,\"\")","v":""},null,null,null,null,null,null,null,null,null,null,null,null,{"$f":"IF(N51=0,\"\",VLOOKUP(N51,Materialien!$C$8:$D$64981,2,0))","v":""},{"$f":"IF(O51=0,\"\",VLOOKUP(O51,Materialien!$C$8:$D$64981,2,0))","v":""},{"$f":"IF(P51=0,\"\",VLOOKUP(P51,Materialien!$C$8:$D$64981,2,0))","v":""},{"$f":"IF(Q51=0,\"\",VLOOKUP(Q51,Materialien!$C$8:$D$64981,2,0))","v":""},{"$f":"IF(R51=0,\"\",VLOOKUP(R51,Materialien!$C$8:$D$64981,2,0))","v":""},{"$f":"IF(S51=0,\"\",VLOOKUP(S51,Materialien!$C$8:$D$64981,2,0))","v":""},{"$f":"IF(T51=0,\"\",VLOOKUP(T51,Materialien!$C$8:$D$64981,2,0))","v":""},{"$f":"IF(U51=0,\"\",VLOOKUP(U51,Materialien!$C$8:$D$64981,2,0))","v":""},{"$f":"IF(V51=0,\"\",VLOOKUP(V51,Materialien!$C$8:$D$64981,2,0))","v":""},{"$f":"IF(W51=0,\"\",VLOOKUP(W51,Materialien!$C$8:$D$64981,2,0))","v":""},{"$f":"IF(X51=0,\"\",VLOOKUP(X51,Materialien!$C$8:$D$64981,2,0))","v":""},{"$f":"IF(Y51=0,\"\",VLOOKUP(Y51,Materialien!$C$8:$D$64981,2,0))","v":""}]
[]
[null,null,null,"Außenwand leicht"]
[null,{"$f":"ROW(B54)-ROWS(B$1:B53)","v":1},"ALE","Außenwand leicht","AW in Holzständerbauweise",{"$f":"CONCATENATE(Z54,IF(AA54=\"\",\"\",\"; \"),AA54,IF(AB54=\"\",\"\",\"; \"),AB54,IF(AC54=\"\",\"\",\"; \"),AC54,,IF(AD54=\"\",\"\",\"; \"),AD54,IF(AE54=\"\",\"\",\"; \"),AE54,IF(AF54=\"\",\"\",\"; \"),AF54,IF(AG54=\"\",\"\",\"; \"),AG54,IF(AH54=\"\",\"\",\"; \"),AH54,IF(AI54=\"\",\"\",\"; \"),AI54,IF(AJ54=\"\",\"\",\"; \"),AJ54,IF(AK54=\"\",\"\",\"; \"),AK54)","v":"GK; Holz-UK; nachw.Dämm.; kunstst.Folie; Flachpresspl.; Holzbauteile; nachw.Dämm.; Flachpresspl.; kunstst.Folie; Holz-UK; Holzprofile"},"+","+","⌀",{"$f":"IF(E54=\"\",\"\",CONCATENATE(C54,\", \",E54,\": \",F54))","v":"ALE, AW in Holzständerbauweise: GK; Holz-UK; nachw.Dämm.; kunstst.Folie; Flachpresspl.; Holzbauteile; nachw.Dämm.; Flachpresspl.; kunstst.Folie; Holz-UK; Holzprofile"},{"$f":"B54","v":1},{"$f":"C54","v":"ALE"},{"$f":"IF(AND(NOT(ISBLANK(G54)),AND(NOT(ISBLANK(H54))),NOT(ISBLANK(I54))),(IF(G54=\"--\",Hilfstabelle!$B$1,IF(G54=\"-\",Hilfstabelle!$B$2,IF(G54=\"⌀\",Hilfstabelle!$B$3,IF(G54=\"+\",Hilfstabelle!$B$4,IF(G54=\"++\",Hilfstabelle!$B$5))))))*0.3+(IF(H54=\"--\",Hilfstabelle!$B$1,IF(H54=\"-\",Hilfstabelle!$B$2,IF(H54=\"⌀\",Hilfstabelle!$B$3,IF(H54=\"+\",Hilfstabelle!$B$4,IF(H54=\"++\",Hilfstabelle!$B$5))))))*0.3+(IF(I54=\"--\",Hilfstabelle!$B$1,IF(I54=\"-\",Hilfstabelle!$B$2,IF(I54=\"⌀\",Hilfstabelle!$B$3,IF(I54=\"+\",Hilfstabelle!$B$4,IF(I54=\"++\",Hilfstabelle!$B$5))))))*0.4,\"\")","v":6.5},"Gipskarton","Unterkonstruktion- Holz","Dämmstoff - nachw.Dämm.","Kunststoffbasierte Folien","Flachpressplatten","Holzständer, Holztafel, Holzrahmen","Dämmstoff - nachw.Dämm.","Flachpressplatten","Kunststoffbasierte Folien","Unterkonstruktion- Holz","Holzprofile",null,{"$f":"IF(N54=0,\"\",VLOOKUP(N54,Materialien!$C$8:$D$64981,2,0))","v":"GK"},{"$f":"IF(O54=0,\"\",VLOOKUP(O54,Materialien!$C$8:$D$64981,2,0))","v":"Holz-UK"},{"$f":"IF(P54=0,\"\",VLOOKUP(P54,Materialien!$C$8:$D$64981,2,0))","v":"nachw.Dämm."},{"$f":"IF(Q54=0,\"\",VLOOKUP(Q54,Materialien!$C$8:$D$64981,2,0))","v":"kunstst.Folie"},{"$f":"IF(R54=0,\"\",VLOOKUP(R54,Materialien!$C$8:$D$64981,2,0))","v":"Flachpresspl."},{"$f":"IF(S54=0,\"\",VLOOKUP(S54,Materialien!$C$8:$D$64981,2,0))","v":"Holzbauteile"},{"$f":"IF(T54=0,\"\",VLOOKUP(T54,Materialien!$C$8:$D$64981,2,0))","v":"nachw.Dämm."},{"$f":"IF(U54=0,\"\",VLOOKUP(U54,Materialien!$C$8:$D$64981,2,0))","v":"Flachpresspl."},{"$f":"IF(V54=0,\"\",VLOOKUP(V54,Materialien!$C$8:$D$64981,2,0))","v":"kunstst.Folie"},{"$f":"IF(W54=0,\"\",VLOOKUP(W54,Materialien!$C$8:$D$64981,2,0))","v":"Holz-UK"},{"$f":"IF(X54=0,\"\",VLOOKUP(X54,Materialien!$C$8:$D$64981,2,0))","v":"Holzprofile"},{"$f":"IF(Y54=0,\"\",VLOOKUP(Y54,Materialien!$C$8:$D$64981,2,0))","v":""}]
[]
[null,null,null,"Eigenes Bauteil (Außenwand leicht):",null,null,null,null,null,"Eigene Bauteile (Außenwand leicht):"]
[null,{"$f":"ROW(B57)-ROWS(B$1:B56)","v":1},"ALE-E","Außenwand leicht",null,{"$f":"CONCATENATE(Z56,IF(AA56=\"\",\"\",\"; \"),AA56,IF(AB56=\"\",\"\",\"; \"),AB56,IF(AC56=\"\",\"\",\"; \"),AC56,,IF(AD56=\"\",\"\",\"; \"),AD56,IF(AE56=\"\",\"\",\"; \"),AE56,IF(AF56=\"\",\"\",\"; \"),AF56,IF(AG56=\"\",\"\",\"; \"),AG56,IF(AH56=\"\",\"\",\"; \"),AH56,IF(AI56=\"\",\"\",\"; \"),AI56,IF(AJ56=\"\",\"\",\"; \"),AJ56,IF(AK56=\"\",\"\",\"; \"),AK56)","v":""},null,null,null,{"$f":"IF(E57=\"\",\"\",CONCATENATE(C57,\", \",E57,\": \",F57))","v":""},{"$f":"B57","v":1},"ALE-E",{"$f":"IF(AND(NOT(ISBLANK(G57)),AND(NOT(ISBLANK(H57))),NOT(ISBLANK(I57))),(IF(G57=\"--\",Hilfstabelle!$B$1,IF(G57=\"-\",Hilfstabelle!$B$2,IF(G57=\"⌀\",Hilfstabelle!$B$3,IF(G57=\"+\",Hilfstabelle!$B$4,IF(G57=\"++\",Hilfstabelle!$B$5))))))*0.3+(IF(H57=\"--\",Hilfstabelle!$B$1,IF(H57=\"-\",Hilfstabelle!$B$2,IF(H57=\"⌀\",Hilfstabelle!$B$3,IF(H57=\"+\",Hilfstabelle!$B$4,IF(H57=\"++\",Hilfstabelle!$B$5))))))*0.3+(IF(I57=\"--\",Hilfstabelle!$B$1,IF(I57=\"-\",Hilfstabelle!$B$2,IF(I57=\"⌀\",Hilfstabelle!$B$3,IF(I57=\"+\",Hilfstabelle!$B$4,IF(I57=\"++\",Hilfstabelle!$B$5))))))*0.4,\"\")","v":""},null,null,null,null,null,null,null,null,null,null,null,null,{"$f":"IF(N57=0,\"\",VLOOKUP(N57,Materialien!$C$8:$D$64981,2,0))","v":""},{"$f":"IF(O57=0,\"\",VLOOKUP(O57,Materialien!$C$8:$D$64981,2,0))","v":""},{"$f":"IF(P57=0,\"\",VLOOKUP(P57,Materialien!$C$8:$D$64981,2,0))","v":""},{"$f":"IF(Q57=0,\"\",VLOOKUP(Q57,Materialien!$C$8:$D$64981,2,0))","v":""},{"$f":"IF(R57=0,\"\",VLOOKUP(R57,Materialien!$C$8:$D$64981,2,0))","v":""},{"$f":"IF(S57=0,\"\",VLOOKUP(S57,Materialien!$C$8:$D$64981,2,0))","v":""},{"$f":"IF(T57=0,\"\",VLOOKUP(T57,Materialien!$C$8:$D$64981,2,0))","v":""},{"$f":"IF(U57=0,\"\",VLOOKUP(U57,Materialien!$C$8:$D$64981,2,0))","v":""},{"$f":"IF(V57=0,\"\",VLOOKUP(V57,Materialien!$C$8:$D$64981,2,0))","v":""},{"$f":"IF(W57=0,\"\",VLOOKUP(W57,Materialien!$C$8:$D$64981,2,0))","v":""},{"$f":"IF(X57=0,\"\",VLOOKUP(X57,Materialien!$C$8:$D$64981,2,0))","v":""},{"$f":"IF(Y57=0,\"\",VLOOKUP(Y57,Materialien!$C$8:$D$64981,2,0))","v":""}]
[null,{"$f":"ROWS(B$57:B58)","v":2},null,null,null,{"$f":"CONCATENATE(Z58,IF(AA58=\"\",\"\",\"; \"),AA58,IF(AB58=\"\",\"\",\"; \"),AB58,IF(AC58=\"\",\"\",\"; \"),AC58,,IF(AD58=\"\",\"\",\"; \"),AD58,IF(AE58=\"\",\"\",\"; \"),AE58,IF(AF58=\"\",\"\",\"; \"),AF58,IF(AG58=\"\",\"\",\"; \"),AG58,IF(AH58=\"\",\"\",\"; \"),AH58,IF(AI58=\"\",\"\",\"; \"),AI58,IF(AJ58=\"\",\"\",\"; \"),AJ58,IF(AK58=\"\",\"\",\"; \"),AK58)","v":""},null,null,null,null,null,null,{"$f":"IF(AND(NOT(ISBLANK(G58)),AND(NOT(ISBLANK(H58))),NOT(ISBLANK(I58))),(IF(G58=\"--\",Hilfstabelle!$B$1,IF(G58=\"-\",Hilfstabelle!$B$2,IF(G58=\"⌀\",Hilfstabelle!$B$3,IF(G58=\"+\",Hilfstabelle!$B$4,IF(G58=\"++\",Hilfstabelle!$B$5))))))*0.3+(IF(H58=\"--\",Hilfstabelle!$B$1,IF(H58=\"-\",Hilfstabelle!$B$2,IF(H58=\"⌀\",Hilfstabelle!$B$3,IF(H58=\"+\",Hilfstabelle!$B$4,IF(H58=\"++\",Hilfstabelle!$B$5))))))*0.3+(IF(I58=\"--\",Hilfstabelle!$B$1,IF(I58=\"-\",Hilfstabelle!$B$2,IF(I58=\"⌀\",Hilfstabelle!$B$3,IF(I58=\"+\",Hilfstabelle!$B$4,IF(I58=\"++\",Hilfstabelle!$B$5))))))*0.4,\"\")","v":""},null,null,null,null,null,null,null,null,null,null,null,null,{"$f":"IF(N58=0,\"\",VLOOKUP(N58,Materialien!$C$8:$D$64981,2,0))","v":""},{"$f":"IF(O58=0,\"\",VLOOKUP(O58,Materialien!$C$8:$D$64981,2,0))","v":""},{"$f":"IF(P58=0,\"\",VLOOKUP(P58,Materialien!$C$8:$D$64981,2,0))","v":""},{"$f":"IF(Q58=0,\"\",VLOOKUP(Q58,Materialien!$C$8:$D$64981,2,0))","v":""},{"$f":"IF(R58=0,\"\",VLOOKUP(R58,Materialien!$C$8:$D$64981,2,0))","v":""},{"$f":"IF(S58=0,\"\",VLOOKUP(S58,Materialien!$C$8:$D$64981,2,0))","v":""},{"$f":"IF(T58=0,\"\",VLOOKUP(T58,Materialien!$C$8:$D$64981,2,0))","v":""},{"$f":"IF(U58=0,\"\",VLOOKUP(U58,Materialien!$C$8:$D$64981,2,0))","v":""},{"$f":"IF(V58=0,\"\",VLOOKUP(V58,Materialien!$C$8:$D$64981,2,0))","v":""},{"$f":"IF(W58=0,\"\",VLOOKUP(W58,Materialien!$C$8:$D$64981,2,0))","v":""},{"$f":"IF(X58=0,\"\",VLOOKUP(X58,Materialien!$C$8:$D$64981,2,0))","v":""},{"$f":"IF(Y58=0,\"\",VLOOKUP(Y58,Materialien!$C$8:$D$64981,2,0))","v":""}]
[null,{"$f":"ROWS(B$57:B59)","v":3},"ALE-E","Außenwand leicht",null,{"$f":"CONCATENATE(Z59,IF(AA59=\"\",\"\",\"; \"),AA59,IF(AB59=\"\",\"\",\"; \"),AB59,IF(AC59=\"\",\"\",\"; \"),AC59,,IF(AD59=\"\",\"\",\"; \"),AD59,IF(AE59=\"\",\"\",\"; \"),AE59,IF(AF59=\"\",\"\",\"; \"),AF59,IF(AG59=\"\",\"\",\"; \"),AG59,IF(AH59=\"\",\"\",\"; \"),AH59,IF(AI59=\"\",\"\",\"; \"),AI59,IF(AJ59=\"\",\"\",\"; \"),AJ59,IF(AK59=\"\",\"\",\"; \"),AK59)","v":""},null,null,null,{"$f":"IF(E59=\"\",\"\",CONCATENATE(C59,\", \",E59,\": \",F59))","v":""},{"$f":"B59","v":3},{"$f":"C59","v":"ALE-E"},{"$f":"IF(AND(NOT(ISBLANK(G59)),AND(NOT(ISBLANK(H59))),NOT(ISBLANK(I59))),(IF(G59=\"--\",Hilfstabelle!$B$1,IF(G59=\"-\",Hilfstabelle!$B$2,IF(G59=\"⌀\",Hilfstabelle!$B$3,IF(G59=\"+\",Hilfstabelle!$B$4,IF(G59=\"++\",Hilfstabelle!$B$5))))))*0.3+(IF(H59=\"--\",Hilfstabelle!$B$1,IF(H59=\"-\",Hilfstabelle!$B$2,IF(H59=\"⌀\",Hilfstabelle!$B$3,IF(H59=\"+\",Hilfstabelle!$B$4,IF(H59=\"++\",Hilfstabelle!$B$5))))))*0.3+(IF(I59=\"--\",Hilfstabelle!$B$1,IF(I59=\"-\",Hilfstabelle!$B$2,IF(I59=\"⌀\",Hilfstabelle!$B$3,IF(I59=\"+\",Hilfstabelle!$B$4,IF(I59=\"++\",Hilfstabelle!$B$5))))))*0.4,\"\")","v":""},null,null,null,null,null,null,null,null,null,null,null,null,{"$f":"IF(N59=0,\"\",VLOOKUP(N59,Materialien!$C$8:$D$64981,2,0))","v":""},{"$f":"IF(O59=0,\"\",VLOOKUP(O59,Materialien!$C$8:$D$64981,2,0))","v":""},{"$f":"IF(P59=0,\"\",VLOOKUP(P59,Materialien!$C$8:$D$64981,2,0))","v":""},{"$f":"IF(Q59=0,\"\",VLOOKUP(Q59,Materialien!$C$8:$D$64981,2,0))","v":""},{"$f":"IF(R59=0,\"\",VLOOKUP(R59,Materialien!$C$8:$D$64981,2,0))","v":""},{"$f":"IF(S59=0,\"\",VLOOKUP(S59,Materialien!$C$8:$D$64981,2,0))","v":""},{"$f":"IF(T59=0,\"\",VLOOKUP(T59,Materialien!$C$8:$D$64981,2,0))","v":""},{"$f":"IF(U59=0,\"\",VLOOKUP(U59,Materialien!$C$8:$D$64981,2,0))","v":""},{"$f":"IF(V59=0,\"\",VLOOKUP(V59,Materialien!$C$8:$D$64981,2,0))","v":""},{"$f":"IF(W59=0,\"\",VLOOKUP(W59,Materialien!$C$8:$D$64981,2,0))","v":""},{"$f":"IF(X59=0,\"\",VLOOKUP(X59,Materialien!$C$8:$D$64981,2,0))","v":""},{"$f":"IF(Y59=0,\"\",VLOOKUP(Y59,Materialien!$C$8:$D$64981,2,0))","v":""}]
[]
[null,null,null,"Innenwand massiv"]
[null,{"$f":"ROW(B62)-ROWS(B$1:B61)","v":1},"IMA","Innenwand massiv","verputztes Ziegelmauerwerk",{"$f":"CONCATENATE(Z62,IF(AA62=\"\",\"\",\"; \"),AA62,IF(AB62=\"\",\"\",\"; \"),AB62,IF(AC62=\"\",\"\",\"; \"),AC62,,IF(AD62=\"\",\"\",\"; \"),AD62,IF(AE62=\"\",\"\",\"; \"),AE62,IF(AF62=\"\",\"\",\"; \"),AF62,IF(AG62=\"\",\"\",\"; \"),AG62,IF(AH62=\"\",\"\",\"; \"),AH62,IF(AI62=\"\",\"\",\"; \"),AI62,IF(AJ62=\"\",\"\",\"; \"),AJ62,IF(AK62=\"\",\"\",\"; \"),AK62)","v":"gipshal.Putz; Ziegel; gipshal.Putz"},"⌀","-","--",{"$f":"IF(E62=\"\",\"\",CONCATENATE(C62,\", \",E62,\": \",F62))","v":"IMA, verputztes Ziegelmauerwerk: gipshal.Putz; Ziegel; gipshal.Putz"},{"$f":"B62","v":1},{"$f":"C62","v":"IMA"},{"$f":"IF(AND(NOT(ISBLANK(G62)),AND(NOT(ISBLANK(H62))),NOT(ISBLANK(I62))),(IF(G62=\"--\",Hilfstabelle!$B$1,IF(G62=\"-\",Hilfstabelle!$B$2,IF(G62=\"⌀\",Hilfstabelle!$B$3,IF(G62=\"+\",Hilfstabelle!$B$4,IF(G62=\"++\",Hilfstabelle!$B$5))))))*0.3+(IF(H62=\"--\",Hilfstabelle!$B$1,IF(H62=\"-\",Hilfstabelle!$B$2,IF(H62=\"⌀\",Hilfstabelle!$B$3,IF(H62=\"+\",Hilfstabelle!$B$4,IF(H62=\"++\",Hilfstabelle!$B$5))))))*0.3+(IF(I62=\"--\",Hilfstabelle!$B$1,IF(I62=\"-\",Hilfstabelle!$B$2,IF(I62=\"⌀\",Hilfstabelle!$B$3,IF(I62=\"+\",Hilfstabelle!$B$4,IF(I62=\"++\",Hilfstabelle!$B$5))))))*0.4,\"\")","v":2.25},"Putz - gipshaltig","Ziegel","Putz - gipshaltig",null,null,null,null,null,null,null,null,null,{"$f":"IF(N62=0,\"\",VLOOKUP(N62,Materialien!$C$8:$D$64981,2,0))","v":"gipshal.Putz"},{"$f":"IF(O62=0,\"\",VLOOKUP(O62,Materialien!$C$8:$D$64981,2,0))","v":"Ziegel"},{"$f":"IF(P62=0,\"\",VLOOKUP(P62,Materialien!$C$8:$D$64981,2,0))","v":"gipshal.Putz"},{"$f":"IF(Q62=0,\"\",VLOOKUP(Q62,Materialien!$C$8:$D$64981,2,0))","v":""},{"$f":"IF(R62=0,\"\",VLOOKUP(R62,Materialien!$C$8:$D$64981,2,0))","v":""},{"$f":"IF(S62=0,\"\",VLOOKUP(S62,Materialien!$C$8:$D$64981,2,0))","v":""},{"$f":"IF(T62=0,\"\",VLOOKUP(T62,Materialien!$C$8:$D$64981,2,0))","v":""},{"$f":"IF(U62=0,\"\",VLOOKUP(U62,Materialien!$C$8:$D$64981,2,0))","v":""},{"$f":"IF(V62=0,\"\",VLOOKUP(V62,Materialien!$C$8:$D$64981,2,0))","v":""},{"$f":"IF(W62=0,\"\",VLOOKUP(W62,Materialien!$C$8:$D$64981,2,0))","v":""},{"$f":"IF(X62=0,\"\",VLOOKUP(X62,Materialien!$C$8:$D$64981,2,0))","v":""},{"$f":"IF(Y62=0,\"\",VLOOKUP(Y62,Materialien!$C$8:$D$64981,2,0))","v":""}]
[null,{"$f":"ROWS(B$62:B63)","v":2},"IMA","Innenwand massiv","KS-Sichtmauerwerk",{"$f":"CONCATENATE(Z63,IF(AA63=\"\",\"\",\"; \"),AA63,IF(AB63=\"\",\"\",\"; \"),AB63,IF(AC63=\"\",\"\",\"; \"),AC63,,IF(AD63=\"\",\"\",\"; \"),AD63,IF(AE63=\"\",\"\",\"; \"),AE63,IF(AF63=\"\",\"\",\"; \"),AF63,IF(AG63=\"\",\"\",\"; \"),AG63,IF(AH63=\"\",\"\",\"; \"),AH63,IF(AI63=\"\",\"\",\"; \"),AI63,IF(AJ63=\"\",\"\",\"; \"),AJ63,IF(AK63=\"\",\"\",\"; \"),AK63)","v":"KS"},"+","+","+","IMA, KS-Sichtmauerwerk: KS",2,"IMA",{"$f":"IF(AND(NOT(ISBLANK(G63)),AND(NOT(ISBLANK(H63))),NOT(ISBLANK(I63))),(IF(G63=\"--\",Hilfstabelle!$B$1,IF(G63=\"-\",Hilfstabelle!$B$2,IF(G63=\"⌀\",Hilfstabelle!$B$3,IF(G63=\"+\",Hilfstabelle!$B$4,IF(G63=\"++\",Hilfstabelle!$B$5))))))*0.3+(IF(H63=\"--\",Hilfstabelle!$B$1,IF(H63=\"-\",Hilfstabelle!$B$2,IF(H63=\"⌀\",Hilfstabelle!$B$3,IF(H63=\"+\",Hilfstabelle!$B$4,IF(H63=\"++\",Hilfstabelle!$B$5))))))*0.3+(IF(I63=\"--\",Hilfstabelle!$B$1,IF(I63=\"-\",Hilfstabelle!$B$2,IF(I63=\"⌀\",Hilfstabelle!$B$3,IF(I63=\"+\",Hilfstabelle!$B$4,IF(I63=\"++\",Hilfstabelle!$B$5))))))*0.4,\"\")","v":7.5},"Kalksandstein",null,null,null,null,null,null,null,null,null,null,null,{"$f":"IF(N63=0,\"\",VLOOKUP(N63,Materialien!$C$8:$D$64981,2,0))","v":"KS"},{"$f":"IF(O63=0,\"\",VLOOKUP(O63,Materialien!$C$8:$D$64981,2,0))","v":""},{"$f":"IF(P63=0,\"\",VLOOKUP(P63,Materialien!$C$8:$D$64981,2,0))","v":""},{"$f":"IF(Q63=0,\"\",VLOOKUP(Q63,Materialien!$C$8:$D$64981,2,0))","v":""},{"$f":"IF(R63=0,\"\",VLOOKUP(R63,Materialien!$C$8:$D$64981,2,0))","v":""},{"$f":"IF(S63=0,\"\",VLOOKUP(S63,Materialien!$C$8:$D$64981,2,0))","v":""},{"$f":"IF(T63=0,\"\",VLOOKUP(T63,Materialien!$C$8:$D$64981,2,0))","v":""},{"$f":"IF(U63=0,\"\",VLOOKUP(U63,Materialien!$C$8:$D$64981,2,0))","v":""},{"$f":"IF(V63=0,\"\",VLOOKUP(V63,Materialien!$C$8:$D$64981,2,0))","v":""},{"$f":"IF(W63=0,\"\",VLOOKUP(W63,Materialien!$C$8:$D$64981,2,0))","v":""},{"$f":"IF(X63=0,\"\",VLOOKUP(X63,Materialien!$C$8:$D$64981,2,0))","v":""},{"$f":"IF(Y63=0,\"\",VLOOKUP(Y63,Materialien!$C$8:$D$64981,2,0))","v":""}]
[null,{"$f":"ROWS(B$62:B64)","v":3},"IMA","Innenwand massiv","Stahlbeton","StB.","⌀","⌀","+","IMA, Stahlbeton: StB.",3,"IMA",{"$f":"IF(AND(NOT(ISBLANK(G64)),AND(NOT(ISBLANK(H64))),NOT(ISBLANK(I64))),(IF(G64=\"--\",Hilfstabelle!$B$1,IF(G64=\"-\",Hilfstabelle!$B$2,IF(G64=\"⌀\",Hilfstabelle!$B$3,IF(G64=\"+\",Hilfstabelle!$B$4,IF(G64=\"++\",Hilfstabelle!$B$5))))))*0.3+(IF(H64=\"--\",Hilfstabelle!$B$1,IF(H64=\"-\",Hilfstabelle!$B$2,IF(H64=\"⌀\",Hilfstabelle!$B$3,IF(H64=\"+\",Hilfstabelle!$B$4,IF(H64=\"++\",Hilfstabelle!$B$5))))))*0.3+(IF(I64=\"--\",Hilfstabelle!$B$1,IF(I64=\"-\",Hilfstabelle!$B$2,IF(I64=\"⌀\",Hilfstabelle!$B$3,IF(I64=\"+\",Hilfstabelle!$B$4,IF(I64=\"++\",Hilfstabelle!$B$5))))))*0.4,\"\")","v":6},"Stahlbeton (Ortbeton)",null,null,null,null,null,null,null,null,null,null,null,{"$f":"IF(N64=0,\"\",VLOOKUP(N64,Materialien!$C$8:$D$64981,2,0))","v":"StB."},{"$f":"IF(O64=0,\"\",VLOOKUP(O64,Materialien!$C$8:$D$64981,2,0))","v":""},{"$f":"IF(P64=0,\"\",VLOOKUP(P64,Materialien!$C$8:$D$64981,2,0))","v":""},{"$f":"IF(Q64=0,\"\",VLOOKUP(Q64,Materialien!$C$8:$D$64981,2,0))","v":""},{"$f":"IF(R64=0,\"\",VLOOKUP(R64,Materialien!$C$8:$D$64981,2,0))","v":""},{"$f":"IF(S64=0,\"\",VLOOKUP(S64,Materialien!$C$8:$D$64981,2,0))","v":""},{"$f":"IF(T64=0,\"\",VLOOKUP(T64,Materialien!$C$8:$D$64981,2,0))","v":""},{"$f":"IF(U64=0,\"\",VLOOKUP(U64,Materialien!$C$8:$D$64981,2,0))","v":""},{"$f":"IF(V64=0,\"\",VLOOKUP(V64,Materialien!$C$8:$D$64981,2,0))","v":""},{"$f":"IF(W64=0,\"\",VLOOKUP(W64,Materialien!$C$8:$D$64981,2,0))","v":""},{"$f":"IF(X64=0,\"\",VLOOKUP(X64,Materialien!$C$8:$D$64981,2,0))","v":""},{"$f":"IF(Y64=0,\"\",VLOOKUP(Y64,Materialien!$C$8:$D$64981,2,0))","v":""}]
[null,{"$f":"ROWS(B$62:B65)","v":4},"IMA","Innenwand massiv","Mauerziegel",{"$f":"CONCATENATE(Z65,IF(AA65=\"\",\"\",\"; \"),AA65,IF(AB65=\"\",\"\",\"; \"),AB65,IF(AC65=\"\",\"\",\"; \"),AC65,,IF(AD65=\"\",\"\",\"; \"),AD65,IF(AE65=\"\",\"\",\"; \"),AE65,IF(AF65=\"\",\"\",\"; \"),AF65,IF(AG65=\"\",\"\",\"; \"),AG65,IF(AH65=\"\",\"\",\"; \"),AH65,IF(AI65=\"\",\"\",\"; \"),AI65,IF(AJ65=\"\",\"\",\"; \"),AJ65,IF(AK65=\"\",\"\",\"; \"),AK65)","v":"Anstr.; Mz.; Anstr."},"+","+","+","IMA, Mauerziegel: Anstr.; Mz.; Anstr.",4,"IMA",{"$f":"IF(AND(NOT(ISBLANK(G65)),AND(NOT(ISBLANK(H65))),NOT(ISBLANK(I65))),(IF(G65=\"--\",Hilfstabelle!$B$1,IF(G65=\"-\",Hilfstabelle!$B$2,IF(G65=\"⌀\",Hilfstabelle!$B$3,IF(G65=\"+\",Hilfstabelle!$B$4,IF(G65=\"++\",Hilfstabelle!$B$5))))))*0.3+(IF(H65=\"--\",Hilfstabelle!$B$1,IF(H65=\"-\",Hilfstabelle!$B$2,IF(H65=\"⌀\",Hilfstabelle!$B$3,IF(H65=\"+\",Hilfstabelle!$B$4,IF(H65=\"++\",Hilfstabelle!$B$5))))))*0.3+(IF(I65=\"--\",Hilfstabelle!$B$1,IF(I65=\"-\",Hilfstabelle!$B$2,IF(I65=\"⌀\",Hilfstabelle!$B$3,IF(I65=\"+\",Hilfstabelle!$B$4,IF(I65=\"++\",Hilfstabelle!$B$5))))))*0.4,\"\")","v":7.5},"Anstrich - Dispersion/Latex","Mauerziegel","Anstrich - Dispersion/Latex",null,null,null,null,null,null,null,null,null,{"$f":"IF(N65=0,\"\",VLOOKUP(N65,Materialien!$C$8:$D$64981,2,0))","v":"Anstr."},{"$f":"IF(O65=0,\"\",VLOOKUP(O65,Materialien!$C$8:$D$64981,2,0))","v":"Mz."},{"$f":"IF(P65=0,\"\",VLOOKUP(P65,Materialien!$C$8:$D$64981,2,0))","v":"Anstr."},{"$f":"IF(Q65=0,\"\",VLOOKUP(Q65,Materialien!$C$8:$D$64981,2,0))","v":""},{"$f":"IF(R65=0,\"\",VLOOKUP(R65,Materialien!$C$8:$D$64981,2,0))","v":""},{"$f":"IF(S65=0,\"\",VLOOKUP(S65,Materialien!$C$8:$D$64981,2,0))","v":""},{"$f":"IF(T65=0,\"\",VLOOKUP(T65,Materialien!$C$8:$D$64981,2,0))","v":""},{"$f":"IF(U65=0,\"\",VLOOKUP(U65,Materialien!$C$8:$D$64981,2,0))","v":""},{"$f":"IF(V65=0,\"\",VLOOKUP(V65,Materialien!$C$8:$D$64981,2,0))","v":""},{"$f":"IF(W65=0,\"\",VLOOKUP(W65,Materialien!$C$8:$D$64981,2,0))","v":""},{"$f":"IF(X65=0,\"\",VLOOKUP(X65,Materialien!$C$8:$D$64981,2,0))","v":""},{"$f":"IF(Y65=0,\"\",VLOOKUP(Y65,Materialien!$C$8:$D$64981,2,0))","v":""}]
[]
[null,null,null,"Eigenes Bauteil (Innenwand massiv):",null,null,null,null,null,"Eigene Bauteile (Innenwand massiv):"]
[null,{"$f":"ROW(B68)-ROWS(B$1:B67)","v":1},"IMA-E","Innenwand massiv",null,{"$f":"CONCATENATE(Z67,IF(AA67=\"\",\"\",\"; \"),AA67,IF(AB67=\"\",\"\",\"; \"),AB67,IF(AC67=\"\",\"\",\"; \"),AC67,,IF(AD67=\"\",\"\",\"; \"),AD67,IF(AE67=\"\",\"\",\"; \"),AE67,IF(AF67=\"\",\"\",\"; \"),AF67,IF(AG67=\"\",\"\",\"; \"),AG67,IF(AH67=\"\",\"\",\"; \"),AH67,IF(AI67=\"\",\"\",\"; \"),AI67,IF(AJ67=\"\",\"\",\"; \"),AJ67,IF(AK67=\"\",\"\",\"; \"),AK67)","v":""},null,null,null,{"$f":"IF(E68=\"\",\"\",CONCATENATE(C68,\", \",E68,\": \",F68))","v":""},{"$f":"B68","v":1},"IMA-E",{"$f":"IF(AND(NOT(ISBLANK(G68)),AND(NOT(ISBLANK(H68))),NOT(ISBLANK(I68))),(IF(G68=\"--\",Hilfstabelle!$B$1,IF(G68=\"-\",Hilfstabelle!$B$2,IF(G68=\"⌀\",Hilfstabelle!$B$3,IF(G68=\"+\",Hilfstabelle!$B$4,IF(G68=\"++\",Hilfstabelle!$B$5))))))*0.3+(IF(H68=\"--\",Hilfstabelle!$B$1,IF(H68=\"-\",Hilfstabelle!$B$2,IF(H68=\"⌀\",Hilfstabelle!$B$3,IF(H68=\"+\",Hilfstabelle!$B$4,IF(H68=\"++\",Hilfstabelle!$B$5))))))*0.3+(IF(I68=\"--\",Hilfstabelle!$B$1,IF(I68=\"-\",Hilfstabelle!$B$2,IF(I68=\"⌀\",Hilfstabelle!$B$3,IF(I68=\"+\",Hilfstabelle!$B$4,IF(I68=\"++\",Hilfstabelle!$B$5))))))*0.4,\"\")","v":""},null,null,null,null,null,null,null,null,null,null,null,null,{"$f":"IF(N68=0,\"\",VLOOKUP(N68,Materialien!$C$8:$D$64981,2,0))","v":""},{"$f":"IF(O68=0,\"\",VLOOKUP(O68,Materialien!$C$8:$D$64981,2,0))","v":""},{"$f":"IF(P68=0,\"\",VLOOKUP(P68,Materialien!$C$8:$D$64981,2,0))","v":""},{"$f":"IF(Q68=0,\"\",VLOOKUP(Q68,Materialien!$C$8:$D$64981,2,0))","v":""},{"$f":"IF(R68=0,\"\",VLOOKUP(R68,Materialien!$C$8:$D$64981,2,0))","v":""},{"$f":"IF(S68=0,\"\",VLOOKUP(S68,Materialien!$C$8:$D$64981,2,0))","v":""},{"$f":"IF(T68=0,\"\",VLOOKUP(T68,Materialien!$C$8:$D$64981,2,0))","v":""},{"$f":"IF(U68=0,\"\",VLOOKUP(U68,Materialien!$C$8:$D$64981,2,0))","v":""},{"$f":"IF(V68=0,\"\",VLOOKUP(V68,Materialien!$C$8:$D$64981,2,0))","v":""},{"$f":"IF(W68=0,\"\",VLOOKUP(W68,Materialien!$C$8:$D$64981,2,0))","v":""},{"$f":"IF(X68=0,\"\",VLOOKUP(X68,Materialien!$C$8:$D$64981,2,0))","v":""},{"$f":"IF(Y68=0,\"\",VLOOKUP(Y68,Materialien!$C$8:$D$64981,2,0))","v":""}]
[null,{"$f":"ROWS(B$57:B58)","v":2},null,null,null,{"$f":"CONCATENATE(Z69,IF(AA69=\"\",\"\",\"; \"),AA69,IF(AB69=\"\",\"\",\"; \"),AB69,IF(AC69=\"\",\"\",\"; \"),AC69,,IF(AD69=\"\",\"\",\"; \"),AD69,IF(AE69=\"\",\"\",\"; \"),AE69,IF(AF69=\"\",\"\",\"; \"),AF69,IF(AG69=\"\",\"\",\"; \"),AG69,IF(AH69=\"\",\"\",\"; \"),AH69,IF(AI69=\"\",\"\",\"; \"),AI69,IF(AJ69=\"\",\"\",\"; \"),AJ69,IF(AK69=\"\",\"\",\"; \"),AK69)","v":""},null,null,null,null,null,null,{"$f":"IF(AND(NOT(ISBLANK(G69)),AND(NOT(ISBLANK(H69))),NOT(ISBLANK(I69))),(IF(G69=\"--\",Hilfstabelle!$B$1,IF(G69=\"-\",Hilfstabelle!$B$2,IF(G69=\"⌀\",Hilfstabelle!$B$3,IF(G69=\"+\",Hilfstabelle!$B$4,IF(G69=\"++\",Hilfstabelle!$B$5))))))*0.3+(IF(H69=\"--\",Hilfstabelle!$B$1,IF(H69=\"-\",Hilfstabelle!$B$2,IF(H69=\"⌀\",Hilfstabelle!$B$3,IF(H69=\"+\",Hilfstabelle!$B$4,IF(H69=\"++\",Hilfstabelle!$B$5))))))*0.3+(IF(I69=\"--\",Hilfstabelle!$B$1,IF(I69=\"-\",Hilfstabelle!$B$2,IF(I69=\"⌀\",Hilfstabelle!$B$3,IF(I69=\"+\",Hilfstabelle!$B$4,IF(I69=\"++\",Hilfstabelle!$B$5))))))*0.4,\"\")","v":""},null,null,null,null,null,null,null,null,null,null,null,null,{"$f":"IF(N69=0,\"\",VLOOKUP(N69,Materialien!$C$8:$D$64981,2,0))","v":""},{"$f":"IF(O69=0,\"\",VLOOKUP(O69,Materialien!$C$8:$D$64981,2,0))","v":""},{"$f":"IF(P69=0,\"\",VLOOKUP(P69,Materialien!$C$8:$D$64981,2,0))","v":""},{"$f":"IF(Q69=0,\"\",VLOOKUP(Q69,Materialien!$C$8:$D$64981,2,0))","v":""},{"$f":"IF(R69=0,\"\",VLOOKUP(R69,Materialien!$C$8:$D$64981,2,0))","v":""},{"$f":"IF(S69=0,\"\",VLOOKUP(S69,Materialien!$C$8:$D$64981,2,0))","v":""},{"$f":"IF(T69=0,\"\",VLOOKUP(T69,Materialien!$C$8:$D$64981,2,0))","v":""},{"$f":"IF(U69=0,\"\",VLOOKUP(U69,Materialien!$C$8:$D$64981,2,0))","v":""},{"$f":"IF(V69=0,\"\",VLOOKUP(V69,Materialien!$C$8:$D$64981,2,0))","v":""},{"$f":"IF(W69=0,\"\",VLOOKUP(W69,Materialien!$C$8:$D$64981,2,0))","v":""},{"$f":"IF(X69=0,\"\",VLOOKUP(X69,Materialien!$C$8:$D$64981,2,0))","v":""},{"$f":"IF(Y69=0,\"\",VLOOKUP(Y69,Materialien!$C$8:$D$64981,2,0))","v":""}]
[null,{"$f":"ROWS(B$68:B70)","v":3},"IMA-E","Innenwand massiv",null,{"$f":"CONCATENATE(Z70,IF(AA70=\"\",\"\",\"; \"),AA70,IF(AB70=\"\",\"\",\"; \"),AB70,IF(AC70=\"\",\"\",\"; \"),AC70,,IF(AD70=\"\",\"\",\"; \"),AD70,IF(AE70=\"\",\"\",\"; \"),AE70,IF(AF70=\"\",\"\",\"; \"),AF70,IF(AG70=\"\",\"\",\"; \"),AG70,IF(AH70=\"\",\"\",\"; \"),AH70,IF(AI70=\"\",\"\",\"; \"),AI70,IF(AJ70=\"\",\"\",\"; \"),AJ70,IF(AK70=\"\",\"\",\"; \"),AK70)","v":""},null,null,null,{"$f":"IF(E70=\"\",\"\",CONCATENATE(C70,\", \",E70,\": \",F70))","v":""},{"$f":"B70","v":3},{"$f":"C70","v":"IMA-E"},{"$f":"IF(AND(NOT(ISBLANK(G70)),AND(NOT(ISBLANK(H70))),NOT(ISBLANK(I70))),(IF(G70=\"--\",Hilfstabelle!$B$1,IF(G70=\"-\",Hilfstabelle!$B$2,IF(G70=\"⌀\",Hilfstabelle!$B$3,IF(G70=\"+\",Hilfstabelle!$B$4,IF(G70=\"++\",Hilfstabelle!$B$5))))))*0.3+(IF(H70=\"--\",Hilfstabelle!$B$1,IF(H70=\"-\",Hilfstabelle!$B$2,IF(H70=\"⌀\",Hilfstabelle!$B$3,IF(H70=\"+\",Hilfstabelle!$B$4,IF(H70=\"++\",Hilfstabelle!$B$5))))))*0.3+(IF(I70=\"--\",Hilfstabelle!$B$1,IF(I70=\"-\",Hilfstabelle!$B$2,IF(I70=\"⌀\",Hilfstabelle!$B$3,IF(I70=\"+\",Hilfstabelle!$B$4,IF(I70=\"++\",Hilfstabelle!$B$5))))))*0.4,\"\")","v":""},null,null,null,null,null,null,null,null,null,null,null,null,{"$f":"IF(N70=0,\"\",VLOOKUP(N70,Materialien!$C$8:$D$64981,2,0))","v":""},{"$f":"IF(O70=0,\"\",VLOOKUP(O70,Materialien!$C$8:$D$64981,2,0))","v":""},{"$f":"IF(P70=0,\"\",VLOOKUP(P70,Materialien!$C$8:$D$64981,2,0))","v":""},{"$f":"IF(Q70=0,\"\",VLOOKUP(Q70,Materialien!$C$8:$D$64981,2,0))","v":""},{"$f":"IF(R70=0,\"\",VLOOKUP(R70,Materialien!$C$8:$D$64981,2,0))","v":""},{"$f":"IF(S70=0,\"\",VLOOKUP(S70,Materialien!$C$8:$D$64981,2,0))","v":""},{"$f":"IF(T70=0,\"\",VLOOKUP(T70,Materialien!$C$8:$D$64981,2,0))","v":""},{"$f":"IF(U70=0,\"\",VLOOKUP(U70,Materialien!$C$8:$D$64981,2,0))","v":""},{"$f":"IF(V70=0,\"\",VLOOKUP(V70,Materialien!$C$8:$D$64981,2,0))","v":""},{"$f":"IF(W70=0,\"\",VLOOKUP(W70,Materialien!$C$8:$D$64981,2,0))","v":""},{"$f":"IF(X70=0,\"\",VLOOKUP(X70,Materialien!$C$8:$D$64981,2,0))","v":""},{"$f":"IF(Y70=0,\"\",VLOOKUP(Y70,Materialien!$C$8:$D$64981,2,0))","v":""}]
[]
[null,null,null,"Innenwand elementiert"]
[null,{"$f":"ROW(B73)-ROWS(B$1:B72)","v":1},"IEL","Innenwand elementiert","Holzinnentür in Stahlzarge",{"$f":"CONCATENATE(Z73,IF(AA73=\"\",\"\",\"; \"),AA73,IF(AB73=\"\",\"\",\"; \"),AB73,IF(AC73=\"\",\"\",\"; \"),AC73,,IF(AD73=\"\",\"\",\"; \"),AD73,IF(AE73=\"\",\"\",\"; \"),AE73,IF(AF73=\"\",\"\",\"; \"),AF73,IF(AG73=\"\",\"\",\"; \"),AG73,IF(AH73=\"\",\"\",\"; \"),AH73,IF(AI73=\"\",\"\",\"; \"),AI73,IF(AJ73=\"\",\"\",\"; \"),AJ73,IF(AK73=\"\",\"\",\"; \"),AK73)","v":"Holzwerkst.; St."},"+","+","+",{"$f":"IF(E73=\"\",\"\",CONCATENATE(C73,\", \",E73,\": \",F73))","v":"IEL, Holzinnentür in Stahlzarge: Holzwerkst.; St."},{"$f":"B73","v":1},{"$f":"C73","v":"IEL"},{"$f":"IF(AND(NOT(ISBLANK(G73)),AND(NOT(ISBLANK(H73))),NOT(ISBLANK(I73))),(IF(G73=\"--\",Hilfstabelle!$B$1,IF(G73=\"-\",Hilfstabelle!$B$2,IF(G73=\"⌀\",Hilfstabelle!$B$3,IF(G73=\"+\",Hilfstabelle!$B$4,IF(G73=\"++\",Hilfstabelle!$B$5))))))*0.3+(IF(H73=\"--\",Hilfstabelle!$B$1,IF(H73=\"-\",Hilfstabelle!$B$2,IF(H73=\"⌀\",Hilfstabelle!$B$3,IF(H73=\"+\",Hilfstabelle!$B$4,IF(H73=\"++\",Hilfstabelle!$B$5))))))*0.3+(IF(I73=\"--\",Hilfstabelle!$B$1,IF(I73=\"-\",Hilfstabelle!$B$2,IF(I73=\"⌀\",Hilfstabelle!$B$3,IF(I73=\"+\",Hilfstabelle!$B$4,IF(I73=\"++\",Hilfstabelle!$B$5))))))*0.4,\"\")","v":7.5},"Holzwerkstoff","Stahl",null,null,null,null,null,null,null,null,null,null,{"$f":"IF(N73=0,\"\",VLOOKUP(N73,Materialien!$C$8:$D$64981,2,0))","v":"Holzwerkst."},{"$f":"IF(O73=0,\"\",VLOOKUP(O73,Materialien!$C$8:$D$64981,2,0))","v":"St."},{"$f":"IF(P73=0,\"\",VLOOKUP(P73,Materialien!$C$8:$D$64981,2,0))","v":""},{"$f":"IF(Q73=0,\"\",VLOOKUP(Q73,Materialien!$C$8:$D$64981,2,0))","v":""},{"$f":"IF(R73=0,\"\",VLOOKUP(R73,Materialien!$C$8:$D$64981,2,0))","v":""},{"$f":"IF(S73=0,\"\",VLOOKUP(S73,Materialien!$C$8:$D$64981,2,0))","v":""},{"$f":"IF(T73=0,\"\",VLOOKUP(T73,Materialien!$C$8:$D$64981,2,0))","v":""},{"$f":"IF(U73=0,\"\",VLOOKUP(U73,Materialien!$C$8:$D$64981,2,0))","v":""},{"$f":"IF(V73=0,\"\",VLOOKUP(V73,Materialien!$C$8:$D$64981,2,0))","v":""},{"$f":"IF(W73=0,\"\",VLOOKUP(W73,Materialien!$C$8:$D$64981,2,0))","v":""},{"$f":"IF(X73=0,\"\",VLOOKUP(X73,Materialien!$C$8:$D$64981,2,0))","v":""},{"$f":"IF(Y73=0,\"\",VLOOKUP(Y73,Materialien!$C$8:$D$64981,2,0))","v":""}]
[]
[null,null,null,"Eigenes Bauteil (Innenwand elementiert):",null,null,null,null,null,"Eigene Bauteile (Innenwand elementiert):"]
[null,{"$f":"ROW(B76)-ROWS(B$1:B75)","v":1},"IEL-E","Innenwand elementiert",null,{"$f":"CONCATENATE(Z75,IF(AA75=\"\",\"\",\"; \"),AA75,IF(AB75=\"\",\"\",\"; \"),AB75,IF(AC75=\"\",\"\",\"; \"),AC75,,IF(AD75=\"\",\"\",\"; \"),AD75,IF(AE75=\"\",\"\",\"; \"),AE75,IF(AF75=\"\",\"\",\"; \"),AF75,IF(AG75=\"\",\"\",\"; \"),AG75,IF(AH75=\"\",\"\",\"; \"),AH75,IF(AI75=\"\",\"\",\"; \"),AI75,IF(AJ75=\"\",\"\",\"; \"),AJ75,IF(AK75=\"\",\"\",\"; \"),AK75)","v":""},null,null,null,{"$f":"IF(E76=\"\",\"\",CONCATENATE(C76,\", \",E76,\": \",F76))","v":""},{"$f":"B76","v":1},{"$f":"C76","v":"IEL-E"},{"$f":"IF(AND(NOT(ISBLANK(G76)),AND(NOT(ISBLANK(H76))),NOT(ISBLANK(I76))),(IF(G76=\"--\",Hilfstabelle!$B$1,IF(G76=\"-\",Hilfstabelle!$B$2,IF(G76=\"⌀\",Hilfstabelle!$B$3,IF(G76=\"+\",Hilfstabelle!$B$4,IF(G76=\"++\",Hilfstabelle!$B$5))))))*0.3+(IF(H76=\"--\",Hilfstabelle!$B$1,IF(H76=\"-\",Hilfstabelle!$B$2,IF(H76=\"⌀\",Hilfstabelle!$B$3,IF(H76=\"+\",Hilfstabelle!$B$4,IF(H76=\"++\",Hilfstabelle!$B$5))))))*0.3+(IF(I76=\"--\",Hilfstabelle!$B$1,IF(I76=\"-\",Hilfstabelle!$B$2,IF(I76=\"⌀\",Hilfstabelle!$B$3,IF(I76=\"+\",Hilfstabelle!$B$4,IF(I76=\"++\",Hilfstabelle!$B$5))))))*0.4,\"\")","v":""},null,null,null,null,null,null,null,null,null,null,null,null,{"$f":"IF(N76=0,\"\",VLOOKUP(N76,Materialien!$C$8:$D$64981,2,0))","v":""},{"$f":"IF(O76=0,\"\",VLOOKUP(O76,Materialien!$C$8:$D$64981,2,0))","v":""},{"$f":"IF(P76=0,\"\",VLOOKUP(P76,Materialien!$C$8:$D$64981,2,0))","v":""},{"$f":"IF(Q76=0,\"\",VLOOKUP(Q76,Materialien!$C$8:$D$64981,2,0))","v":""},{"$f":"IF(R76=0,\"\",VLOOKUP(R76,Materialien!$C$8:$D$64981,2,0))","v":""},{"$f":"IF(S76=0,\"\",VLOOKUP(S76,Materialien!$C$8:$D$64981,2,0))","v":""},{"$f":"IF(T76=0,\"\",VLOOKUP(T76,Materialien!$C$8:$D$64981,2,0))","v":""},{"$f":"IF(U76=0,\"\",VLOOKUP(U76,Materialien!$C$8:$D$64981,2,0))","v":""},{"$f":"IF(V76=0,\"\",VLOOKUP(V76,Materialien!$C$8:$D$64981,2,0))","v":""},{"$f":"IF(W76=0,\"\",VLOOKUP(W76,Materialien!$C$8:$D$64981,2,0))","v":""},{"$f":"IF(X76=0,\"\",VLOOKUP(X76,Materialien!$C$8:$D$64981,2,0))","v":""},{"$f":"IF(Y76=0,\"\",VLOOKUP(Y76,Materialien!$C$8:$D$64981,2,0))","v":""}]
[null,{"$f":"ROWS(B$76:B77)","v":2},null,null,null,{"$f":"CONCATENATE(Z77,IF(AA77=\"\",\"\",\"; \"),AA77,IF(AB77=\"\",\"\",\"; \"),AB77,IF(AC77=\"\",\"\",\"; \"),AC77,,IF(AD77=\"\",\"\",\"; \"),AD77,IF(AE77=\"\",\"\",\"; \"),AE77,IF(AF77=\"\",\"\",\"; \"),AF77,IF(AG77=\"\",\"\",\"; \"),AG77,IF(AH77=\"\",\"\",\"; \"),AH77,IF(AI77=\"\",\"\",\"; \"),AI77,IF(AJ77=\"\",\"\",\"; \"),AJ77,IF(AK77=\"\",\"\",\"; \"),AK77)","v":""},null,null,null,null,null,null,{"$f":"IF(AND(NOT(ISBLANK(G77)),AND(NOT(ISBLANK(H77))),NOT(ISBLANK(I77))),(IF(G77=\"--\",Hilfstabelle!$B$1,IF(G77=\"-\",Hilfstabelle!$B$2,IF(G77=\"⌀\",Hilfstabelle!$B$3,IF(G77=\"+\",Hilfstabelle!$B$4,IF(G77=\"++\",Hilfstabelle!$B$5))))))*0.3+(IF(H77=\"--\",Hilfstabelle!$B$1,IF(H77=\"-\",Hilfstabelle!$B$2,IF(H77=\"⌀\",Hilfstabelle!$B$3,IF(H77=\"+\",Hilfstabelle!$B$4,IF(H77=\"++\",Hilfstabelle!$B$5))))))*0.3+(IF(I77=\"--\",Hilfstabelle!$B$1,IF(I77=\"-\",Hilfstabelle!$B$2,IF(I77=\"⌀\",Hilfstabelle!$B$3,IF(I77=\"+\",Hilfstabelle!$B$4,IF(I77=\"++\",Hilfstabelle!$B$5))))))*0.4,\"\")","v":""},null,null,null,null,null,null,null,null,null,null,null,null,{"$f":"IF(N77=0,\"\",VLOOKUP(N77,Materialien!$C$8:$D$64981,2,0))","v":""},{"$f":"IF(O77=0,\"\",VLOOKUP(O77,Materialien!$C$8:$D$64981,2,0))","v":""},{"$f":"IF(P77=0,\"\",VLOOKUP(P77,Materialien!$C$8:$D$64981,2,0))","v":""},{"$f":"IF(Q77=0,\"\",VLOOKUP(Q77,Materialien!$C$8:$D$64981,2,0))","v":""},{"$f":"IF(R77=0,\"\",VLOOKUP(R77,Materialien!$C$8:$D$64981,2,0))","v":""},{"$f":"IF(S77=0,\"\",VLOOKUP(S77,Materialien!$C$8:$D$64981,2,0))","v":""},{"$f":"IF(T77=0,\"\",VLOOKUP(T77,Materialien!$C$8:$D$64981,2,0))","v":""},{"$f":"IF(U77=0,\"\",VLOOKUP(U77,Materialien!$C$8:$D$64981,2,0))","v":""},{"$f":"IF(V77=0,\"\",VLOOKUP(V77,Materialien!$C$8:$D$64981,2,0))","v":""},{"$f":"IF(W77=0,\"\",VLOOKUP(W77,Materialien!$C$8:$D$64981,2,0))","v":""},{"$f":"IF(X77=0,\"\",VLOOKUP(X77,Materialien!$C$8:$D$64981,2,0))","v":""},{"$f":"IF(Y77=0,\"\",VLOOKUP(Y77,Materialien!$C$8:$D$64981,2,0))","v":""}]
[null,{"$f":"ROWS(B$76:B78)","v":3},"IEL-E","Innenwand elementiert",null,{"$f":"CONCATENATE(Z78,IF(AA78=\"\",\"\",\"; \"),AA78,IF(AB78=\"\",\"\",\"; \"),AB78,IF(AC78=\"\",\"\",\"; \"),AC78,,IF(AD78=\"\",\"\",\"; \"),AD78,IF(AE78=\"\",\"\",\"; \"),AE78,IF(AF78=\"\",\"\",\"; \"),AF78,IF(AG78=\"\",\"\",\"; \"),AG78,IF(AH78=\"\",\"\",\"; \"),AH78,IF(AI78=\"\",\"\",\"; \"),AI78,IF(AJ78=\"\",\"\",\"; \"),AJ78,IF(AK78=\"\",\"\",\"; \"),AK78)","v":""},null,null,null,{"$f":"IF(E78=\"\",\"\",CONCATENATE(C78,\", \",E78,\": \",F78))","v":""},{"$f":"B78","v":3},{"$f":"C78","v":"IEL-E"},{"$f":"IF(AND(NOT(ISBLANK(G78)),AND(NOT(ISBLANK(H78))),NOT(ISBLANK(I78))),(IF(G78=\"--\",Hilfstabelle!$B$1,IF(G78=\"-\",Hilfstabelle!$B$2,IF(G78=\"⌀\",Hilfstabelle!$B$3,IF(G78=\"+\",Hilfstabelle!$B$4,IF(G78=\"++\",Hilfstabelle!$B$5))))))*0.3+(IF(H78=\"--\",Hilfstabelle!$B$1,IF(H78=\"-\",Hilfstabelle!$B$2,IF(H78=\"⌀\",Hilfstabelle!$B$3,IF(H78=\"+\",Hilfstabelle!$B$4,IF(H78=\"++\",Hilfstabelle!$B$5))))))*0.3+(IF(I78=\"--\",Hilfstabelle!$B$1,IF(I78=\"-\",Hilfstabelle!$B$2,IF(I78=\"⌀\",Hilfstabelle!$B$3,IF(I78=\"+\",Hilfstabelle!$B$4,IF(I78=\"++\",Hilfstabelle!$B$5))))))*0.4,\"\")","v":""},null,null,null,null,null,null,null,null,null,null,null,null,{"$f":"IF(N78=0,\"\",VLOOKUP(N78,Materialien!$C$8:$D$64981,2,0))","v":""},{"$f":"IF(O78=0,\"\",VLOOKUP(O78,Materialien!$C$8:$D$64981,2,0))","v":""},{"$f":"IF(P78=0,\"\",VLOOKUP(P78,Materialien!$C$8:$D$64981,2,0))","v":""},{"$f":"IF(Q78=0,\"\",VLOOKUP(Q78,Materialien!$C$8:$D$64981,2,0))","v":""},{"$f":"IF(R78=0,\"\",VLOOKUP(R78,Materialien!$C$8:$D$64981,2,0))","v":""},{"$f":"IF(S78=0,\"\",VLOOKUP(S78,Materialien!$C$8:$D$64981,2,0))","v":""},{"$f":"IF(T78=0,\"\",VLOOKUP(T78,Materialien!$C$8:$D$64981,2,0))","v":""},{"$f":"IF(U78=0,\"\",VLOOKUP(U78,Materialien!$C$8:$D$64981,2,0))","v":""},{"$f":"IF(V78=0,\"\",VLOOKUP(V78,Materialien!$C$8:$D$64981,2,0))","v":""},{"$f":"IF(W78=0,\"\",VLOOKUP(W78,Materialien!$C$8:$D$64981,2,0))","v":""},{"$f":"IF(X78=0,\"\",VLOOKUP(X78,Materialien!$C$8:$D$64981,2,0))","v":""},{"$f":"IF(Y78=0,\"\",VLOOKUP(Y78,Materialien!$C$8:$D$64981,2,0))","v":""}]
[]
[null,null,null,"Innenwand leicht"]
[null,{"$f":"ROW(B81)-ROWS(B$1:B80)","v":1},"ILE","Innenwand leicht","GK-Innenwand mit MW-Dämmung",{"$f":"CONCATENATE(Z81,IF(AA81=\"\",\"\",\"; \"),AA81,IF(AB81=\"\",\"\",\"; \"),AB81,IF(AC81=\"\",\"\",\"; \"),AC81,,IF(AD81=\"\",\"\",\"; \"),AD81,IF(AE81=\"\",\"\",\"; \"),AE81,IF(AF81=\"\",\"\",\"; \"),AF81,IF(AG81=\"\",\"\",\"; \"),AG81,IF(AH81=\"\",\"\",\"; \"),AH81,IF(AI81=\"\",\"\",\"; \"),AI81,IF(AJ81=\"\",\"\",\"; \"),AJ81,IF(AK81=\"\",\"\",\"; \"),AK81)","v":"GK; Metallprofile; MW; GK"},"+","+","⌀",{"$f":"IF(E81=\"\",\"\",CONCATENATE(C81,\", \",E81,\": \",F81))","v":"ILE, GK-Innenwand mit MW-Dämmung: GK; Metallprofile; MW; GK"},{"$f":"B81","v":1},{"$f":"C81","v":"ILE"},{"$f":"IF(AND(NOT(ISBLANK(G81)),AND(NOT(ISBLANK(H81))),NOT(ISBLANK(I81))),(IF(G81=\"--\",Hilfstabelle!$B$1,IF(G81=\"-\",Hilfstabelle!$B$2,IF(G81=\"⌀\",Hilfstabelle!$B$3,IF(G81=\"+\",Hilfstabelle!$B$4,IF(G81=\"++\",Hilfstabelle!$B$5))))))*0.3+(IF(H81=\"--\",Hilfstabelle!$B$1,IF(H81=\"-\",Hilfstabelle!$B$2,IF(H81=\"⌀\",Hilfstabelle!$B$3,IF(H81=\"+\",Hilfstabelle!$B$4,IF(H81=\"++\",Hilfstabelle!$B$5))))))*0.3+(IF(I81=\"--\",Hilfstabelle!$B$1,IF(I81=\"-\",Hilfstabelle!$B$2,IF(I81=\"⌀\",Hilfstabelle!$B$3,IF(I81=\"+\",Hilfstabelle!$B$4,IF(I81=\"++\",Hilfstabelle!$B$5))))))*0.4,\"\")","v":6.5},"Gipskarton","Metallprofile","Dämmstoff - Mineralwolle","Gipskarton",null,null,null,null,null,null,null,null,{"$f":"IF(N81=0,\"\",VLOOKUP(N81,Materialien!$C$8:$D$64981,2,0))","v":"GK"},{"$f":"IF(O81=0,\"\",VLOOKUP(O81,Materialien!$C$8:$D$64981,2,0))","v":"Metallprofile"},{"$f":"IF(P81=0,\"\",VLOOKUP(P81,Materialien!$C$8:$D$64981,2,0))","v":"MW"},{"$f":"IF(Q81=0,\"\",VLOOKUP(Q81,Materialien!$C$8:$D$64981,2,0))","v":"GK"},{"$f":"IF(R81=0,\"\",VLOOKUP(R81,Materialien!$C$8:$D$64981,2,0))","v":""},{"$f":"IF(S81=0,\"\",VLOOKUP(S81,Materialien!$C$8:$D$64981,2,0))","v":""},{"$f":"IF(T81=0,\"\",VLOOKUP(T81,Materialien!$C$8:$D$64981,2,0))","v":""},{"$f":"IF(U81=0,\"\",VLOOKUP(U81,Materialien!$C$8:$D$64981,2,0))","v":""},{"$f":"IF(V81=0,\"\",VLOOKUP(V81,Materialien!$C$8:$D$64981,2,0))","v":""},{"$f":"IF(W81=0,\"\",VLOOKUP(W81,Materialien!$C$8:$D$64981,2,0))","v":""},{"$f":"IF(X81=0,\"\",VLOOKUP(X81,Materialien!$C$8:$D$64981,2,0))","v":""},{"$f":"IF(Y81=0,\"\",VLOOKUP(Y81,Materialien!$C$8:$D$64981,2,0))","v":""}]
[]
[null,null,null,"Eigenes Bauteil (Innenwand leicht):",null,null,null,null,null,"Eigene Bauteile (Innenwand leicht):"]
[null,{"$f":"ROW(B84)-ROWS(B$1:B83)","v":1},"ILE-E","Innenwand leicht",null,{"$f":"CONCATENATE(Z83,IF(AA83=\"\",\"\",\"; \"),AA83,IF(AB83=\"\",\"\",\"; \"),AB83,IF(AC83=\"\",\"\",\"; \"),AC83,,IF(AD83=\"\",\"\",\"; \"),AD83,IF(AE83=\"\",\"\",\"; \"),AE83,IF(AF83=\"\",\"\",\"; \"),AF83,IF(AG83=\"\",\"\",\"; \"),AG83,IF(AH83=\"\",\"\",\"; \"),AH83,IF(AI83=\"\",\"\",\"; \"),AI83,IF(AJ83=\"\",\"\",\"; \"),AJ83,IF(AK83=\"\",\"\",\"; \"),AK83)","v":""},null,null,null,{"$f":"IF(E84=\"\",\"\",CONCATENATE(C84,\", \",E84,\": \",F84))","v":""},{"$f":"B84","v":1},"ILE-E",{"$f":"IF(AND(NOT(ISBLANK(G84)),AND(NOT(ISBLANK(H84))),NOT(ISBLANK(I84))),(IF(G84=\"--\",Hilfstabelle!$B$1,IF(G84=\"-\",Hilfstabelle!$B$2,IF(G84=\"⌀\",Hilfstabelle!$B$3,IF(G84=\"+\",Hilfstabelle!$B$4,IF(G84=\"++\",Hilfstabelle!$B$5))))))*0.3+(IF(H84=\"--\",Hilfstabelle!$B$1,IF(H84=\"-\",Hilfstabelle!$B$2,IF(H84=\"⌀\",Hilfstabelle!$B$3,IF(H84=\"+\",Hilfstabelle!$B$4,IF(H84=\"++\",Hilfstabelle!$B$5))))))*0.3+(IF(I84=\"--\",Hilfstabelle!$B$1,IF(I84=\"-\",Hilfstabelle!$B$2,IF(I84=\"⌀\",Hilfstabelle!$B$3,IF(I84=\"+\",Hilfstabelle!$B$4,IF(I84=\"++\",Hilfstabelle!$B$5))))))*0.4,\"\")","v":""},null,null,null,null,null,null,null,null,null,null,null,null,{"$f":"IF(N84=0,\"\",VLOOKUP(N84,Materialien!$C$8:$D$64981,2,0))","v":""},{"$f":"IF(O84=0,\"\",VLOOKUP(O84,Materialien!$C$8:$D$64981,2,0))","v":""},{"$f":"IF(P84=0,\"\",VLOOKUP(P84,Materialien!$C$8:$D$64981,2,0))","v":""},{"$f":"IF(Q84=0,\"\",VLOOKUP(Q84,Materialien!$C$8:$D$64981,2,0))","v":""},{"$f":"IF(R84=0,\"\",VLOOKUP(R84,Materialien!$C$8:$D$64981,2,0))","v":""},{"$f":"IF(S84=0,\"\",VLOOKUP(S84,Materialien!$C$8:$D$64981,2,0))","v":""},{"$f":"IF(T84=0,\"\",VLOOKUP(T84,Materialien!$C$8:$D$64981,2,0))","v":""},{"$f":"IF(U84=0,\"\",VLOOKUP(U84,Materialien!$C$8:$D$64981,2,0))","v":""},{"$f":"IF(V84=0,\"\",VLOOKUP(V84,Materialien!$C$8:$D$64981,2,0))","v":""},{"$f":"IF(W84=0,\"\",VLOOKUP(W84,Materialien!$C$8:$D$64981,2,0))","v":""},{"$f":"IF(X84=0,\"\",VLOOKUP(X84,Materialien!$C$8:$D$64981,2,0))","v":""},{"$f":"IF(Y84=0,\"\",VLOOKUP(Y84,Materialien!$C$8:$D$64981,2,0))","v":""}]
[null,{"$f":"ROWS(B$84:B85)","v":2},null,null,null,{"$f":"CONCATENATE(Z85,IF(AA85=\"\",\"\",\"; \"),AA85,IF(AB85=\"\",\"\",\"; \"),AB85,IF(AC85=\"\",\"\",\"; \"),AC85,,IF(AD85=\"\",\"\",\"; \"),AD85,IF(AE85=\"\",\"\",\"; \"),AE85,IF(AF85=\"\",\"\",\"; \"),AF85,IF(AG85=\"\",\"\",\"; \"),AG85,IF(AH85=\"\",\"\",\"; \"),AH85,IF(AI85=\"\",\"\",\"; \"),AI85,IF(AJ85=\"\",\"\",\"; \"),AJ85,IF(AK85=\"\",\"\",\"; \"),AK85)","v":""},null,null,null,null,null,null,{"$f":"IF(AND(NOT(ISBLANK(G85)),AND(NOT(ISBLANK(H85))),NOT(ISBLANK(I85))),(IF(G85=\"--\",Hilfstabelle!$B$1,IF(G85=\"-\",Hilfstabelle!$B$2,IF(G85=\"⌀\",Hilfstabelle!$B$3,IF(G85=\"+\",Hilfstabelle!$B$4,IF(G85=\"++\",Hilfstabelle!$B$5))))))*0.3+(IF(H85=\"--\",Hilfstabelle!$B$1,IF(H85=\"-\",Hilfstabelle!$B$2,IF(H85=\"⌀\",Hilfstabelle!$B$3,IF(H85=\"+\",Hilfstabelle!$B$4,IF(H85=\"++\",Hilfstabelle!$B$5))))))*0.3+(IF(I85=\"--\",Hilfstabelle!$B$1,IF(I85=\"-\",Hilfstabelle!$B$2,IF(I85=\"⌀\",Hilfstabelle!$B$3,IF(I85=\"+\",Hilfstabelle!$B$4,IF(I85=\"++\",Hilfstabelle!$B$5))))))*0.4,\"\")","v":""},null,null,null,null,null,null,null,null,null,null,null,null,{"$f":"IF(N85=0,\"\",VLOOKUP(N85,Materialien!$C$8:$D$64981,2,0))","v":""},{"$f":"IF(O85=0,\"\",VLOOKUP(O85,Materialien!$C$8:$D$64981,2,0))","v":""},{"$f":"IF(P85=0,\"\",VLOOKUP(P85,Materialien!$C$8:$D$64981,2,0))","v":""},{"$f":"IF(Q85=0,\"\",VLOOKUP(Q85,Materialien!$C$8:$D$64981,2,0))","v":""},{"$f":"IF(R85=0,\"\",VLOOKUP(R85,Materialien!$C$8:$D$64981,2,0))","v":""},{"$f":"IF(S85=0,\"\",VLOOKUP(S85,Materialien!$C$8:$D$64981,2,0))","v":""},{"$f":"IF(T85=0,\"\",VLOOKUP(T85,Materialien!$C$8:$D$64981,2,0))","v":""},{"$f":"IF(U85=0,\"\",VLOOKUP(U85,Materialien!$C$8:$D$64981,2,0))","v":""},{"$f":"IF(V85=0,\"\",VLOOKUP(V85,Materialien!$C$8:$D$64981,2,0))","v":""},{"$f":"IF(W85=0,\"\",VLOOKUP(W85,Materialien!$C$8:$D$64981,2,0))","v":""},{"$f":"IF(X85=0,\"\",VLOOKUP(X85,Materialien!$C$8:$D$64981,2,0))","v":""},{"$f":"IF(Y85=0,\"\",VLOOKUP(Y85,Materialien!$C$8:$D$64981,2,0))","v":""}]
[null,{"$f":"ROWS(B$84:B86)","v":3},"ILE-E","Innenwand leicht",null,{"$f":"CONCATENATE(Z86,IF(AA86=\"\",\"\",\"; \"),AA86,IF(AB86=\"\",\"\",\"; \"),AB86,IF(AC86=\"\",\"\",\"; \"),AC86,,IF(AD86=\"\",\"\",\"; \"),AD86,IF(AE86=\"\",\"\",\"; \"),AE86,IF(AF86=\"\",\"\",\"; \"),AF86,IF(AG86=\"\",\"\",\"; \"),AG86,IF(AH86=\"\",\"\",\"; \"),AH86,IF(AI86=\"\",\"\",\"; \"),AI86,IF(AJ86=\"\",\"\",\"; \"),AJ86,IF(AK86=\"\",\"\",\"; \"),AK86)","v":""},null,null,null,{"$f":"IF(E86=\"\",\"\",CONCATENATE(C86,\", \",E86,\": \",F86))","v":""},{"$f":"B86","v":3},{"$f":"C86","v":"ILE-E"},{"$f":"IF(AND(NOT(ISBLANK(G86)),AND(NOT(ISBLANK(H86))),NOT(ISBLANK(I86))),(IF(G86=\"--\",Hilfstabelle!$B$1,IF(G86=\"-\",Hilfstabelle!$B$2,IF(G86=\"⌀\",Hilfstabelle!$B$3,IF(G86=\"+\",Hilfstabelle!$B$4,IF(G86=\"++\",Hilfstabelle!$B$5))))))*0.3+(IF(H86=\"--\",Hilfstabelle!$B$1,IF(H86=\"-\",Hilfstabelle!$B$2,IF(H86=\"⌀\",Hilfstabelle!$B$3,IF(H86=\"+\",Hilfstabelle!$B$4,IF(H86=\"++\",Hilfstabelle!$B$5))))))*0.3+(IF(I86=\"--\",Hilfstabelle!$B$1,IF(I86=\"-\",Hilfstabelle!$B$2,IF(I86=\"⌀\",Hilfstabelle!$B$3,IF(I86=\"+\",Hilfstabelle!$B$4,IF(I86=\"++\",Hilfstabelle!$B$5))))))*0.4,\"\")","v":""},null,null,null,null,null,null,null,null,null,null,null,null,{"$f":"IF(N86=0,\"\",VLOOKUP(N86,Materialien!$C$8:$D$64981,2,0))","v":""},{"$f":"IF(O86=0,\"\",VLOOKUP(O86,Materialien!$C$8:$D$64981,2,0))","v":""},{"$f":"IF(P86=0,\"\",VLOOKUP(P86,Materialien!$C$8:$D$64981,2,0))","v":""},{"$f":"IF(Q86=0,\"\",VLOOKUP(Q86,Materialien!$C$8:$D$64981,2,0))","v":""},{"$f":"IF(R86=0,\"\",VLOOKUP(R86,Materialien!$C$8:$D$64981,2,0))","v":""},{"$f":"IF(S86=0,\"\",VLOOKUP(S86,Materialien!$C$8:$D$64981,2,0))","v":""},{"$f":"IF(T86=0,\"\",VLOOKUP(T86,Materialien!$C$8:$D$64981,2,0))","v":""},{"$f":"IF(U86=0,\"\",VLOOKUP(U86,Materialien!$C$8:$D$64981,2,0))","v":""},{"$f":"IF(V86=0,\"\",VLOOKUP(V86,Materialien!$C$8:$D$64981,2,0))","v":""},{"$f":"IF(W86=0,\"\",VLOOKUP(W86,Materialien!$C$8:$D$64981,2,0))","v":""},{"$f":"IF(X86=0,\"\",VLOOKUP(X86,Materialien!$C$8:$D$64981,2,0))","v":""},{"$f":"IF(Y86=0,\"\",VLOOKUP(Y86,Materialien!$C$8:$D$64981,2,0))","v":""}]
[]
[null,null,null,"Decke",null,null,null,null,null,null,null,null,null,null,null,null,null,null,null,null,null,null,null,null,null,{"$f":"IF(N88=0,\"\",VLOOKUP(N88,Materialien!$C$8:$D$64981,2,0))","v":""},{"$f":"IF(O88=0,\"\",VLOOKUP(O88,Materialien!$C$8:$D$64981,2,0))","v":""},{"$f":"IF(P88=0,\"\",VLOOKUP(P88,Materialien!$C$8:$D$64981,2,0))","v":""},{"$f":"IF(Q88=0,\"\",VLOOKUP(Q88,Materialien!$C$8:$D$64981,2,0))","v":""},{"$f":"IF(R88=0,\"\",VLOOKUP(R88,Materialien!$C$8:$D$64981,2,0))","v":""},{"$f":"IF(S88=0,\"\",VLOOKUP(S88,Materialien!$C$8:$D$64981,2,0))","v":""},{"$f":"IF(T88=0,\"\",VLOOKUP(T88,Materialien!$C$8:$D$64981,2,0))","v":""},{"$f":"IF(U88=0,\"\",VLOOKUP(U88,Materialien!$C$8:$D$64981,2,0))","v":""},{"$f":"IF(V88=0,\"\",VLOOKUP(V88,Materialien!$C$8:$D$64981,2,0))","v":""},{"$f":"IF(W88=0,\"\",VLOOKUP(W88,Materialien!$C$8:$D$64981,2,0))","v":""},{"$f":"IF(X88=0,\"\",VLOOKUP(X88,Materialien!$C$8:$D$64981,2,0))","v":""},{"$f":"IF(Y88=0,\"\",VLOOKUP(Y88,Materialien!$C$8:$D$64981,2,0))","v":""}]
[null,{"$f":"ROW(B89)-ROWS(B$1:B88)","v":1},"DEC","Decke","Ortbetondecke verputzt",{"$f":"CONCATENATE(Z89,IF(AA89=\"\",\"\",\"; \"),AA89,IF(AB89=\"\",\"\",\"; \"),AB89,IF(AC89=\"\",\"\",\"; \"),AC89,,IF(AD89=\"\",\"\",\"; \"),AD89,IF(AE89=\"\",\"\",\"; \"),AE89,IF(AF89=\"\",\"\",\"; \"),AF89,IF(AG89=\"\",\"\",\"; \"),AG89,IF(AH89=\"\",\"\",\"; \"),AH89,IF(AI89=\"\",\"\",\"; \"),AI89,IF(AJ89=\"\",\"\",\"; \"),AJ89,IF(AK89=\"\",\"\",\"; \"),AK89)","v":"StB.; gipsfr.Putz"},"⌀","+","++",{"$f":"IF(E89=\"\",\"\",CONCATENATE(C89,\", \",E89,\": \",F89))","v":"DEC, Ortbetondecke verputzt: StB.; gipsfr.Putz"},{"$f":"B89","v":1},"DEC",{"$f":"IF(AND(NOT(ISBLANK(G89)),AND(NOT(ISBLANK(H89))),NOT(ISBLANK(I89))),(IF(G89=\"--\",Hilfstabelle!$B$1,IF(G89=\"-\",Hilfstabelle!$B$2,IF(G89=\"⌀\",Hilfstabelle!$B$3,IF(G89=\"+\",Hilfstabelle!$B$4,IF(G89=\"++\",Hilfstabelle!$B$5))))))*0.3+(IF(H89=\"--\",Hilfstabelle!$B$1,IF(H89=\"-\",Hilfstabelle!$B$2,IF(H89=\"⌀\",Hilfstabelle!$B$3,IF(H89=\"+\",Hilfstabelle!$B$4,IF(H89=\"++\",Hilfstabelle!$B$5))))))*0.3+(IF(I89=\"--\",Hilfstabelle!$B$1,IF(I89=\"-\",Hilfstabelle!$B$2,IF(I89=\"⌀\",Hilfstabelle!$B$3,IF(I89=\"+\",Hilfstabelle!$B$4,IF(I89=\"++\",Hilfstabelle!$B$5))))))*0.4,\"\")","v":7.75},"Stahlbeton (Ortbeton)","Putz - nicht gipshaltig",null,null,null,null,null,null,null,null,null,null,{"$f":"IF(N89=0,\"\",VLOOKUP(N89,Materialien!$C$8:$D$64981,2,0))","v":"StB."},{"$f":"IF(O89=0,\"\",VLOOKUP(O89,Materialien!$C$8:$D$64981,2,0))","v":"gipsfr.Putz"},{"$f":"IF(P89=0,\"\",VLOOKUP(P89,Materialien!$C$8:$D$64981,2,0))","v":""},{"$f":"IF(Q89=0,\"\",VLOOKUP(Q89,Materialien!$C$8:$D$64981,2,0))","v":""},{"$f":"IF(R89=0,\"\",VLOOKUP(R89,Materialien!$C$8:$D$64981,2,0))","v":""},{"$f":"IF(S89=0,\"\",VLOOKUP(S89,Materialien!$C$8:$D$64981,2,0))","v":""},{"$f":"IF(T89=0,\"\",VLOOKUP(T89,Materialien!$C$8:$D$64981,2,0))","v":""},{"$f":"IF(U89=0,\"\",VLOOKUP(U89,Materialien!$C$8:$D$64981,2,0))","v":""},{"$f":"IF(V89=0,\"\",VLOOKUP(V89,Materialien!$C$8:$D$64981,2,0))","v":""},{"$f":"IF(W89=0,\"\",VLOOKUP(W89,Materialien!$C$8:$D$64981,2,0))","v":""},{"$f":"IF(X89=0,\"\",VLOOKUP(X89,Materialien!$C$8:$D$64981,2,0))","v":""},{"$f":"IF(Y89=0,\"\",VLOOKUP(Y89,Materialien!$C$8:$D$64981,2,0))","v":""}]
[null,{"$f":"ROWS(B$89:B90)","v":2},"DEC","Decke","Ortbetondecke verputzt","StB.; gipshal.Putz","⌀","⌀","⌀",{"$f":"IF(E90=\"\",\"\",CONCATENATE(C90,\", \",E90,\": \",F90))","v":"DEC, Ortbetondecke verputzt: StB.; gipshal.Putz"},2,"DEC",{"$f":"IF(AND(NOT(ISBLANK(G90)),AND(NOT(ISBLANK(H90))),NOT(ISBLANK(I90))),(IF(G90=\"--\",Hilfstabelle!$B$1,IF(G90=\"-\",Hilfstabelle!$B$2,IF(G90=\"⌀\",Hilfstabelle!$B$3,IF(G90=\"+\",Hilfstabelle!$B$4,IF(G90=\"++\",Hilfstabelle!$B$5))))))*0.3+(IF(H90=\"--\",Hilfstabelle!$B$1,IF(H90=\"-\",Hilfstabelle!$B$2,IF(H90=\"⌀\",Hilfstabelle!$B$3,IF(H90=\"+\",Hilfstabelle!$B$4,IF(H90=\"++\",Hilfstabelle!$B$5))))))*0.3+(IF(I90=\"--\",Hilfstabelle!$B$1,IF(I90=\"-\",Hilfstabelle!$B$2,IF(I90=\"⌀\",Hilfstabelle!$B$3,IF(I90=\"+\",Hilfstabelle!$B$4,IF(I90=\"++\",Hilfstabelle!$B$5))))))*0.4,\"\")","v":5},"Stahlbeton (Ortbeton)","Putz - gipshaltig",null,null,null,null,null,null,null,null,null,null,{"$f":"IF(N90=0,\"\",VLOOKUP(N90,Materialien!$C$8:$D$64981,2,0))","v":"StB."},{"$f":"IF(O90=0,\"\",VLOOKUP(O90,Materialien!$C$8:$D$64981,2,0))","v":"gipshal.Putz"},{"$f":"IF(P90=0,\"\",VLOOKUP(P90,Materialien!$C$8:$D$64981,2,0))","v":""},{"$f":"IF(Q90=0,\"\",VLOOKUP(Q90,Materialien!$C$8:$D$64981,2,0))","v":""},{"$f":"IF(R90=0,\"\",VLOOKUP(R90,Materialien!$C$8:$D$64981,2,0))","v":""},{"$f":"IF(S90=0,\"\",VLOOKUP(S90,Materialien!$C$8:$D$64981,2,0))","v":""},{"$f":"IF(T90=0,\"\",VLOOKUP(T90,Materialien!$C$8:$D$64981,2,0))","v":""},{"$f":"IF(U90=0,\"\",VLOOKUP(U90,Materialien!$C$8:$D$64981,2,0))","v":""},{"$f":"IF(V90=0,\"\",VLOOKUP(V90,Materialien!$C$8:$D$64981,2,0))","v":""},{"$f":"IF(W90=0,\"\",VLOOKUP(W90,Materialien!$C$8:$D$64981,2,0))","v":""},{"$f":"IF(X90=0,\"\",VLOOKUP(X90,Materialien!$C$8:$D$64981,2,0))","v":""},{"$f":"IF(Y90=0,\"\",VLOOKUP(Y90,Materialien!$C$8:$D$64981,2,0))","v":""}]
[null,{"$f":"ROWS(B$89:B91)","v":3},"DEC","Decke","Ortbetondecke mit AHD","StB.; Al.-UK; GK","⌀","+","++","DEC, Ortbetondecke mit AHD: StB.; Al.-UK; GK",3,"DEC",{"$f":"IF(AND(NOT(ISBLANK(G91)),AND(NOT(ISBLANK(H91))),NOT(ISBLANK(I91))),(IF(G91=\"--\",Hilfstabelle!$B$1,IF(G91=\"-\",Hilfstabelle!$B$2,IF(G91=\"⌀\",Hilfstabelle!$B$3,IF(G91=\"+\",Hilfstabelle!$B$4,IF(G91=\"++\",Hilfstabelle!$B$5))))))*0.3+(IF(H91=\"--\",Hilfstabelle!$B$1,IF(H91=\"-\",Hilfstabelle!$B$2,IF(H91=\"⌀\",Hilfstabelle!$B$3,IF(H91=\"+\",Hilfstabelle!$B$4,IF(H91=\"++\",Hilfstabelle!$B$5))))))*0.3+(IF(I91=\"--\",Hilfstabelle!$B$1,IF(I91=\"-\",Hilfstabelle!$B$2,IF(I91=\"⌀\",Hilfstabelle!$B$3,IF(I91=\"+\",Hilfstabelle!$B$4,IF(I91=\"++\",Hilfstabelle!$B$5))))))*0.4,\"\")","v":7.75},"Stahlbeton (Ortbeton)","Unterkonstruktion - Aluminium","Gipskarton",null,null,null,null,null,null,null,null,null,{"$f":"IF(N91=0,\"\",VLOOKUP(N91,Materialien!$C$8:$D$64981,2,0))","v":"StB."},{"$f":"IF(O91=0,\"\",VLOOKUP(O91,Materialien!$C$8:$D$64981,2,0))","v":"Al.-UK"},{"$f":"IF(P91=0,\"\",VLOOKUP(P91,Materialien!$C$8:$D$64981,2,0))","v":"GK"},{"$f":"IF(Q91=0,\"\",VLOOKUP(Q91,Materialien!$C$8:$D$64981,2,0))","v":""},{"$f":"IF(R91=0,\"\",VLOOKUP(R91,Materialien!$C$8:$D$64981,2,0))","v":""},{"$f":"IF(S91=0,\"\",VLOOKUP(S91,Materialien!$C$8:$D$64981,2,0))","v":""},{"$f":"IF(T91=0,\"\",VLOOKUP(T91,Materialien!$C$8:$D$64981,2,0))","v":""},{"$f":"IF(U91=0,\"\",VLOOKUP(U91,Materialien!$C$8:$D$64981,2,0))","v":""},{"$f":"IF(V91=0,\"\",VLOOKUP(V91,Materialien!$C$8:$D$64981,2,0))","v":""},{"$f":"IF(W91=0,\"\",VLOOKUP(W91,Materialien!$C$8:$D$64981,2,0))","v":""},{"$f":"IF(X91=0,\"\",VLOOKUP(X91,Materialien!$C$8:$D$64981,2,0))","v":""},{"$f":"IF(Y91=0,\"\",VLOOKUP(Y91,Materialien!$C$8:$D$64981,2,0))","v":""}]
[null,{"$f":"ROWS(B$89:B92)","v":4},"DEC","Decke","Holzbalkendecke","Flachpresspl.; Holzbauteile; nachw.Dämm.; Flachpresspl.","+","+","⌀","DEC, Holzbalkendecke: Flachpresspl.; Holzbauteile; nachw.Dämm.; Flachpresspl.",4,"DEC",{"$f":"IF(AND(NOT(ISBLANK(G92)),AND(NOT(ISBLANK(H92))),NOT(ISBLANK(I92))),(IF(G92=\"--\",Hilfstabelle!$B$1,IF(G92=\"-\",Hilfstabelle!$B$2,IF(G92=\"⌀\",Hilfstabelle!$B$3,IF(G92=\"+\",Hilfstabelle!$B$4,IF(G92=\"++\",Hilfstabelle!$B$5))))))*0.3+(IF(H92=\"--\",Hilfstabelle!$B$1,IF(H92=\"-\",Hilfstabelle!$B$2,IF(H92=\"⌀\",Hilfstabelle!$B$3,IF(H92=\"+\",Hilfstabelle!$B$4,IF(H92=\"++\",Hilfstabelle!$B$5))))))*0.3+(IF(I92=\"--\",Hilfstabelle!$B$1,IF(I92=\"-\",Hilfstabelle!$B$2,IF(I92=\"⌀\",Hilfstabelle!$B$3,IF(I92=\"+\",Hilfstabelle!$B$4,IF(I92=\"++\",Hilfstabelle!$B$5))))))*0.4,\"\")","v":6.5},"Flachpressplatten","Holzständer, Holztafel, Holzrahmen","Dämmstoff - nachw.Dämm.","Flachpressplatten",null,null,null,null,null,null,null,null,{"$f":"IF(N92=0,\"\",VLOOKUP(N92,Materialien!$C$8:$D$64981,2,0))","v":"Flachpresspl."},{"$f":"IF(O92=0,\"\",VLOOKUP(O92,Materialien!$C$8:$D$64981,2,0))","v":"Holzbauteile"},{"$f":"IF(P92=0,\"\",VLOOKUP(P92,Materialien!$C$8:$D$64981,2,0))","v":"nachw.Dämm."},{"$f":"IF(Q92=0,\"\",VLOOKUP(Q92,Materialien!$C$8:$D$64981,2,0))","v":"Flachpresspl."},{"$f":"IF(R92=0,\"\",VLOOKUP(R92,Materialien!$C$8:$D$64981,2,0))","v":""},{"$f":"IF(S92=0,\"\",VLOOKUP(S92,Materialien!$C$8:$D$64981,2,0))","v":""},{"$f":"IF(T92=0,\"\",VLOOKUP(T92,Materialien!$C$8:$D$64981,2,0))","v":""},{"$f":"IF(U92=0,\"\",VLOOKUP(U92,Materialien!$C$8:$D$64981,2,0))","v":""},{"$f":"IF(V92=0,\"\",VLOOKUP(V92,Materialien!$C$8:$D$64981,2,0))","v":""},{"$f":"IF(W92=0,\"\",VLOOKUP(W92,Materialien!$C$8:$D$64981,2,0))","v":""},{"$f":"IF(X92=0,\"\",VLOOKUP(X92,Materialien!$C$8:$D$64981,2,0))","v":""},{"$f":"IF(Y92=0,\"\",VLOOKUP(Y92,Materialien!$C$8:$D$64981,2,0))","v":""}]
[]
[null,null,null,"Eigenes Bauteil (Decke):",null,null,null,null,null,"Eigene Bauteile (Decke):"]
[null,{"$f":"ROW(B95)-ROWS(B$1:B94)","v":1},"DEC-E","Decke",null,{"$f":"CONCATENATE(Z94,IF(AA94=\"\",\"\",\"; \"),AA94,IF(AB94=\"\",\"\",\"; \"),AB94,IF(AC94=\"\",\"\",\"; \"),AC94,,IF(AD94=\"\",\"\",\"; \"),AD94,IF(AE94=\"\",\"\",\"; \"),AE94,IF(AF94=\"\",\"\",\"; \"),AF94,IF(AG94=\"\",\"\",\"; \"),AG94,IF(AH94=\"\",\"\",\"; \"),AH94,IF(AI94=\"\",\"\",\"; \"),AI94,IF(AJ94=\"\",\"\",\"; \"),AJ94,IF(AK94=\"\",\"\",\"; \"),AK94)","v":""},null,null,null,{"$f":"IF(E95=\"\",\"\",CONCATENATE(C95,\", \",E95,\": \",F95))","v":""},{"$f":"B95","v":1},"DEC-E",{"$f":"IF(AND(NOT(ISBLANK(G95)),AND(NOT(ISBLANK(H95))),NOT(ISBLANK(I95))),(IF(G95=\"--\",Hilfstabelle!$B$1,IF(G95=\"-\",Hilfstabelle!$B$2,IF(G95=\"⌀\",Hilfstabelle!$B$3,IF(G95=\"+\",Hilfstabelle!$B$4,IF(G95=\"++\",Hilfstabelle!$B$5))))))*0.3+(IF(H95=\"--\",Hilfstabelle!$B$1,IF(H95=\"-\",Hilfstabelle!$B$2,IF(H95=\"⌀\",Hilfstabelle!$B$3,IF(H95=\"+\",Hilfstabelle!$B$4,IF(H95=\"++\",Hilfstabelle!$B$5))))))*0.3+(IF(I95=\"--\",Hilfstabelle!$B$1,IF(I95=\"-\",Hilfstabelle!$B$2,IF(I95=\"⌀\",Hilfstabelle!$B$3,IF(I95=\"+\",Hilfstabelle!$B$4,IF(I95=\"++\",Hilfstabelle!$B$5))))))*0.4,\"\")","v":""},null,null,null,null,null,null,null,null,null,null,null,null,{"$f":"IF(N95=0,\"\",VLOOKUP(N95,Materialien!$C$8:$D$64981,2,0))","v":""},{"$f":"IF(O95=0,\"\",VLOOKUP(O95,Materialien!$C$8:$D$64981,2,0))","v":""},{"$f":"IF(P95=0,\"\",VLOOKUP(P95,Materialien!$C$8:$D$64981,2,0))","v":""},{"$f":"IF(Q95=0,\"\",VLOOKUP(Q95,Materialien!$C$8:$D$64981,2,0))","v":""},{"$f":"IF(R95=0,\"\",VLOOKUP(R95,Materialien!$C$8:$D$64981,2,0))","v":""},{"$f":"IF(S95=0,\"\",VLOOKUP(S95,Materialien!$C$8:$D$64981,2,0))","v":""},{"$f":"IF(T95=0,\"\",VLOOKUP(T95,Materialien!$C$8:$D$64981,2,0))","v":""},{"$f":"IF(U95=0,\"\",VLOOKUP(U95,Materialien!$C$8:$D$64981,2,0))","v":""},{"$f":"IF(V95=0,\"\",VLOOKUP(V95,Materialien!$C$8:$D$64981,2,0))","v":""},{"$f":"IF(W95=0,\"\",VLOOKUP(W95,Materialien!$C$8:$D$64981,2,0))","v":""},{"$f":"IF(X95=0,\"\",VLOOKUP(X95,Materialien!$C$8:$D$64981,2,0))","v":""},{"$f":"IF(Y95=0,\"\",VLOOKUP(Y95,Materialien!$C$8:$D$64981,2,0))","v":""}]
[null,{"$f":"ROWS(B$95:B96)","v":2},null,null,null,{"$f":"CONCATENATE(Z96,IF(AA96=\"\",\"\",\"; \"),AA96,IF(AB96=\"\",\"\",\"; \"),AB96,IF(AC96=\"\",\"\",\"; \"),AC96,,IF(AD96=\"\",\"\",\"; \"),AD96,IF(AE96=\"\",\"\",\"; \"),AE96,IF(AF96=\"\",\"\",\"; \"),AF96,IF(AG96=\"\",\"\",\"; \"),AG96,IF(AH96=\"\",\"\",\"; \"),AH96,IF(AI96=\"\",\"\",\"; \"),AI96,IF(AJ96=\"\",\"\",\"; \"),AJ96,IF(AK96=\"\",\"\",\"; \"),AK96)","v":""},null,null,null,null,null,null,{"$f":"IF(AND(NOT(ISBLANK(G96)),AND(NOT(ISBLANK(H96))),NOT(ISBLANK(I96))),(IF(G96=\"--\",Hilfstabelle!$B$1,IF(G96=\"-\",Hilfstabelle!$B$2,IF(G96=\"⌀\",Hilfstabelle!$B$3,IF(G96=\"+\",Hilfstabelle!$B$4,IF(G96=\"++\",Hilfstabelle!$B$5))))))*0.3+(IF(H96=\"--\",Hilfstabelle!$B$1,IF(H96=\"-\",Hilfstabelle!$B$2,IF(H96=\"⌀\",Hilfstabelle!$B$3,IF(H96=\"+\",Hilfstabelle!$B$4,IF(H96=\"++\",Hilfstabelle!$B$5))))))*0.3+(IF(I96=\"--\",Hilfstabelle!$B$1,IF(I96=\"-\",Hilfstabelle!$B$2,IF(I96=\"⌀\",Hilfstabelle!$B$3,IF(I96=\"+\",Hilfstabelle!$B$4,IF(I96=\"++\",Hilfstabelle!$B$5))))))*0.4,\"\")","v":""},null,null,null,null,null,null,null,null,null,null,null,null,{"$f":"IF(N96=0,\"\",VLOOKUP(N96,Materialien!$C$8:$D$64981,2,0))","v":""},{"$f":"IF(O96=0,\"\",VLOOKUP(O96,Materialien!$C$8:$D$64981,2,0))","v":""},{"$f":"IF(P96=0,\"\",VLOOKUP(P96,Materialien!$C$8:$D$64981,2,0))","v":""},{"$f":"IF(Q96=0,\"\",VLOOKUP(Q96,Materialien!$C$8:$D$64981,2,0))","v":""},{"$f":"IF(R96=0,\"\",VLOOKUP(R96,Materialien!$C$8:$D$64981,2,0))","v":""},{"$f":"IF(S96=0,\"\",VLOOKUP(S96,Materialien!$C$8:$D$64981,2,0))","v":""},{"$f":"IF(T96=0,\"\",VLOOKUP(T96,Materialien!$C$8:$D$64981,2,0))","v":""},{"$f":"IF(U96=0,\"\",VLOOKUP(U96,Materialien!$C$8:$D$64981,2,0))","v":""},{"$f":"IF(V96=0,\"\",VLOOKUP(V96,Materialien!$C$8:$D$64981,2,0))","v":""},{"$f":"IF(W96=0,\"\",VLOOKUP(W96,Materialien!$C$8:$D$64981,2,0))","v":""},{"$f":"IF(X96=0,\"\",VLOOKUP(X96,Materialien!$C$8:$D$64981,2,0))","v":""},{"$f":"IF(Y96=0,\"\",VLOOKUP(Y96,Materialien!$C$8:$D$64981,2,0))","v":""}]
[null,{"$f":"ROWS(B$95:B97)","v":3},"DEC-E","Decke",null,{"$f":"CONCATENATE(Z97,IF(AA97=\"\",\"\",\"; \"),AA97,IF(AB97=\"\",\"\",\"; \"),AB97,IF(AC97=\"\",\"\",\"; \"),AC97,,IF(AD97=\"\",\"\",\"; \"),AD97,IF(AE97=\"\",\"\",\"; \"),AE97,IF(AF97=\"\",\"\",\"; \"),AF97,IF(AG97=\"\",\"\",\"; \"),AG97,IF(AH97=\"\",\"\",\"; \"),AH97,IF(AI97=\"\",\"\",\"; \"),AI97,IF(AJ97=\"\",\"\",\"; \"),AJ97,IF(AK97=\"\",\"\",\"; \"),AK97)","v":""},null,null,null,"",{"$f":"B97","v":3},{"$f":"C97","v":"DEC-E"},{"$f":"IF(AND(NOT(ISBLANK(G97)),AND(NOT(ISBLANK(H97))),NOT(ISBLANK(I97))),(IF(G97=\"--\",Hilfstabelle!$B$1,IF(G97=\"-\",Hilfstabelle!$B$2,IF(G97=\"⌀\",Hilfstabelle!$B$3,IF(G97=\"+\",Hilfstabelle!$B$4,IF(G97=\"++\",Hilfstabelle!$B$5))))))*0.3+(IF(H97=\"--\",Hilfstabelle!$B$1,IF(H97=\"-\",Hilfstabelle!$B$2,IF(H97=\"⌀\",Hilfstabelle!$B$3,IF(H97=\"+\",Hilfstabelle!$B$4,IF(H97=\"++\",Hilfstabelle!$B$5))))))*0.3+(IF(I97=\"--\",Hilfstabelle!$B$1,IF(I97=\"-\",Hilfstabelle!$B$2,IF(I97=\"⌀\",Hilfstabelle!$B$3,IF(I97=\"+\",Hilfstabelle!$B$4,IF(I97=\"++\",Hilfstabelle!$B$5))))))*0.4,\"\")","v":""},null,null,null,null,null,null,null,null,null,null,null,null,{"$f":"IF(N97=0,\"\",VLOOKUP(N97,Materialien!$C$8:$D$64981,2,0))","v":""},{"$f":"IF(O97=0,\"\",VLOOKUP(O97,Materialien!$C$8:$D$64981,2,0))","v":""},{"$f":"IF(P97=0,\"\",VLOOKUP(P97,Materialien!$C$8:$D$64981,2,0))","v":""},{"$f":"IF(Q97=0,\"\",VLOOKUP(Q97,Materialien!$C$8:$D$64981,2,0))","v":""},{"$f":"IF(R97=0,\"\",VLOOKUP(R97,Materialien!$C$8:$D$64981,2,0))","v":""},{"$f":"IF(S97=0,\"\",VLOOKUP(S97,Materialien!$C$8:$D$64981,2,0))","v":""},{"$f":"IF(T97=0,\"\",VLOOKUP(T97,Materialien!$C$8:$D$64981,2,0))","v":""},{"$f":"IF(U97=0,\"\",VLOOKUP(U97,Materialien!$C$8:$D$64981,2,0))","v":""},{"$f":"IF(V97=0,\"\",VLOOKUP(V97,Materialien!$C$8:$D$64981,2,0))","v":""},{"$f":"IF(W97=0,\"\",VLOOKUP(W97,Materialien!$C$8:$D$64981,2,0))","v":""},{"$f":"IF(X97=0,\"\",VLOOKUP(X97,Materialien!$C$8:$D$64981,2,0))","v":""},{"$f":"IF(Y97=0,\"\",VLOOKUP(Y97,Materialien!$C$8:$D$64981,2,0))","v":""}]
[]
[null,null,null,"Deckenbelag"]
[null,{"$f":"ROW(B100)-ROWS(B$1:B99)","v":1},"DBE","Deckenbelag","Verbundestrich",{"$f":"CONCATENATE(Z100,IF(AA100=\"\",\"\",\"; \"),AA100,IF(AB100=\"\",\"\",\"; \"),AB100,IF(AC100=\"\",\"\",\"; \"),AC100,,IF(AD100=\"\",\"\",\"; \"),AD100,IF(AE100=\"\",\"\",\"; \"),AE100,IF(AF100=\"\",\"\",\"; \"),AF100,IF(AG100=\"\",\"\",\"; \"),AG100,IF(AH100=\"\",\"\",\"; \"),AH100,IF(AI100=\"\",\"\",\"; \"),AI100,IF(AJ100=\"\",\"\",\"; \"),AJ100,IF(AK100=\"\",\"\",\"; \"),AK100)","v":"CT; Teppich"},"-","+","+",{"$f":"IF(E100=\"\",\"\",CONCATENATE(C100,\", \",E100,\": \",F100))","v":"DBE, Verbundestrich: CT; Teppich"},{"$f":"B100","v":1},"DBE",{"$f":"IF(AND(NOT(ISBLANK(G100)),AND(NOT(ISBLANK(H100))),NOT(ISBLANK(I100))),(IF(G100=\"--\",Hilfstabelle!$B$1,IF(G100=\"-\",Hilfstabelle!$B$2,IF(G100=\"⌀\",Hilfstabelle!$B$3,IF(G100=\"+\",Hilfstabelle!$B$4,IF(G100=\"++\",Hilfstabelle!$B$5))))))*0.3+(IF(H100=\"--\",Hilfstabelle!$B$1,IF(H100=\"-\",Hilfstabelle!$B$2,IF(H100=\"⌀\",Hilfstabelle!$B$3,IF(H100=\"+\",Hilfstabelle!$B$4,IF(H100=\"++\",Hilfstabelle!$B$5))))))*0.3+(IF(I100=\"--\",Hilfstabelle!$B$1,IF(I100=\"-\",Hilfstabelle!$B$2,IF(I100=\"⌀\",Hilfstabelle!$B$3,IF(I100=\"+\",Hilfstabelle!$B$4,IF(I100=\"++\",Hilfstabelle!$B$5))))))*0.4,\"\")","v":6},"Estrich - Zement","Teppich",null,null,null,null,null,null,null,null,null,null,{"$f":"IF(N100=0,\"\",VLOOKUP(N100,Materialien!$C$8:$D$64981,2,0))","v":"CT"},{"$f":"IF(O100=0,\"\",VLOOKUP(O100,Materialien!$C$8:$D$64981,2,0))","v":"Teppich"},{"$f":"IF(P100=0,\"\",VLOOKUP(P100,Materialien!$C$8:$D$64981,2,0))","v":""},{"$f":"IF(Q100=0,\"\",VLOOKUP(Q100,Materialien!$C$8:$D$64981,2,0))","v":""},{"$f":"IF(R100=0,\"\",VLOOKUP(R100,Materialien!$C$8:$D$64981,2,0))","v":""},{"$f":"IF(S100=0,\"\",VLOOKUP(S100,Materialien!$C$8:$D$64981,2,0))","v":""},{"$f":"IF(T100=0,\"\",VLOOKUP(T100,Materialien!$C$8:$D$64981,2,0))","v":""},{"$f":"IF(U100=0,\"\",VLOOKUP(U100,Materialien!$C$8:$D$64981,2,0))","v":""},{"$f":"IF(V100=0,\"\",VLOOKUP(V100,Materialien!$C$8:$D$64981,2,0))","v":""},{"$f":"IF(W100=0,\"\",VLOOKUP(W100,Materialien!$C$8:$D$64981,2,0))","v":""},{"$f":"IF(X100=0,\"\",VLOOKUP(X100,Materialien!$C$8:$D$64981,2,0))","v":""},{"$f":"IF(Y100=0,\"\",VLOOKUP(Y100,Materialien!$C$8:$D$64981,2,0))","v":""}]
[null,{"$f":"ROWS(B$100:B101)","v":2},"DBE","Deckenbelag","Verbundestrich","AE; Teppich","-","+","-",{"$f":"IF(E101=\"\",\"\",CONCATENATE(C101,\", \",E101,\": \",F101))","v":"DBE, Verbundestrich: AE; Teppich"},2,"DBE",{"$f":"IF(AND(NOT(ISBLANK(G101)),AND(NOT(ISBLANK(H101))),NOT(ISBLANK(I101))),(IF(G101=\"--\",Hilfstabelle!$B$1,IF(G101=\"-\",Hilfstabelle!$B$2,IF(G101=\"⌀\",Hilfstabelle!$B$3,IF(G101=\"+\",Hilfstabelle!$B$4,IF(G101=\"++\",Hilfstabelle!$B$5))))))*0.3+(IF(H101=\"--\",Hilfstabelle!$B$1,IF(H101=\"-\",Hilfstabelle!$B$2,IF(H101=\"⌀\",Hilfstabelle!$B$3,IF(H101=\"+\",Hilfstabelle!$B$4,IF(H101=\"++\",Hilfstabelle!$B$5))))))*0.3+(IF(I101=\"--\",Hilfstabelle!$B$1,IF(I101=\"-\",Hilfstabelle!$B$2,IF(I101=\"⌀\",Hilfstabelle!$B$3,IF(I101=\"+\",Hilfstabelle!$B$4,IF(I101=\"++\",Hilfstabelle!$B$5))))))*0.4,\"\")","v":4},"Estrich - Anhydrit","Teppich",null,null,null,null,null,null,null,null,null,null,{"$f":"IF(N101=0,\"\",VLOOKUP(N101,Materialien!$C$8:$D$64981,2,0))","v":"AE"},{"$f":"IF(O101=0,\"\",VLOOKUP(O101,Materialien!$C$8:$D$64981,2,0))","v":"Teppich"},{"$f":"IF(P101=0,\"\",VLOOKUP(P101,Materialien!$C$8:$D$64981,2,0))","v":""},{"$f":"IF(Q101=0,\"\",VLOOKUP(Q101,Materialien!$C$8:$D$64981,2,0))","v":""},{"$f":"IF(R101=0,\"\",VLOOKUP(R101,Materialien!$C$8:$D$64981,2,0))","v":""},{"$f":"IF(S101=0,\"\",VLOOKUP(S101,Materialien!$C$8:$D$64981,2,0))","v":""},{"$f":"IF(T101=0,\"\",VLOOKUP(T101,Materialien!$C$8:$D$64981,2,0))","v":""},{"$f":"IF(U101=0,\"\",VLOOKUP(U101,Materialien!$C$8:$D$64981,2,0))","v":""},{"$f":"IF(V101=0,\"\",VLOOKUP(V101,Materialien!$C$8:$D$64981,2,0))","v":""},{"$f":"IF(W101=0,\"\",VLOOKUP(W101,Materialien!$C$8:$D$64981,2,0))","v":""},{"$f":"IF(X101=0,\"\",VLOOKUP(X101,Materialien!$C$8:$D$64981,2,0))","v":""},{"$f":"IF(Y101=0,\"\",VLOOKUP(Y101,Materialien!$C$8:$D$64981,2,0))","v":""}]
[null,{"$f":"ROWS(B$100:B102)","v":3},"DBE","Deckenbelag","Schwimmender Estrich","kunstst.Folie; XPS; CT; Teppich","⌀","+","+",{"$f":"IF(E102=\"\",\"\",CONCATENATE(C102,\", \",E102,\": \",F102))","v":"DBE, Schwimmender Estrich: kunstst.Folie; XPS; CT; Teppich"},3,"DBE",{"$f":"IF(AND(NOT(ISBLANK(G102)),AND(NOT(ISBLANK(H102))),NOT(ISBLANK(I102))),(IF(G102=\"--\",Hilfstabelle!$B$1,IF(G102=\"-\",Hilfstabelle!$B$2,IF(G102=\"⌀\",Hilfstabelle!$B$3,IF(G102=\"+\",Hilfstabelle!$B$4,IF(G102=\"++\",Hilfstabelle!$B$5))))))*0.3+(IF(H102=\"--\",Hilfstabelle!$B$1,IF(H102=\"-\",Hilfstabelle!$B$2,IF(H102=\"⌀\",Hilfstabelle!$B$3,IF(H102=\"+\",Hilfstabelle!$B$4,IF(H102=\"++\",Hilfstabelle!$B$5))))))*0.3+(IF(I102=\"--\",Hilfstabelle!$B$1,IF(I102=\"-\",Hilfstabelle!$B$2,IF(I102=\"⌀\",Hilfstabelle!$B$3,IF(I102=\"+\",Hilfstabelle!$B$4,IF(I102=\"++\",Hilfstabelle!$B$5))))))*0.4,\"\")","v":6.75},"Kunststoffbasierte Folien","Dämmstoff - Extrudiertes Polystyrol","Estrich - Zement","Teppich",null,null,null,null,null,null,null,null,{"$f":"IF(N102=0,\"\",VLOOKUP(N102,Materialien!$C$8:$D$64981,2,0))","v":"kunstst.Folie"},{"$f":"IF(O102=0,\"\",VLOOKUP(O102,Materialien!$C$8:$D$64981,2,0))","v":"XPS"},{"$f":"IF(P102=0,\"\",VLOOKUP(P102,Materialien!$C$8:$D$64981,2,0))","v":"CT"},{"$f":"IF(Q102=0,\"\",VLOOKUP(Q102,Materialien!$C$8:$D$64981,2,0))","v":"Teppich"},{"$f":"IF(R102=0,\"\",VLOOKUP(R102,Materialien!$C$8:$D$64981,2,0))","v":""},{"$f":"IF(S102=0,\"\",VLOOKUP(S102,Materialien!$C$8:$D$64981,2,0))","v":""},{"$f":"IF(T102=0,\"\",VLOOKUP(T102,Materialien!$C$8:$D$64981,2,0))","v":""},{"$f":"IF(U102=0,\"\",VLOOKUP(U102,Materialien!$C$8:$D$64981,2,0))","v":""},{"$f":"IF(V102=0,\"\",VLOOKUP(V102,Materialien!$C$8:$D$64981,2,0))","v":""},{"$f":"IF(W102=0,\"\",VLOOKUP(W102,Materialien!$C$8:$D$64981,2,0))","v":""},{"$f":"IF(X102=0,\"\",VLOOKUP(X102,Materialien!$C$8:$D$64981,2,0))","v":""},{"$f":"IF(Y102=0,\"\",VLOOKUP(Y102,Materialien!$C$8:$D$64981,2,0))","v":""}]
[null,{"$f":"ROWS(B$100:B103)","v":4},"DBE","Deckenbelag","Schwimmender Estrich","kunstst.Folie; XPS; AE; Teppich","⌀","+","-",{"$f":"IF(E103=\"\",\"\",CONCATENATE(C103,\", \",E103,\": \",F103))","v":"DBE, Schwimmender Estrich: kunstst.Folie; XPS; AE; Teppich"},4,"DBE",{"$f":"IF(AND(NOT(ISBLANK(G103)),AND(NOT(ISBLANK(H103))),NOT(ISBLANK(I103))),(IF(G103=\"--\",Hilfstabelle!$B$1,IF(G103=\"-\",Hilfstabelle!$B$2,IF(G103=\"⌀\",Hilfstabelle!$B$3,IF(G103=\"+\",Hilfstabelle!$B$4,IF(G103=\"++\",Hilfstabelle!$B$5))))))*0.3+(IF(H103=\"--\",Hilfstabelle!$B$1,IF(H103=\"-\",Hilfstabelle!$B$2,IF(H103=\"⌀\",Hilfstabelle!$B$3,IF(H103=\"+\",Hilfstabelle!$B$4,IF(H103=\"++\",Hilfstabelle!$B$5))))))*0.3+(IF(I103=\"--\",Hilfstabelle!$B$1,IF(I103=\"-\",Hilfstabelle!$B$2,IF(I103=\"⌀\",Hilfstabelle!$B$3,IF(I103=\"+\",Hilfstabelle!$B$4,IF(I103=\"++\",Hilfstabelle!$B$5))))))*0.4,\"\")","v":4.75},"Kunststoffbasierte Folien","Dämmstoff - Extrudiertes Polystyrol","Estrich - Anhydrit","Teppich",null,null,null,null,null,null,null,null,{"$f":"IF(N103=0,\"\",VLOOKUP(N103,Materialien!$C$8:$D$64981,2,0))","v":"kunstst.Folie"},{"$f":"IF(O103=0,\"\",VLOOKUP(O103,Materialien!$C$8:$D$64981,2,0))","v":"XPS"},{"$f":"IF(P103=0,\"\",VLOOKUP(P103,Materialien!$C$8:$D$64981,2,0))","v":"AE"},{"$f":"IF(Q103=0,\"\",VLOOKUP(Q103,Materialien!$C$8:$D$64981,2,0))","v":"Teppich"},{"$f":"IF(R103=0,\"\",VLOOKUP(R103,Materialien!$C$8:$D$64981,2,0))","v":""},{"$f":"IF(S103=0,\"\",VLOOKUP(S103,Materialien!$C$8:$D$64981,2,0))","v":""},{"$f":"IF(T103=0,\"\",VLOOKUP(T103,Materialien!$C$8:$D$64981,2,0))","v":""},{"$f":"IF(U103=0,\"\",VLOOKUP(U103,Materialien!$C$8:$D$64981,2,0))","v":""},{"$f":"IF(V103=0,\"\",VLOOKUP(V103,Materialien!$C$8:$D$64981,2,0))","v":""},{"$f":"IF(W103=0,\"\",VLOOKUP(W103,Materialien!$C$8:$D$64981,2,0))","v":""},{"$f":"IF(X103=0,\"\",VLOOKUP(X103,Materialien!$C$8:$D$64981,2,0))","v":""},{"$f":"IF(Y103=0,\"\",VLOOKUP(Y103,Materialien!$C$8:$D$64981,2,0))","v":""}]
[null,{"$f":"ROWS(B$100:B104)","v":5},"DBE","Deckenbelag","Verbundestrich","kunstst.Folie; CA; Anstr.","⌀","+","-","DEC-E, BMBF_DE_01_(Geschossdecke Büro, TAK): Teppich; Kleber; CA; kunstst.Folie; holzb.Plattenwerk.; St.-UK; StB.; PE; WF-Rohr",5,"DBE",{"$f":"IF(AND(NOT(ISBLANK(G104)),AND(NOT(ISBLANK(H104))),NOT(ISBLANK(I104))),(IF(G104=\"--\",Hilfstabelle!$B$1,IF(G104=\"-\",Hilfstabelle!$B$2,IF(G104=\"⌀\",Hilfstabelle!$B$3,IF(G104=\"+\",Hilfstabelle!$B$4,IF(G104=\"++\",Hilfstabelle!$B$5))))))*0.3+(IF(H104=\"--\",Hilfstabelle!$B$1,IF(H104=\"-\",Hilfstabelle!$B$2,IF(H104=\"⌀\",Hilfstabelle!$B$3,IF(H104=\"+\",Hilfstabelle!$B$4,IF(H104=\"++\",Hilfstabelle!$B$5))))))*0.3+(IF(I104=\"--\",Hilfstabelle!$B$1,IF(I104=\"-\",Hilfstabelle!$B$2,IF(I104=\"⌀\",Hilfstabelle!$B$3,IF(I104=\"+\",Hilfstabelle!$B$4,IF(I104=\"++\",Hilfstabelle!$B$5))))))*0.4,\"\")","v":4.75},"Kunststoffbasierte Folien","Estrich - Calciumsulfat","Anstrich - Dispersion/Latex",null,null,null,null,null,null,null,null,null,{"$f":"IF(N104=0,\"\",VLOOKUP(N104,Materialien!$C$8:$D$64981,2,0))","v":"kunstst.Folie"},{"$f":"IF(O104=0,\"\",VLOOKUP(O104,Materialien!$C$8:$D$64981,2,0))","v":"CA"},{"$f":"IF(P104=0,\"\",VLOOKUP(P104,Materialien!$C$8:$D$64981,2,0))","v":"Anstr."},{"$f":"IF(Q104=0,\"\",VLOOKUP(Q104,Materialien!$C$8:$D$64981,2,0))","v":""},{"$f":"IF(R104=0,\"\",VLOOKUP(R104,Materialien!$C$8:$D$64981,2,0))","v":""},{"$f":"IF(S104=0,\"\",VLOOKUP(S104,Materialien!$C$8:$D$64981,2,0))","v":""},{"$f":"IF(T104=0,\"\",VLOOKUP(T104,Materialien!$C$8:$D$64981,2,0))","v":""},{"$f":"IF(U104=0,\"\",VLOOKUP(U104,Materialien!$C$8:$D$64981,2,0))","v":""},{"$f":"IF(V104=0,\"\",VLOOKUP(V104,Materialien!$C$8:$D$64981,2,0))","v":""},{"$f":"IF(W104=0,\"\",VLOOKUP(W104,Materialien!$C$8:$D$64981,2,0))","v":""},{"$f":"IF(X104=0,\"\",VLOOKUP(X104,Materialien!$C$8:$D$64981,2,0))","v":""},{"$f":"IF(Y104=0,\"\",VLOOKUP(Y104,Materialien!$C$8:$D$64981,2,0))","v":""}]
[null,{"$f":"ROWS(B$100:B105)","v":6},"DBE","Deckenbelag","Schwimmender Estrich","MW; kunstst.Folie; CT; PVC","⌀","+","⌀","DEC-E, BMBF_DE_01_(Geschossdecke Büro, TAK): Teppich; Kleber; CA; kunstst.Folie; holzb.Plattenwerk.; St.-UK; StB.; PE; WF-Rohr",6,"DBE",{"$f":"IF(AND(NOT(ISBLANK(G105)),AND(NOT(ISBLANK(H105))),NOT(ISBLANK(I105))),(IF(G105=\"--\",Hilfstabelle!$B$1,IF(G105=\"-\",Hilfstabelle!$B$2,IF(G105=\"⌀\",Hilfstabelle!$B$3,IF(G105=\"+\",Hilfstabelle!$B$4,IF(G105=\"++\",Hilfstabelle!$B$5))))))*0.3+(IF(H105=\"--\",Hilfstabelle!$B$1,IF(H105=\"-\",Hilfstabelle!$B$2,IF(H105=\"⌀\",Hilfstabelle!$B$3,IF(H105=\"+\",Hilfstabelle!$B$4,IF(H105=\"++\",Hilfstabelle!$B$5))))))*0.3+(IF(I105=\"--\",Hilfstabelle!$B$1,IF(I105=\"-\",Hilfstabelle!$B$2,IF(I105=\"⌀\",Hilfstabelle!$B$3,IF(I105=\"+\",Hilfstabelle!$B$4,IF(I105=\"++\",Hilfstabelle!$B$5))))))*0.4,\"\")","v":5.75},"Dämmstoff - Mineralwolle","Kunststoffbasierte Folien","Estrich - Zement","Kunststoff, PVC",null,null,null,null,null,null,null,null,{"$f":"IF(N105=0,\"\",VLOOKUP(N105,Materialien!$C$8:$D$64981,2,0))","v":"MW"},{"$f":"IF(O105=0,\"\",VLOOKUP(O105,Materialien!$C$8:$D$64981,2,0))","v":"kunstst.Folie"},{"$f":"IF(P105=0,\"\",VLOOKUP(P105,Materialien!$C$8:$D$64981,2,0))","v":"CT"},{"$f":"IF(Q105=0,\"\",VLOOKUP(Q105,Materialien!$C$8:$D$64981,2,0))","v":"PVC"},{"$f":"IF(R105=0,\"\",VLOOKUP(R105,Materialien!$C$8:$D$64981,2,0))","v":""},{"$f":"IF(S105=0,\"\",VLOOKUP(S105,Materialien!$C$8:$D$64981,2,0))","v":""},{"$f":"IF(T105=0,\"\",VLOOKUP(T105,Materialien!$C$8:$D$64981,2,0))","v":""},{"$f":"IF(U105=0,\"\",VLOOKUP(U105,Materialien!$C$8:$D$64981,2,0))","v":""},{"$f":"IF(V105=0,\"\",VLOOKUP(V105,Materialien!$C$8:$D$64981,2,0))","v":""},{"$f":"IF(W105=0,\"\",VLOOKUP(W105,Materialien!$C$8:$D$64981,2,0))","v":""},{"$f":"IF(X105=0,\"\",VLOOKUP(X105,Materialien!$C$8:$D$64981,2,0))","v":""},{"$f":"IF(Y105=0,\"\",VLOOKUP(Y105,Materialien!$C$8:$D$64981,2,0))","v":""}]
[null,{"$f":"ROWS(B$100:B106)","v":7},"DBE","Deckenbelag","Schwimmender Estrich","MW; kunstst.Folie; CT; Mört.; Naturst.","+","⌀","⌀","DEC-E, BMBF_DE_01_(Geschossdecke Büro, TAK): Teppich; Kleber; CA; kunstst.Folie; holzb.Plattenwerk.; St.-UK; StB.; PE; WF-Rohr",7,"DBE",{"$f":"IF(AND(NOT(ISBLANK(G106)),AND(NOT(ISBLANK(H106))),NOT(ISBLANK(I106))),(IF(G106=\"--\",Hilfstabelle!$B$1,IF(G106=\"-\",Hilfstabelle!$B$2,IF(G106=\"⌀\",Hilfstabelle!$B$3,IF(G106=\"+\",Hilfstabelle!$B$4,IF(G106=\"++\",Hilfstabelle!$B$5))))))*0.3+(IF(H106=\"--\",Hilfstabelle!$B$1,IF(H106=\"-\",Hilfstabelle!$B$2,IF(H106=\"⌀\",Hilfstabelle!$B$3,IF(H106=\"+\",Hilfstabelle!$B$4,IF(H106=\"++\",Hilfstabelle!$B$5))))))*0.3+(IF(I106=\"--\",Hilfstabelle!$B$1,IF(I106=\"-\",Hilfstabelle!$B$2,IF(I106=\"⌀\",Hilfstabelle!$B$3,IF(I106=\"+\",Hilfstabelle!$B$4,IF(I106=\"++\",Hilfstabelle!$B$5))))))*0.4,\"\")","v":5.75},"Dämmstoff - Mineralwolle","Kunststoffbasierte Folien","Estrich - Zement","Mörtel","Naturstein",null,null,null,null,null,null,null,{"$f":"IF(N106=0,\"\",VLOOKUP(N106,Materialien!$C$8:$D$64981,2,0))","v":"MW"},{"$f":"IF(O106=0,\"\",VLOOKUP(O106,Materialien!$C$8:$D$64981,2,0))","v":"kunstst.Folie"},{"$f":"IF(P106=0,\"\",VLOOKUP(P106,Materialien!$C$8:$D$64981,2,0))","v":"CT"},{"$f":"IF(Q106=0,\"\",VLOOKUP(Q106,Materialien!$C$8:$D$64981,2,0))","v":"Mört."},{"$f":"IF(R106=0,\"\",VLOOKUP(R106,Materialien!$C$8:$D$64981,2,0))","v":"Naturst."},{"$f":"IF(S106=0,\"\",VLOOKUP(S106,Materialien!$C$8:$D$64981,2,0))","v":""},{"$f":"IF(T106=0,\"\",VLOOKUP(T106,Materialien!$C$8:$D$64981,2,0))","v":""},{"$f":"IF(U106=0,\"\",VLOOKUP(U106,Materialien!$C$8:$D$64981,2,0))","v":""},{"$f":"IF(V106=0,\"\",VLOOKUP(V106,Materialien!$C$8:$D$64981,2,0))","v":""},{"$f":"IF(W106=0,\"\",VLOOKUP(W106,Materialien!$C$8:$D$64981,2,0))","v":""},{"$f":"IF(X106=0,\"\",VLOOKUP(X106,Materialien!$C$8:$D$64981,2,0))","v":""},{"$f":"IF(Y106=0,\"\",VLOOKUP(Y106,Materialien!$C$8:$D$64981,2,0))","v":""}]
[null,{"$f":"ROWS(B$100:B107)","v":8},"DBE","Deckenbelag","Schwimmender Estrich","kunstst.Folie; MW; kunstst.Folie; CA; PVC","+","⌀","-","DEC-E, BMBF_DE_01_(Geschossdecke Büro, TAK): Teppich; Kleber; CA; kunstst.Folie; holzb.Plattenwerk.; St.-UK; StB.; PE; WF-Rohr",8,"DBE",{"$f":"IF(AND(NOT(ISBLANK(G107)),AND(NOT(ISBLANK(H107))),NOT(ISBLANK(I107))),(IF(G107=\"--\",Hilfstabelle!$B$1,IF(G107=\"-\",Hilfstabelle!$B$2,IF(G107=\"⌀\",Hilfstabelle!$B$3,IF(G107=\"+\",Hilfstabelle!$B$4,IF(G107=\"++\",Hilfstabelle!$B$5))))))*0.3+(IF(H107=\"--\",Hilfstabelle!$B$1,IF(H107=\"-\",Hilfstabelle!$B$2,IF(H107=\"⌀\",Hilfstabelle!$B$3,IF(H107=\"+\",Hilfstabelle!$B$4,IF(H107=\"++\",Hilfstabelle!$B$5))))))*0.3+(IF(I107=\"--\",Hilfstabelle!$B$1,IF(I107=\"-\",Hilfstabelle!$B$2,IF(I107=\"⌀\",Hilfstabelle!$B$3,IF(I107=\"+\",Hilfstabelle!$B$4,IF(I107=\"++\",Hilfstabelle!$B$5))))))*0.4,\"\")","v":4.75},"Kunststoffbasierte Folien","Dämmstoff - Mineralwolle","Kunststoffbasierte Folien","Estrich - Calciumsulfat","Kunststoff, PVC",null,null,null,null,null,null,null,{"$f":"IF(N107=0,\"\",VLOOKUP(N107,Materialien!$C$8:$D$64981,2,0))","v":"kunstst.Folie"},{"$f":"IF(O107=0,\"\",VLOOKUP(O107,Materialien!$C$8:$D$64981,2,0))","v":"MW"},{"$f":"IF(P107=0,\"\",VLOOKUP(P107,Materialien!$C$8:$D$64981,2,0))","v":"kunstst.Folie"},{"$f":"IF(Q107=0,\"\",VLOOKUP(Q107,Materialien!$C$8:$D$64981,2,0))","v":"CA"},{"$f":"IF(R107=0,\"\",VLOOKUP(R107,Materialien!$C$8:$D$64981,2,0))","v":"PVC"},{"$f":"IF(S107=0,\"\",VLOOKUP(S107,Materialien!$C$8:$D$64981,2,0))","v":""},{"$f":"IF(T107=0,\"\",VLOOKUP(T107,Materialien!$C$8:$D$64981,2,0))","v":""},{"$f":"IF(U107=0,\"\",VLOOKUP(U107,Materialien!$C$8:$D$64981,2,0))","v":""},{"$f":"IF(V107=0,\"\",VLOOKUP(V107,Materialien!$C$8:$D$64981,2,0))","v":""},{"$f":"IF(W107=0,\"\",VLOOKUP(W107,Materialien!$C$8:$D$64981,2,0))","v":""},{"$f":"IF(X107=0,\"\",VLOOKUP(X107,Materialien!$C$8:$D$64981,2,0))","v":""},{"$f":"IF(Y107=0,\"\",VLOOKUP(Y107,Materialien!$C$8:$D$64981,2,0))","v":""}]
[]
[null,null,null,"Eigenes Bauteil (Deckenbelag):",null,null,null,null,null,"Eigene Bauteile (Deckenbelag):"]
[null,{"$f":"ROW(B110)-ROWS(B$1:B109)","v":1},"DBE-E","Deckenbelag",null,{"$f":"CONCATENATE(Z109,IF(AA109=\"\",\"\",\"; \"),AA109,IF(AB109=\"\",\"\",\"; \"),AB109,IF(AC109=\"\",\"\",\"; \"),AC109,,IF(AD109=\"\",\"\",\"; \"),AD109,IF(AE109=\"\",\"\",\"; \"),AE109,IF(AF109=\"\",\"\",\"; \"),AF109,IF(AG109=\"\",\"\",\"; \"),AG109,IF(AH109=\"\",\"\",\"; \"),AH109,IF(AI109=\"\",\"\",\"; \"),AI109,IF(AJ109=\"\",\"\",\"; \"),AJ109,IF(AK109=\"\",\"\",\"; \"),AK109)","v":""},null,null,null,{"$f":"IF(E110=\"\",\"\",CONCATENATE(C110,\", \",E110,\": \",F110))","v":""},{"$f":"B110","v":1},"DBE-E",{"$f":"IF(AND(NOT(ISBLANK(G110)),AND(NOT(ISBLANK(H110))),NOT(ISBLANK(I110))),(IF(G110=\"--\",Hilfstabelle!$B$1,IF(G110=\"-\",Hilfstabelle!$B$2,IF(G110=\"⌀\",Hilfstabelle!$B$3,IF(G110=\"+\",Hilfstabelle!$B$4,IF(G110=\"++\",Hilfstabelle!$B$5))))))*0.3+(IF(H110=\"--\",Hilfstabelle!$B$1,IF(H110=\"-\",Hilfstabelle!$B$2,IF(H110=\"⌀\",Hilfstabelle!$B$3,IF(H110=\"+\",Hilfstabelle!$B$4,IF(H110=\"++\",Hilfstabelle!$B$5))))))*0.3+(IF(I110=\"--\",Hilfstabelle!$B$1,IF(I110=\"-\",Hilfstabelle!$B$2,IF(I110=\"⌀\",Hilfstabelle!$B$3,IF(I110=\"+\",Hilfstabelle!$B$4,IF(I110=\"++\",Hilfstabelle!$B$5))))))*0.4,\"\")","v":""},null,null,null,null,null,null,null,null,null,null,null,null,{"$f":"IF(N110=0,\"\",VLOOKUP(N110,Materialien!$C$8:$D$64981,2,0))","v":""},{"$f":"IF(O110=0,\"\",VLOOKUP(O110,Materialien!$C$8:$D$64981,2,0))","v":""},{"$f":"IF(P110=0,\"\",VLOOKUP(P110,Materialien!$C$8:$D$64981,2,0))","v":""},{"$f":"IF(Q110=0,\"\",VLOOKUP(Q110,Materialien!$C$8:$D$64981,2,0))","v":""},{"$f":"IF(R110=0,\"\",VLOOKUP(R110,Materialien!$C$8:$D$64981,2,0))","v":""},{"$f":"IF(S110=0,\"\",VLOOKUP(S110,Materialien!$C$8:$D$64981,2,0))","v":""},{"$f":"IF(T110=0,\"\",VLOOKUP(T110,Materialien!$C$8:$D$64981,2,0))","v":""},{"$f":"IF(U110=0,\"\",VLOOKUP(U110,Materialien!$C$8:$D$64981,2,0))","v":""},{"$f":"IF(V110=0,\"\",VLOOKUP(V110,Materialien!$C$8:$D$64981,2,0))","v":""},{"$f":"IF(W110=0,\"\",VLOOKUP(W110,Materialien!$C$8:$D$64981,2,0))","v":""},{"$f":"IF(X110=0,\"\",VLOOKUP(X110,Materialien!$C$8:$D$64981,2,0))","v":""},{"$f":"IF(Y110=0,\"\",VLOOKUP(Y110,Materialien!$C$8:$D$64981,2,0))","v":""}]
[null,{"$f":"ROWS(B$110:B111)","v":2},null,null,null,{"$f":"CONCATENATE(Z111,IF(AA111=\"\",\"\",\"; \"),AA111,IF(AB111=\"\",\"\",\"; \"),AB111,IF(AC111=\"\",\"\",\"; \"),AC111,,IF(AD111=\"\",\"\",\"; \"),AD111,IF(AE111=\"\",\"\",\"; \"),AE111,IF(AF111=\"\",\"\",\"; \"),AF111,IF(AG111=\"\",\"\",\"; \"),AG111,IF(AH111=\"\",\"\",\"; \"),AH111,IF(AI111=\"\",\"\",\"; \"),AI111,IF(AJ111=\"\",\"\",\"; \"),AJ111,IF(AK111=\"\",\"\",\"; \"),AK111)","v":""},null,null,null,null,null,null,{"$f":"IF(AND(NOT(ISBLANK(G111)),AND(NOT(ISBLANK(H111))),NOT(ISBLANK(I111))),(IF(G111=\"--\",Hilfstabelle!$B$1,IF(G111=\"-\",Hilfstabelle!$B$2,IF(G111=\"⌀\",Hilfstabelle!$B$3,IF(G111=\"+\",Hilfstabelle!$B$4,IF(G111=\"++\",Hilfstabelle!$B$5))))))*0.3+(IF(H111=\"--\",Hilfstabelle!$B$1,IF(H111=\"-\",Hilfstabelle!$B$2,IF(H111=\"⌀\",Hilfstabelle!$B$3,IF(H111=\"+\",Hilfstabelle!$B$4,IF(H111=\"++\",Hilfstabelle!$B$5))))))*0.3+(IF(I111=\"--\",Hilfstabelle!$B$1,IF(I111=\"-\",Hilfstabelle!$B$2,IF(I111=\"⌀\",Hilfstabelle!$B$3,IF(I111=\"+\",Hilfstabelle!$B$4,IF(I111=\"++\",Hilfstabelle!$B$5))))))*0.4,\"\")","v":""},null,null,null,null,null,null,null,null,null,null,null,null,{"$f":"IF(N111=0,\"\",VLOOKUP(N111,Materialien!$C$8:$D$64981,2,0))","v":""},{"$f":"IF(O111=0,\"\",VLOOKUP(O111,Materialien!$C$8:$D$64981,2,0))","v":""},{"$f":"IF(P111=0,\"\",VLOOKUP(P111,Materialien!$C$8:$D$64981,2,0))","v":""},{"$f":"IF(Q111=0,\"\",VLOOKUP(Q111,Materialien!$C$8:$D$64981,2,0))","v":""},{"$f":"IF(R111=0,\"\",VLOOKUP(R111,Materialien!$C$8:$D$64981,2,0))","v":""},{"$f":"IF(S111=0,\"\",VLOOKUP(S111,Materialien!$C$8:$D$64981,2,0))","v":""},{"$f":"IF(T111=0,\"\",VLOOKUP(T111,Materialien!$C$8:$D$64981,2,0))","v":""},{"$f":"IF(U111=0,\"\",VLOOKUP(U111,Materialien!$C$8:$D$64981,2,0))","v":""},{"$f":"IF(V111=0,\"\",VLOOKUP(V111,Materialien!$C$8:$D$64981,2,0))","v":""},{"$f":"IF(W111=0,\"\",VLOOKUP(W111,Materialien!$C$8:$D$64981,2,0))","v":""},{"$f":"IF(X111=0,\"\",VLOOKUP(X111,Materialien!$C$8:$D$64981,2,0))","v":""},{"$f":"IF(Y111=0,\"\",VLOOKUP(Y111,Materialien!$C$8:$D$64981,2,0))","v":""}]
[null,{"$f":"ROWS(B$110:B112)","v":3},"DBE-E","Deckenbelag",null,{"$f":"CONCATENATE(Z112,IF(AA112=\"\",\"\",\"; \"),AA112,IF(AB112=\"\",\"\",\"; \"),AB112,IF(AC112=\"\",\"\",\"; \"),AC112,,IF(AD112=\"\",\"\",\"; \"),AD112,IF(AE112=\"\",\"\",\"; \"),AE112,IF(AF112=\"\",\"\",\"; \"),AF112,IF(AG112=\"\",\"\",\"; \"),AG112,IF(AH112=\"\",\"\",\"; \"),AH112,IF(AI112=\"\",\"\",\"; \"),AI112,IF(AJ112=\"\",\"\",\"; \"),AJ112,IF(AK112=\"\",\"\",\"; \"),AK112)","v":""},null,null,null,{"$f":"IF(E112=\"\",\"\",CONCATENATE(C112,\", \",E112,\": \",F112))","v":""},{"$f":"B112","v":3},{"$f":"C112","v":"DBE-E"},{"$f":"IF(AND(NOT(ISBLANK(G112)),AND(NOT(ISBLANK(H112))),NOT(ISBLANK(I112))),(IF(G112=\"--\",Hilfstabelle!$B$1,IF(G112=\"-\",Hilfstabelle!$B$2,IF(G112=\"⌀\",Hilfstabelle!$B$3,IF(G112=\"+\",Hilfstabelle!$B$4,IF(G112=\"++\",Hilfstabelle!$B$5))))))*0.3+(IF(H112=\"--\",Hilfstabelle!$B$1,IF(H112=\"-\",Hilfstabelle!$B$2,IF(H112=\"⌀\",Hilfstabelle!$B$3,IF(H112=\"+\",Hilfstabelle!$B$4,IF(H112=\"++\",Hilfstabelle!$B$5))))))*0.3+(IF(I112=\"--\",Hilfstabelle!$B$1,IF(I112=\"-\",Hilfstabelle!$B$2,IF(I112=\"⌀\",Hilfstabelle!$B$3,IF(I112=\"+\",Hilfstabelle!$B$4,IF(I112=\"++\",Hilfstabelle!$B$5))))))*0.4,\"\")","v":""},null,null,null,null,null,null,null,null,null,null,null,null,{"$f":"IF(N112=0,\"\",VLOOKUP(N112,Materialien!$C$8:$D$64981,2,0))","v":""},{"$f":"IF(O112=0,\"\",VLOOKUP(O112,Materialien!$C$8:$D$64981,2,0))","v":""},{"$f":"IF(P112=0,\"\",VLOOKUP(P112,Materialien!$C$8:$D$64981,2,0))","v":""},{"$f":"IF(Q112=0,\"\",VLOOKUP(Q112,Materialien!$C$8:$D$64981,2,0))","v":""},{"$f":"IF(R112=0,\"\",VLOOKUP(R112,Materialien!$C$8:$D$64981,2,0))","v":""},{"$f":"IF(S112=0,\"\",VLOOKUP(S112,Materialien!$C$8:$D$64981,2,0))","v":""},{"$f":"IF(T112=0,\"\",VLOOKUP(T112,Materialien!$C$8:$D$64981,2,0))","v":""},{"$f":"IF(U112=0,\"\",VLOOKUP(U112,Materialien!$C$8:$D$64981,2,0))","v":""},{"$f":"IF(V112=0,\"\",VLOOKUP(V112,Materialien!$C$8:$D$64981,2,0))","v":""},{"$f":"IF(W112=0,\"\",VLOOKUP(W112,Materialien!$C$8:$D$64981,2,0))","v":""},{"$f":"IF(X112=0,\"\",VLOOKUP(X112,Materialien!$C$8:$D$64981,2,0))","v":""},{"$f":"IF(Y112=0,\"\",VLOOKUP(Y112,Materialien!$C$8:$D$64981,2,0))","v":""}]
[]
[null,null,null,"Dach"]
[null,{"$f":"ROW(B115)-ROWS(B$1:B114)","v":1},"DAC","Dach","Massivbau Flachdach verputzt",{"$f":"CONCATENATE(Z115,IF(AA115=\"\",\"\",\"; \"),AA115,IF(AB115=\"\",\"\",\"; \"),AB115,IF(AC115=\"\",\"\",\"; \"),AC115,,IF(AD115=\"\",\"\",\"; \"),AD115,IF(AE115=\"\",\"\",\"; \"),AE115,IF(AF115=\"\",\"\",\"; \"),AF115,IF(AG115=\"\",\"\",\"; \"),AG115,IF(AH115=\"\",\"\",\"; \"),AH115,IF(AI115=\"\",\"\",\"; \"),AI115,IF(AJ115=\"\",\"\",\"; \"),AJ115,IF(AK115=\"\",\"\",\"; \"),AK115)","v":"StB.; gipsfr.Putz"},"⌀","+","++",{"$f":"IF(E115=\"\",\"\",CONCATENATE(C115,\", \",E115,\": \",F115))","v":"DAC, Massivbau Flachdach verputzt: StB.; gipsfr.Putz"},{"$f":"B115","v":1},"DAC",{"$f":"IF(AND(NOT(ISBLANK(G115)),AND(NOT(ISBLANK(H115))),NOT(ISBLANK(I115))),(IF(G115=\"--\",Hilfstabelle!$B$1,IF(G115=\"-\",Hilfstabelle!$B$2,IF(G115=\"⌀\",Hilfstabelle!$B$3,IF(G115=\"+\",Hilfstabelle!$B$4,IF(G115=\"++\",Hilfstabelle!$B$5))))))*0.3+(IF(H115=\"--\",Hilfstabelle!$B$1,IF(H115=\"-\",Hilfstabelle!$B$2,IF(H115=\"⌀\",Hilfstabelle!$B$3,IF(H115=\"+\",Hilfstabelle!$B$4,IF(H115=\"++\",Hilfstabelle!$B$5))))))*0.3+(IF(I115=\"--\",Hilfstabelle!$B$1,IF(I115=\"-\",Hilfstabelle!$B$2,IF(I115=\"⌀\",Hilfstabelle!$B$3,IF(I115=\"+\",Hilfstabelle!$B$4,IF(I115=\"++\",Hilfstabelle!$B$5))))))*0.4,\"\")","v":7.75},"Stahlbeton (Ortbeton)","Putz - nicht gipshaltig",null,null,null,null,null,null,null,null,null,null,{"$f":"IF(N115=0,\"\",VLOOKUP(N115,Materialien!$C$8:$D$64981,2,0))","v":"StB."},{"$f":"IF(O115=0,\"\",VLOOKUP(O115,Materialien!$C$8:$D$64981,2,0))","v":"gipsfr.Putz"},{"$f":"IF(P115=0,\"\",VLOOKUP(P115,Materialien!$C$8:$D$64981,2,0))","v":""},{"$f":"IF(Q115=0,\"\",VLOOKUP(Q115,Materialien!$C$8:$D$64981,2,0))","v":""},{"$f":"IF(R115=0,\"\",VLOOKUP(R115,Materialien!$C$8:$D$64981,2,0))","v":""},{"$f":"IF(S115=0,\"\",VLOOKUP(S115,Materialien!$C$8:$D$64981,2,0))","v":""},{"$f":"IF(T115=0,\"\",VLOOKUP(T115,Materialien!$C$8:$D$64981,2,0))","v":""},{"$f":"IF(U115=0,\"\",VLOOKUP(U115,Materialien!$C$8:$D$64981,2,0))","v":""},{"$f":"IF(V115=0,\"\",VLOOKUP(V115,Materialien!$C$8:$D$64981,2,0))","v":""},{"$f":"IF(W115=0,\"\",VLOOKUP(W115,Materialien!$C$8:$D$64981,2,0))","v":""},{"$f":"IF(X115=0,\"\",VLOOKUP(X115,Materialien!$C$8:$D$64981,2,0))","v":""},{"$f":"IF(Y115=0,\"\",VLOOKUP(Y115,Materialien!$C$8:$D$64981,2,0))","v":""}]
[null,{"$f":"ROWS(B$115:B116)","v":2},"DAC","Dach","Massivbau Flachdach verputzt","StB.; gipshal.Putz","⌀","⌀","⌀",{"$f":"IF(E116=\"\",\"\",CONCATENATE(C116,\", \",E116,\": \",F116))","v":"DAC, Massivbau Flachdach verputzt: StB.; gipshal.Putz"},2,"DAC",{"$f":"IF(AND(NOT(ISBLANK(G116)),AND(NOT(ISBLANK(H116))),NOT(ISBLANK(I116))),(IF(G116=\"--\",Hilfstabelle!$B$1,IF(G116=\"-\",Hilfstabelle!$B$2,IF(G116=\"⌀\",Hilfstabelle!$B$3,IF(G116=\"+\",Hilfstabelle!$B$4,IF(G116=\"++\",Hilfstabelle!$B$5))))))*0.3+(IF(H116=\"--\",Hilfstabelle!$B$1,IF(H116=\"-\",Hilfstabelle!$B$2,IF(H116=\"⌀\",Hilfstabelle!$B$3,IF(H116=\"+\",Hilfstabelle!$B$4,IF(H116=\"++\",Hilfstabelle!$B$5))))))*0.3+(IF(I116=\"--\",Hilfstabelle!$B$1,IF(I116=\"-\",Hilfstabelle!$B$2,IF(I116=\"⌀\",Hilfstabelle!$B$3,IF(I116=\"+\",Hilfstabelle!$B$4,IF(I116=\"++\",Hilfstabelle!$B$5))))))*0.4,\"\")","v":5},"Stahlbeton (Ortbeton)","Putz - gipshaltig",null,null,null,null,null,null,null,null,null,null,{"$f":"IF(N116=0,\"\",VLOOKUP(N116,Materialien!$C$8:$D$64981,2,0))","v":"StB."},{"$f":"IF(O116=0,\"\",VLOOKUP(O116,Materialien!$C$8:$D$64981,2,0))","v":"gipshal.Putz"},{"$f":"IF(P116=0,\"\",VLOOKUP(P116,Materialien!$C$8:$D$64981,2,0))","v":""},{"$f":"IF(Q116=0,\"\",VLOOKUP(Q116,Materialien!$C$8:$D$64981,2,0))","v":""},{"$f":"IF(R116=0,\"\",VLOOKUP(R116,Materialien!$C$8:$D$64981,2,0))","v":""},{"$f":"IF(S116=0,\"\",VLOOKUP(S116,Materialien!$C$8:$D$64981,2,0))","v":""},{"$f":"IF(T116=0,\"\",VLOOKUP(T116,Materialien!$C$8:$D$64981,2,0))","v":""},{"$f":"IF(U116=0,\"\",VLOOKUP(U116,Materialien!$C$8:$D$64981,2,0))","v":""},{"$f":"IF(V116=0,\"\",VLOOKUP(V116,Materialien!$C$8:$D$64981,2,0))","v":""},{"$f":"IF(W116=0,\"\",VLOOKUP(W116,Materialien!$C$8:$D$64981,2,0))","v":""},{"$f":"IF(X116=0,\"\",VLOOKUP(X116,Materialien!$C$8:$D$64981,2,0))","v":""},{"$f":"IF(Y116=0,\"\",VLOOKUP(Y116,Materialien!$C$8:$D$64981,2,0))","v":""}]
[null,{"$f":"ROWS(B$115:B117)","v":3},"DAC","Dach","Massivbau Flachdach mit AHD","StB.; Al.-UK; GK","⌀","+","++",{"$f":"IF(E117=\"\",\"\",CONCATENATE(C117,\", \",E117,\": \",F117))","v":"DAC, Massivbau Flachdach mit AHD: StB.; Al.-UK; GK"},3,"DAC",{"$f":"IF(AND(NOT(ISBLANK(G117)),AND(NOT(ISBLANK(H117))),NOT(ISBLANK(I117))),(IF(G117=\"--\",Hilfstabelle!$B$1,IF(G117=\"-\",Hilfstabelle!$B$2,IF(G117=\"⌀\",Hilfstabelle!$B$3,IF(G117=\"+\",Hilfstabelle!$B$4,IF(G117=\"++\",Hilfstabelle!$B$5))))))*0.3+(IF(H117=\"--\",Hilfstabelle!$B$1,IF(H117=\"-\",Hilfstabelle!$B$2,IF(H117=\"⌀\",Hilfstabelle!$B$3,IF(H117=\"+\",Hilfstabelle!$B$4,IF(H117=\"++\",Hilfstabelle!$B$5))))))*0.3+(IF(I117=\"--\",Hilfstabelle!$B$1,IF(I117=\"-\",Hilfstabelle!$B$2,IF(I117=\"⌀\",Hilfstabelle!$B$3,IF(I117=\"+\",Hilfstabelle!$B$4,IF(I117=\"++\",Hilfstabelle!$B$5))))))*0.4,\"\")","v":7.75},"Stahlbeton (Ortbeton)","Unterkonstruktion - Aluminium","Gipskarton",null,null,null,null,null,null,null,null,null,{"$f":"IF(N117=0,\"\",VLOOKUP(N117,Materialien!$C$8:$D$64981,2,0))","v":"StB."},{"$f":"IF(O117=0,\"\",VLOOKUP(O117,Materialien!$C$8:$D$64981,2,0))","v":"Al.-UK"},{"$f":"IF(P117=0,\"\",VLOOKUP(P117,Materialien!$C$8:$D$64981,2,0))","v":"GK"},{"$f":"IF(Q117=0,\"\",VLOOKUP(Q117,Materialien!$C$8:$D$64981,2,0))","v":""},{"$f":"IF(R117=0,\"\",VLOOKUP(R117,Materialien!$C$8:$D$64981,2,0))","v":""},{"$f":"IF(S117=0,\"\",VLOOKUP(S117,Materialien!$C$8:$D$64981,2,0))","v":""},{"$f":"IF(T117=0,\"\",VLOOKUP(T117,Materialien!$C$8:$D$64981,2,0))","v":""},{"$f":"IF(U117=0,\"\",VLOOKUP(U117,Materialien!$C$8:$D$64981,2,0))","v":""},{"$f":"IF(V117=0,\"\",VLOOKUP(V117,Materialien!$C$8:$D$64981,2,0))","v":""},{"$f":"IF(W117=0,\"\",VLOOKUP(W117,Materialien!$C$8:$D$64981,2,0))","v":""},{"$f":"IF(X117=0,\"\",VLOOKUP(X117,Materialien!$C$8:$D$64981,2,0))","v":""},{"$f":"IF(Y117=0,\"\",VLOOKUP(Y117,Materialien!$C$8:$D$64981,2,0))","v":""}]
[null,{"$f":"ROWS(B$115:B118)","v":4},"DAC","Dach","Dachverglasung","St.; Glas","⌀","++","+",{"$f":"IF(E118=\"\",\"\",CONCATENATE(C118,\", \",E118,\": \",F118))","v":"DAC, Dachverglasung: St.; Glas"},4,"DAC",{"$f":"IF(AND(NOT(ISBLANK(G118)),AND(NOT(ISBLANK(H118))),NOT(ISBLANK(I118))),(IF(G118=\"--\",Hilfstabelle!$B$1,IF(G118=\"-\",Hilfstabelle!$B$2,IF(G118=\"⌀\",Hilfstabelle!$B$3,IF(G118=\"+\",Hilfstabelle!$B$4,IF(G118=\"++\",Hilfstabelle!$B$5))))))*0.3+(IF(H118=\"--\",Hilfstabelle!$B$1,IF(H118=\"-\",Hilfstabelle!$B$2,IF(H118=\"⌀\",Hilfstabelle!$B$3,IF(H118=\"+\",Hilfstabelle!$B$4,IF(H118=\"++\",Hilfstabelle!$B$5))))))*0.3+(IF(I118=\"--\",Hilfstabelle!$B$1,IF(I118=\"-\",Hilfstabelle!$B$2,IF(I118=\"⌀\",Hilfstabelle!$B$3,IF(I118=\"+\",Hilfstabelle!$B$4,IF(I118=\"++\",Hilfstabelle!$B$5))))))*0.4,\"\")","v":7.5},"Stahl","Glas",null,null,null,null,null,null,null,null,null,null,{"$f":"IF(N118=0,\"\",VLOOKUP(N118,Materialien!$C$8:$D$64981,2,0))","v":"St."},{"$f":"IF(O118=0,\"\",VLOOKUP(O118,Materialien!$C$8:$D$64981,2,0))","v":"Glas"},{"$f":"IF(P118=0,\"\",VLOOKUP(P118,Materialien!$C$8:$D$64981,2,0))","v":""},{"$f":"IF(Q118=0,\"\",VLOOKUP(Q118,Materialien!$C$8:$D$64981,2,0))","v":""},{"$f":"IF(R118=0,\"\",VLOOKUP(R118,Materialien!$C$8:$D$64981,2,0))","v":""},{"$f":"IF(S118=0,\"\",VLOOKUP(S118,Materialien!$C$8:$D$64981,2,0))","v":""},{"$f":"IF(T118=0,\"\",VLOOKUP(T118,Materialien!$C$8:$D$64981,2,0))","v":""},{"$f":"IF(U118=0,\"\",VLOOKUP(U118,Materialien!$C$8:$D$64981,2,0))","v":""},{"$f":"IF(V118=0,\"\",VLOOKUP(V118,Materialien!$C$8:$D$64981,2,0))","v":""},{"$f":"IF(W118=0,\"\",VLOOKUP(W118,Materialien!$C$8:$D$64981,2,0))","v":""},{"$f":"IF(X118=0,\"\",VLOOKUP(X118,Materialien!$C$8:$D$64981,2,0))","v":""},{"$f":"IF(Y118=0,\"\",VLOOKUP(Y118,Materialien!$C$8:$D$64981,2,0))","v":""}]
[null,{"$f":"ROWS(B$115:B119)","v":5},"DAC","Dach","Massivbau Flachdach Kies","MW; StB.; Bitumenbahn; EPS; Vlies; Vlies; Vlies; Splitt","⌀","⌀","⌀","DAC-E, BMBF_DA_01_(Dach Büro): StB.; Vlies; Al",{"$f":"B119","v":5},{"$f":"C119","v":"DAC"},{"$f":"IF(AND(NOT(ISBLANK(G119)),AND(NOT(ISBLANK(H119))),NOT(ISBLANK(I119))),(IF(G119=\"--\",Hilfstabelle!$B$1,IF(G119=\"-\",Hilfstabelle!$B$2,IF(G119=\"⌀\",Hilfstabelle!$B$3,IF(G119=\"+\",Hilfstabelle!$B$4,IF(G119=\"++\",Hilfstabelle!$B$5))))))*0.3+(IF(H119=\"--\",Hilfstabelle!$B$1,IF(H119=\"-\",Hilfstabelle!$B$2,IF(H119=\"⌀\",Hilfstabelle!$B$3,IF(H119=\"+\",Hilfstabelle!$B$4,IF(H119=\"++\",Hilfstabelle!$B$5))))))*0.3+(IF(I119=\"--\",Hilfstabelle!$B$1,IF(I119=\"-\",Hilfstabelle!$B$2,IF(I119=\"⌀\",Hilfstabelle!$B$3,IF(I119=\"+\",Hilfstabelle!$B$4,IF(I119=\"++\",Hilfstabelle!$B$5))))))*0.4,\"\")","v":5},"Dämmstoff - Mineralwolle","Stahlbeton (Ortbeton)","Bitumenbahn","Dämmstoff - Expandiertes Polystyrol","Vlies","Vlies","Vlies","Splitt",null,null,null,null,{"$f":"IF(N119=0,\"\",VLOOKUP(N119,Materialien!$C$8:$D$64981,2,0))","v":"MW"},{"$f":"IF(O119=0,\"\",VLOOKUP(O119,Materialien!$C$8:$D$64981,2,0))","v":"StB."},{"$f":"IF(P119=0,\"\",VLOOKUP(P119,Materialien!$C$8:$D$64981,2,0))","v":"Bitumenbahn"},{"$f":"IF(Q119=0,\"\",VLOOKUP(Q119,Materialien!$C$8:$D$64981,2,0))","v":"EPS"},{"$f":"IF(R119=0,\"\",VLOOKUP(R119,Materialien!$C$8:$D$64981,2,0))","v":"Vlies"},{"$f":"IF(S119=0,\"\",VLOOKUP(S119,Materialien!$C$8:$D$64981,2,0))","v":"Vlies"},{"$f":"IF(T119=0,\"\",VLOOKUP(T119,Materialien!$C$8:$D$64981,2,0))","v":"Vlies"},{"$f":"IF(U119=0,\"\",VLOOKUP(U119,Materialien!$C$8:$D$64981,2,0))","v":"Splitt"},{"$f":"IF(V119=0,\"\",VLOOKUP(V119,Materialien!$C$8:$D$64981,2,0))","v":""},{"$f":"IF(W119=0,\"\",VLOOKUP(W119,Materialien!$C$8:$D$64981,2,0))","v":""},{"$f":"IF(X119=0,\"\",VLOOKUP(X119,Materialien!$C$8:$D$64981,2,0))","v":""},{"$f":"IF(Y119=0,\"\",VLOOKUP(Y119,Materialien!$C$8:$D$64981,2,0))","v":""}]
[]
[null,null,null,"Eigenes Bauteil (Dach):",null,null,null,null,null,"Eigene Bauteile (Dach):"]
[null,{"$f":"ROW(B122)-ROWS(B$1:B121)","v":1},"DAC-E","Dach",null,{"$f":"CONCATENATE(Z121,IF(AA121=\"\",\"\",\"; \"),AA121,IF(AB121=\"\",\"\",\"; \"),AB121,IF(AC121=\"\",\"\",\"; \"),AC121,,IF(AD121=\"\",\"\",\"; \"),AD121,IF(AE121=\"\",\"\",\"; \"),AE121,IF(AF121=\"\",\"\",\"; \"),AF121,IF(AG121=\"\",\"\",\"; \"),AG121,IF(AH121=\"\",\"\",\"; \"),AH121,IF(AI121=\"\",\"\",\"; \"),AI121,IF(AJ121=\"\",\"\",\"; \"),AJ121,IF(AK121=\"\",\"\",\"; \"),AK121)","v":""},null,null,null,{"$f":"IF(E122=\"\",\"\",CONCATENATE(C122,\", \",E122,\": \",F122))","v":""},{"$f":"B122","v":1},"DAC-E",{"$f":"IF(AND(NOT(ISBLANK(G122)),AND(NOT(ISBLANK(H122))),NOT(ISBLANK(I122))),(IF(G122=\"--\",Hilfstabelle!$B$1,IF(G122=\"-\",Hilfstabelle!$B$2,IF(G122=\"⌀\",Hilfstabelle!$B$3,IF(G122=\"+\",Hilfstabelle!$B$4,IF(G122=\"++\",Hilfstabelle!$B$5))))))*0.3+(IF(H122=\"--\",Hilfstabelle!$B$1,IF(H122=\"-\",Hilfstabelle!$B$2,IF(H122=\"⌀\",Hilfstabelle!$B$3,IF(H122=\"+\",Hilfstabelle!$B$4,IF(H122=\"++\",Hilfstabelle!$B$5))))))*0.3+(IF(I122=\"--\",Hilfstabelle!$B$1,IF(I122=\"-\",Hilfstabelle!$B$2,IF(I122=\"⌀\",Hilfstabelle!$B$3,IF(I122=\"+\",Hilfstabelle!$B$4,IF(I122=\"++\",Hilfstabelle!$B$5))))))*0.4,\"\")","v":""},null,null,null,null,null,null,null,null,null,null,null,null,{"$f":"IF(N122=0,\"\",VLOOKUP(N122,Materialien!$C$8:$D$64981,2,0))","v":""},{"$f":"IF(O122=0,\"\",VLOOKUP(O122,Materialien!$C$8:$D$64981,2,0))","v":""},{"$f":"IF(P122=0,\"\",VLOOKUP(P122,Materialien!$C$8:$D$64981,2,0))","v":""},{"$f":"IF(Q122=0,\"\",VLOOKUP(Q122,Materialien!$C$8:$D$64981,2,0))","v":""},{"$f":"IF(R122=0,\"\",VLOOKUP(R122,Materialien!$C$8:$D$64981,2,0))","v":""},{"$f":"IF(S122=0,\"\",VLOOKUP(S122,Materialien!$C$8:$D$64981,2,0))","v":""},{"$f":"IF(T122=0,\"\",VLOOKUP(T122,Materialien!$C$8:$D$64981,2,0))","v":""},{"$f":"IF(U122=0,\"\",VLOOKUP(U122,Materialien!$C$8:$D$64981,2,0))","v":""},{"$f":"IF(V122=0,\"\",VLOOKUP(V122,Materialien!$C$8:$D$64981,2,0))","v":""},{"$f":"IF(W122=0,\"\",VLOOKUP(W122,Materialien!$C$8:$D$64981,2,0))","v":""},{"$f":"IF(X122=0,\"\",VLOOKUP(X122,Materialien!$C$8:$D$64981,2,0))","v":""},{"$f":"IF(Y122=0,\"\",VLOOKUP(Y122,Materialien!$C$8:$D$64981,2,0))","v":""}]
[null,{"$f":"ROWS(B$122:B123)","v":2},null,null,null,{"$f":"CONCATENATE(Z123,IF(AA123=\"\",\"\",\"; \"),AA123,IF(AB123=\"\",\"\",\"; \"),AB123,IF(AC123=\"\",\"\",\"; \"),AC123,,IF(AD123=\"\",\"\",\"; \"),AD123,IF(AE123=\"\",\"\",\"; \"),AE123,IF(AF123=\"\",\"\",\"; \"),AF123,IF(AG123=\"\",\"\",\"; \"),AG123,IF(AH123=\"\",\"\",\"; \"),AH123,IF(AI123=\"\",\"\",\"; \"),AI123,IF(AJ123=\"\",\"\",\"; \"),AJ123,IF(AK123=\"\",\"\",\"; \"),AK123)","v":""},null,null,null,null,null,null,{"$f":"IF(AND(NOT(ISBLANK(G123)),AND(NOT(ISBLANK(H123))),NOT(ISBLANK(I123))),(IF(G123=\"--\",Hilfstabelle!$B$1,IF(G123=\"-\",Hilfstabelle!$B$2,IF(G123=\"⌀\",Hilfstabelle!$B$3,IF(G123=\"+\",Hilfstabelle!$B$4,IF(G123=\"++\",Hilfstabelle!$B$5))))))*0.3+(IF(H123=\"--\",Hilfstabelle!$B$1,IF(H123=\"-\",Hilfstabelle!$B$2,IF(H123=\"⌀\",Hilfstabelle!$B$3,IF(H123=\"+\",Hilfstabelle!$B$4,IF(H123=\"++\",Hilfstabelle!$B$5))))))*0.3+(IF(I123=\"--\",Hilfstabelle!B103,IF(I123=\"-\",Hilfstabelle!$B$2,IF(I123=\"⌀\",Hilfstabelle!$B$3,IF(I123=\"+\",Hilfstabelle!$B$4,IF(I123=\"++\",Hilfstabelle!$B$5))))))*0.4,\"\")","v":""},null,null,null,null,null,null,null,null,null,null,null,null,{"$f":"IF(N123=0,\"\",VLOOKUP(N123,Materialien!$C$8:$D$64981,2,0))","v":""},{"$f":"IF(O123=0,\"\",VLOOKUP(O123,Materialien!$C$8:$D$64981,2,0))","v":""},{"$f":"IF(P123=0,\"\",VLOOKUP(P123,Materialien!$C$8:$D$64981,2,0))","v":""},{"$f":"IF(Q123=0,\"\",VLOOKUP(Q123,Materialien!$C$8:$D$64981,2,0))","v":""},{"$f":"IF(R123=0,\"\",VLOOKUP(R123,Materialien!$C$8:$D$64981,2,0))","v":""},{"$f":"IF(S123=0,\"\",VLOOKUP(S123,Materialien!$C$8:$D$64981,2,0))","v":""},{"$f":"IF(T123=0,\"\",VLOOKUP(T123,Materialien!$C$8:$D$64981,2,0))","v":""},{"$f":"IF(U123=0,\"\",VLOOKUP(U123,Materialien!$C$8:$D$64981,2,0))","v":""},{"$f":"IF(V123=0,\"\",VLOOKUP(V123,Materialien!$C$8:$D$64981,2,0))","v":""},{"$f":"IF(W123=0,\"\",VLOOKUP(W123,Materialien!$C$8:$D$64981,2,0))","v":""},{"$f":"IF(X123=0,\"\",VLOOKUP(X123,Materialien!$C$8:$D$64981,2,0))","v":""},{"$f":"IF(Y123=0,\"\",VLOOKUP(Y123,Materialien!$C$8:$D$64981,2,0))","v":""}]
[null,{"$f":"ROWS(B$122:B124)","v":3},"DAC-E","Dach",null,{"$f":"CONCATENATE(Z124,IF(AA124=\"\",\"\",\"; \"),AA124,IF(AB124=\"\",\"\",\"; \"),AB124,IF(AC124=\"\",\"\",\"; \"),AC124,,IF(AD124=\"\",\"\",\"; \"),AD124,IF(AE124=\"\",\"\",\"; \"),AE124,IF(AF124=\"\",\"\",\"; \"),AF124,IF(AG124=\"\",\"\",\"; \"),AG124,IF(AH124=\"\",\"\",\"; \"),AH124,IF(AI124=\"\",\"\",\"; \"),AI124,IF(AJ124=\"\",\"\",\"; \"),AJ124,IF(AK124=\"\",\"\",\"; \"),AK124)","v":""},null,null,null,{"$f":"IF(E124=\"\",\"\",CONCATENATE(C124,\", \",E124,\": \",F124))","v":""},{"$f":"B124","v":3},{"$f":"C124","v":"DAC-E"},{"$f":"IF(AND(NOT(ISBLANK(G124)),AND(NOT(ISBLANK(H124))),NOT(ISBLANK(I124))),(IF(G124=\"--\",Hilfstabelle!$B$1,IF(G124=\"-\",Hilfstabelle!$B$2,IF(G124=\"⌀\",Hilfstabelle!$B$3,IF(G124=\"+\",Hilfstabelle!$B$4,IF(G124=\"++\",Hilfstabelle!$B$5))))))*0.3+(IF(H124=\"--\",Hilfstabelle!$B$1,IF(H124=\"-\",Hilfstabelle!$B$2,IF(H124=\"⌀\",Hilfstabelle!$B$3,IF(H124=\"+\",Hilfstabelle!$B$4,IF(H124=\"++\",Hilfstabelle!$B$5))))))*0.3+(IF(I124=\"--\",Hilfstabelle!B104,IF(I124=\"-\",Hilfstabelle!$B$2,IF(I124=\"⌀\",Hilfstabelle!$B$3,IF(I124=\"+\",Hilfstabelle!$B$4,IF(I124=\"++\",Hilfstabelle!$B$5))))))*0.4,\"\")","v":""},null,null,null,null,null,null,null,null,null,null,null,null,{"$f":"IF(N124=0,\"\",VLOOKUP(N124,Materialien!$C$8:$D$64981,2,0))","v":""},{"$f":"IF(O124=0,\"\",VLOOKUP(O124,Materialien!$C$8:$D$64981,2,0))","v":""},{"$f":"IF(P124=0,\"\",VLOOKUP(P124,Materialien!$C$8:$D$64981,2,0))","v":""},{"$f":"IF(Q124=0,\"\",VLOOKUP(Q124,Materialien!$C$8:$D$64981,2,0))","v":""},{"$f":"IF(R124=0,\"\",VLOOKUP(R124,Materialien!$C$8:$D$64981,2,0))","v":""},{"$f":"IF(S124=0,\"\",VLOOKUP(S124,Materialien!$C$8:$D$64981,2,0))","v":""},{"$f":"IF(T124=0,\"\",VLOOKUP(T124,Materialien!$C$8:$D$64981,2,0))","v":""},{"$f":"IF(U124=0,\"\",VLOOKUP(U124,Materialien!$C$8:$D$64981,2,0))","v":""},{"$f":"IF(V124=0,\"\",VLOOKUP(V124,Materialien!$C$8:$D$64981,2,0))","v":""},{"$f":"IF(W124=0,\"\",VLOOKUP(W124,Materialien!$C$8:$D$64981,2,0))","v":""},{"$f":"IF(X124=0,\"\",VLOOKUP(X124,Materialien!$C$8:$D$64981,2,0))","v":""},{"$f":"IF(Y124=0,\"\",VLOOKUP(Y124,Materialien!$C$8:$D$64981,2,0))","v":""}]
[null,null,null,null,null,null,null,null,null,null,null,null,null,null,null,null,null,null,null,null,null,null,null,null,null,{"$f":"IF(N125=0,\"\",VLOOKUP(N125,Materialien!$C$8:$D$64981,2,0))","v":""},{"$f":"IF(O125=0,\"\",VLOOKUP(O125,Materialien!$C$8:$D$64981,2,0))","v":""},{"$f":"IF(P125=0,\"\",VLOOKUP(P125,Materialien!$C$8:$D$64981,2,0))","v":""},{"$f":"IF(Q125=0,\"\",VLOOKUP(Q125,Materialien!$C$8:$D$64981,2,0))","v":""},{"$f":"IF(R125=0,\"\",VLOOKUP(R125,Materialien!$C$8:$D$64981,2,0))","v":""},{"$f":"IF(S125=0,\"\",VLOOKUP(S125,Materialien!$C$8:$D$64981,2,0))","v":""},{"$f":"IF(T125=0,\"\",VLOOKUP(T125,Materialien!$C$8:$D$64981,2,0))","v":""},{"$f":"IF(U125=0,\"\",VLOOKUP(U125,Materialien!$C$8:$D$64981,2,0))","v":""},{"$f":"IF(V125=0,\"\",VLOOKUP(V125,Materialien!$C$8:$D$64981,2,0))","v":""},{"$f":"IF(W125=0,\"\",VLOOKUP(W125,Materialien!$C$8:$D$64981,2,0))","v":""},{"$f":"IF(X125=0,\"\",VLOOKUP(X125,Materialien!$C$8:$D$64981,2,0))","v":""},{"$f":"IF(Y125=0,\"\",VLOOKUP(Y125,Materialien!$C$8:$D$64981,2,0))","v":""}]
[null,null,null,"Dachbelag"]
[null,{"$f":"ROW(B127)-ROWS(B$1:B126)","v":1},"DAB","Dachbelag","Warmdach",{"$f":"CONCATENATE(Z127,IF(AA127=\"\",\"\",\"; \"),AA127,IF(AB127=\"\",\"\",\"; \"),AB127,IF(AC127=\"\",\"\",\"; \"),AC127,,IF(AD127=\"\",\"\",\"; \"),AD127,IF(AE127=\"\",\"\",\"; \"),AE127,IF(AF127=\"\",\"\",\"; \"),AF127,IF(AG127=\"\",\"\",\"; \"),AG127,IF(AH127=\"\",\"\",\"; \"),AH127,IF(AI127=\"\",\"\",\"; \"),AI127,IF(AJ127=\"\",\"\",\"; \"),AJ127,IF(AK127=\"\",\"\",\"; \"),AK127)","v":"kunstst.Folie; MW; kunstst.Folie"},"⌀","+","+",{"$f":"IF(E127=\"\",\"\",CONCATENATE(C127,\", \",E127,\": \",F127))","v":"DAB, Warmdach: kunstst.Folie; MW; kunstst.Folie"},{"$f":"B127","v":1},{"$f":"C127","v":"DAB"},{"$f":"IF(AND(NOT(ISBLANK(G127)),AND(NOT(ISBLANK(H127))),NOT(ISBLANK(I127))),(IF(G127=\"--\",Hilfstabelle!$B$1,IF(G127=\"-\",Hilfstabelle!$B$2,IF(G127=\"⌀\",Hilfstabelle!$B$3,IF(G127=\"+\",Hilfstabelle!$B$4,IF(G127=\"++\",Hilfstabelle!$B$5))))))*0.3+(IF(H127=\"--\",Hilfstabelle!$B$1,IF(H127=\"-\",Hilfstabelle!$B$2,IF(H127=\"⌀\",Hilfstabelle!$B$3,IF(H127=\"+\",Hilfstabelle!$B$4,IF(H127=\"++\",Hilfstabelle!$B$5))))))*0.3+(IF(I127=\"--\",Hilfstabelle!$B$1,IF(I127=\"-\",Hilfstabelle!$B$2,IF(I127=\"⌀\",Hilfstabelle!$B$3,IF(I127=\"+\",Hilfstabelle!$B$4,IF(I127=\"++\",Hilfstabelle!$B$5))))))*0.4,\"\")","v":6.75},"Kunststoffbasierte Folien","Dämmstoff - Mineralwolle","Kunststoffbasierte Folien",null,null,null,null,null,null,null,null,null,{"$f":"IF(N127=0,\"\",VLOOKUP(N127,Materialien!$C$8:$D$64981,2,0))","v":"kunstst.Folie"},{"$f":"IF(O127=0,\"\",VLOOKUP(O127,Materialien!$C$8:$D$64981,2,0))","v":"MW"},{"$f":"IF(P127=0,\"\",VLOOKUP(P127,Materialien!$C$8:$D$64981,2,0))","v":"kunstst.Folie"},{"$f":"IF(Q127=0,\"\",VLOOKUP(Q127,Materialien!$C$8:$D$64981,2,0))","v":""},{"$f":"IF(R127=0,\"\",VLOOKUP(R127,Materialien!$C$8:$D$64981,2,0))","v":""},{"$f":"IF(S127=0,\"\",VLOOKUP(S127,Materialien!$C$8:$D$64981,2,0))","v":""},{"$f":"IF(T127=0,\"\",VLOOKUP(T127,Materialien!$C$8:$D$64981,2,0))","v":""},{"$f":"IF(U127=0,\"\",VLOOKUP(U127,Materialien!$C$8:$D$64981,2,0))","v":""},{"$f":"IF(V127=0,\"\",VLOOKUP(V127,Materialien!$C$8:$D$64981,2,0))","v":""},{"$f":"IF(W127=0,\"\",VLOOKUP(W127,Materialien!$C$8:$D$64981,2,0))","v":""},{"$f":"IF(X127=0,\"\",VLOOKUP(X127,Materialien!$C$8:$D$64981,2,0))","v":""},{"$f":"IF(Y127=0,\"\",VLOOKUP(Y127,Materialien!$C$8:$D$64981,2,0))","v":""}]
[]
[null,null,null,"Eigenes Bauteil (Dachbelag):",null,null,null,null,null,"Eigene Bauteile (Dachbelag):"]
[null,{"$f":"ROW(B130)-ROWS(B$1:B129)","v":1},"DAB-E","Dachbelag",null,{"$f":"CONCATENATE(Z129,IF(AA129=\"\",\"\",\"; \"),AA129,IF(AB129=\"\",\"\",\"; \"),AB129,IF(AC129=\"\",\"\",\"; \"),AC129,,IF(AD129=\"\",\"\",\"; \"),AD129,IF(AE129=\"\",\"\",\"; \"),AE129,IF(AF129=\"\",\"\",\"; \"),AF129,IF(AG129=\"\",\"\",\"; \"),AG129,IF(AH129=\"\",\"\",\"; \"),AH129,IF(AI129=\"\",\"\",\"; \"),AI129,IF(AJ129=\"\",\"\",\"; \"),AJ129,IF(AK129=\"\",\"\",\"; \"),AK129)","v":""},null,null,null,{"$f":"IF(E130=\"\",\"\",CONCATENATE(C130,\", \",E130,\": \",F130))","v":""},{"$f":"B130","v":1},"DAB-E",{"$f":"IF(AND(NOT(ISBLANK(G130)),AND(NOT(ISBLANK(H130))),NOT(ISBLANK(I130))),(IF(G130=\"--\",Hilfstabelle!$B$1,IF(G130=\"-\",Hilfstabelle!$B$2,IF(G130=\"⌀\",Hilfstabelle!$B$3,IF(G130=\"+\",Hilfstabelle!$B$4,IF(G130=\"++\",Hilfstabelle!$B$5))))))*0.3+(IF(H130=\"--\",Hilfstabelle!$B$1,IF(H130=\"-\",Hilfstabelle!$B$2,IF(H130=\"⌀\",Hilfstabelle!$B$3,IF(H130=\"+\",Hilfstabelle!$B$4,IF(H130=\"++\",Hilfstabelle!$B$5))))))*0.3+(IF(I130=\"--\",Hilfstabelle!$B$1,IF(I130=\"-\",Hilfstabelle!$B$2,IF(I130=\"⌀\",Hilfstabelle!$B$3,IF(I130=\"+\",Hilfstabelle!$B$4,IF(I130=\"++\",Hilfstabelle!$B$5))))))*0.4,\"\")","v":""},null,null,null,null,null,null,null,null,null,null,null,null,{"$f":"IF(N130=0,\"\",VLOOKUP(N130,Materialien!$C$8:$D$64981,2,0))","v":""}]
[null,{"$f":"ROWS(B$130:B131)","v":2},null,null,null,{"$f":"CONCATENATE(Z131,IF(AA131=\"\",\"\",\"; \"),AA131,IF(AB131=\"\",\"\",\"; \"),AB131,IF(AC131=\"\",\"\",\"; \"),AC131,,IF(AD131=\"\",\"\",\"; \"),AD131,IF(AE131=\"\",\"\",\"; \"),AE131,IF(AF131=\"\",\"\",\"; \"),AF131,IF(AG131=\"\",\"\",\"; \"),AG131,IF(AH131=\"\",\"\",\"; \"),AH131,IF(AI131=\"\",\"\",\"; \"),AI131,IF(AJ131=\"\",\"\",\"; \"),AJ131,IF(AK131=\"\",\"\",\"; \"),AK131)","v":""},null,null,null,null,null,null,{"$f":"IF(AND(NOT(ISBLANK(G131)),AND(NOT(ISBLANK(H131))),NOT(ISBLANK(I131))),(IF(G131=\"--\",Hilfstabelle!$B$1,IF(G131=\"-\",Hilfstabelle!$B$2,IF(G131=\"⌀\",Hilfstabelle!$B$3,IF(G131=\"+\",Hilfstabelle!$B$4,IF(G131=\"++\",Hilfstabelle!$B$5))))))*0.3+(IF(H131=\"--\",Hilfstabelle!$B$1,IF(H131=\"-\",Hilfstabelle!$B$2,IF(H131=\"⌀\",Hilfstabelle!$B$3,IF(H131=\"+\",Hilfstabelle!$B$4,IF(H131=\"++\",Hilfstabelle!$B$5))))))*0.3+(IF(I131=\"--\",Hilfstabelle!$B$1,IF(I131=\"-\",Hilfstabelle!$B$2,IF(I131=\"⌀\",Hilfstabelle!$B$3,IF(I131=\"+\",Hilfstabelle!$B$4,IF(I131=\"++\",Hilfstabelle!$B$5))))))*0.4,\"\")","v":""},null,null,null,null,null,null,null,null,null,null,null,null,{"$f":"IF(N131=0,\"\",VLOOKUP(N131,Materialien!$C$8:$D$64981,2,0))","v":""},{"$f":"IF(O132=0,\"\",VLOOKUP(O132,Materialien!$C$8:$D$64981,2,0))","v":""},{"$f":"IF(P132=0,\"\",VLOOKUP(P132,Materialien!$C$8:$D$64981,2,0))","v":""},{"$f":"IF(Q132=0,\"\",VLOOKUP(Q132,Materialien!$C$8:$D$64981,2,0))","v":""},{"$f":"IF(R132=0,\"\",VLOOKUP(R132,Materialien!$C$8:$D$64981,2,0))","v":""},{"$f":"IF(S132=0,\"\",VLOOKUP(S132,Materialien!$C$8:$D$64981,2,0))","v":""},{"$f":"IF(T132=0,\"\",VLOOKUP(T132,Materialien!$C$8:$D$64981,2,0))","v":""},{"$f":"IF(U132=0,\"\",VLOOKUP(U132,Materialien!$C$8:$D$64981,2,0))","v":""},{"$f":"IF(V132=0,\"\",VLOOKUP(V132,Materialien!$C$8:$D$64981,2,0))","v":""},{"$f":"IF(W132=0,\"\",VLOOKUP(W132,Materialien!$C$8:$D$64981,2,0))","v":""},{"$f":"IF(X132=0,\"\",VLOOKUP(X132,Materialien!$C$8:$D$64981,2,0))","v":""},{"$f":"IF(Y132=0,\"\",VLOOKUP(Y132,Materialien!$C$8:$D$64981,2,0))","v":""}]
[null,{"$f":"ROWS(B$130:B132)","v":3},"DAB-E","Dachbelag",null,{"$f":"CONCATENATE(Z132,IF(AA132=\"\",\"\",\"; \"),AA132,IF(AB132=\"\",\"\",\"; \"),AB132,IF(AC132=\"\",\"\",\"; \"),AC132,,IF(AD132=\"\",\"\",\"; \"),AD132,IF(AE132=\"\",\"\",\"; \"),AE132,IF(AF132=\"\",\"\",\"; \"),AF132,IF(AG132=\"\",\"\",\"; \"),AG132,IF(AH132=\"\",\"\",\"; \"),AH132,IF(AI132=\"\",\"\",\"; \"),AI132,IF(AJ132=\"\",\"\",\"; \"),AJ132,IF(AK132=\"\",\"\",\"; \"),AK132)","v":""},null,null,null,{"$f":"IF(E132=\"\",\"\",CONCATENATE(C132,\", \",E132,\": \",F132))","v":""},{"$f":"B132","v":3},{"$f":"C132","v":"DAB-E"},{"$f":"IF(AND(NOT(ISBLANK(G132)),AND(NOT(ISBLANK(H132))),NOT(ISBLANK(I132))),(IF(G132=\"--\",Hilfstabelle!$B$1,IF(G132=\"-\",Hilfstabelle!$B$2,IF(G132=\"⌀\",Hilfstabelle!$B$3,IF(G132=\"+\",Hilfstabelle!$B$4,IF(G132=\"++\",Hilfstabelle!$B$5))))))*0.3+(IF(H132=\"--\",Hilfstabelle!$B$1,IF(H132=\"-\",Hilfstabelle!$B$2,IF(H132=\"⌀\",Hilfstabelle!$B$3,IF(H132=\"+\",Hilfstabelle!$B$4,IF(H132=\"++\",Hilfstabelle!$B$5))))))*0.3+(IF(I132=\"--\",Hilfstabelle!B113,IF(I132=\"-\",Hilfstabelle!$B$2,IF(I132=\"⌀\",Hilfstabelle!$B$3,IF(I132=\"+\",Hilfstabelle!$B$4,IF(I132=\"++\",Hilfstabelle!$B$5))))))*0.4,\"\")","v":""},null,null,null,null,null,null,null,null,null,null,null,null,{"$f":"IF(N132=0,\"\",VLOOKUP(N132,Materialien!$C$8:$D$64981,2,0))","v":""},{"$f":"IF(O133=0,\"\",VLOOKUP(O133,Materialien!$C$8:$D$64981,2,0))","v":""},{"$f":"IF(P133=0,\"\",VLOOKUP(P133,Materialien!$C$8:$D$64981,2,0))","v":""},{"$f":"IF(Q133=0,\"\",VLOOKUP(Q133,Materialien!$C$8:$D$64981,2,0))","v":""},{"$f":"IF(R133=0,\"\",VLOOKUP(R133,Materialien!$C$8:$D$64981,2,0))","v":""},{"$f":"IF(S133=0,\"\",VLOOKUP(S133,Materialien!$C$8:$D$64981,2,0))","v":""},{"$f":"IF(T133=0,\"\",VLOOKUP(T133,Materialien!$C$8:$D$64981,2,0))","v":""},{"$f":"IF(U133=0,\"\",VLOOKUP(U133,Materialien!$C$8:$D$64981,2,0))","v":""},{"$f":"IF(V133=0,\"\",VLOOKUP(V133,Materialien!$C$8:$D$64981,2,0))","v":""},{"$f":"IF(W133=0,\"\",VLOOKUP(W133,Materialien!$C$8:$D$64981,2,0))","v":""},{"$f":"IF(X133=0,\"\",VLOOKUP(X133,Materialien!$C$8:$D$64981,2,0))","v":""},{"$f":"IF(Y133=0,\"\",VLOOKUP(Y133,Materialien!$C$8:$D$64981,2,0))","v":""}]
[]
[null,null,null,null,null,null,null,null,null,null,null,null,{"$f":"IF(ISBLANK(G134),\"\",AVERAGE(G134,H134,I134))","v":""}]
[null,null,null,null,null,null,null,null,null,null,null,null,""]
[null,null,null,null,null,null,null,null,null,null,null,null,""]
[null,null,null,null,null,null,null,null,null,null,null,null,""]
[null,null,null,null,null,null,null,null,null,null,null,null,""]
[null,null,null,null,null,null,null,null,null,null,null,null,""]
[null,null,null,null,null,null,null,null,null,null,null,null,""]
[null,null,null,null,null,null,null,null,null,null,null,null,""]
[null,null,null,null,null,null,null,null,null,null,null,null,""]
[null,null,null,null,null,null,null,null,null,null,null,null,""]
[null,null,null,null,null,null,null,null,null,null,null,null,""]
[null,null,null,null,null,null,null,null,null,null,null,null,""]
[null,null,null,null,null,null,null,null,null,null,null,null,""]
[null,null,null,null,null,null,null,null,null,null,null,null,""]
[null,null,null,null,null,null,null,null,null,null,null,null,""]
[null,null,null,null,null,null,null,null,null,null,null,null,""]
[null,null,null,null,null,null,null,null,null,null,null,null,""]
[null,null,null,null,null,null,null,null,null,null,null,null,""]
[null,null,null,null,null,null,null,null,null,null,null,null,""]
[null,null,null,null,null,null,null,null,null,null,null,null,""]
[null,null,null,null,null,null,null,null,null,null,null,null,""]
[null,null,null,null,null,null,null,null,null,null,null,null,""]
[null,null,null,null,null,null,null,null,null,null,null,null,""]
[null,null,null,null,null,null,null,null,null,null,null,null,""]
[null,null,null,null,null,null,null,null,null,null,null,null,""]
[null,null,null,null,null,null,null,null,null,null,null,null,{"$f":"IF(ISBLANK(G159),\"\",AVERAGE(G159,H159,I159))","v":""}]
[null,null,null,null,null,null,null,null,null,null,null,null,""]
[null,null,null,null,null,null,null,null,null,null,null,null,""]
[null,null,null,null,null,null,null,null,null,null,null,null,""]
[null,null,null,null,null,null,null,null,null,null,null,null,""]
[null,null,null,null,null,null,null,null,null,null,null,null,""]
[null,null,null,null,null,null,null,null,null,null,null,null,""]
[null,null,null,null,null,null,null,null,null,null,null,null,""]
[null,null,null,null,null,null,null,null,null,null,null,null,""]
[null,null,null,null,null,null,null,null,null,null,null,null,""]
[null,null,null,null,null,null,null,null,null,null,null,null,""]
[null,null,null,null,null,null,null,null,null,null,null,null,""]
[null,null,null,null,null,null,null,null,null,null,null,null,""]
[null,null,null,null,null,null,null,null,null,null,null,null,""]
[null,null,null,null,null,null,null,null,null,null,null,null,""]
[null,null,null,null,null,null,null,null,null,null,null,null,""]
[null,null,null,null,null,null,null,null,null,null,null,null,""]
[null,null,null,null,null,null,null,null,null,null,null,null,""]
[null,null,null,null,null,null,null,null,null,null,null,null,""]
[null,null,null,null,null,null,null,null,null,null,null,null,""]
[null,null,null,null,null,null,null,null,null,null,null,null,""]
[null,null,null,null,null,null,null,null,null,null,null,null,""]
[null,null,null,null,null,null,null,null,null,null,null,null,""]
[null,null,null,null,null,null,null,null,null,null,null,null,""]
[null,null,null,null,null,null,null,null,null,null,null,null,""]
[null,null,null,null,null,null,null,null,null,null,null,null,""]
[null,null,null,null,null,null,null,null,null,null,null,null,""]
[null,null,null,null,null,null,null,null,null,null,null,null,""]
[null,null,null,null,null,null,null,null,null,null,null,null,""]
[null,null,null,null,null,null,null,null,null,null,null,null,""]
[null,null,null,null,null,null,null,null,null,null,null,null,""]
[null,null,null,null,null,null,null,null,null,null,null,null,""]
[null,null,null,null,null,null,null,null,null,null,null,null,""]
[null,null,null,null,null,null,null,null,null,null,null,null,""]
[null,null,null,null,null,null,null,null,null,null,null,null,""]
[null,null,null,null,null,null,null,null,null,null,null,null,""]
[null,null,null,null,null,null,null,null,null,null,null,null,""]
[null,null,null,null,null,null,null,null,null,null,null,null,""]
[null,null,null,null,null,null,null,null,null,null,null,null,""]
[null,null,null,null,null,null,null,null,null,null,null,null,""]
[null,null,null,null,null,null,null,null,null,null,null,null,""]
[null,null,null,null,null,null,null,null,null,null,null,null,""]
[null,null,null,null,null,null,null,null,null,null,null,null,""]
[null,null,null,null,null,null,null,null,null,null,null,null,""]
[null,null,null,null,null,null,null,null,null,null,null,null,""]
[null,null,null,null,null,null,null,null,null,null,null,null,""]
[null,null,null,null,null,null,null,null,null,null,null,null,""]
[null,null,null,null,null,null,null,null,null,null,null,null,""]
[null,null,null,null,null,null,null,null,null,null,null,null,""]
[null,null,null,null,null,null,null,null,null,null,null,null,""]
[null,null,null,null,null,null,null,null,null,null,null,null,""]
[null,null,null,null,null,null,null,null,null,null,null,null,""]
[null,null,null,null,null,null,null,null,null,null,null,null,""]
[null,null,null,null,null,null,null,null,null,null,null,null,""]
[null,null,null,null,null,null,null,null,null,null,null,null,""]
[null,null,null,null,null,null,null,null,null,null,null,null,""]
[null,null,null,null,null,null,null,null,null,null,null,null,""]
[null,null,null,null,null,null,null,null,null,null,null,null,""]
[null,null,null,null,null,null,null,null,null,null,null,null,""]
[null,null,null,null,null,null,null,null,null,null,null,null,""]
[null,null,null,null,null,null,null,null,null,null,null,null,""]
[null,null,null,null,null,null,null,null,null,null,null,null,""]
[null,null,null,null,null,null,null,null,null,null,null,null,""]
[null,null,null,null,null,null,null,null,null,null,null,null,""]
[null,null,null,null,null,null,null,null,null,null,null,null,{"$f":"IF(ISBLANK(G223),\"\",AVERAGE(G223,H223,I223))","v":""}]
[null,null,null,null,null,null,null,null,null,null,null,null,""]
[null,null,null,null,null,null,null,null,null,null,null,null,""]
[null,null,null,null,null,null,null,null,null,null,null,null,""]
[null,null,null,null,null,null,null,null,null,null,null,null,""]
[null,null,null,null,null,null,null,null,null,null,null,null,""]
[null,null,null,null,null,null,null,null,null,null,null,null,""]
[null,null,null,null,null,null,null,null,null,null,null,null,""]
[null,null,null,null,null,null,null,null,null,null,null,null,""]
[null,null,null,null,null,null,null,null,null,null,null,null,""]
[null,null,null,null,null,null,null,null,null,null,null,null,""]
[null,null,null,null,null,null,null,null,null,null,null,null,""]
[null,null,null,null,null,null,null,null,null,null,null,null,""]
[null,null,null,null,null,null,null,null,null,null,null,null,""]
[null,null,null,null,null,null,null,null,null,null,null,null,""]
[null,null,null,null,null,null,null,null,null,null,null,null,""]
[null,null,null,null,null,null,null,null,null,null,null,null,""]
[null,null,null,null,null,null,null,null,null,null,null,null,""]
[null,null,null,null,null,null,null,null,null,null,null,null,""]
[null,null,null,null,null,null,null,null,null,null,null,null,""]
[null,null,null,null,null,null,null,null,null,null,null,null,""]
[null,null,null,null,null,null,null,null,null,null,null,null,""]
[null,null,null,null,null,null,null,null,null,null,null,null,""]
[null,null,null,null,null,null,null,null,null,null,null,null,""]
[null,null,null,null,null,null,null,null,null,null,null,null,""]
[null,null,null,null,null,null,null,null,null,null,null,null,""]
[null,null,null,null,null,null,null,null,null,null,null,null,""]
[null,null,null,null,null,null,null,null,null,null,null,null,""]
[null,null,null,null,null,null,null,null,null,null,null,null,""]
[null,null,null,null,null,null,null,null,null,null,null,null,""]
[null,null,null,null,null,null,null,null,null,null,null,null,""]
[null,null,null,null,null,null,null,null,null,null,null,null,""]
[null,null,null,null,null,null,null,null,null,null,null,null,""]
[null,null,null,null,null,null,null,null,null,null,null,null,""]
[null,null,null,null,null,null,null,null,null,null,null,null,""]
[null,null,null,null,null,null,null,null,null,null,null,null,""]
[null,null,null,null,null,null,null,null,null,null,null,null,""]
[null,null,null,null,null,null,null,null,null,null,null,null,""]
[null,null,null,null,null,null,null,null,null,null,null,null,""]
[null,null,null,null,null,null,null,null,null,null,null,null,""]
[null,null,null,null,null,null,null,null,null,null,null,null,""]
[null,null,null,null,null,null,null,null,null,null,null,null,""]
[null,null,null,null,null,null,null,null,null,null,null,null,""]
[null,null,null,null,null,null,null,null,null,null,null,null,""]
[null,null,null,null,null,null,null,null,null,null,null,null,""]
[null,null,null,null,null,null,null,null,null,null,null,null,""]
[null,null,null,null,null,null,null,null,null,null,null,null,""]
[null,null,null,null,null,null,null,null,null,null,null,null,""]
[null,null,null,null,null,null,null,null,null,null,null,null,""]
[null,null,null,null,null,null,null,null,null,null,null,null,""]
[null,null,null,null,null,null,null,null,null,null,null,null,""]
[null,null,null,null,null,null,null,null,null,null,null,null,""]
[null,null,null,null,null,null,null,null,null,null,null,null,""]
[null,null,null,null,null,null,null,null,null,null,null,null,""]
[null,null,null,null,null,null,null,null,null,null,null,null,""]
[null,null,null,null,null,null,null,null,null,null,null,null,""]
[null,null,null,null,null,null,null,null,null,null,null,null,""]
[null,null,null,null,null,null,null,null,null,null,null,null,""]
[null,null,null,null,null,null,null,null,null,null,null,null,""]
[null,null,null,null,null,null,null,null,null,null,null,null,""]
[null,null,null,null,null,null,null,null,null,null,null,null,""]
[null,null,null,null,null,null,null,null,null,null,null,null,""]
[null,null,null,null,null,null,null,null,null,null,null,null,""]
[null,null,null,null,null,null,null,null,null,null,null,null,""]
[null,null,null,null,null,null,null,null,null,null,null,null,{"$f":"IF(ISBLANK(G287),\"\",AVERAGE(G287,H287,I287))","v":""}]
[null,null,null,null,null,null,null,null,null,null,null,null,""]
[null,null,null,null,null,null,null,null,null,null,null,null,""]
[null,null,null,null,null,null,null,null,null,null,null,null,""]
[null,null,null,null,null,null,null,null,null,null,null,null,""]
[null,null,null,null,null,null,null,null,null,null,null,null,""]
[null,null,null,null,null,null,null,null,null,null,null,null,""]
[null,null,null,null,null,null,null,null,null,null,null,null,""]
[null,null,null,null,null,null,null,null,null,null,null,null,""]
[null,null,null,null,null,null,null,null,null,null,null,null,""]
[null,null,null,null,null,null,null,null,null,null,null,null,""]
[null,null,null,null,null,null,null,null,null,null,null,null,""]
[null,null,null,null,null,null,null,null,null,null,null,null,""]
[null,null,null,null,null,null,null,null,null,null,null,null,""]
[null,null,null,null,null,null,null,null,null,null,null,null,""]
[null,null,null,null,null,null,null,null,null,null,null,null,""]
[null,null,null,null,null,null,null,null,null,null,null,null,""]
[null,null,null,null,null,null,null,null,null,null,null,null,""]
[null,null,null,null,null,null,null,null,null,null,null,null,""]
[null,null,null,null,null,null,null,null,null,null,null,null,""]
[null,null,null,null,null,null,null,null,null,null,null,null,""]
[null,null,null,null,null,null,null,null,null,null,null,null,""]
[null,null,null,null,null,null,null,null,null,null,null,null,""]
[null,null,null,null,null,null,null,null,null,null,null,null,""]
[null,null,null,null,null,null,null,null,null,null,null,null,""]
[null,null,null,null,null,null,null,null,null,null,null,null,""]
[null,null,null,null,null,null,null,null,null,null,null,null,""]
[null,null,null,null,null,null,null,null,null,null,null,null,""]
[null,null,null,null,null,null,null,null,null,null,null,null,""]
[null,null,null,null,null,null,null,null,null,null,null,null,""]
[null,null,null,null,null,null,null,null,null,null,null,null,""]
[null,null,null,null,null,null,null,null,null,null,null,null,""]
[null,null,null,null,null,null,null,null,null,null,null,null,""]
[null,null,null,null,null,null,null,null,null,null,null,null,""]
[null,null,null,null,null,null,null,null,null,null,null,null,""]
[null,null,null,null,null,null,null,null,null,null,null,null,""]
[null,null,null,null,null,null,null,null,null,null,null,null,""]
[]
[]
[]
[]
[]
[]
[null,null,null,null,null,null," "]
[null,null,null,null,null,null," "]
[null,null,null,null,null,null," "]
[null,null,null,null,null,null," "]
[null,null,null,null,null,null," "]
[null,null,null,null,null,null," "]
[null,null,null,null,null,null," "]
[null,null,null,null,null,null," "]
[null,null,null,null,null,null," "]
[null,null,null,null,null,null," "]
[null,null,null,null,null,null," "]
[null,null,null,null,null,null," "]
[null,null,null,null,null,null," "]
[null,null,null,null,null,null," "]
[null,null,null,null,null,null," "]
[null,null,null,null,null,null," "]
[null,null,null,null,null,null," "]
[null,null,null,null,null,null," "]
[null,null,null,null,null,null," "]
[null,null,null,null,null,null," "]
[null,null,null,null,null,null," "]
[null,null,null,null,null,null," "]
[null,null,null,null,null,null," "]
[null,null,null,null,null,null," "]
[null,null,null,null,null,null," "]
[null,null,null,null,null,null," "]
[null,null,null,null,null,null," "]
[null,null,null,null,null,null," "]
[null,null,null,null,null,null," "]
[null,null,null,null,null,null," "]
[null,null,null,null,null,null," "]
[null,null,null,null,null,null," "]
[null,null,null,null,null,null," "]
[null,null,null,null,null,null," "]
[null,null,null,null,null,null," "]
[null,null,null,null,null,null," "]
[null,null,null,null,null,null," "]
[null,null,null,null,null,null," "]
[null,null,null,null,null,null," "]
[null,null,null,null,null,null," "]
[null,null,null,null,null,null," "]
[null,null,null,null,null,null," "]
[null,null,null,null,null,null," "]
[null,null,null,null,null,null," "]
[null,null,null,null,null,null," "]
[null,null,null,null,null,null," "]
[null,null,null,null,null,null," "]
[null,null,null,null,null,null," "]
[null,null,null,null,null,null," "]
[null,null,null,null,null,null," "]
[null,null,null,null,null,null," "]
[null,null,null,null,null,null," "]
[null,null,null,null,null,null," "]
[null,null,null,null,null,null," "]
[null,null,null,null,null,null," "]
[null,null,null,null,null,null," "]
[null,null,null,null,null,null," "]
[null,null,null,null,null,null," "]
[null,null,null,null,null,null," "]
[null,null,null,null,null,null," "]
[null,null,null,null,null,null," "]
[null,null,null,null,null,null," "]
[null,null,null,null,null,null," "]
[null,null,null,null,null,null," "]
[null,null,null,null,null,null," "]
[null,null,null,null,null,null," "]
[null,null,null,null,null,null," "]
[null,null,null,null,null,null," "]
[null,null,null,null,null,null," "]
[null,null,null,null,null,null," "]
[null,null,null,null,null,null," "]
[null,null,null,null,null,null," "]
[null,null,null,null,null,null," "]
[null,null,null,null,null,null," "]
[null,null,null,null,null,null," "]
[null,null,null,null,null,null," "]
[null,null,null,null,null,null," "]
[null,null,null,null,null,null," "]
[null,null,null,null,null,null," "]
[null,null,null,null,null,null," "]
[null,null,null,null,null,null," "]
[null,null,null,null,null,null," "]
[null,null,null,null,null,null," "]
[null,null,null,null,null,null," "]
[null,null,null,null,null,null," "]
[null,null,null,null,null,null," "]
[null,null,null,null,null,null," "]
[null,null,null,null,null,null," "]
[null,null,null,null,null,null," "]
[null,null,null,null,null,null," "]
[null,null,null,null,null,null," "]
[null,null,null,null,null,null," "]
[null,null,null,null,null,null," "]
[null,null,null,null,null,null," "]
[null,null,null,null,null,null," "]
[null,null,null,null,null,null," "]
[null,null,null,null,null,null," "]
[null,null,null,null,null,null," "]
[null,null,null,null,null,null," "]
[null,null,null,null,null,null," "]
[null,null,null,null,null,null," "]
[null,null,null,null,null,null," "]
[null,null,null,null,null,null," "]
[null,null,null,null,null,null," "]
[null,null,null,null,null,null," "]
[null,null,null,null,null,null," "]
[null,null,null,null,null,null," "]
[null,null,null,null,null,null," "]
[null,null,null,null,null,null," "]
[null,null,null,null,null,null," "]
[null,null,null,null,null,null," "]
[null,null,null,null,null,null," "]
[null,null,null,null,null,null," "]
[null,null,null,null,null,null," "]
[null,null,null,null,null,null," "]
[null,null,null,null,null,null," "]
[null,null,null,null,null,null," "]
[null,null,null,null,null,null," "]
[null,null,null,null,null,null," "]
[null,null,null,null,null,null," "]
[null,null,null,null,null,null," "]
[null,null,null,null,null,null," "]
[null,null,null,null,null,null," "]
[null,null,null,null,null,null," "]
[null,null,null,null,null,null," "]
[null,null,null,null,null,null," "]
[null,null,null,null,null,null," "]
[null,null,null,null,null,null," "]
[null,null,null,null,null,null," "]
[null,null,null,null,null,null," "]
[null,null,null,null,null,null," "]
[null,null,null,null,null,null," "]
[null,null,null,null,null,null," "]
[null,null,null,null,null,null," "]
[null,null,null,null,null,null," "]
[null,null,null,null,null,null," "]
[null,null,null,null,null,null," "]
[null,null,null,null,null,null," "]
[null,null,null,null,null,null," "]
[null,null,null,null,null,null," "]
[null,null,null,null,null,null," "]
[null,null,null,null,null,null," "]
[null,null,null,null,null,null," "]
[null,null,null,null,null,null," "]
[null,null,null,null,null,null," "]
[null,null,null,null,null,null," "]
[null,null,null,null,null,null," "]
[null,null,null,null,null,null," "]
[null,null,null,null,null,null," "]
[null,null,null,null,null,null," "]
[null,null,null,null,null,null," "]
[null,null,null,null,null,null," "]
[null,null,null,null,null,null," "]
[null,null,null,null,null,null," "]
[null,null,null,null,null,null," "]
[null,null,null,null,null,null," "]
[null,null,null,null,null,null," "]
[null,null,null,null,null,null," "]
[null,null,null,null,null,null," "]
[null,null,null,null,null,null," "]
[null,null,null,null,null,null," "]
[null,null,null,null,null,null," "]
[null,null,null,null,null,null," "]
[null,null,null,null,null,null," "]
[null,null,null,null,null,null," "]
[null,null,null,null,null,null," "]
[null,null,null,null,null,null," "]
[null,null,null,null,null,null," "]
[null,null,null,null,null,null," "]
[null,null,null,null,null,null," "]
[null,null,null,null,null,null," "]
[null,null,null,null,null,null," "]
[null,null,null,null,null,null," "]
[null,null,null,null,null,null," "]
[null,null,null,null,null,null," "]
[null,null,null,null,null,null," "]
[null,null,null,null,null,null," "]
[null,null,null,null,null,null," "]
[null,null,null,null,null,null," "]
[null,null,null,null,null,null," "]
[null,null,null,null,null,null," "]
[null,null,null,null,null,null," "]
[null,null,null,null,null,null," "]
[null,null,null,null,null,null," "]
[null,null,null,null,null,null," "]
[null,null,null,null,null,null," "]
[null,null,null,null,null,null," "]
[null,null,null,null,null,null," "]
[null,null,null,null,null,null," "]
[null,null,null,null,null,null," "]
[null,null,null,null,null,null," "]
[null,null,null,null,null,null," "]
[null,null,null,null,null,null," "]
[null,null,null,null,null,null," "]
[null,null,null,null,null,null," "]
[null,null,null,null,null,null," "]
[null,null,null,null,null,null," "]
[null,null,null,null,null,null," "]
[null,null,null,null,null,null," "]
[null,null,null,null,null,null," "]
[null,null,null,null,null,null," "]
[null,null,null,null,null,null," "]
[null,null,null,null,null,null," "]
[null,null,null,null,null,null," "]
[null,null,null,null,null,null," "]
[null,null,null,null,null,null," "]
[null,null,null,null,null,null," "]
[null,null,null,null,null,null," "]
[null,null,null,null,null,null," "]
[null,null,null,null,null,null," "]
[null,null,null,null,null,null," "]
[null,null,null,null,null,null," "]
[null,null,null,null,null,null," "]
[null,null,null,null,null,null," "]
[null,null,null,null,null,null," "]
[null,null,null,null,null,null," "]
[null,null,null,null,null,null," "]
[null,null,null,null,null,null," "]
[null,null,null,null,null,null," "]
[null,null,null,null,null,null," "]
[null,null,null,null,null,null," "]
[null,null,null,null,null,null," "]
[null,null,null,null,null,null," "]
[null,null,null,null,null,null," "]
[null,null,null,null,null,null," "]
[null,null,null,null,null,null," "]
[null,null,null,null,null,null," "]
[null,null,null,null,null,null," "]
[null,null,null,null,null,null," ",null,null,{"$f":"IF(ISBLANK(D558),\"\",CONCATENATE(C558,#REF!,#REF!))","v":""}]
[null,null,null,null,null,null," ",null,null,{"$f":"IF(ISBLANK(D559),\"\",CONCATENATE(C559,#REF!,#REF!))","v":""}]
[null,null,null,null,null,null," ",null,null,{"$f":"IF(ISBLANK(D560),\"\",CONCATENATE(C560,#REF!,#REF!))","v":""}]
[null,null,null,null,null,null," ",null,null,{"$f":"IF(ISBLANK(D561),\"\",CONCATENATE(C561,#REF!,#REF!))","v":""}]
[null,null,null,null,null,null," ",null,null,{"$f":"IF(ISBLANK(D562),\"\",CONCATENATE(C562,#REF!,#REF!))","v":""}]
[null,null,null,null,null,null," ",null,null,{"$f":"IF(ISBLANK(D563),\"\",CONCATENATE(C563,#REF!,#REF!))","v":""}]
[null,null,null,null,null,null," ",null,null,{"$f":"IF(ISBLANK(D564),\"\",CONCATENATE(C564,#REF!,#REF!))","v":""}]
[null,null,null,null,null,null," ",null,null,{"$f":"IF(ISBLANK(D565),\"\",CONCATENATE(C565,#REF!,#REF!))","v":""}]
[null,null,null,null,null,null," ",null,null,{"$f":"IF(ISBLANK(D566),\"\",CONCATENATE(C566,#REF!,#REF!))","v":""}]
[null,null,null,null,null,null," ",null,null,{"$f":"IF(ISBLANK(D567),\"\",CONCATENATE(C567,#REF!,#REF!))","v":""}]
[null,null,null,null,null,null," ",null,null,{"$f":"IF(ISBLANK(D568),\"\",CONCATENATE(C568,#REF!,#REF!))","v":""}]
[null,null,null,null,null,null," ",null,null,{"$f":"IF(ISBLANK(D569),\"\",CONCATENATE(C569,#REF!,#REF!))","v":""}]
[null,null,null,null,null,null," ",null,null,{"$f":"IF(ISBLANK(D570),\"\",CONCATENATE(C570,#REF!,#REF!))","v":""}]
[null,null,null,null,null,null," ",null,null,{"$f":"IF(ISBLANK(D571),\"\",CONCATENATE(C571,#REF!,#REF!))","v":""}]
[null,null,null,null,null,null," ",null,null,{"$f":"IF(ISBLANK(D572),\"\",CONCATENATE(C572,#REF!,#REF!))","v":""}]
[null,null,null,null,null,null," ",null,null,{"$f":"IF(ISBLANK(D573),\"\",CONCATENATE(C573,#REF!,#REF!))","v":""}]
[null,null,null,null,null,null," ",null,null,{"$f":"IF(ISBLANK(D574),\"\",CONCATENATE(C574,#REF!,#REF!))","v":""}]
[null,null,null,null,null,null," ",null,null,{"$f":"IF(ISBLANK(D575),\"\",CONCATENATE(C575,#REF!,#REF!))","v":""}]
[null,null,null,null,null,null," ",null,null,{"$f":"IF(ISBLANK(D576),\"\",CONCATENATE(C576,#REF!,#REF!))","v":""}]
[null,null,null,null,null,null," ",null,null,{"$f":"IF(ISBLANK(D577),\"\",CONCATENATE(C577,#REF!,#REF!))","v":""}]
[null,null,null,null,null,null," ",null,null,{"$f":"IF(ISBLANK(D578),\"\",CONCATENATE(C578,#REF!,#REF!))","v":""}]
[null,null,null,null,null,null," ",null,null,{"$f":"IF(ISBLANK(D579),\"\",CONCATENATE(C579,#REF!,#REF!))","v":""}]
[null,null,null,null,null,null," ",null,null,{"$f":"IF(ISBLANK(D580),\"\",CONCATENATE(C580,#REF!,#REF!))","v":""}]
[null,null,null,null,null,null," ",null,null,{"$f":"IF(ISBLANK(D581),\"\",CONCATENATE(C581,#REF!,#REF!))","v":""}]
[null,null,null,null,null,null," ",null,null,{"$f":"IF(ISBLANK(D582),\"\",CONCATENATE(C582,#REF!,#REF!))","v":""}]
[null,null,null,null,null,null," ",null,null,{"$f":"IF(ISBLANK(D583),\"\",CONCATENATE(C583,#REF!,#REF!))","v":""}]
[null,null,null,null,null,null," ",null,null,{"$f":"IF(ISBLANK(D584),\"\",CONCATENATE(C584,#REF!,#REF!))","v":""}]
[null,null,null,null,null,null," ",null,null,{"$f":"IF(ISBLANK(D585),\"\",CONCATENATE(C585,#REF!,#REF!))","v":""}]
[null,null,null,null,null,null," ",null,null,{"$f":"IF(ISBLANK(D586),\"\",CONCATENATE(C586,#REF!,#REF!))","v":""}]
[null,null,null,null,null,null," ",null,null,{"$f":"IF(ISBLANK(D587),\"\",CONCATENATE(C587,#REF!,#REF!))","v":""}]
[null,null,null,null,null,null," ",null,null,{"$f":"IF(ISBLANK(D588),\"\",CONCATENATE(C588,#REF!,#REF!))","v":""}]
[null,null,null,null,null,null," ",null,null,{"$f":"IF(ISBLANK(D589),\"\",CONCATENATE(C589,#REF!,#REF!))","v":""}]
[null,null,null,null,null,null," ",null,null,{"$f":"IF(ISBLANK(D590),\"\",CONCATENATE(C590,#REF!,#REF!))","v":""}]
[null,null,null,null,null,null," ",null,null,{"$f":"IF(ISBLANK(D591),\"\",CONCATENATE(C591,#REF!,#REF!))","v":""}]
[null,null,null,null,null,null," ",null,null,{"$f":"IF(ISBLANK(D592),\"\",CONCATENATE(C592,#REF!,#REF!))","v":""}]
[null,null,null,null,null,null," ",null,null,{"$f":"IF(ISBLANK(D593),\"\",CONCATENATE(C593,#REF!,#REF!))","v":""}]
[null,null,null,null,null,null," ",null,null,{"$f":"IF(ISBLANK(D594),\"\",CONCATENATE(C594,#REF!,#REF!))","v":""}]
[null,null,null,null,null,null," ",null,null,{"$f":"IF(ISBLANK(D595),\"\",CONCATENATE(C595,#REF!,#REF!))","v":""}]
[null,null,null,null,null,null," ",null,null,{"$f":"IF(ISBLANK(D596),\"\",CONCATENATE(C596,#REF!,#REF!))","v":""}]
[null,null,null,null,null,null," ",null,null,{"$f":"IF(ISBLANK(D597),\"\",CONCATENATE(C597,#REF!,#REF!))","v":""}]
[null,null,null,null,null,null," ",null,null,{"$f":"IF(ISBLANK(D598),\"\",CONCATENATE(C598,#REF!,#REF!))","v":""}]
[null,null,null,null,null,null," ",null,null,{"$f":"IF(ISBLANK(D599),\"\",CONCATENATE(C599,#REF!,#REF!))","v":""}]
[null,null,null,null,null,null," ",null,null,{"$f":"IF(ISBLANK(D600),\"\",CONCATENATE(C600,#REF!,#REF!))","v":""}]
[null,null,null,null,null,null," ",null,null,{"$f":"IF(ISBLANK(D601),\"\",CONCATENATE(C601,#REF!,#REF!))","v":""}]
[null,null,null,null,null,null," ",null,null,{"$f":"IF(ISBLANK(D602),\"\",CONCATENATE(C602,#REF!,#REF!))","v":""}]
[null,null,null,null,null,null," ",null,null,{"$f":"IF(ISBLANK(D603),\"\",CONCATENATE(C603,#REF!,#REF!))","v":""}]
[null,null,null,null,null,null," ",null,null,{"$f":"IF(ISBLANK(D604),\"\",CONCATENATE(C604,#REF!,#REF!))","v":""}]
[null,null,null,null,null,null," ",null,null,{"$f":"IF(ISBLANK(D605),\"\",CONCATENATE(C605,#REF!,#REF!))","v":""}]
[null,null,null,null,null,null," ",null,null,{"$f":"IF(ISBLANK(D606),\"\",CONCATENATE(C606,#REF!,#REF!))","v":""}]
[null,null,null,null,null,null," ",null,null,{"$f":"IF(ISBLANK(D607),\"\",CONCATENATE(C607,#REF!,#REF!))","v":""}]
[null,null,null,null,null,null," ",null,null,{"$f":"IF(ISBLANK(D608),\"\",CONCATENATE(C608,#REF!,#REF!))","v":""}]
[null,null,null,null,null,null," ",null,null,{"$f":"IF(ISBLANK(D609),\"\",CONCATENATE(C609,#REF!,#REF!))","v":""}]
[null,null,null,null,null,null," ",null,null,{"$f":"IF(ISBLANK(D610),\"\",CONCATENATE(C610,#REF!,#REF!))","v":""}]
[null,null,null,null,null,null," ",null,null,{"$f":"IF(ISBLANK(D611),\"\",CONCATENATE(C611,#REF!,#REF!))","v":""}]
[null,null,null,null,null,null," ",null,null,{"$f":"IF(ISBLANK(D612),\"\",CONCATENATE(C612,#REF!,#REF!))","v":""}]
[null,null,null,null,null,null," ",null,null,{"$f":"IF(ISBLANK(D613),\"\",CONCATENATE(C613,#REF!,#REF!))","v":""}]
[null,null,null,null,null,null," ",null,null,{"$f":"IF(ISBLANK(D614),\"\",CONCATENATE(C614,#REF!,#REF!))","v":""}]
[null,null,null,null,null,null," ",null,null,{"$f":"IF(ISBLANK(D615),\"\",CONCATENATE(C615,#REF!,#REF!))","v":""}]
[null,null,null,null,null,null," ",null,null,{"$f":"IF(ISBLANK(D616),\"\",CONCATENATE(C616,#REF!,#REF!))","v":""}]
[null,null,null,null,null,null," ",null,null,{"$f":"IF(ISBLANK(D617),\"\",CONCATENATE(C617,#REF!,#REF!))","v":""}]
[null,null,null,null,null,null," ",null,null,{"$f":"IF(ISBLANK(D618),\"\",CONCATENATE(C618,#REF!,#REF!))","v":""}]
[null,null,null,null,null,null," ",null,null,{"$f":"IF(ISBLANK(D619),\"\",CONCATENATE(C619,#REF!,#REF!))","v":""}]
[null,null,null,null,null,null," ",null,null,{"$f":"IF(ISBLANK(D620),\"\",CONCATENATE(C620,#REF!,#REF!))","v":""}]
[null,null,null,null,null,null," ",null,null,{"$f":"IF(ISBLANK(D621),\"\",CONCATENATE(C621,#REF!,#REF!))","v":""}]
[null,null,null,null,null,null," ",null,null,{"$f":"IF(ISBLANK(D622),\"\",CONCATENATE(C622,#REF!,#REF!))","v":""}]
[null,null,null,null,null,null," ",null,null,{"$f":"IF(ISBLANK(D623),\"\",CONCATENATE(C623,#REF!,#REF!))","v":""}]
[null,null,null,null,null,null," ",null,null,{"$f":"IF(ISBLANK(D624),\"\",CONCATENATE(C624,#REF!,#REF!))","v":""}]
[null,null,null,null,null,null," ",null,null,{"$f":"IF(ISBLANK(D625),\"\",CONCATENATE(C625,#REF!,#REF!))","v":""}]
[null,null,null,null,null,null," ",null,null,{"$f":"IF(ISBLANK(D626),\"\",CONCATENATE(C626,#REF!,#REF!))","v":""}]
[null,null,null,null,null,null," ",null,null,{"$f":"IF(ISBLANK(D627),\"\",CONCATENATE(C627,#REF!,#REF!))","v":""}]
[null,null,null,null,null,null," ",null,null,{"$f":"IF(ISBLANK(D628),\"\",CONCATENATE(C628,#REF!,#REF!))","v":""}]
[null,null,null,null,null,null," ",null,null,{"$f":"IF(ISBLANK(D629),\"\",CONCATENATE(C629,#REF!,#REF!))","v":""}]
[null,null,null,null,null,null," ",null,null,{"$f":"IF(ISBLANK(D630),\"\",CONCATENATE(C630,#REF!,#REF!))","v":""}]
[null,null,null,null,null,null," ",null,null,{"$f":"IF(ISBLANK(D631),\"\",CONCATENATE(C631,#REF!,#REF!))","v":""}]
[null,null,null,null,null,null," ",null,null,{"$f":"IF(ISBLANK(D632),\"\",CONCATENATE(C632,#REF!,#REF!))","v":""}]
[null,null,null,null,null,null," ",null,null,{"$f":"IF(ISBLANK(D633),\"\",CONCATENATE(C633,#REF!,#REF!))","v":""}]
[null,null,null,null,null,null," ",null,null,{"$f":"IF(ISBLANK(D634),\"\",CONCATENATE(C634,#REF!,#REF!))","v":""}]
[null,null,null,null,null,null," ",null,null,{"$f":"IF(ISBLANK(D635),\"\",CONCATENATE(C635,#REF!,#REF!))","v":""}]
[null,null,null,null,null,null," ",null,null,{"$f":"IF(ISBLANK(D636),\"\",CONCATENATE(C636,#REF!,#REF!))","v":""}]
[null,null,null,null,null,null," ",null,null,{"$f":"IF(ISBLANK(D637),\"\",CONCATENATE(C637,#REF!,#REF!))","v":""}]
[null,null,null,null,null,null," ",null,null,{"$f":"IF(ISBLANK(D638),\"\",CONCATENATE(C638,#REF!,#REF!))","v":""}]
[null,null,null,null,null,null," ",null,null,{"$f":"IF(ISBLANK(D639),\"\",CONCATENATE(C639,#REF!,#REF!))","v":""}]
[null,null,null,null,null,null," ",null,null,{"$f":"IF(ISBLANK(D640),\"\",CONCATENATE(C640,#REF!,#REF!))","v":""}]
[null,null,null,null,null,null," ",null,null,{"$f":"IF(ISBLANK(D641),\"\",CONCATENATE(C641,#REF!,#REF!))","v":""}]
[null,null,null,null,null,null," ",null,null,{"$f":"IF(ISBLANK(D642),\"\",CONCATENATE(C642,#REF!,#REF!))","v":""}]
[null,null,null,null,null,null," ",null,null,{"$f":"IF(ISBLANK(D643),\"\",CONCATENATE(C643,#REF!,#REF!))","v":""}]
[null,null,null,null,null,null," ",null,null,{"$f":"IF(ISBLANK(D644),\"\",CONCATENATE(C644,#REF!,#REF!))","v":""}]
[null,null,null,null,null,null," ",null,null,{"$f":"IF(ISBLANK(D645),\"\",CONCATENATE(C645,#REF!,#REF!))","v":""}]
[null,null,null,null,null,null," ",null,null,{"$f":"IF(ISBLANK(D646),\"\",CONCATENATE(C646,#REF!,#REF!))","v":""}]
[null,null,null,null,null,null," ",null,null,{"$f":"IF(ISBLANK(D647),\"\",CONCATENATE(C647,#REF!,#REF!))","v":""}]
[null,null,null,null,null,null," ",null,null,{"$f":"IF(ISBLANK(D648),\"\",CONCATENATE(C648,#REF!,#REF!))","v":""}]
[null,null,null,null,null,null," ",null,null,{"$f":"IF(ISBLANK(D649),\"\",CONCATENATE(C649,#REF!,#REF!))","v":""}]
[null,null,null,null,null,null," ",null,null,{"$f":"IF(ISBLANK(D650),\"\",CONCATENATE(C650,#REF!,#REF!))","v":""}]
[null,null,null,null,null,null," ",null,null,{"$f":"IF(ISBLANK(D651),\"\",CONCATENATE(C651,#REF!,#REF!))","v":""}]
[null,null,null,null,null,null," ",null,null,{"$f":"IF(ISBLANK(D652),\"\",CONCATENATE(C652,#REF!,#REF!))","v":""}]
[null,null,null,null,null,null," ",null,null,{"$f":"IF(ISBLANK(D653),\"\",CONCATENATE(C653,#REF!,#REF!))","v":""}]
[null,null,null,null,null,null," ",null,null,{"$f":"IF(ISBLANK(D654),\"\",CONCATENATE(C654,#REF!,#REF!))","v":""}]
[null,null,null,null,null,null," ",null,null,{"$f":"IF(ISBLANK(D655),\"\",CONCATENATE(C655,#REF!,#REF!))","v":""}]
[null,null,null,null,null,null," ",null,null,{"$f":"IF(ISBLANK(D656),\"\",CONCATENATE(C656,#REF!,#REF!))","v":""}]
[null,null,null,null,null,null," ",null,null,{"$f":"IF(ISBLANK(D657),\"\",CONCATENATE(C657,#REF!,#REF!))","v":""}]
[null,null,null,null,null,null," ",null,null,{"$f":"IF(ISBLANK(D658),\"\",CONCATENATE(C658,#REF!,#REF!))","v":""}]
[null,null,null,null,null,null," ",null,null,{"$f":"IF(ISBLANK(D659),\"\",CONCATENATE(C659,#REF!,#REF!))","v":""}]
[null,null,null,null,null,null," ",null,null,{"$f":"IF(ISBLANK(D660),\"\",CONCATENATE(C660,#REF!,#REF!))","v":""}]
[null,null,null,null,null,null," ",null,null,{"$f":"IF(ISBLANK(D661),\"\",CONCATENATE(C661,#REF!,#REF!))","v":""}]
[null,null,null,null,null,null," ",null,null,{"$f":"IF(ISBLANK(D662),\"\",CONCATENATE(C662,#REF!,#REF!))","v":""}]
[null,null,null,null,null,null," ",null,null,{"$f":"IF(ISBLANK(D663),\"\",CONCATENATE(C663,#REF!,#REF!))","v":""}]
[null,null,null,null,null,null," ",null,null,{"$f":"IF(ISBLANK(D664),\"\",CONCATENATE(C664,#REF!,#REF!))","v":""}]
[null,null,null,null,null,null," ",null,null,{"$f":"IF(ISBLANK(D665),\"\",CONCATENATE(C665,#REF!,#REF!))","v":""}]
[null,null,null,null,null,null," ",null,null,{"$f":"IF(ISBLANK(D666),\"\",CONCATENATE(C666,#REF!,#REF!))","v":""}]
[null,null,null,null,null,null," ",null,null,{"$f":"IF(ISBLANK(D667),\"\",CONCATENATE(C667,#REF!,#REF!))","v":""}]
[null,null,null,null,null,null," ",null,null,{"$f":"IF(ISBLANK(D668),\"\",CONCATENATE(C668,#REF!,#REF!))","v":""}]
[null,null,null,null,null,null," ",null,null,{"$f":"IF(ISBLANK(D669),\"\",CONCATENATE(C669,#REF!,#REF!))","v":""}]
[null,null,null,null,null,null," ",null,null,{"$f":"IF(ISBLANK(D670),\"\",CONCATENATE(C670,#REF!,#REF!))","v":""}]
[null,null,null,null,null,null," ",null,null,{"$f":"IF(ISBLANK(D671),\"\",CONCATENATE(C671,#REF!,#REF!))","v":""}]
[null,null,null,null,null,null," ",null,null,{"$f":"IF(ISBLANK(D672),\"\",CONCATENATE(C672,#REF!,#REF!))","v":""}]
[null,null,null,null,null,null," ",null,null,{"$f":"IF(ISBLANK(D673),\"\",CONCATENATE(C673,#REF!,#REF!))","v":""}]
[null,null,null,null,null,null," ",null,null,{"$f":"IF(ISBLANK(D674),\"\",CONCATENATE(C674,#REF!,#REF!))","v":""}]
[null,null,null,null,null,null," ",null,null,{"$f":"IF(ISBLANK(D675),\"\",CONCATENATE(C675,#REF!,#REF!))","v":""}]
[null,null,null,null,null,null," ",null,null,{"$f":"IF(ISBLANK(D676),\"\",CONCATENATE(C676,#REF!,#REF!))","v":""}]
[null,null,null,null,null,null," ",null,null,{"$f":"IF(ISBLANK(D677),\"\",CONCATENATE(C677,#REF!,#REF!))","v":""}]
[null,null,null,null,null,null," ",null,null,{"$f":"IF(ISBLANK(D678),\"\",CONCATENATE(C678,#REF!,#REF!))","v":""}]
[null,null,null,null,null,null," ",null,null,{"$f":"IF(ISBLANK(D679),\"\",CONCATENATE(C679,#REF!,#REF!))","v":""}]
[null,null,null,null,null,null," ",null,null,{"$f":"IF(ISBLANK(D680),\"\",CONCATENATE(C680,#REF!,#REF!))","v":""}]
[null,null,null,null,null,null," ",null,null,{"$f":"IF(ISBLANK(D681),\"\",CONCATENATE(C681,#REF!,#REF!))","v":""}]
[null,null,null,null,null,null," ",null,null,{"$f":"IF(ISBLANK(D682),\"\",CONCATENATE(C682,#REF!,#REF!))","v":""}]
[null,null,null,null,null,null," ",null,null,{"$f":"IF(ISBLANK(D683),\"\",CONCATENATE(C683,#REF!,#REF!))","v":""}]
[null,null,null,null,null,null," ",null,null,{"$f":"IF(ISBLANK(D684),\"\",CONCATENATE(C684,#REF!,#REF!))","v":""}]
[null,null,null,null,null,null," ",null,null,{"$f":"IF(ISBLANK(D685),\"\",CONCATENATE(C685,#REF!,#REF!))","v":""}]
[null,null,null,null,null,null," ",null,null,{"$f":"IF(ISBLANK(D686),\"\",CONCATENATE(C686,#REF!,#REF!))","v":""}]
[null,null,null,null,null,null," ",null,null,{"$f":"IF(ISBLANK(D687),\"\",CONCATENATE(C687,#REF!,#REF!))","v":""}]
[null,null,null,null,null,null," ",null,null,{"$f":"IF(ISBLANK(D688),\"\",CONCATENATE(C688,#REF!,#REF!))","v":""}]
[null,null,null,null,null,null," ",null,null,{"$f":"IF(ISBLANK(D689),\"\",CONCATENATE(C689,#REF!,#REF!))","v":""}]
[null,null,null,null,null,null," ",null,null,{"$f":"IF(ISBLANK(D690),\"\",CONCATENATE(C690,#REF!,#REF!))","v":""}]
[null,null,null,null,null,null," ",null,null,{"$f":"IF(ISBLANK(D691),\"\",CONCATENATE(C691,#REF!,#REF!))","v":""}]
[null,null,null,null,null,null," ",null,null,{"$f":"IF(ISBLANK(D692),\"\",CONCATENATE(C692,#REF!,#REF!))","v":""}]
[null,null,null,null,null,null," ",null,null,{"$f":"IF(ISBLANK(D693),\"\",CONCATENATE(C693,#REF!,#REF!))","v":""}]
[null,null,null,null,null,null," ",null,null,{"$f":"IF(ISBLANK(D694),\"\",CONCATENATE(C694,#REF!,#REF!))","v":""}]
[null,null,null,null,null,null," ",null,null,{"$f":"IF(ISBLANK(D695),\"\",CONCATENATE(C695,#REF!,#REF!))","v":""}]
[null,null,null,null,null,null," ",null,null,{"$f":"IF(ISBLANK(D696),\"\",CONCATENATE(C696,#REF!,#REF!))","v":""}]
[null,null,null,null,null,null," ",null,null,{"$f":"IF(ISBLANK(D697),\"\",CONCATENATE(C697,#REF!,#REF!))","v":""}]
[null,null,null,null,null,null," ",null,null,{"$f":"IF(ISBLANK(D698),\"\",CONCATENATE(C698,#REF!,#REF!))","v":""}]
[null,null,null,null,null,null," ",null,null,{"$f":"IF(ISBLANK(D699),\"\",CONCATENATE(C699,#REF!,#REF!))","v":""}]
[null,null,null,null,null,null," ",null,null,{"$f":"IF(ISBLANK(D700),\"\",CONCATENATE(C700,#REF!,#REF!))","v":""}]
[null,null,null,null,null,null," ",null,null,{"$f":"IF(ISBLANK(D701),\"\",CONCATENATE(C701,#REF!,#REF!))","v":""}]
[null,null,null,null,null,null," ",null,null,{"$f":"IF(ISBLANK(D702),\"\",CONCATENATE(C702,#REF!,#REF!))","v":""}]
[null,null,null,null,null,null," ",null,null,{"$f":"IF(ISBLANK(D703),\"\",CONCATENATE(C703,#REF!,#REF!))","v":""}]
[null,null,null,null,null,null," ",null,null,{"$f":"IF(ISBLANK(D704),\"\",CONCATENATE(C704,#REF!,#REF!))","v":""}]
[null,null,null,null,null,null," ",null,null,{"$f":"IF(ISBLANK(D705),\"\",CONCATENATE(C705,#REF!,#REF!))","v":""}]
[null,null,null,null,null,null," ",null,null,{"$f":"IF(ISBLANK(D706),\"\",CONCATENATE(C706,#REF!,#REF!))","v":""}]
[null,null,null,null,null,null," ",null,null,{"$f":"IF(ISBLANK(D707),\"\",CONCATENATE(C707,#REF!,#REF!))","v":""}]
[null,null,null,null,null,null," ",null,null,{"$f":"IF(ISBLANK(D708),\"\",CONCATENATE(C708,#REF!,#REF!))","v":""}]
[null,null,null,null,null,null," ",null,null,{"$f":"IF(ISBLANK(D709),\"\",CONCATENATE(C709,#REF!,#REF!))","v":""}]
[null,null,null,null,null,null," ",null,null,{"$f":"IF(ISBLANK(D710),\"\",CONCATENATE(C710,#REF!,#REF!))","v":""}]
[null,null,null,null,null,null," ",null,null,{"$f":"IF(ISBLANK(D711),\"\",CONCATENATE(C711,#REF!,#REF!))","v":""}]
[null,null,null,null,null,null," ",null,null,{"$f":"IF(ISBLANK(D712),\"\",CONCATENATE(C712,#REF!,#REF!))","v":""}]
[null,null,null,null,null,null," ",null,null,{"$f":"IF(ISBLANK(D713),\"\",CONCATENATE(C713,#REF!,#REF!))","v":""}]
[null,null,null,null,null,null," ",null,null,{"$f":"IF(ISBLANK(D714),\"\",CONCATENATE(C714,#REF!,#REF!))","v":""}]
[null,null,null,null,null,null," ",null,null,{"$f":"IF(ISBLANK(D715),\"\",CONCATENATE(C715,#REF!,#REF!))","v":""}]
[null,null,null,null,null,null," ",null,null,{"$f":"IF(ISBLANK(D716),\"\",CONCATENATE(C716,#REF!,#REF!))","v":""}]
[null,null,null,null,null,null," ",null,null,{"$f":"IF(ISBLANK(D717),\"\",CONCATENATE(C717,#REF!,#REF!))","v":""}]
[null,null,null,null,null,null," ",null,null,{"$f":"IF(ISBLANK(D718),\"\",CONCATENATE(C718,#REF!,#REF!))","v":""}]
[null,null,null,null,null,null," ",null,null,{"$f":"IF(ISBLANK(D719),\"\",CONCATENATE(C719,#REF!,#REF!))","v":""}]
[null,null,null,null,null,null," ",null,null,{"$f":"IF(ISBLANK(D720),\"\",CONCATENATE(C720,#REF!,#REF!))","v":""}]
[null,null,null,null,null,null," ",null,null,{"$f":"IF(ISBLANK(D721),\"\",CONCATENATE(C721,#REF!,#REF!))","v":""}]
[null,null,null,null,null,null," ",null,null,{"$f":"IF(ISBLANK(D722),\"\",CONCATENATE(C722,#REF!,#REF!))","v":""}]
[null,null,null,null,null,null," ",null,null,{"$f":"IF(ISBLANK(D723),\"\",CONCATENATE(C723,#REF!,#REF!))","v":""}]
[null,null,null,null,null,null," ",null,null,{"$f":"IF(ISBLANK(D724),\"\",CONCATENATE(C724,#REF!,#REF!))","v":""}]
[null,null,null,null,null,null," ",null,null,{"$f":"IF(ISBLANK(D725),\"\",CONCATENATE(C725,#REF!,#REF!))","v":""}]
[null,null,null,null,null,null," ",null,null,{"$f":"IF(ISBLANK(D726),\"\",CONCATENATE(C726,#REF!,#REF!))","v":""}]
[null,null,null,null,null,null," ",null,null,{"$f":"IF(ISBLANK(D727),\"\",CONCATENATE(C727,#REF!,#REF!))","v":""}]
[null,null,null,null,null,null," ",null,null,{"$f":"IF(ISBLANK(D728),\"\",CONCATENATE(C728,#REF!,#REF!))","v":""}]
[null,null,null,null,null,null," ",null,null,{"$f":"IF(ISBLANK(D729),\"\",CONCATENATE(C729,#REF!,#REF!))","v":""}]
[null,null,null,null,null,null," ",null,null,{"$f":"IF(ISBLANK(D730),\"\",CONCATENATE(C730,#REF!,#REF!))","v":""}]
[null,null,null,null,null,null," ",null,null,{"$f":"IF(ISBLANK(D731),\"\",CONCATENATE(C731,#REF!,#REF!))","v":""}]
[null,null,null,null,null,null," ",null,null,{"$f":"IF(ISBLANK(D732),\"\",CONCATENATE(C732,#REF!,#REF!))","v":""}]
[null,null,null,null,null,null," ",null,null,{"$f":"IF(ISBLANK(D733),\"\",CONCATENATE(C733,#REF!,#REF!))","v":""}]
[null,null,null,null,null,null," ",null,null,{"$f":"IF(ISBLANK(D734),\"\",CONCATENATE(C734,#REF!,#REF!))","v":""}]
[null,null,null,null,null,null," ",null,null,{"$f":"IF(ISBLANK(D735),\"\",CONCATENATE(C735,#REF!,#REF!))","v":""}]
[null,null,null,null,null,null," ",null,null,{"$f":"IF(ISBLANK(D736),\"\",CONCATENATE(C736,#REF!,#REF!))","v":""}]
[null,null,null,null,null,null," ",null,null,{"$f":"IF(ISBLANK(D737),\"\",CONCATENATE(C737,#REF!,#REF!))","v":""}]
[null,null,null,null,null,null," ",null,null,{"$f":"IF(ISBLANK(D738),\"\",CONCATENATE(C738,#REF!,#REF!))","v":""}]
[null,null,null,null,null,null," ",null,null,{"$f":"IF(ISBLANK(D739),\"\",CONCATENATE(C739,#REF!,#REF!))","v":""}]
[null,null,null,null,null,null," ",null,null,{"$f":"IF(ISBLANK(D740),\"\",CONCATENATE(C740,#REF!,#REF!))","v":""}]
[null,null,null,null,null,null," ",null,null,{"$f":"IF(ISBLANK(D741),\"\",CONCATENATE(C741,#REF!,#REF!))","v":""}]
[null,null,null,null,null,null," ",null,null,{"$f":"IF(ISBLANK(D742),\"\",CONCATENATE(C742,#REF!,#REF!))","v":""}]
[null,null,null,null,null,null," ",null,null,{"$f":"IF(ISBLANK(D743),\"\",CONCATENATE(C743,#REF!,#REF!))","v":""}]
[null,null,null,null,null,null," ",null,null,{"$f":"IF(ISBLANK(D744),\"\",CONCATENATE(C744,#REF!,#REF!))","v":""}]
[null,null,null,null,null,null," ",null,null,{"$f":"IF(ISBLANK(D745),\"\",CONCATENATE(C745,#REF!,#REF!))","v":""}]
[null,null,null,null,null,null," ",null,null,{"$f":"IF(ISBLANK(D746),\"\",CONCATENATE(C746,#REF!,#REF!))","v":""}]
[null,null,null,null,null,null," ",null,null,{"$f":"IF(ISBLANK(D747),\"\",CONCATENATE(C747,#REF!,#REF!))","v":""}]
[null,null,null,null,null,null," ",null,null,{"$f":"IF(ISBLANK(D748),\"\",CONCATENATE(C748,#REF!,#REF!))","v":""}]
[null,null,null,null,null,null," ",null,null,{"$f":"IF(ISBLANK(D749),\"\",CONCATENATE(C749,#REF!,#REF!))","v":""}]
[null,null,null,null,null,null," ",null,null,{"$f":"IF(ISBLANK(D750),\"\",CONCATENATE(C750,#REF!,#REF!))","v":""}]
[null,null,null,null,null,null," ",null,null,{"$f":"IF(ISBLANK(D751),\"\",CONCATENATE(C751,#REF!,#REF!))","v":""}]
[null,null,null,null,null,null," ",null,null,{"$f":"IF(ISBLANK(D752),\"\",CONCATENATE(C752,#REF!,#REF!))","v":""}]
[null,null,null,null,null,null," ",null,null,{"$f":"IF(ISBLANK(D753),\"\",CONCATENATE(C753,#REF!,#REF!))","v":""}]
[null,null,null,null,null,null," ",null,null,{"$f":"IF(ISBLANK(D754),\"\",CONCATENATE(C754,#REF!,#REF!))","v":""}]
[null,null,null,null,null,null," ",null,null,{"$f":"IF(ISBLANK(D755),\"\",CONCATENATE(C755,#REF!,#REF!))","v":""}]
[null,null,null,null,null,null," ",null,null,{"$f":"IF(ISBLANK(D756),\"\",CONCATENATE(C756,#REF!,#REF!))","v":""}]
[null,null,null,null,null,null," ",null,null,{"$f":"IF(ISBLANK(D757),\"\",CONCATENATE(C757,#REF!,#REF!))","v":""}]
[null,null,null,null,null,null," ",null,null,{"$f":"IF(ISBLANK(D758),\"\",CONCATENATE(C758,#REF!,#REF!))","v":""}]
[null,null,null,null,null,null," ",null,null,{"$f":"IF(ISBLANK(D759),\"\",CONCATENATE(C759,#REF!,#REF!))","v":""}]
[null,null,null,null,null,null," ",null,null,{"$f":"IF(ISBLANK(D760),\"\",CONCATENATE(C760,#REF!,#REF!))","v":""}]
[null,null,null,null,null,null," ",null,null,{"$f":"IF(ISBLANK(D761),\"\",CONCATENATE(C761,#REF!,#REF!))","v":""}]
[null,null,null,null,null,null," ",null,null,{"$f":"IF(ISBLANK(D762),\"\",CONCATENATE(C762,#REF!,#REF!))","v":""}]
[null,null,null,null,null,null," ",null,null,{"$f":"IF(ISBLANK(D763),\"\",CONCATENATE(C763,#REF!,#REF!))","v":""}]
[null,null,null,null,null,null," ",null,null,{"$f":"IF(ISBLANK(D764),\"\",CONCATENATE(C764,#REF!,#REF!))","v":""}]
[null,null,null,null,null,null," ",null,null,{"$f":"IF(ISBLANK(D765),\"\",CONCATENATE(C765,#REF!,#REF!))","v":""}]
[null,null,null,null,null,null," ",null,null,{"$f":"IF(ISBLANK(D766),\"\",CONCATENATE(C766,#REF!,#REF!))","v":""}]
[null,null,null,null,null,null," ",null,null,{"$f":"IF(ISBLANK(D767),\"\",CONCATENATE(C767,#REF!,#REF!))","v":""}]
[null,null,null,null,null,null," ",null,null,{"$f":"IF(ISBLANK(D768),\"\",CONCATENATE(C768,#REF!,#REF!))","v":""}]
[null,null,null,null,null,null," ",null,null,{"$f":"IF(ISBLANK(D769),\"\",CONCATENATE(C769,#REF!,#REF!))","v":""}]
[null,null,null,null,null,null," ",null,null,{"$f":"IF(ISBLANK(D770),\"\",CONCATENATE(C770,#REF!,#REF!))","v":""}]
[null,null,null,null,null,null," ",null,null,{"$f":"IF(ISBLANK(D771),\"\",CONCATENATE(C771,#REF!,#REF!))","v":""}]
[null,null,null,null,null,null," ",null,null,{"$f":"IF(ISBLANK(D772),\"\",CONCATENATE(C772,#REF!,#REF!))","v":""}]
[null,null,null,null,null,null," ",null,null,{"$f":"IF(ISBLANK(D773),\"\",CONCATENATE(C773,#REF!,#REF!))","v":""}]
[null,null,null,null,null,null," ",null,null,{"$f":"IF(ISBLANK(D774),\"\",CONCATENATE(C774,#REF!,#REF!))","v":""}]
[null,null,null,null,null,null," ",null,null,{"$f":"IF(ISBLANK(D775),\"\",CONCATENATE(C775,#REF!,#REF!))","v":""}]
[null,null,null,null,null,null," ",null,null,{"$f":"IF(ISBLANK(D776),\"\",CONCATENATE(C776,#REF!,#REF!))","v":""}]
[null,null,null,null,null,null," ",null,null,{"$f":"IF(ISBLANK(D777),\"\",CONCATENATE(C777,#REF!,#REF!))","v":""}]
[null,null,null,null,null,null," ",null,null,{"$f":"IF(ISBLANK(D778),\"\",CONCATENATE(C778,#REF!,#REF!))","v":""}]
[null,null,null,null,null,null," ",null,null,{"$f":"IF(ISBLANK(D779),\"\",CONCATENATE(C779,#REF!,#REF!))","v":""}]
[null,null,null,null,null,null," ",null,null,{"$f":"IF(ISBLANK(D780),\"\",CONCATENATE(C780,#REF!,#REF!))","v":""}]
[null,null,null,null,null,null," ",null,null,{"$f":"IF(ISBLANK(D781),\"\",CONCATENATE(C781,#REF!,#REF!))","v":""}]
[null,null,null,null,null,null," ",null,null,{"$f":"IF(ISBLANK(D782),\"\",CONCATENATE(C782,#REF!,#REF!))","v":""}]
[null,null,null,null,null,null," ",null,null,{"$f":"IF(ISBLANK(D783),\"\",CONCATENATE(C783,#REF!,#REF!))","v":""}]
[null,null,null,null,null,null," ",null,null,{"$f":"IF(ISBLANK(D784),\"\",CONCATENATE(C784,#REF!,#REF!))","v":""}]
[null,null,null,null,null,null," ",null,null,{"$f":"IF(ISBLANK(D785),\"\",CONCATENATE(C785,#REF!,#REF!))","v":""}]
[null,null,null,null,null,null," ",null,null,{"$f":"IF(ISBLANK(D786),\"\",CONCATENATE(C786,#REF!,#REF!))","v":""}]
[null,null,null,null,null,null," ",null,null,{"$f":"IF(ISBLANK(D787),\"\",CONCATENATE(C787,#REF!,#REF!))","v":""}]
[null,null,null,null,null,null," ",null,null,{"$f":"IF(ISBLANK(D788),\"\",CONCATENATE(C788,#REF!,#REF!))","v":""}]
[null,null,null,null,null,null," ",null,null,{"$f":"IF(ISBLANK(D789),\"\",CONCATENATE(C789,#REF!,#REF!))","v":""}]
[null,null,null,null,null,null," ",null,null,{"$f":"IF(ISBLANK(D790),\"\",CONCATENATE(C790,#REF!,#REF!))","v":""}]
[null,null,null,null,null,null," ",null,null,{"$f":"IF(ISBLANK(D791),\"\",CONCATENATE(C791,#REF!,#REF!))","v":""}]
[null,null,null,null,null,null," ",null,null,{"$f":"IF(ISBLANK(D792),\"\",CONCATENATE(C792,#REF!,#REF!))","v":""}]
[null,null,null,null,null,null," ",null,null,{"$f":"IF(ISBLANK(D793),\"\",CONCATENATE(C793,#REF!,#REF!))","v":""}]
[null,null,null,null,null,null," ",null,null,{"$f":"IF(ISBLANK(D794),\"\",CONCATENATE(C794,#REF!,#REF!))","v":""}]
[null,null,null,null,null,null," ",null,null,{"$f":"IF(ISBLANK(D795),\"\",CONCATENATE(C795,#REF!,#REF!))","v":""}]
[null,null,null,null,null,null," ",null,null,{"$f":"IF(ISBLANK(D796),\"\",CONCATENATE(C796,#REF!,#REF!))","v":""}]
[null,null,null,null,null,null," ",null,null,{"$f":"IF(ISBLANK(D797),\"\",CONCATENATE(C797,#REF!,#REF!))","v":""}]
[null,null,null,null,null,null," ",null,null,{"$f":"IF(ISBLANK(D798),\"\",CONCATENATE(C798,#REF!,#REF!))","v":""}]
[null,null,null,null,null,null," ",null,null,{"$f":"IF(ISBLANK(D799),\"\",CONCATENATE(C799,#REF!,#REF!))","v":""}]
[null,null,null,null,null,null," ",null,null,{"$f":"IF(ISBLANK(D800),\"\",CONCATENATE(C800,#REF!,#REF!))","v":""}]
[null,null,null,null,null,null," ",null,null,{"$f":"IF(ISBLANK(D801),\"\",CONCATENATE(C801,#REF!,#REF!))","v":""}]
[null,null,null,null,null,null," ",null,null,{"$f":"IF(ISBLANK(D802),\"\",CONCATENATE(C802,#REF!,#REF!))","v":""}]
[null,null,null,null,null,null," ",null,null,{"$f":"IF(ISBLANK(D803),\"\",CONCATENATE(C803,#REF!,#REF!))","v":""}]
[null,null,null,null,null,null," ",null,null,{"$f":"IF(ISBLANK(D804),\"\",CONCATENATE(C804,#REF!,#REF!))","v":""}]
[null,null,null,null,null,null," ",null,null,{"$f":"IF(ISBLANK(D805),\"\",CONCATENATE(C805,#REF!,#REF!))","v":""}]
[null,null,null,null,null,null," ",null,null,{"$f":"IF(ISBLANK(D806),\"\",CONCATENATE(C806,#REF!,#REF!))","v":""}]
[null,null,null,null,null,null," ",null,null,{"$f":"IF(ISBLANK(D807),\"\",CONCATENATE(C807,#REF!,#REF!))","v":""}]
[null,null,null,null,null,null," ",null,null,{"$f":"IF(ISBLANK(D808),\"\",CONCATENATE(C808,#REF!,#REF!))","v":""}]
[null,null,null,null,null,null," ",null,null,{"$f":"IF(ISBLANK(D809),\"\",CONCATENATE(C809,#REF!,#REF!))","v":""}]
[null,null,null,null,null,null," ",null,null,{"$f":"IF(ISBLANK(D810),\"\",CONCATENATE(C810,#REF!,#REF!))","v":""}]
[null,null,null,null,null,null," ",null,null,{"$f":"IF(ISBLANK(D811),\"\",CONCATENATE(C811,#REF!,#REF!))","v":""}]
[null,null,null,null,null,null," ",null,null,{"$f":"IF(ISBLANK(D812),\"\",CONCATENATE(C812,#REF!,#REF!))","v":""}]
[null,null,null,null,null,null," ",null,null,{"$f":"IF(ISBLANK(D813),\"\",CONCATENATE(C813,#REF!,#REF!))","v":""}]
[null,null,null,null,null,null," ",null,null,{"$f":"IF(ISBLANK(D814),\"\",CONCATENATE(C814,#REF!,#REF!))","v":""}]
[null,null,null,null,null,null," ",null,null,{"$f":"IF(ISBLANK(D815),\"\",CONCATENATE(C815,#REF!,#REF!))","v":""}]
[null,null,null,null,null,null," ",null,null,{"$f":"IF(ISBLANK(D816),\"\",CONCATENATE(C816,#REF!,#REF!))","v":""}]
[null,null,null,null,null,null," ",null,null,{"$f":"IF(ISBLANK(D817),\"\",CONCATENATE(C817,#REF!,#REF!))","v":""}]
[null,null,null,null,null,null," ",null,null,{"$f":"IF(ISBLANK(D818),\"\",CONCATENATE(C818,#REF!,#REF!))","v":""}]
[null,null,null,null,null,null," ",null,null,{"$f":"IF(ISBLANK(D819),\"\",CONCATENATE(C819,#REF!,#REF!))","v":""}]
[null,null,null,null,null,null," ",null,null,{"$f":"IF(ISBLANK(D820),\"\",CONCATENATE(C820,#REF!,#REF!))","v":""}]
[null,null,null,null,null,null," ",null,null,{"$f":"IF(ISBLANK(D821),\"\",CONCATENATE(C821,#REF!,#REF!))","v":""}]
[null,null,null,null,null,null," ",null,null,{"$f":"IF(ISBLANK(D822),\"\",CONCATENATE(C822,#REF!,#REF!))","v":""}]
[null,null,null,null,null,null," ",null,null,{"$f":"IF(ISBLANK(D823),\"\",CONCATENATE(C823,#REF!,#REF!))","v":""}]
[null,null,null,null,null,null," ",null,null,{"$f":"IF(ISBLANK(D824),\"\",CONCATENATE(C824,#REF!,#REF!))","v":""}]
[null,null,null,null,null,null," ",null,null,{"$f":"IF(ISBLANK(D825),\"\",CONCATENATE(C825,#REF!,#REF!))","v":""}]
[null,null,null,null,null,null," ",null,null,{"$f":"IF(ISBLANK(D826),\"\",CONCATENATE(C826,#REF!,#REF!))","v":""}]
[null,null,null,null,null,null," ",null,null,{"$f":"IF(ISBLANK(D827),\"\",CONCATENATE(C827,#REF!,#REF!))","v":""}]
[null,null,null,null,null,null," ",null,null,{"$f":"IF(ISBLANK(D828),\"\",CONCATENATE(C828,#REF!,#REF!))","v":""}]
[null,null,null,null,null,null," ",null,null,{"$f":"IF(ISBLANK(D829),\"\",CONCATENATE(C829,#REF!,#REF!))","v":""}]
[null,null,null,null,null,null," ",null,null,{"$f":"IF(ISBLANK(D830),\"\",CONCATENATE(C830,#REF!,#REF!))","v":""}]
[null,null,null,null,null,null," ",null,null,{"$f":"IF(ISBLANK(D831),\"\",CONCATENATE(C831,#REF!,#REF!))","v":""}]
[null,null,null,null,null,null," ",null,null,{"$f":"IF(ISBLANK(D832),\"\",CONCATENATE(C832,#REF!,#REF!))","v":""}]
[null,null,null,null,null,null," ",null,null,{"$f":"IF(ISBLANK(D833),\"\",CONCATENATE(C833,#REF!,#REF!))","v":""}]
[null,null,null,null,null,null," ",null,null,{"$f":"IF(ISBLANK(D834),\"\",CONCATENATE(C834,#REF!,#REF!))","v":""}]
[null,null,null,null,null,null," ",null,null,{"$f":"IF(ISBLANK(D835),\"\",CONCATENATE(C835,#REF!,#REF!))","v":""}]
[null,null,null,null,null,null," ",null,null,{"$f":"IF(ISBLANK(D836),\"\",CONCATENATE(C836,#REF!,#REF!))","v":""}]
[null,null,null,null,null,null," ",null,null,{"$f":"IF(ISBLANK(D837),\"\",CONCATENATE(C837,#REF!,#REF!))","v":""}]
[null,null,null,null,null,null," ",null,null,{"$f":"IF(ISBLANK(D838),\"\",CONCATENATE(C838,#REF!,#REF!))","v":""}]
[null,null,null,null,null,null," ",null,null,{"$f":"IF(ISBLANK(D839),\"\",CONCATENATE(C839,#REF!,#REF!))","v":""}]
[null,null,null,null,null,null," ",null,null,{"$f":"IF(ISBLANK(D840),\"\",CONCATENATE(C840,#REF!,#REF!))","v":""}]
[null,null,null,null,null,null," ",null,null,{"$f":"IF(ISBLANK(D841),\"\",CONCATENATE(C841,#REF!,#REF!))","v":""}]
[null,null,null,null,null,null," ",null,null,{"$f":"IF(ISBLANK(D842),\"\",CONCATENATE(C842,#REF!,#REF!))","v":""}]
[null,null,null,null,null,null," ",null,null,{"$f":"IF(ISBLANK(D843),\"\",CONCATENATE(C843,#REF!,#REF!))","v":""}]
[null,null,null,null,null,null," ",null,null,{"$f":"IF(ISBLANK(D844),\"\",CONCATENATE(C844,#REF!,#REF!))","v":""}]
[null,null,null,null,null,null," ",null,null,{"$f":"IF(ISBLANK(D845),\"\",CONCATENATE(C845,#REF!,#REF!))","v":""}]
[null,null,null,null,null,null," ",null,null,{"$f":"IF(ISBLANK(D846),\"\",CONCATENATE(C846,#REF!,#REF!))","v":""}]
[null,null,null,null,null,null," ",null,null,{"$f":"IF(ISBLANK(D847),\"\",CONCATENATE(C847,#REF!,#REF!))","v":""}]
[null,null,null,null,null,null," ",null,null,{"$f":"IF(ISBLANK(D848),\"\",CONCATENATE(C848,#REF!,#REF!))","v":""}]
[null,null,null,null,null,null," ",null,null,{"$f":"IF(ISBLANK(D849),\"\",CONCATENATE(C849,#REF!,#REF!))","v":""}]
[null,null,null,null,null,null," ",null,null,{"$f":"IF(ISBLANK(D850),\"\",CONCATENATE(C850,#REF!,#REF!))","v":""}]
[null,null,null,null,null,null," ",null,null,{"$f":"IF(ISBLANK(D851),\"\",CONCATENATE(C851,#REF!,#REF!))","v":""}]
[null,null,null,null,null,null," ",null,null,{"$f":"IF(ISBLANK(D852),\"\",CONCATENATE(C852,#REF!,#REF!))","v":""}]
[null,null,null,null,null,null," ",null,null,{"$f":"IF(ISBLANK(D853),\"\",CONCATENATE(C853,#REF!,#REF!))","v":""}]
[null,null,null,null,null,null," ",null,null,{"$f":"IF(ISBLANK(D854),\"\",CONCATENATE(C854,#REF!,#REF!))","v":""}]
[null,null,null,null,null,null," ",null,null,{"$f":"IF(ISBLANK(D855),\"\",CONCATENATE(C855,#REF!,#REF!))","v":""}]
[null,null,null,null,null,null," ",null,null,{"$f":"IF(ISBLANK(D856),\"\",CONCATENATE(C856,#REF!,#REF!))","v":""}]
[null,null,null,null,null,null," ",null,null,{"$f":"IF(ISBLANK(D857),\"\",CONCATENATE(C857,#REF!,#REF!))","v":""}]
[null,null,null,null,null,null," ",null,null,{"$f":"IF(ISBLANK(D858),\"\",CONCATENATE(C858,#REF!,#REF!))","v":""}]
[null,null,null,null,null,null," ",null,null,{"$f":"IF(ISBLANK(D859),\"\",CONCATENATE(C859,#REF!,#REF!))","v":""}]
[null,null,null,null,null,null," ",null,null,{"$f":"IF(ISBLANK(D860),\"\",CONCATENATE(C860,#REF!,#REF!))","v":""}]
[null,null,null,null,null,null," ",null,null,{"$f":"IF(ISBLANK(D861),\"\",CONCATENATE(C861,#REF!,#REF!))","v":""}]
[null,null,null,null,null,null," ",null,null,{"$f":"IF(ISBLANK(D862),\"\",CONCATENATE(C862,#REF!,#REF!))","v":""}]
[null,null,null,null,null,null," ",null,null,{"$f":"IF(ISBLANK(D863),\"\",CONCATENATE(C863,#REF!,#REF!))","v":""}]
[null,null,null,null,null,null," ",null,null,{"$f":"IF(ISBLANK(D864),\"\",CONCATENATE(C864,#REF!,#REF!))","v":""}]
[null,null,null,null,null,null," ",null,null,{"$f":"IF(ISBLANK(D865),\"\",CONCATENATE(C865,#REF!,#REF!))","v":""}]
[null,null,null,null,null,null," ",null,null,{"$f":"IF(ISBLANK(D866),\"\",CONCATENATE(C866,#REF!,#REF!))","v":""}]
[null,null,null,null,null,null," ",null,null,{"$f":"IF(ISBLANK(D867),\"\",CONCATENATE(C867,#REF!,#REF!))","v":""}]
[null,null,null,null,null,null," ",null,null,{"$f":"IF(ISBLANK(D868),\"\",CONCATENATE(C868,#REF!,#REF!))","v":""}]
[null,null,null,null,null,null," ",null,null,{"$f":"IF(ISBLANK(D869),\"\",CONCATENATE(C869,#REF!,#REF!))","v":""}]
[null,null,null,null,null,null," ",null,null,{"$f":"IF(ISBLANK(D870),\"\",CONCATENATE(C870,#REF!,#REF!))","v":""}]
[null,null,null,null,null,null," ",null,null,{"$f":"IF(ISBLANK(D871),\"\",CONCATENATE(C871,#REF!,#REF!))","v":""}]
[null,null,null,null,null,null," ",null,null,{"$f":"IF(ISBLANK(D872),\"\",CONCATENATE(C872,#REF!,#REF!))","v":""}]
[null,null,null,null,null,null," ",null,null,{"$f":"IF(ISBLANK(D873),\"\",CONCATENATE(C873,#REF!,#REF!))","v":""}]
[null,null,null,null,null,null," ",null,null,{"$f":"IF(ISBLANK(D874),\"\",CONCATENATE(C874,#REF!,#REF!))","v":""}]
[null,null,null,null,null,null," ",null,null,{"$f":"IF(ISBLANK(D875),\"\",CONCATENATE(C875,#REF!,#REF!))","v":""}]
[null,null,null,null,null,null," ",null,null,{"$f":"IF(ISBLANK(D876),\"\",CONCATENATE(C876,#REF!,#REF!))","v":""}]
[null,null,null,null,null,null," ",null,null,{"$f":"IF(ISBLANK(D877),\"\",CONCATENATE(C877,#REF!,#REF!))","v":""}]
[null,null,null,null,null,null," ",null,null,{"$f":"IF(ISBLANK(D878),\"\",CONCATENATE(C878,#REF!,#REF!))","v":""}]
[null,null,null,null,null,null," ",null,null,{"$f":"IF(ISBLANK(D879),\"\",CONCATENATE(C879,#REF!,#REF!))","v":""}]
[null,null,null,null,null,null," ",null,null,{"$f":"IF(ISBLANK(D880),\"\",CONCATENATE(C880,#REF!,#REF!))","v":""}]
[null,null,null,null,null,null," ",null,null,{"$f":"IF(ISBLANK(D881),\"\",CONCATENATE(C881,#REF!,#REF!))","v":""}]
[null,null,null,null,null,null," ",null,null,{"$f":"IF(ISBLANK(D882),\"\",CONCATENATE(C882,#REF!,#REF!))","v":""}]
[null,null,null,null,null,null," ",null,null,{"$f":"IF(ISBLANK(D883),\"\",CONCATENATE(C883,#REF!,#REF!))","v":""}]
[null,null,null,null,null,null," ",null,null,{"$f":"IF(ISBLANK(D884),\"\",CONCATENATE(C884,#REF!,#REF!))","v":""}]
[null,null,null,null,null,null," ",null,null,{"$f":"IF(ISBLANK(D885),\"\",CONCATENATE(C885,#REF!,#REF!))","v":""}]
[null,null,null,null,null,null," ",null,null,{"$f":"IF(ISBLANK(D886),\"\",CONCATENATE(C886,#REF!,#REF!))","v":""}]
[null,null,null,null,null,null," ",null,null,{"$f":"IF(ISBLANK(D887),\"\",CONCATENATE(C887,#REF!,#REF!))","v":""}]
[null,null,null,null,null,null," ",null,null,{"$f":"IF(ISBLANK(D888),\"\",CONCATENATE(C888,#REF!,#REF!))","v":""}]
[null,null,null,null,null,null," ",null,null,{"$f":"IF(ISBLANK(D889),\"\",CONCATENATE(C889,#REF!,#REF!))","v":""}]
[null,null,null,null,null,null," ",null,null,{"$f":"IF(ISBLANK(D890),\"\",CONCATENATE(C890,#REF!,#REF!))","v":""}]
[null,null,null,null,null,null," ",null,null,{"$f":"IF(ISBLANK(D891),\"\",CONCATENATE(C891,#REF!,#REF!))","v":""}]
[null,null,null,null,null,null," ",null,null,{"$f":"IF(ISBLANK(D892),\"\",CONCATENATE(C892,#REF!,#REF!))","v":""}]
[null,null,null,null,null,null," ",null,null,{"$f":"IF(ISBLANK(D893),\"\",CONCATENATE(C893,#REF!,#REF!))","v":""}]
[null,null,null,null,null,null," ",null,null,{"$f":"IF(ISBLANK(D894),\"\",CONCATENATE(C894,#REF!,#REF!))","v":""}]
[null,null,null,null,null,null," ",null,null,{"$f":"IF(ISBLANK(D895),\"\",CONCATENATE(C895,#REF!,#REF!))","v":""}]
[null,null,null,null,null,null," ",null,null,{"$f":"IF(ISBLANK(D896),\"\",CONCATENATE(C896,#REF!,#REF!))","v":""}]
[null,null,null,null,null,null," ",null,null,{"$f":"IF(ISBLANK(D897),\"\",CONCATENATE(C897,#REF!,#REF!))","v":""}]
[null,null,null,null,null,null," ",null,null,{"$f":"IF(ISBLANK(D898),\"\",CONCATENATE(C898,#REF!,#REF!))","v":""}]
[null,null,null,null,null,null," ",null,null,{"$f":"IF(ISBLANK(D899),\"\",CONCATENATE(C899,#REF!,#REF!))","v":""}]
[null,null,null,null,null,null," ",null,null,{"$f":"IF(ISBLANK(D900),\"\",CONCATENATE(C900,#REF!,#REF!))","v":""}]
[null,null,null,null,null,null," ",null,null,{"$f":"IF(ISBLANK(D901),\"\",CONCATENATE(C901,#REF!,#REF!))","v":""}]
[null,null,null,null,null,null," ",null,null,{"$f":"IF(ISBLANK(D902),\"\",CONCATENATE(C902,#REF!,#REF!))","v":""}]
[null,null,null,null,null,null," ",null,null,{"$f":"IF(ISBLANK(D903),\"\",CONCATENATE(C903,#REF!,#REF!))","v":""}]
[null,null,null,null,null,null," ",null,null,{"$f":"IF(ISBLANK(D904),\"\",CONCATENATE(C904,#REF!,#REF!))","v":""}]
[null,null,null,null,null,null," ",null,null,{"$f":"IF(ISBLANK(D905),\"\",CONCATENATE(C905,#REF!,#REF!))","v":""}]
[null,null,null,null,null,null," ",null,null,{"$f":"IF(ISBLANK(D906),\"\",CONCATENATE(C906,#REF!,#REF!))","v":""}]
[null,null,null,null,null,null," ",null,null,{"$f":"IF(ISBLANK(D907),\"\",CONCATENATE(C907,#REF!,#REF!))","v":""}]
[null,null,null,null,null,null," ",null,null,{"$f":"IF(ISBLANK(D908),\"\",CONCATENATE(C908,#REF!,#REF!))","v":""}]
[null,null,null,null,null,null," ",null,null,{"$f":"IF(ISBLANK(D909),\"\",CONCATENATE(C909,#REF!,#REF!))","v":""}]
[null,null,null,null,null,null," ",null,null,{"$f":"IF(ISBLANK(D910),\"\",CONCATENATE(C910,#REF!,#REF!))","v":""}]
[null,null,null,null,null,null," ",null,null,{"$f":"IF(ISBLANK(D911),\"\",CONCATENATE(C911,#REF!,#REF!))","v":""}]
[null,null,null,null,null,null," ",null,null,{"$f":"IF(ISBLANK(D912),\"\",CONCATENATE(C912,#REF!,#REF!))","v":""}]
[null,null,null,null,null,null," ",null,null,{"$f":"IF(ISBLANK(D913),\"\",CONCATENATE(C913,#REF!,#REF!))","v":""}]
[null,null,null,null,null,null," ",null,null,{"$f":"IF(ISBLANK(D914),\"\",CONCATENATE(C914,#REF!,#REF!))","v":""}]
[null,null,null,null,null,null," ",null,null,{"$f":"IF(ISBLANK(D915),\"\",CONCATENATE(C915,#REF!,#REF!))","v":""}]
[null,null,null,null,null,null," ",null,null,{"$f":"IF(ISBLANK(D916),\"\",CONCATENATE(C916,#REF!,#REF!))","v":""}]
[null,null,null,null,null,null," ",null,null,{"$f":"IF(ISBLANK(D917),\"\",CONCATENATE(C917,#REF!,#REF!))","v":""}]
[null,null,null,null,null,null," ",null,null,{"$f":"IF(ISBLANK(D918),\"\",CONCATENATE(C918,#REF!,#REF!))","v":""}]
[null,null,null,null,null,null," ",null,null,{"$f":"IF(ISBLANK(D919),\"\",CONCATENATE(C919,#REF!,#REF!))","v":""}]
[null,null,null,null,null,null," ",null,null,{"$f":"IF(ISBLANK(D920),\"\",CONCATENATE(C920,#REF!,#REF!))","v":""}]
[null,null,null,null,null,null," ",null,null,{"$f":"IF(ISBLANK(D921),\"\",CONCATENATE(C921,#REF!,#REF!))","v":""}]
[null,null,null,null,null,null," ",null,null,{"$f":"IF(ISBLANK(D922),\"\",CONCATENATE(C922,#REF!,#REF!))","v":""}]
[null,null,null,null,null,null," ",null,null,{"$f":"IF(ISBLANK(D923),\"\",CONCATENATE(C923,#REF!,#REF!))","v":""}]
[null,null,null,null,null,null," ",null,null,{"$f":"IF(ISBLANK(D924),\"\",CONCATENATE(C924,#REF!,#REF!))","v":""}]
[null,null,null,null,null,null," ",null,null,{"$f":"IF(ISBLANK(D925),\"\",CONCATENATE(C925,#REF!,#REF!))","v":""}]
[null,null,null,null,null,null," ",null,null,{"$f":"IF(ISBLANK(D926),\"\",CONCATENATE(C926,#REF!,#REF!))","v":""}]
[null,null,null,null,null,null," ",null,null,{"$f":"IF(ISBLANK(D927),\"\",CONCATENATE(C927,#REF!,#REF!))","v":""}]
[null,null,null,null,null,null," ",null,null,{"$f":"IF(ISBLANK(D928),\"\",CONCATENATE(C928,#REF!,#REF!))","v":""}]
[null,null,null,null,null,null," ",null,null,{"$f":"IF(ISBLANK(D929),\"\",CONCATENATE(C929,#REF!,#REF!))","v":""}]
[null,null,null,null,null,null," ",null,null,{"$f":"IF(ISBLANK(D930),\"\",CONCATENATE(C930,#REF!,#REF!))","v":""}]
[null,null,null,null,null,null," ",null,null,{"$f":"IF(ISBLANK(D931),\"\",CONCATENATE(C931,#REF!,#REF!))","v":""}]
[null,null,null,null,null,null," ",null,null,{"$f":"IF(ISBLANK(D932),\"\",CONCATENATE(C932,#REF!,#REF!))","v":""}]
[null,null,null,null,null,null," ",null,null,{"$f":"IF(ISBLANK(D933),\"\",CONCATENATE(C933,#REF!,#REF!))","v":""}]
[null,null,null,null,null,null," ",null,null,{"$f":"IF(ISBLANK(D934),\"\",CONCATENATE(C934,#REF!,#REF!))","v":""}]
[null,null,null,null,null,null," ",null,null,{"$f":"IF(ISBLANK(D935),\"\",CONCATENATE(C935,#REF!,#REF!))","v":""}]
[null,null,null,null,null,null," ",null,null,{"$f":"IF(ISBLANK(D936),\"\",CONCATENATE(C936,#REF!,#REF!))","v":""}]
[null,null,null,null,null,null," ",null,null,{"$f":"IF(ISBLANK(D937),\"\",CONCATENATE(C937,#REF!,#REF!))","v":""}]
[null,null,null,null,null,null," ",null,null,{"$f":"IF(ISBLANK(D938),\"\",CONCATENATE(C938,#REF!,#REF!))","v":""}]
[null,null,null,null,null,null," ",null,null,{"$f":"IF(ISBLANK(D939),\"\",CONCATENATE(C939,#REF!,#REF!))","v":""}]
[null,null,null,null,null,null," ",null,null,{"$f":"IF(ISBLANK(D940),\"\",CONCATENATE(C940,#REF!,#REF!))","v":""}]
[null,null,null,null,null,null," ",null,null,{"$f":"IF(ISBLANK(D941),\"\",CONCATENATE(C941,#REF!,#REF!))","v":""}]
[null,null,null,null,null,null," ",null,null,{"$f":"IF(ISBLANK(D942),\"\",CONCATENATE(C942,#REF!,#REF!))","v":""}]
[null,null,null,null,null,null," ",null,null,{"$f":"IF(ISBLANK(D943),\"\",CONCATENATE(C943,#REF!,#REF!))","v":""}]
[null,null,null,null,null,null," ",null,null,{"$f":"IF(ISBLANK(D944),\"\",CONCATENATE(C944,#REF!,#REF!))","v":""}]
[null,null,null,null,null,null," ",null,null,{"$f":"IF(ISBLANK(D945),\"\",CONCATENATE(C945,#REF!,#REF!))","v":""}]
[null,null,null,null,null,null," ",null,null,{"$f":"IF(ISBLANK(D946),\"\",CONCATENATE(C946,#REF!,#REF!))","v":""}]
[null,null,null,null,null,null," ",null,null,{"$f":"IF(ISBLANK(D947),\"\",CONCATENATE(C947,#REF!,#REF!))","v":""}]
[null,null,null,null,null,null," ",null,null,{"$f":"IF(ISBLANK(D948),\"\",CONCATENATE(C948,#REF!,#REF!))","v":""}]
[null,null,null,null,null,null," ",null,null,{"$f":"IF(ISBLANK(D949),\"\",CONCATENATE(C949,#REF!,#REF!))","v":""}]
[null,null,null,null,null,null," ",null,null,{"$f":"IF(ISBLANK(D950),\"\",CONCATENATE(C950,#REF!,#REF!))","v":""}]
[null,null,null,null,null,null," ",null,null,{"$f":"IF(ISBLANK(D951),\"\",CONCATENATE(C951,#REF!,#REF!))","v":""}]
[null,null,null,null,null,null," ",null,null,{"$f":"IF(ISBLANK(D952),\"\",CONCATENATE(C952,#REF!,#REF!))","v":""}]
[null,null,null,null,null,null," ",null,null,{"$f":"IF(ISBLANK(D953),\"\",CONCATENATE(C953,#REF!,#REF!))","v":""}]
[null,null,null,null,null,null," ",null,null,{"$f":"IF(ISBLANK(D954),\"\",CONCATENATE(C954,#REF!,#REF!))","v":""}]
[null,null,null,null,null,null," ",null,null,{"$f":"IF(ISBLANK(D955),\"\",CONCATENATE(C955,#REF!,#REF!))","v":""}]
[null,null,null,null,null,null," ",null,null,{"$f":"IF(ISBLANK(D956),\"\",CONCATENATE(C956,#REF!,#REF!))","v":""}]
[null,null,null,null,null,null," ",null,null,{"$f":"IF(ISBLANK(D957),\"\",CONCATENATE(C957,#REF!,#REF!))","v":""}]
[null,null,null,null,null,null," ",null,null,{"$f":"IF(ISBLANK(D958),\"\",CONCATENATE(C958,#REF!,#REF!))","v":""}]
[null,null,null,null,null,null," ",null,null,{"$f":"IF(ISBLANK(D959),\"\",CONCATENATE(C959,#REF!,#REF!))","v":""}]
[null,null,null,null,null,null," ",null,null,{"$f":"IF(ISBLANK(D960),\"\",CONCATENATE(C960,#REF!,#REF!))","v":""}]
[null,null,null,null,null,null," ",null,null,{"$f":"IF(ISBLANK(D961),\"\",CONCATENATE(C961,#REF!,#REF!))","v":""}]
[null,null,null,null,null,null," ",null,null,{"$f":"IF(ISBLANK(D962),\"\",CONCATENATE(C962,#REF!,#REF!))","v":""}]
[null,null,null,null,null,null," ",null,null,{"$f":"IF(ISBLANK(D963),\"\",CONCATENATE(C963,#REF!,#REF!))","v":""}]
[null,null,null,null,null,null," ",null,null,{"$f":"IF(ISBLANK(D964),\"\",CONCATENATE(C964,#REF!,#REF!))","v":""}]
[null,null,null,null,null,null," ",null,null,{"$f":"IF(ISBLANK(D965),\"\",CONCATENATE(C965,#REF!,#REF!))","v":""}]
[null,null,null,null,null,null," ",null,null,{"$f":"IF(ISBLANK(D966),\"\",CONCATENATE(C966,#REF!,#REF!))","v":""}]
[null,null,null,null,null,null," ",null,null,{"$f":"IF(ISBLANK(D967),\"\",CONCATENATE(C967,#REF!,#REF!))","v":""}]
[null,null,null,null,null,null," ",null,null,{"$f":"IF(ISBLANK(D968),\"\",CONCATENATE(C968,#REF!,#REF!))","v":""}]
[null,null,null,null,null,null," ",null,null,{"$f":"IF(ISBLANK(D969),\"\",CONCATENATE(C969,#REF!,#REF!))","v":""}]
[null,null,null,null,null,null," ",null,null,{"$f":"IF(ISBLANK(D970),\"\",CONCATENATE(C970,#REF!,#REF!))","v":""}]
[null,null,null,null,null,null," ",null,null,{"$f":"IF(ISBLANK(D971),\"\",CONCATENATE(C971,#REF!,#REF!))","v":""}]
[null,null,null,null,null,null," ",null,null,{"$f":"IF(ISBLANK(D972),\"\",CONCATENATE(C972,#REF!,#REF!))","v":""}]
[null,null,null,null,null,null," ",null,null,{"$f":"IF(ISBLANK(D973),\"\",CONCATENATE(C973,#REF!,#REF!))","v":""}]
[null,null,null,null,null,null," ",null,null,{"$f":"IF(ISBLANK(D974),\"\",CONCATENATE(C974,#REF!,#REF!))","v":""}]
[null,null,null,null,null,null," ",null,null,{"$f":"IF(ISBLANK(D975),\"\",CONCATENATE(C975,#REF!,#REF!))","v":""}]
[null,null,null,null,null,null," ",null,null,{"$f":"IF(ISBLANK(D976),\"\",CONCATENATE(C976,#REF!,#REF!))","v":""}]
[null,null,null,null,null,null," ",null,null,{"$f":"IF(ISBLANK(D977),\"\",CONCATENATE(C977,#REF!,#REF!))","v":""}]
[null,null,null,null,null,null," ",null,null,{"$f":"IF(ISBLANK(D978),\"\",CONCATENATE(C978,#REF!,#REF!))","v":""}]
[null,null,null,null,null,null," ",null,null,{"$f":"IF(ISBLANK(D979),\"\",CONCATENATE(C979,#REF!,#REF!))","v":""}]
[null,null,null,null,null,null," ",null,null,{"$f":"IF(ISBLANK(D980),\"\",CONCATENATE(C980,#REF!,#REF!))","v":""}]
[null,null,null,null,null,null," ",null,null,{"$f":"IF(ISBLANK(D981),\"\",CONCATENATE(C981,#REF!,#REF!))","v":""}]
[null,null,null,null,null,null," ",null,null,{"$f":"IF(ISBLANK(D982),\"\",CONCATENATE(C982,#REF!,#REF!))","v":""}]
[null,null,null,null,null,null," ",null,null,{"$f":"IF(ISBLANK(D983),\"\",CONCATENATE(C983,#REF!,#REF!))","v":""}]
[null,null,null,null,null,null," ",null,null,{"$f":"IF(ISBLANK(D984),\"\",CONCATENATE(C984,#REF!,#REF!))","v":""}]
[null,null,null,null,null,null," ",null,null,{"$f":"IF(ISBLANK(D985),\"\",CONCATENATE(C985,#REF!,#REF!))","v":""}]
[null,null,null,null,null,null," ",null,null,{"$f":"IF(ISBLANK(D986),\"\",CONCATENATE(C986,#REF!,#REF!))","v":""}]
[null,null,null,null,null,null," ",null,null,{"$f":"IF(ISBLANK(D987),\"\",CONCATENATE(C987,#REF!,#REF!))","v":""}]
[null,null,null,null,null,null," ",null,null,{"$f":"IF(ISBLANK(D988),\"\",CONCATENATE(C988,#REF!,#REF!))","v":""}]
[null,null,null,null,null,null," ",null,null,{"$f":"IF(ISBLANK(D989),\"\",CONCATENATE(C989,#REF!,#REF!))","v":""}]
[null,null,null,null,null,null," ",null,null,{"$f":"IF(ISBLANK(D990),\"\",CONCATENATE(C990,#REF!,#REF!))","v":""}]
[null,null,null,null,null,null," ",null,null,{"$f":"IF(ISBLANK(D991),\"\",CONCATENATE(C991,#REF!,#REF!))","v":""}]
[null,null,null,null,null,null," ",null,null,{"$f":"IF(ISBLANK(D992),\"\",CONCATENATE(C992,#REF!,#REF!))","v":""}]
[null,null,null,null,null,null," ",null,null,{"$f":"IF(ISBLANK(D993),\"\",CONCATENATE(C993,#REF!,#REF!))","v":""}]
[null,null,null,null,null,null," ",null,null,{"$f":"IF(ISBLANK(D994),\"\",CONCATENATE(C994,#REF!,#REF!))","v":""}]
[null,null,null,null,null,null," ",null,null,{"$f":"IF(ISBLANK(D995),\"\",CONCATENATE(C995,#REF!,#REF!))","v":""}]
[null,null,null,null,null,null," ",null,null,{"$f":"IF(ISBLANK(D996),\"\",CONCATENATE(C996,#REF!,#REF!))","v":""}]
[null,null,null,null,null,null," ",null,null,{"$f":"IF(ISBLANK(D997),\"\",CONCATENATE(C997,#REF!,#REF!))","v":""}]
[null,null,null,null,null,null," ",null,null,{"$f":"IF(ISBLANK(D998),\"\",CONCATENATE(C998,#REF!,#REF!))","v":""}]
[null,null,null,null,null,null," ",null,null,{"$f":"IF(ISBLANK(D999),\"\",CONCATENATE(C999,#REF!,#REF!))","v":""}]
[null,null,null,null,null,null," ",null,null,{"$f":"IF(ISBLANK(D1000),\"\",CONCATENATE(C1000,#REF!,#REF!))","v":""}]
[null,null,null,null,null,null," ",null,null,{"$f":"IF(ISBLANK(D1001),\"\",CONCATENATE(C1001,#REF!,#REF!))","v":""}]
[null,null,null,null,null,null," ",null,null,{"$f":"IF(ISBLANK(D1002),\"\",CONCATENATE(C1002,#REF!,#REF!))","v":""}]
[null,null,null,null,null,null," ",null,null,{"$f":"IF(ISBLANK(D1003),\"\",CONCATENATE(C1003,#REF!,#REF!))","v":""}]
[null,null,null,null,null,null," ",null,null,{"$f":"IF(ISBLANK(D1004),\"\",CONCATENATE(C1004,#REF!,#REF!))","v":""}]
[null,null,null,null,null,null," ",null,null,{"$f":"IF(ISBLANK(D1005),\"\",CONCATENATE(C1005,#REF!,#REF!))","v":""}]
[null,null,null,null,null,null," ",null,null,{"$f":"IF(ISBLANK(D1006),\"\",CONCATENATE(C1006,#REF!,#REF!))","v":""}]
[null,null,null,null,null,null," ",null,null,{"$f":"IF(ISBLANK(D1007),\"\",CONCATENATE(C1007,#REF!,#REF!))","v":""}]
[null,null,null,null,null,null," ",null,null,{"$f":"IF(ISBLANK(D1008),\"\",CONCATENATE(C1008,#REF!,#REF!))","v":""}]
[null,null,null,null,null,null," ",null,null,{"$f":"IF(ISBLANK(D1009),\"\",CONCATENATE(C1009,#REF!,#REF!))","v":""}]
[null,null,null,null,null,null," ",null,null,{"$f":"IF(ISBLANK(D1010),\"\",CONCATENATE(C1010,#REF!,#REF!))","v":""}]
[null,null,null,null,null,null," ",null,null,{"$f":"IF(ISBLANK(D1011),\"\",CONCATENATE(C1011,#REF!,#REF!))","v":""}]
[null,null,null,null,null,null," ",null,null,{"$f":"IF(ISBLANK(D1012),\"\",CONCATENATE(C1012,#REF!,#REF!))","v":""}]
[null,null,null,null,null,null," ",null,null,{"$f":"IF(ISBLANK(D1013),\"\",CONCATENATE(C1013,#REF!,#REF!))","v":""}]
[null,null,null,null,null,null," ",null,null,{"$f":"IF(ISBLANK(D1014),\"\",CONCATENATE(C1014,#REF!,#REF!))","v":""}]
[null,null,null,null,null,null," ",null,null,{"$f":"IF(ISBLANK(D1015),\"\",CONCATENATE(C1015,#REF!,#REF!))","v":""}]
[null,null,null,null,null,null," ",null,null,{"$f":"IF(ISBLANK(D1016),\"\",CONCATENATE(C1016,#REF!,#REF!))","v":""}]
[null,null,null,null,null,null," ",null,null,{"$f":"IF(ISBLANK(D1017),\"\",CONCATENATE(C1017,#REF!,#REF!))","v":""}]
[null,null,null,null,null,null," ",null,null,{"$f":"IF(ISBLANK(D1018),\"\",CONCATENATE(C1018,#REF!,#REF!))","v":""}]
[null,null,null,null,null,null," ",null,null,{"$f":"IF(ISBLANK(D1019),\"\",CONCATENATE(C1019,#REF!,#REF!))","v":""}]
[null,null,null,null,null,null," ",null,null,{"$f":"IF(ISBLANK(D1020),\"\",CONCATENATE(C1020,#REF!,#REF!))","v":""}]
[null,null,null,null,null,null," ",null,null,{"$f":"IF(ISBLANK(D1021),\"\",CONCATENATE(C1021,#REF!,#REF!))","v":""}]
[null,null,null,null,null,null," ",null,null,{"$f":"IF(ISBLANK(D1022),\"\",CONCATENATE(C1022,#REF!,#REF!))","v":""}]
[null,null,null,null,null,null," ",null,null,{"$f":"IF(ISBLANK(D1023),\"\",CONCATENATE(C1023,#REF!,#REF!))","v":""}]
[null,null,null,null,null,null," ",null,null,{"$f":"IF(ISBLANK(D1024),\"\",CONCATENATE(C1024,#REF!,#REF!))","v":""}]
[null,null,null,null,null,null," ",null,null,{"$f":"IF(ISBLANK(D1025),\"\",CONCATENATE(C1025,#REF!,#REF!))","v":""}]
[null,null,null,null,null,null," ",null,null,{"$f":"IF(ISBLANK(D1026),\"\",CONCATENATE(C1026,#REF!,#REF!))","v":""}]
[null,null,null,null,null,null," ",null,null,{"$f":"IF(ISBLANK(D1027),\"\",CONCATENATE(C1027,#REF!,#REF!))","v":""}]
[null,null,null,null,null,null," ",null,null,{"$f":"IF(ISBLANK(D1028),\"\",CONCATENATE(C1028,#REF!,#REF!))","v":""}]
[null,null,null,null,null,null," ",null,null,{"$f":"IF(ISBLANK(D1029),\"\",CONCATENATE(C1029,#REF!,#REF!))","v":""}]
[null,null,null,null,null,null," ",null,null,{"$f":"IF(ISBLANK(D1030),\"\",CONCATENATE(C1030,#REF!,#REF!))","v":""}]
[null,null,null,null,null,null," ",null,null,{"$f":"IF(ISBLANK(D1031),\"\",CONCATENATE(C1031,#REF!,#REF!))","v":""}]
[null,null,null,null,null,null," ",null,null,{"$f":"IF(ISBLANK(D1032),\"\",CONCATENATE(C1032,#REF!,#REF!))","v":""}]
[null,null,null,null,null,null," ",null,null,{"$f":"IF(ISBLANK(D1033),\"\",CONCATENATE(C1033,#REF!,#REF!))","v":""}]
[null,null,null,null,null,null," ",null,null,{"$f":"IF(ISBLANK(D1034),\"\",CONCATENATE(C1034,#REF!,#REF!))","v":""}]
[null,null,null,null,null,null," ",null,null,{"$f":"IF(ISBLANK(D1035),\"\",CONCATENATE(C1035,#REF!,#REF!))","v":""}]
[null,null,null,null,null,null," ",null,null,{"$f":"IF(ISBLANK(D1036),\"\",CONCATENATE(C1036,#REF!,#REF!))","v":""}]
[null,null,null,null,null,null," ",null,null,{"$f":"IF(ISBLANK(D1037),\"\",CONCATENATE(C1037,#REF!,#REF!))","v":""}]
[null,null,null,null,null,null," ",null,null,{"$f":"IF(ISBLANK(D1038),\"\",CONCATENATE(C1038,#REF!,#REF!))","v":""}]
[null,null,null,null,null,null," ",null,null,{"$f":"IF(ISBLANK(D1039),\"\",CONCATENATE(C1039,#REF!,#REF!))","v":""}]
[null,null,null,null,null,null," ",null,null,{"$f":"IF(ISBLANK(D1040),\"\",CONCATENATE(C1040,#REF!,#REF!))","v":""}]
[null,null,null,null,null,null," ",null,null,{"$f":"IF(ISBLANK(D1041),\"\",CONCATENATE(C1041,#REF!,#REF!))","v":""}]
[null,null,null,null,null,null," ",null,null,{"$f":"IF(ISBLANK(D1042),\"\",CONCATENATE(C1042,#REF!,#REF!))","v":""}]
[null,null,null,null,null,null," ",null,null,{"$f":"IF(ISBLANK(D1043),\"\",CONCATENATE(C1043,#REF!,#REF!))","v":""}]
[null,null,null,null,null,null," ",null,null,{"$f":"IF(ISBLANK(D1044),\"\",CONCATENATE(C1044,#REF!,#REF!))","v":""}]
[null,null,null,null,null,null," ",null,null,{"$f":"IF(ISBLANK(D1045),\"\",CONCATENATE(C1045,#REF!,#REF!))","v":""}]
[null,null,null,null,null,null," ",null,null,{"$f":"IF(ISBLANK(D1046),\"\",CONCATENATE(C1046,#REF!,#REF!))","v":""}]
[null,null,null,null,null,null," ",null,null,{"$f":"IF(ISBLANK(D1047),\"\",CONCATENATE(C1047,#REF!,#REF!))","v":""}]
[null,null,null,null,null,null," ",null,null,{"$f":"IF(ISBLANK(D1048),\"\",CONCATENATE(C1048,#REF!,#REF!))","v":""}]
[null,null,null,null,null,null," ",null,null,{"$f":"IF(ISBLANK(D1049),\"\",CONCATENATE(C1049,#REF!,#REF!))","v":""}]
[null,null,null,null,null,null," ",null,null,{"$f":"IF(ISBLANK(D1050),\"\",CONCATENATE(C1050,#REF!,#REF!))","v":""}]
[null,null,null,null,null,null," ",null,null,{"$f":"IF(ISBLANK(D1051),\"\",CONCATENATE(C1051,#REF!,#REF!))","v":""}]
[null,null,null,null,null,null," ",null,null,{"$f":"IF(ISBLANK(D1052),\"\",CONCATENATE(C1052,#REF!,#REF!))","v":""}]
[null,null,null,null,null,null," ",null,null,{"$f":"IF(ISBLANK(D1053),\"\",CONCATENATE(C1053,#REF!,#REF!))","v":""}]
[null,null,null,null,null,null," ",null,null,{"$f":"IF(ISBLANK(D1054),\"\",CONCATENATE(C1054,#REF!,#REF!))","v":""}]
[null,null,null,null,null,null," ",null,null,{"$f":"IF(ISBLANK(D1055),\"\",CONCATENATE(C1055,#REF!,#REF!))","v":""}]
[null,null,null,null,null,null," ",null,null,{"$f":"IF(ISBLANK(D1056),\"\",CONCATENATE(C1056,#REF!,#REF!))","v":""}]
[null,null,null,null,null,null," ",null,null,{"$f":"IF(ISBLANK(D1057),\"\",CONCATENATE(C1057,#REF!,#REF!))","v":""}]
[null,null,null,null,null,null," ",null,null,{"$f":"IF(ISBLANK(D1058),\"\",CONCATENATE(C1058,#REF!,#REF!))","v":""}]
[null,null,null,null,null,null," ",null,null,{"$f":"IF(ISBLANK(D1059),\"\",CONCATENATE(C1059,#REF!,#REF!))","v":""}]
[null,null,null,null,null,null," ",null,null,{"$f":"IF(ISBLANK(D1060),\"\",CONCATENATE(C1060,#REF!,#REF!))","v":""}]
[null,null,null,null,null,null," ",null,null,{"$f":"IF(ISBLANK(D1061),\"\",CONCATENATE(C1061,#REF!,#REF!))","v":""}]
[null,null,null,null,null,null," ",null,null,{"$f":"IF(ISBLANK(D1062),\"\",CONCATENATE(C1062,#REF!,#REF!))","v":""}]
[null,null,null,null,null,null," ",null,null,{"$f":"IF(ISBLANK(D1063),\"\",CONCATENATE(C1063,#REF!,#REF!))","v":""}]
[null,null,null,null,null,null," ",null,null,{"$f":"IF(ISBLANK(D1064),\"\",CONCATENATE(C1064,#REF!,#REF!))","v":""}]
[null,null,null,null,null,null," ",null,null,{"$f":"IF(ISBLANK(D1065),\"\",CONCATENATE(C1065,#REF!,#REF!))","v":""}]
[null,null,null,null,null,null," ",null,null,{"$f":"IF(ISBLANK(D1066),\"\",CONCATENATE(C1066,#REF!,#REF!))","v":""}]
[null,null,null,null,null,null," ",null,null,{"$f":"IF(ISBLANK(D1067),\"\",CONCATENATE(C1067,#REF!,#REF!))","v":""}]
[null,null,null,null,null,null," ",null,null,{"$f":"IF(ISBLANK(D1068),\"\",CONCATENATE(C1068,#REF!,#REF!))","v":""}]
[null,null,null,null,null,null," ",null,null,{"$f":"IF(ISBLANK(D1069),\"\",CONCATENATE(C1069,#REF!,#REF!))","v":""}]
[null,null,null,null,null,null," ",null,null,{"$f":"IF(ISBLANK(D1070),\"\",CONCATENATE(C1070,#REF!,#REF!))","v":""}]
[null,null,null,null,null,null," ",null,null,{"$f":"IF(ISBLANK(D1071),\"\",CONCATENATE(C1071,#REF!,#REF!))","v":""}]
[null,null,null,null,null,null," ",null,null,{"$f":"IF(ISBLANK(D1072),\"\",CONCATENATE(C1072,#REF!,#REF!))","v":""}]
[null,null,null,null,null,null," ",null,null,{"$f":"IF(ISBLANK(D1073),\"\",CONCATENATE(C1073,#REF!,#REF!))","v":""}]
[null,null,null,null,null,null," ",null,null,{"$f":"IF(ISBLANK(D1074),\"\",CONCATENATE(C1074,#REF!,#REF!))","v":""}]
[null,null,null,null,null,null," ",null,null,{"$f":"IF(ISBLANK(D1075),\"\",CONCATENATE(C1075,#REF!,#REF!))","v":""}]
[null,null,null,null,null,null," ",null,null,{"$f":"IF(ISBLANK(D1076),\"\",CONCATENATE(C1076,#REF!,#REF!))","v":""}]
[null,null,null,null,null,null," ",null,null,{"$f":"IF(ISBLANK(D1077),\"\",CONCATENATE(C1077,#REF!,#REF!))","v":""}]
[null,null,null,null,null,null," ",null,null,{"$f":"IF(ISBLANK(D1078),\"\",CONCATENATE(C1078,#REF!,#REF!))","v":""}]
[null,null,null,null,null,null," ",null,null,{"$f":"IF(ISBLANK(D1079),\"\",CONCATENATE(C1079,#REF!,#REF!))","v":""}]
[null,null,null,null,null,null," ",null,null,{"$f":"IF(ISBLANK(D1080),\"\",CONCATENATE(C1080,#REF!,#REF!))","v":""}]
[null,null,null,null,null,null," ",null,null,{"$f":"IF(ISBLANK(D1081),\"\",CONCATENATE(C1081,#REF!,#REF!))","v":""}]
[null,null,null,null,null,null," ",null,null,{"$f":"IF(ISBLANK(D1082),\"\",CONCATENATE(C1082,#REF!,#REF!))","v":""}]
[null,null,null,null,null,null," ",null,null,{"$f":"IF(ISBLANK(D1083),\"\",CONCATENATE(C1083,#REF!,#REF!))","v":""}]
[null,null,null,null,null,null," ",null,null,{"$f":"IF(ISBLANK(D1084),\"\",CONCATENATE(C1084,#REF!,#REF!))","v":""}]
[null,null,null,null,null,null," ",null,null,{"$f":"IF(ISBLANK(D1085),\"\",CONCATENATE(C1085,#REF!,#REF!))","v":""}]
[null,null,null,null,null,null," ",null,null,{"$f":"IF(ISBLANK(D1086),\"\",CONCATENATE(C1086,#REF!,#REF!))","v":""}]
[null,null,null,null,null,null," ",null,null,{"$f":"IF(ISBLANK(D1087),\"\",CONCATENATE(C1087,#REF!,#REF!))","v":""}]
[null,null,null,null,null,null," ",null,null,{"$f":"IF(ISBLANK(D1088),\"\",CONCATENATE(C1088,#REF!,#REF!))","v":""}]
[null,null,null,null,null,null," ",null,null,{"$f":"IF(ISBLANK(D1089),\"\",CONCATENATE(C1089,#REF!,#REF!))","v":""}]
[null,null,null,null,null,null," ",null,null,{"$f":"IF(ISBLANK(D1090),\"\",CONCATENATE(C1090,#REF!,#REF!))","v":""}]
[null,null,null,null,null,null," ",null,null,{"$f":"IF(ISBLANK(D1091),\"\",CONCATENATE(C1091,#REF!,#REF!))","v":""}]
[null,null,null,null,null,null," ",null,null,{"$f":"IF(ISBLANK(D1092),\"\",CONCATENATE(C1092,#REF!,#REF!))","v":""}]
[null,null,null,null,null,null," ",null,null,{"$f":"IF(ISBLANK(D1093),\"\",CONCATENATE(C1093,#REF!,#REF!))","v":""}]
[null,null,null,null,null,null," ",null,null,{"$f":"IF(ISBLANK(D1094),\"\",CONCATENATE(C1094,#REF!,#REF!))","v":""}]
[null,null,null,null,null,null," ",null,null,{"$f":"IF(ISBLANK(D1095),\"\",CONCATENATE(C1095,#REF!,#REF!))","v":""}]
[null,null,null,null,null,null," ",null,null,{"$f":"IF(ISBLANK(D1096),\"\",CONCATENATE(C1096,#REF!,#REF!))","v":""}]
[null,null,null,null,null,null," ",null,null,{"$f":"IF(ISBLANK(D1097),\"\",CONCATENATE(C1097,#REF!,#REF!))","v":""}]
[null,null,null,null,null,null," ",null,null,{"$f":"IF(ISBLANK(D1098),\"\",CONCATENATE(C1098,#REF!,#REF!))","v":""}]
[null,null,null,null,null,null," ",null,null,{"$f":"IF(ISBLANK(D1099),\"\",CONCATENATE(C1099,#REF!,#REF!))","v":""}]
[null,null,null,null,null,null," ",null,null,{"$f":"IF(ISBLANK(D1100),\"\",CONCATENATE(C1100,#REF!,#REF!))","v":""}]
[null,null,null,null,null,null," ",null,null,{"$f":"IF(ISBLANK(D1101),\"\",CONCATENATE(C1101,#REF!,#REF!))","v":""}]
[null,null,null,null,null,null," ",null,null,{"$f":"IF(ISBLANK(D1102),\"\",CONCATENATE(C1102,#REF!,#REF!))","v":""}]
[null,null,null,null,null,null," ",null,null,{"$f":"IF(ISBLANK(D1103),\"\",CONCATENATE(C1103,#REF!,#REF!))","v":""}]
[null,null,null,null,null,null," ",null,null,{"$f":"IF(ISBLANK(D1104),\"\",CONCATENATE(C1104,#REF!,#REF!))","v":""}]
[null,null,null,null,null,null," ",null,null,{"$f":"IF(ISBLANK(D1105),\"\",CONCATENATE(C1105,#REF!,#REF!))","v":""}]
[null,null,null,null,null,null," ",null,null,{"$f":"IF(ISBLANK(D1106),\"\",CONCATENATE(C1106,#REF!,#REF!))","v":""}]
[null,null,null,null,null,null," ",null,null,{"$f":"IF(ISBLANK(D1107),\"\",CONCATENATE(C1107,#REF!,#REF!))","v":""}]
[null,null,null,null,null,null," ",null,null,{"$f":"IF(ISBLANK(D1108),\"\",CONCATENATE(C1108,#REF!,#REF!))","v":""}]
[null,null,null,null,null,null," ",null,null,{"$f":"IF(ISBLANK(D1109),\"\",CONCATENATE(C1109,#REF!,#REF!))","v":""}]
[null,null,null,null,null,null," ",null,null,{"$f":"IF(ISBLANK(D1110),\"\",CONCATENATE(C1110,#REF!,#REF!))","v":""}]
[null,null,null,null,null,null," ",null,null,{"$f":"IF(ISBLANK(D1111),\"\",CONCATENATE(C1111,#REF!,#REF!))","v":""}]
[null,null,null,null,null,null," ",null,null,{"$f":"IF(ISBLANK(D1112),\"\",CONCATENATE(C1112,#REF!,#REF!))","v":""}]
[null,null,null,null,null,null," ",null,null,{"$f":"IF(ISBLANK(D1113),\"\",CONCATENATE(C1113,#REF!,#REF!))","v":""}]
[null,null,null,null,null,null," ",null,null,{"$f":"IF(ISBLANK(D1114),\"\",CONCATENATE(C1114,#REF!,#REF!))","v":""}]
[null,null,null,null,null,null," ",null,null,{"$f":"IF(ISBLANK(D1115),\"\",CONCATENATE(C1115,#REF!,#REF!))","v":""}]
[null,null,null,null,null,null," ",null,null,{"$f":"IF(ISBLANK(D1116),\"\",CONCATENATE(C1116,#REF!,#REF!))","v":""}]
[null,null,null,null,null,null," ",null,null,{"$f":"IF(ISBLANK(D1117),\"\",CONCATENATE(C1117,#REF!,#REF!))","v":""}]
[null,null,null,null,null,null," ",null,null,{"$f":"IF(ISBLANK(D1118),\"\",CONCATENATE(C1118,#REF!,#REF!))","v":""}]
[null,null,null,null,null,null," ",null,null,{"$f":"IF(ISBLANK(D1119),\"\",CONCATENATE(C1119,#REF!,#REF!))","v":""}]
[null,null,null,null,null,null," ",null,null,{"$f":"IF(ISBLANK(D1120),\"\",CONCATENATE(C1120,#REF!,#REF!))","v":""}]
[null,null,null,null,null,null," ",null,null,{"$f":"IF(ISBLANK(D1121),\"\",CONCATENATE(C1121,#REF!,#REF!))","v":""}]
[null,null,null,null,null,null," ",null,null,{"$f":"IF(ISBLANK(D1122),\"\",CONCATENATE(C1122,#REF!,#REF!))","v":""}]
[null,null,null,null,null,null," ",null,null,{"$f":"IF(ISBLANK(D1123),\"\",CONCATENATE(C1123,#REF!,#REF!))","v":""}]
[null,null,null,null,null,null," ",null,null,{"$f":"IF(ISBLANK(D1124),\"\",CONCATENATE(C1124,#REF!,#REF!))","v":""}]
[null,null,null,null,null,null," ",null,null,{"$f":"IF(ISBLANK(D1125),\"\",CONCATENATE(C1125,#REF!,#REF!))","v":""}]
[null,null,null,null,null,null," ",null,null,{"$f":"IF(ISBLANK(D1126),\"\",CONCATENATE(C1126,#REF!,#REF!))","v":""}]
[null,null,null,null,null,null," ",null,null,{"$f":"IF(ISBLANK(D1127),\"\",CONCATENATE(C1127,#REF!,#REF!))","v":""}]
[null,null,null,null,null,null," ",null,null,{"$f":"IF(ISBLANK(D1128),\"\",CONCATENATE(C1128,#REF!,#REF!))","v":""}]
[null,null,null,null,null,null," ",null,null,{"$f":"IF(ISBLANK(D1129),\"\",CONCATENATE(C1129,#REF!,#REF!))","v":""}]
[null,null,null,null,null,null," ",null,null,{"$f":"IF(ISBLANK(D1130),\"\",CONCATENATE(C1130,#REF!,#REF!))","v":""}]
[null,null,null,null,null,null," ",null,null,{"$f":"IF(ISBLANK(D1131),\"\",CONCATENATE(C1131,#REF!,#REF!))","v":""}]
[null,null,null,null,null,null," ",null,null,{"$f":"IF(ISBLANK(D1132),\"\",CONCATENATE(C1132,#REF!,#REF!))","v":""}]
[null,null,null,null,null,null," ",null,null,{"$f":"IF(ISBLANK(D1133),\"\",CONCATENATE(C1133,#REF!,#REF!))","v":""}]
[null,null,null,null,null,null," ",null,null,{"$f":"IF(ISBLANK(D1134),\"\",CONCATENATE(C1134,#REF!,#REF!))","v":""}]
[null,null,null,null,null,null," ",null,null,{"$f":"IF(ISBLANK(D1135),\"\",CONCATENATE(C1135,#REF!,#REF!))","v":""}]
[null,null,null,null,null,null," ",null,null,{"$f":"IF(ISBLANK(D1136),\"\",CONCATENATE(C1136,#REF!,#REF!))","v":""}]
[null,null,null,null,null,null," ",null,null,{"$f":"IF(ISBLANK(D1137),\"\",CONCATENATE(C1137,#REF!,#REF!))","v":""}]
[null,null,null,null,null,null," ",null,null,{"$f":"IF(ISBLANK(D1138),\"\",CONCATENATE(C1138,#REF!,#REF!))","v":""}]
[null,null,null,null,null,null," ",null,null,{"$f":"IF(ISBLANK(D1139),\"\",CONCATENATE(C1139,#REF!,#REF!))","v":""}]
[null,null,null,null,null,null," ",null,null,{"$f":"IF(ISBLANK(D1140),\"\",CONCATENATE(C1140,#REF!,#REF!))","v":""}]
[null,null,null,null,null,null," ",null,null,{"$f":"IF(ISBLANK(D1141),\"\",CONCATENATE(C1141,#REF!,#REF!))","v":""}]
[null,null,null,null,null,null," ",null,null,{"$f":"IF(ISBLANK(D1142),\"\",CONCATENATE(C1142,#REF!,#REF!))","v":""}]
[null,null,null,null,null,null," ",null,null,{"$f":"IF(ISBLANK(D1143),\"\",CONCATENATE(C1143,#REF!,#REF!))","v":""}]
[null,null,null,null,null,null," ",null,null,{"$f":"IF(ISBLANK(D1144),\"\",CONCATENATE(C1144,#REF!,#REF!))","v":""}]
[null,null,null,null,null,null," ",null,null,{"$f":"IF(ISBLANK(D1145),\"\",CONCATENATE(C1145,#REF!,#REF!))","v":""}]
[null,null,null,null,null,null," ",null,null,{"$f":"IF(ISBLANK(D1146),\"\",CONCATENATE(C1146,#REF!,#REF!))","v":""}]
[null,null,null,null,null,null," ",null,null,{"$f":"IF(ISBLANK(D1147),\"\",CONCATENATE(C1147,#REF!,#REF!))","v":""}]
[null,null,null,null,null,null," ",null,null,{"$f":"IF(ISBLANK(D1148),\"\",CONCATENATE(C1148,#REF!,#REF!))","v":""}]
[null,null,null,null,null,null," ",null,null,{"$f":"IF(ISBLANK(D1149),\"\",CONCATENATE(C1149,#REF!,#REF!))","v":""}]
[null,null,null,null,null,null," ",null,null,{"$f":"IF(ISBLANK(D1150),\"\",CONCATENATE(C1150,#REF!,#REF!))","v":""}]
[null,null,null,null,null,null," ",null,null,{"$f":"IF(ISBLANK(D1151),\"\",CONCATENATE(C1151,#REF!,#REF!))","v":""}]
[null,null,null,null,null,null," ",null,null,{"$f":"IF(ISBLANK(D1152),\"\",CONCATENATE(C1152,#REF!,#REF!))","v":""}]
[null,null,null,null,null,null," ",null,null,{"$f":"IF(ISBLANK(D1153),\"\",CONCATENATE(C1153,#REF!,#REF!))","v":""}]
[null,null,null,null,null,null," ",null,null,{"$f":"IF(ISBLANK(D1154),\"\",CONCATENATE(C1154,#REF!,#REF!))","v":""}]
[null,null,null,null,null,null," ",null,null,{"$f":"IF(ISBLANK(D1155),\"\",CONCATENATE(C1155,#REF!,#REF!))","v":""}]
[null,null,null,null,null,null," ",null,null,{"$f":"IF(ISBLANK(D1156),\"\",CONCATENATE(C1156,#REF!,#REF!))","v":""}]
[null,null,null,null,null,null," ",null,null,{"$f":"IF(ISBLANK(D1157),\"\",CONCATENATE(C1157,#REF!,#REF!))","v":""}]
[null,null,null,null,null,null," ",null,null,{"$f":"IF(ISBLANK(D1158),\"\",CONCATENATE(C1158,#REF!,#REF!))","v":""}]
[null,null,null,null,null,null," ",null,null,{"$f":"IF(ISBLANK(D1159),\"\",CONCATENATE(C1159,#REF!,#REF!))","v":""}]
[null,null,null,null,null,null," ",null,null,{"$f":"IF(ISBLANK(D1160),\"\",CONCATENATE(C1160,#REF!,#REF!))","v":""}]
[null,null,null,null,null,null," ",null,null,{"$f":"IF(ISBLANK(D1161),\"\",CONCATENATE(C1161,#REF!,#REF!))","v":""}]
[null,null,null,null,null,null," ",null,null,{"$f":"IF(ISBLANK(D1162),\"\",CONCATENATE(C1162,#REF!,#REF!))","v":""}]
[null,null,null,null,null,null," ",null,null,{"$f":"IF(ISBLANK(D1163),\"\",CONCATENATE(C1163,#REF!,#REF!))","v":""}]
[null,null,null,null,null,null," ",null,null,{"$f":"IF(ISBLANK(D1164),\"\",CONCATENATE(C1164,#REF!,#REF!))","v":""}]
[null,null,null,null,null,null," ",null,null,{"$f":"IF(ISBLANK(D1165),\"\",CONCATENATE(C1165,#REF!,#REF!))","v":""}]
[null,null,null,null,null,null," ",null,null,{"$f":"IF(ISBLANK(D1166),\"\",CONCATENATE(C1166,#REF!,#REF!))","v":""}]
[null,null,null,null,null,null," ",null,null,{"$f":"IF(ISBLANK(D1167),\"\",CONCATENATE(C1167,#REF!,#REF!))","v":""}]
[null,null,null,null,null,null," ",null,null,{"$f":"IF(ISBLANK(D1168),\"\",CONCATENATE(C1168,#REF!,#REF!))","v":""}]
[null,null,null,null,null,null," ",null,null,{"$f":"IF(ISBLANK(D1169),\"\",CONCATENATE(C1169,#REF!,#REF!))","v":""}]
[null,null,null,null,null,null," ",null,null,{"$f":"IF(ISBLANK(D1170),\"\",CONCATENATE(C1170,#REF!,#REF!))","v":""}]
[null,null,null,null,null,null," ",null,null,{"$f":"IF(ISBLANK(D1171),\"\",CONCATENATE(C1171,#REF!,#REF!))","v":""}]
[null,null,null,null,null,null," ",null,null,{"$f":"IF(ISBLANK(D1172),\"\",CONCATENATE(C1172,#REF!,#REF!))","v":""}]
[null,null,null,null,null,null," ",null,null,{"$f":"IF(ISBLANK(D1173),\"\",CONCATENATE(C1173,#REF!,#REF!))","v":""}]
[null,null,null,null,null,null," ",null,null,{"$f":"IF(ISBLANK(D1174),\"\",CONCATENATE(C1174,#REF!,#REF!))","v":""}]
[null,null,null,null,null,null," ",null,null,{"$f":"IF(ISBLANK(D1175),\"\",CONCATENATE(C1175,#REF!,#REF!))","v":""}]
[null,null,null,null,null,null," ",null,null,{"$f":"IF(ISBLANK(D1176),\"\",CONCATENATE(C1176,#REF!,#REF!))","v":""}]
[null,null,null,null,null,null," ",null,null,{"$f":"IF(ISBLANK(D1177),\"\",CONCATENATE(C1177,#REF!,#REF!))","v":""}]
[null,null,null,null,null,null," ",null,null,{"$f":"IF(ISBLANK(D1178),\"\",CONCATENATE(C1178,#REF!,#REF!))","v":""}]
[null,null,null,null,null,null," ",null,null,{"$f":"IF(ISBLANK(D1179),\"\",CONCATENATE(C1179,#REF!,#REF!))","v":""}]
[null,null,null,null,null,null," ",null,null,{"$f":"IF(ISBLANK(D1180),\"\",CONCATENATE(C1180,#REF!,#REF!))","v":""}]
[null,null,null,null,null,null," ",null,null,{"$f":"IF(ISBLANK(D1181),\"\",CONCATENATE(C1181,#REF!,#REF!))","v":""}]
[null,null,null,null,null,null," ",null,null,{"$f":"IF(ISBLANK(D1182),\"\",CONCATENATE(C1182,#REF!,#REF!))","v":""}]
[null,null,null,null,null,null," ",null,null,{"$f":"IF(ISBLANK(D1183),\"\",CONCATENATE(C1183,#REF!,#REF!))","v":""}]
[null,null,null,null,null,null," ",null,null,{"$f":"IF(ISBLANK(D1184),\"\",CONCATENATE(C1184,#REF!,#REF!))","v":""}]
[null,null,null,null,null,null," ",null,null,{"$f":"IF(ISBLANK(D1185),\"\",CONCATENATE(C1185,#REF!,#REF!))","v":""}]
[null,null,null,null,null,null," ",null,null,{"$f":"IF(ISBLANK(D1186),\"\",CONCATENATE(C1186,#REF!,#REF!))","v":""}]
[null,null,null,null,null,null," ",null,null,{"$f":"IF(ISBLANK(D1187),\"\",CONCATENATE(C1187,#REF!,#REF!))","v":""}]
[null,null,null,null,null,null," ",null,null,{"$f":"IF(ISBLANK(D1188),\"\",CONCATENATE(C1188,#REF!,#REF!))","v":""}]
[null,null,null,null,null,null," ",null,null,{"$f":"IF(ISBLANK(D1189),\"\",CONCATENATE(C1189,#REF!,#REF!))","v":""}]
[null,null,null,null,null,null," ",null,null,{"$f":"IF(ISBLANK(D1190),\"\",CONCATENATE(C1190,#REF!,#REF!))","v":""}]
[null,null,null,null,null,null," ",null,null,{"$f":"IF(ISBLANK(D1191),\"\",CONCATENATE(C1191,#REF!,#REF!))","v":""}]
[null,null,null,null,null,null," ",null,null,{"$f":"IF(ISBLANK(D1192),\"\",CONCATENATE(C1192,#REF!,#REF!))","v":""}]
[null,null,null,null,null,null," ",null,null,{"$f":"IF(ISBLANK(D1193),\"\",CONCATENATE(C1193,#REF!,#REF!))","v":""}]
[null,null,null,null,null,null," ",null,null,{"$f":"IF(ISBLANK(D1194),\"\",CONCATENATE(C1194,#REF!,#REF!))","v":""}]
[null,null,null,null,null,null," ",null,null,{"$f":"IF(ISBLANK(D1195),\"\",CONCATENATE(C1195,#REF!,#REF!))","v":""}]
[null,null,null,null,null,null," ",null,null,{"$f":"IF(ISBLANK(D1196),\"\",CONCATENATE(C1196,#REF!,#REF!))","v":""}]
[null,null,null,null,null,null," ",null,null,{"$f":"IF(ISBLANK(D1197),\"\",CONCATENATE(C1197,#REF!,#REF!))","v":""}]
[null,null,null,null,null,null," ",null,null,{"$f":"IF(ISBLANK(D1198),\"\",CONCATENATE(C1198,#REF!,#REF!))","v":""}]
[null,null,null,null,null,null," ",null,null,{"$f":"IF(ISBLANK(D1199),\"\",CONCATENATE(C1199,#REF!,#REF!))","v":""}]
[null,null,null,null,null,null," ",null,null,{"$f":"IF(ISBLANK(D1200),\"\",CONCATENATE(C1200,#REF!,#REF!))","v":""}]
[null,null,null,null,null,null," ",null,null,{"$f":"IF(ISBLANK(D1201),\"\",CONCATENATE(C1201,#REF!,#REF!))","v":""}]
[null,null,null,null,null,null," ",null,null,{"$f":"IF(ISBLANK(D1202),\"\",CONCATENATE(C1202,#REF!,#REF!))","v":""}]
[null,null,null,null,null,null," ",null,null,{"$f":"IF(ISBLANK(D1203),\"\",CONCATENATE(C1203,#REF!,#REF!))","v":""}]
[null,null,null,null,null,null," ",null,null,{"$f":"IF(ISBLANK(D1204),\"\",CONCATENATE(C1204,#REF!,#REF!))","v":""}]
[null,null,null,null,null,null," ",null,null,{"$f":"IF(ISBLANK(D1205),\"\",CONCATENATE(C1205,#REF!,#REF!))","v":""}]
[null,null,null,null,null,null," ",null,null,{"$f":"IF(ISBLANK(D1206),\"\",CONCATENATE(C1206,#REF!,#REF!))","v":""}]
[null,null,null,null,null,null," ",null,null,{"$f":"IF(ISBLANK(D1207),\"\",CONCATENATE(C1207,#REF!,#REF!))","v":""}]
[null,null,null,null,null,null," ",null,null,{"$f":"IF(ISBLANK(D1208),\"\",CONCATENATE(C1208,#REF!,#REF!))","v":""}]
[null,null,null,null,null,null," ",null,null,{"$f":"IF(ISBLANK(D1209),\"\",CONCATENATE(C1209,#REF!,#REF!))","v":""}]
[null,null,null,null,null,null," ",null,null,{"$f":"IF(ISBLANK(D1210),\"\",CONCATENATE(C1210,#REF!,#REF!))","v":""}]
[null,null,null,null,null,null," ",null,null,{"$f":"IF(ISBLANK(D1211),\"\",CONCATENATE(C1211,#REF!,#REF!))","v":""}]
[null,null,null,null,null,null," ",null,null,{"$f":"IF(ISBLANK(D1212),\"\",CONCATENATE(C1212,#REF!,#REF!))","v":""}]
[null,null,null,null,null,null," ",null,null,{"$f":"IF(ISBLANK(D1213),\"\",CONCATENATE(C1213,#REF!,#REF!))","v":""}]
[null,null,null,null,null,null," ",null,null,{"$f":"IF(ISBLANK(D1214),\"\",CONCATENATE(C1214,#REF!,#REF!))","v":""}]
[null,null,null,null,null,null," ",null,null,{"$f":"IF(ISBLANK(D1215),\"\",CONCATENATE(C1215,#REF!,#REF!))","v":""}]
[null,null,null,null,null,null," ",null,null,{"$f":"IF(ISBLANK(D1216),\"\",CONCATENATE(C1216,#REF!,#REF!))","v":""}]
[null,null,null,null,null,null," ",null,null,{"$f":"IF(ISBLANK(D1217),\"\",CONCATENATE(C1217,#REF!,#REF!))","v":""}]
[null,null,null,null,null,null," ",null,null,{"$f":"IF(ISBLANK(D1218),\"\",CONCATENATE(C1218,#REF!,#REF!))","v":""}]
[null,null,null,null,null,null," ",null,null,{"$f":"IF(ISBLANK(D1219),\"\",CONCATENATE(C1219,#REF!,#REF!))","v":""}]
[null,null,null,null,null,null," ",null,null,{"$f":"IF(ISBLANK(D1220),\"\",CONCATENATE(C1220,#REF!,#REF!))","v":""}]
[null,null,null,null,null,null," ",null,null,{"$f":"IF(ISBLANK(D1221),\"\",CONCATENATE(C1221,#REF!,#REF!))","v":""}]
[null,null,null,null,null,null," ",null,null,{"$f":"IF(ISBLANK(D1222),\"\",CONCATENATE(C1222,#REF!,#REF!))","v":""}]
[null,null,null,null,null,null," ",null,null,{"$f":"IF(ISBLANK(D1223),\"\",CONCATENATE(C1223,#REF!,#REF!))","v":""}]
[null,null,null,null,null,null," ",null,null,{"$f":"IF(ISBLANK(D1224),\"\",CONCATENATE(C1224,#REF!,#REF!))","v":""}]
[null,null,null,null,null,null," ",null,null,{"$f":"IF(ISBLANK(D1225),\"\",CONCATENATE(C1225,#REF!,#REF!))","v":""}]
[null,null,null,null,null,null," ",null,null,{"$f":"IF(ISBLANK(D1226),\"\",CONCATENATE(C1226,#REF!,#REF!))","v":""}]
[null,null,null,null,null,null," ",null,null,{"$f":"IF(ISBLANK(D1227),\"\",CONCATENATE(C1227,#REF!,#REF!))","v":""}]
[null,null,null,null,null,null," ",null,null,{"$f":"IF(ISBLANK(D1228),\"\",CONCATENATE(C1228,#REF!,#REF!))","v":""}]
[null,null,null,null,null,null," ",null,null,{"$f":"IF(ISBLANK(D1229),\"\",CONCATENATE(C1229,#REF!,#REF!))","v":""}]
[null,null,null,null,null,null," ",null,null,{"$f":"IF(ISBLANK(D1230),\"\",CONCATENATE(C1230,#REF!,#REF!))","v":""}]
[null,null,null,null,null,null," ",null,null,{"$f":"IF(ISBLANK(D1231),\"\",CONCATENATE(C1231,#REF!,#REF!))","v":""}]
[null,null,null,null,null,null," ",null,null,{"$f":"IF(ISBLANK(D1232),\"\",CONCATENATE(C1232,#REF!,#REF!))","v":""}]
[null,null,null,null,null,null," ",null,null,{"$f":"IF(ISBLANK(D1233),\"\",CONCATENATE(C1233,#REF!,#REF!))","v":""}]
[null,null,null,null,null,null," ",null,null,{"$f":"IF(ISBLANK(D1234),\"\",CONCATENATE(C1234,#REF!,#REF!))","v":""}]
[null,null,null,null,null,null," ",null,null,{"$f":"IF(ISBLANK(D1235),\"\",CONCATENATE(C1235,#REF!,#REF!))","v":""}]
[null,null,null,null,null,null," ",null,null,{"$f":"IF(ISBLANK(D1236),\"\",CONCATENATE(C1236,#REF!,#REF!))","v":""}]
[null,null,null,null,null,null," ",null,null,{"$f":"IF(ISBLANK(D1237),\"\",CONCATENATE(C1237,#REF!,#REF!))","v":""}]
[null,null,null,null,null,null," ",null,null,{"$f":"IF(ISBLANK(D1238),\"\",CONCATENATE(C1238,#REF!,#REF!))","v":""}]
[null,null,null,null,null,null," ",null,null,{"$f":"IF(ISBLANK(D1239),\"\",CONCATENATE(C1239,#REF!,#REF!))","v":""}]
[null,null,null,null,null,null," ",null,null,{"$f":"IF(ISBLANK(D1240),\"\",CONCATENATE(C1240,#REF!,#REF!))","v":""}]
[null,null,null,null,null,null," ",null,null,{"$f":"IF(ISBLANK(D1241),\"\",CONCATENATE(C1241,#REF!,#REF!))","v":""}]
[null,null,null,null,null,null," ",null,null,{"$f":"IF(ISBLANK(D1242),\"\",CONCATENATE(C1242,#REF!,#REF!))","v":""}]
[null,null,null,null,null,null," ",null,null,{"$f":"IF(ISBLANK(D1243),\"\",CONCATENATE(C1243,#REF!,#REF!))","v":""}]
[null,null,null,null,null,null," ",null,null,{"$f":"IF(ISBLANK(D1244),\"\",CONCATENATE(C1244,#REF!,#REF!))","v":""}]
[null,null,null,null,null,null," ",null,null,{"$f":"IF(ISBLANK(D1245),\"\",CONCATENATE(C1245,#REF!,#REF!))","v":""}]
[null,null,null,null,null,null," ",null,null,{"$f":"IF(ISBLANK(D1246),\"\",CONCATENATE(C1246,#REF!,#REF!))","v":""}]
[null,null,null,null,null,null," ",null,null,{"$f":"IF(ISBLANK(D1247),\"\",CONCATENATE(C1247,#REF!,#REF!))","v":""}]
[null,null,null,null,null,null," ",null,null,{"$f":"IF(ISBLANK(D1248),\"\",CONCATENATE(C1248,#REF!,#REF!))","v":""}]
[null,null,null,null,null,null," ",null,null,{"$f":"IF(ISBLANK(D1249),\"\",CONCATENATE(C1249,#REF!,#REF!))","v":""}]
[null,null,null,null,null,null," ",null,null,{"$f":"IF(ISBLANK(D1250),\"\",CONCATENATE(C1250,#REF!,#REF!))","v":""}]
[null,null,null,null,null,null," ",null,null,{"$f":"IF(ISBLANK(D1251),\"\",CONCATENATE(C1251,#REF!,#REF!))","v":""}]
[null,null,null,null,null,null," ",null,null,{"$f":"IF(ISBLANK(D1252),\"\",CONCATENATE(C1252,#REF!,#REF!))","v":""}]
[null,null,null,null,null,null," ",null,null,{"$f":"IF(ISBLANK(D1253),\"\",CONCATENATE(C1253,#REF!,#REF!))","v":""}]
[null,null,null,null,null,null," ",null,null,{"$f":"IF(ISBLANK(D1254),\"\",CONCATENATE(C1254,#REF!,#REF!))","v":""}]
[null,null,null,null,null,null," ",null,null,{"$f":"IF(ISBLANK(D1255),\"\",CONCATENATE(C1255,#REF!,#REF!))","v":""}]
[null,null,null,null,null,null," ",null,null,{"$f":"IF(ISBLANK(D1256),\"\",CONCATENATE(C1256,#REF!,#REF!))","v":""}]
[null,null,null,null,null,null," ",null,null,{"$f":"IF(ISBLANK(D1257),\"\",CONCATENATE(C1257,#REF!,#REF!))","v":""}]
[null,null,null,null,null,null," ",null,null,{"$f":"IF(ISBLANK(D1258),\"\",CONCATENATE(C1258,#REF!,#REF!))","v":""}]
[null,null,null,null,null,null," ",null,null,{"$f":"IF(ISBLANK(D1259),\"\",CONCATENATE(C1259,#REF!,#REF!))","v":""}]
[null,null,null,null,null,null," ",null,null,{"$f":"IF(ISBLANK(D1260),\"\",CONCATENATE(C1260,#REF!,#REF!))","v":""}]
[null,null,null,null,null,null," ",null,null,{"$f":"IF(ISBLANK(D1261),\"\",CONCATENATE(C1261,#REF!,#REF!))","v":""}]
[null,null,null,null,null,null," ",null,null,{"$f":"IF(ISBLANK(D1262),\"\",CONCATENATE(C1262,#REF!,#REF!))","v":""}]
[null,null,null,null,null,null," ",null,null,{"$f":"IF(ISBLANK(D1263),\"\",CONCATENATE(C1263,#REF!,#REF!))","v":""}]
[null,null,null,null,null,null," ",null,null,{"$f":"IF(ISBLANK(D1264),\"\",CONCATENATE(C1264,#REF!,#REF!))","v":""}]
[null,null,null,null,null,null," ",null,null,{"$f":"IF(ISBLANK(D1265),\"\",CONCATENATE(C1265,#REF!,#REF!))","v":""}]
[null,null,null,null,null,null," ",null,null,{"$f":"IF(ISBLANK(D1266),\"\",CONCATENATE(C1266,#REF!,#REF!))","v":""}]
[null,null,null,null,null,null," ",null,null,{"$f":"IF(ISBLANK(D1267),\"\",CONCATENATE(C1267,#REF!,#REF!))","v":""}]
[null,null,null,null,null,null," ",null,null,{"$f":"IF(ISBLANK(D1268),\"\",CONCATENATE(C1268,#REF!,#REF!))","v":""}]
[null,null,null,null,null,null," ",null,null,{"$f":"IF(ISBLANK(D1269),\"\",CONCATENATE(C1269,#REF!,#REF!))","v":""}]
[null,null,null,null,null,null," ",null,null,{"$f":"IF(ISBLANK(D1270),\"\",CONCATENATE(C1270,#REF!,#REF!))","v":""}]
[null,null,null,null,null,null," ",null,null,{"$f":"IF(ISBLANK(D1271),\"\",CONCATENATE(C1271,#REF!,#REF!))","v":""}]
[null,null,null,null,null,null," ",null,null,{"$f":"IF(ISBLANK(D1272),\"\",CONCATENATE(C1272,#REF!,#REF!))","v":""}]
[null,null,null,null,null,null," ",null,null,{"$f":"IF(ISBLANK(D1273),\"\",CONCATENATE(C1273,#REF!,#REF!))","v":""}]
[null,null,null,null,null,null," ",null,null,{"$f":"IF(ISBLANK(D1274),\"\",CONCATENATE(C1274,#REF!,#REF!))","v":""}]
[null,null,null,null,null,null," ",null,null,{"$f":"IF(ISBLANK(D1275),\"\",CONCATENATE(C1275,#REF!,#REF!))","v":""}]
[null,null,null,null,null,null," ",null,null,{"$f":"IF(ISBLANK(D1276),\"\",CONCATENATE(C1276,#REF!,#REF!))","v":""}]
[null,null,null,null,null,null," ",null,null,{"$f":"IF(ISBLANK(D1277),\"\",CONCATENATE(C1277,#REF!,#REF!))","v":""}]
[null,null,null,null,null,null," ",null,null,{"$f":"IF(ISBLANK(D1278),\"\",CONCATENATE(C1278,#REF!,#REF!))","v":""}]
[null,null,null,null,null,null," ",null,null,{"$f":"IF(ISBLANK(D1279),\"\",CONCATENATE(C1279,#REF!,#REF!))","v":""}]
[null,null,null,null,null,null," ",null,null,{"$f":"IF(ISBLANK(D1280),\"\",CONCATENATE(C1280,#REF!,#REF!))","v":""}]
[null,null,null,null,null,null," ",null,null,{"$f":"IF(ISBLANK(D1281),\"\",CONCATENATE(C1281,#REF!,#REF!))","v":""}]
[null,null,null,null,null,null," ",null,null,{"$f":"IF(ISBLANK(D1282),\"\",CONCATENATE(C1282,#REF!,#REF!))","v":""}]
[null,null,null,null,null,null," ",null,null,{"$f":"IF(ISBLANK(D1283),\"\",CONCATENATE(C1283,#REF!,#REF!))","v":""}]
[null,null,null,null,null,null," ",null,null,{"$f":"IF(ISBLANK(D1284),\"\",CONCATENATE(C1284,#REF!,#REF!))","v":""}]
[null,null,null,null,null,null," ",null,null,{"$f":"IF(ISBLANK(D1285),\"\",CONCATENATE(C1285,#REF!,#REF!))","v":""}]
[null,null,null,null,null,null," ",null,null,{"$f":"IF(ISBLANK(D1286),\"\",CONCATENATE(C1286,#REF!,#REF!))","v":""}]
[null,null,null,null,null,null," ",null,null,{"$f":"IF(ISBLANK(D1287),\"\",CONCATENATE(C1287,#REF!,#REF!))","v":""}]
[null,null,null,null,null,null," ",null,null,{"$f":"IF(ISBLANK(D1288),\"\",CONCATENATE(C1288,#REF!,#REF!))","v":""}]
[null,null,null,null,null,null," ",null,null,{"$f":"IF(ISBLANK(D1289),\"\",CONCATENATE(C1289,#REF!,#REF!))","v":""}]
[null,null,null,null,null,null," ",null,null,{"$f":"IF(ISBLANK(D1290),\"\",CONCATENATE(C1290,#REF!,#REF!))","v":""}]
[null,null,null,null,null,null," ",null,null,{"$f":"IF(ISBLANK(D1291),\"\",CONCATENATE(C1291,#REF!,#REF!))","v":""}]
[null,null,null,null,null,null," ",null,null,{"$f":"IF(ISBLANK(D1292),\"\",CONCATENATE(C1292,#REF!,#REF!))","v":""}]
[null,null,null,null,null,null," ",null,null,{"$f":"IF(ISBLANK(D1293),\"\",CONCATENATE(C1293,#REF!,#REF!))","v":""}]
[null,null,null,null,null,null," ",null,null,{"$f":"IF(ISBLANK(D1294),\"\",CONCATENATE(C1294,#REF!,#REF!))","v":""}]
[null,null,null,null,null,null," ",null,null,{"$f":"IF(ISBLANK(D1295),\"\",CONCATENATE(C1295,#REF!,#REF!))","v":""}]
[null,null,null,null,null,null," ",null,null,{"$f":"IF(ISBLANK(D1296),\"\",CONCATENATE(C1296,#REF!,#REF!))","v":""}]
[null,null,null,null,null,null," ",null,null,{"$f":"IF(ISBLANK(D1297),\"\",CONCATENATE(C1297,#REF!,#REF!))","v":""}]
[null,null,null,null,null,null," ",null,null,{"$f":"IF(ISBLANK(D1298),\"\",CONCATENATE(C1298,#REF!,#REF!))","v":""}]
[null,null,null,null,null,null," ",null,null,{"$f":"IF(ISBLANK(D1299),\"\",CONCATENATE(C1299,#REF!,#REF!))","v":""}]
[null,null,null,null,null,null," ",null,null,{"$f":"IF(ISBLANK(D1300),\"\",CONCATENATE(C1300,#REF!,#REF!))","v":""}]
[null,null,null,null,null,null," ",null,null,{"$f":"IF(ISBLANK(D1301),\"\",CONCATENATE(C1301,#REF!,#REF!))","v":""}]
[null,null,null,null,null,null," ",null,null,{"$f":"IF(ISBLANK(D1302),\"\",CONCATENATE(C1302,#REF!,#REF!))","v":""}]
[null,null,null,null,null,null," ",null,null,{"$f":"IF(ISBLANK(D1303),\"\",CONCATENATE(C1303,#REF!,#REF!))","v":""}]
[null,null,null,null,null,null," ",null,null,{"$f":"IF(ISBLANK(D1304),\"\",CONCATENATE(C1304,#REF!,#REF!))","v":""}]
[null,null,null,null,null,null," ",null,null,{"$f":"IF(ISBLANK(D1305),\"\",CONCATENATE(C1305,#REF!,#REF!))","v":""}]
[null,null,null,null,null,null," ",null,null,{"$f":"IF(ISBLANK(D1306),\"\",CONCATENATE(C1306,#REF!,#REF!))","v":""}]
[null,null,null,null,null,null," ",null,null,{"$f":"IF(ISBLANK(D1307),\"\",CONCATENATE(C1307,#REF!,#REF!))","v":""}]
[null,null,null,null,null,null," ",null,null,{"$f":"IF(ISBLANK(D1308),\"\",CONCATENATE(C1308,#REF!,#REF!))","v":""}]
[null,null,null,null,null,null," ",null,null,{"$f":"IF(ISBLANK(D1309),\"\",CONCATENATE(C1309,#REF!,#REF!))","v":""}]
[null,null,null,null,null,null," ",null,null,{"$f":"IF(ISBLANK(D1310),\"\",CONCATENATE(C1310,#REF!,#REF!))","v":""}]
[null,null,null,null,null,null," ",null,null,{"$f":"IF(ISBLANK(D1311),\"\",CONCATENATE(C1311,#REF!,#REF!))","v":""}]
[null,null,null,null,null,null," ",null,null,{"$f":"IF(ISBLANK(D1312),\"\",CONCATENATE(C1312,#REF!,#REF!))","v":""}]
[null,null,null,null,null,null," ",null,null,{"$f":"IF(ISBLANK(D1313),\"\",CONCATENATE(C1313,#REF!,#REF!))","v":""}]
[null,null,null,null,null,null," ",null,null,{"$f":"IF(ISBLANK(D1314),\"\",CONCATENATE(C1314,#REF!,#REF!))","v":""}]
[null,null,null,null,null,null," ",null,null,{"$f":"IF(ISBLANK(D1315),\"\",CONCATENATE(C1315,#REF!,#REF!))","v":""}]
[null,null,null,null,null,null," ",null,null,{"$f":"IF(ISBLANK(D1316),\"\",CONCATENATE(C1316,#REF!,#REF!))","v":""}]
[null,null,null,null,null,null," ",null,null,{"$f":"IF(ISBLANK(D1317),\"\",CONCATENATE(C1317,#REF!,#REF!))","v":""}]
[null,null,null,null,null,null," ",null,null,{"$f":"IF(ISBLANK(D1318),\"\",CONCATENATE(C1318,#REF!,#REF!))","v":""}]
[null,null,null,null,null,null," ",null,null,{"$f":"IF(ISBLANK(D1319),\"\",CONCATENATE(C1319,#REF!,#REF!))","v":""}]
[null,null,null,null,null,null," ",null,null,{"$f":"IF(ISBLANK(D1320),\"\",CONCATENATE(C1320,#REF!,#REF!))","v":""}]
[null,null,null,null,null,null," ",null,null,{"$f":"IF(ISBLANK(D1321),\"\",CONCATENATE(C1321,#REF!,#REF!))","v":""}]
[null,null,null,null,null,null," ",null,null,{"$f":"IF(ISBLANK(D1322),\"\",CONCATENATE(C1322,#REF!,#REF!))","v":""}]
[null,null,null,null,null,null," ",null,null,{"$f":"IF(ISBLANK(D1323),\"\",CONCATENATE(C1323,#REF!,#REF!))","v":""}]
[null,null,null,null,null,null," ",null,null,{"$f":"IF(ISBLANK(D1324),\"\",CONCATENATE(C1324,#REF!,#REF!))","v":""}]
[null,null,null,null,null,null," ",null,null,{"$f":"IF(ISBLANK(D1325),\"\",CONCATENATE(C1325,#REF!,#REF!))","v":""}]
[null,null,null,null,null,null," ",null,null,{"$f":"IF(ISBLANK(D1326),\"\",CONCATENATE(C1326,#REF!,#REF!))","v":""}]
[null,null,null,null,null,null," ",null,null,{"$f":"IF(ISBLANK(D1327),\"\",CONCATENATE(C1327,#REF!,#REF!))","v":""}]
[null,null,null,null,null,null," ",null,null,{"$f":"IF(ISBLANK(D1328),\"\",CONCATENATE(C1328,#REF!,#REF!))","v":""}]
[null,null,null,null,null,null," ",null,null,{"$f":"IF(ISBLANK(D1329),\"\",CONCATENATE(C1329,#REF!,#REF!))","v":""}]
[null,null,null,null,null,null," ",null,null,{"$f":"IF(ISBLANK(D1330),\"\",CONCATENATE(C1330,#REF!,#REF!))","v":""}]
[null,null,null,null,null,null," ",null,null,{"$f":"IF(ISBLANK(D1331),\"\",CONCATENATE(C1331,#REF!,#REF!))","v":""}]
[null,null,null,null,null,null," ",null,null,{"$f":"IF(ISBLANK(D1332),\"\",CONCATENATE(C1332,#REF!,#REF!))","v":""}]
[null,null,null,null,null,null," ",null,null,{"$f":"IF(ISBLANK(D1333),\"\",CONCATENATE(C1333,#REF!,#REF!))","v":""}]
[null,null,null,null,null,null," ",null,null,{"$f":"IF(ISBLANK(D1334),\"\",CONCATENATE(C1334,#REF!,#REF!))","v":""}]
[null,null,null,null,null,null," ",null,null,{"$f":"IF(ISBLANK(D1335),\"\",CONCATENATE(C1335,#REF!,#REF!))","v":""}]
[null,null,null,null,null,null," ",null,null,{"$f":"IF(ISBLANK(D1336),\"\",CONCATENATE(C1336,#REF!,#REF!))","v":""}]
[null,null,null,null,null,null," ",null,null,{"$f":"IF(ISBLANK(D1337),\"\",CONCATENATE(C1337,#REF!,#REF!))","v":""}]
[null,null,null,null,null,null," ",null,null,{"$f":"IF(ISBLANK(D1338),\"\",CONCATENATE(C1338,#REF!,#REF!))","v":""}]
[null,null,null,null,null,null," ",null,null,{"$f":"IF(ISBLANK(D1339),\"\",CONCATENATE(C1339,#REF!,#REF!))","v":""}]
[null,null,null,null,null,null," ",null,null,{"$f":"IF(ISBLANK(D1340),\"\",CONCATENATE(C1340,#REF!,#REF!))","v":""}]
[null,null,null,null,null,null," ",null,null,{"$f":"IF(ISBLANK(D1341),\"\",CONCATENATE(C1341,#REF!,#REF!))","v":""}]
[null,null,null,null,null,null," ",null,null,{"$f":"IF(ISBLANK(D1342),\"\",CONCATENATE(C1342,#REF!,#REF!))","v":""}]
[null,null,null,null,null,null," ",null,null,{"$f":"IF(ISBLANK(D1343),\"\",CONCATENATE(C1343,#REF!,#REF!))","v":""}]
[null,null,null,null,null,null," ",null,null,{"$f":"IF(ISBLANK(D1344),\"\",CONCATENATE(C1344,#REF!,#REF!))","v":""}]
[null,null,null,null,null,null," ",null,null,{"$f":"IF(ISBLANK(D1345),\"\",CONCATENATE(C1345,#REF!,#REF!))","v":""}]
[null,null,null,null,null,null," ",null,null,{"$f":"IF(ISBLANK(D1346),\"\",CONCATENATE(C1346,#REF!,#REF!))","v":""}]
[null,null,null,null,null,null," ",null,null,{"$f":"IF(ISBLANK(D1347),\"\",CONCATENATE(C1347,#REF!,#REF!))","v":""}]
[null,null,null,null,null,null," ",null,null,{"$f":"IF(ISBLANK(D1348),\"\",CONCATENATE(C1348,#REF!,#REF!))","v":""}]
[null,null,null,null,null,null," ",null,null,{"$f":"IF(ISBLANK(D1349),\"\",CONCATENATE(C1349,#REF!,#REF!))","v":""}]
[null,null,null,null,null,null," ",null,null,{"$f":"IF(ISBLANK(D1350),\"\",CONCATENATE(C1350,#REF!,#REF!))","v":""}]
[null,null,null,null,null,null," ",null,null,{"$f":"IF(ISBLANK(D1351),\"\",CONCATENATE(C1351,#REF!,#REF!))","v":""}]
[null,null,null,null,null,null," ",null,null,{"$f":"IF(ISBLANK(D1352),\"\",CONCATENATE(C1352,#REF!,#REF!))","v":""}]
[null,null,null,null,null,null," ",null,null,{"$f":"IF(ISBLANK(D1353),\"\",CONCATENATE(C1353,#REF!,#REF!))","v":""}]
[null,null,null,null,null,null," ",null,null,{"$f":"IF(ISBLANK(D1354),\"\",CONCATENATE(C1354,#REF!,#REF!))","v":""}]
[null,null,null,null,null,null," ",null,null,{"$f":"IF(ISBLANK(D1355),\"\",CONCATENATE(C1355,#REF!,#REF!))","v":""}]
[null,null,null,null,null,null," ",null,null,{"$f":"IF(ISBLANK(D1356),\"\",CONCATENATE(C1356,#REF!,#REF!))","v":""}]
[null,null,null,null,null,null," ",null,null,{"$f":"IF(ISBLANK(D1357),\"\",CONCATENATE(C1357,#REF!,#REF!))","v":""}]
[null,null,null,null,null,null," ",null,null,{"$f":"IF(ISBLANK(D1358),\"\",CONCATENATE(C1358,#REF!,#REF!))","v":""}]
[null,null,null,null,null,null," ",null,null,{"$f":"IF(ISBLANK(D1359),\"\",CONCATENATE(C1359,#REF!,#REF!))","v":""}]
[null,null,null,null,null,null," ",null,null,{"$f":"IF(ISBLANK(D1360),\"\",CONCATENATE(C1360,#REF!,#REF!))","v":""}]
[null,null,null,null,null,null," ",null,null,{"$f":"IF(ISBLANK(D1361),\"\",CONCATENATE(C1361,#REF!,#REF!))","v":""}]
[null,null,null,null,null,null," ",null,null,{"$f":"IF(ISBLANK(D1362),\"\",CONCATENATE(C1362,#REF!,#REF!))","v":""}]
[null,null,null,null,null,null," ",null,null,{"$f":"IF(ISBLANK(D1363),\"\",CONCATENATE(C1363,#REF!,#REF!))","v":""}]
[null,null,null,null,null,null," ",null,null,{"$f":"IF(ISBLANK(D1364),\"\",CONCATENATE(C1364,#REF!,#REF!))","v":""}]
[null,null,null,null,null,null," ",null,null,{"$f":"IF(ISBLANK(D1365),\"\",CONCATENATE(C1365,#REF!,#REF!))","v":""}]
[null,null,null,null,null,null," ",null,null,{"$f":"IF(ISBLANK(D1366),\"\",CONCATENATE(C1366,#REF!,#REF!))","v":""}]
[null,null,null,null,null,null," ",null,null,{"$f":"IF(ISBLANK(D1367),\"\",CONCATENATE(C1367,#REF!,#REF!))","v":""}]
[null,null,null,null,null,null," ",null,null,{"$f":"IF(ISBLANK(D1368),\"\",CONCATENATE(C1368,#REF!,#REF!))","v":""}]
[null,null,null,null,null,null," ",null,null,{"$f":"IF(ISBLANK(D1369),\"\",CONCATENATE(C1369,#REF!,#REF!))","v":""}]
[null,null,null,null,null,null," ",null,null,{"$f":"IF(ISBLANK(D1370),\"\",CONCATENATE(C1370,#REF!,#REF!))","v":""}]
[null,null,null,null,null,null," ",null,null,{"$f":"IF(ISBLANK(D1371),\"\",CONCATENATE(C1371,#REF!,#REF!))","v":""}]
[null,null,null,null,null,null," ",null,null,{"$f":"IF(ISBLANK(D1372),\"\",CONCATENATE(C1372,#REF!,#REF!))","v":""}]
[null,null,null,null,null,null," ",null,null,{"$f":"IF(ISBLANK(D1373),\"\",CONCATENATE(C1373,#REF!,#REF!))","v":""}]
[null,null,null,null,null,null," ",null,null,{"$f":"IF(ISBLANK(D1374),\"\",CONCATENATE(C1374,#REF!,#REF!))","v":""}]
[null,null,null,null,null,null," ",null,null,{"$f":"IF(ISBLANK(D1375),\"\",CONCATENATE(C1375,#REF!,#REF!))","v":""}]
[null,null,null,null,null,null," ",null,null,{"$f":"IF(ISBLANK(D1376),\"\",CONCATENATE(C1376,#REF!,#REF!))","v":""}]
[null,null,null,null,null,null," ",null,null,{"$f":"IF(ISBLANK(D1377),\"\",CONCATENATE(C1377,#REF!,#REF!))","v":""}]
[null,null,null,null,null,null," ",null,null,{"$f":"IF(ISBLANK(D1378),\"\",CONCATENATE(C1378,#REF!,#REF!))","v":""}]
[null,null,null,null,null,null," ",null,null,{"$f":"IF(ISBLANK(D1379),\"\",CONCATENATE(C1379,#REF!,#REF!))","v":""}]
[null,null,null,null,null,null," ",null,null,{"$f":"IF(ISBLANK(D1380),\"\",CONCATENATE(C1380,#REF!,#REF!))","v":""}]
[null,null,null,null,null,null," ",null,null,{"$f":"IF(ISBLANK(D1381),\"\",CONCATENATE(C1381,#REF!,#REF!))","v":""}]
[null,null,null,null,null,null," ",null,null,{"$f":"IF(ISBLANK(D1382),\"\",CONCATENATE(C1382,#REF!,#REF!))","v":""}]
[null,null,null,null,null,null," ",null,null,{"$f":"IF(ISBLANK(D1383),\"\",CONCATENATE(C1383,#REF!,#REF!))","v":""}]
[null,null,null,null,null,null," ",null,null,{"$f":"IF(ISBLANK(D1384),\"\",CONCATENATE(C1384,#REF!,#REF!))","v":""}]
[null,null,null,null,null,null," ",null,null,{"$f":"IF(ISBLANK(D1385),\"\",CONCATENATE(C1385,#REF!,#REF!))","v":""}]
[null,null,null,null,null,null," ",null,null,{"$f":"IF(ISBLANK(D1386),\"\",CONCATENATE(C1386,#REF!,#REF!))","v":""}]
[null,null,null,null,null,null," ",null,null,{"$f":"IF(ISBLANK(D1387),\"\",CONCATENATE(C1387,#REF!,#REF!))","v":""}]
[null,null,null,null,null,null," ",null,null,{"$f":"IF(ISBLANK(D1388),\"\",CONCATENATE(C1388,#REF!,#REF!))","v":""}]
[null,null,null,null,null,null," ",null,null,{"$f":"IF(ISBLANK(D1389),\"\",CONCATENATE(C1389,#REF!,#REF!))","v":""}]
[null,null,null,null,null,null," ",null,null,{"$f":"IF(ISBLANK(D1390),\"\",CONCATENATE(C1390,#REF!,#REF!))","v":""}]
[null,null,null,null,null,null," ",null,null,{"$f":"IF(ISBLANK(D1391),\"\",CONCATENATE(C1391,#REF!,#REF!))","v":""}]
[null,null,null,null,null,null," ",null,null,{"$f":"IF(ISBLANK(D1392),\"\",CONCATENATE(C1392,#REF!,#REF!))","v":""}]
[null,null,null,null,null,null," ",null,null,{"$f":"IF(ISBLANK(D1393),\"\",CONCATENATE(C1393,#REF!,#REF!))","v":""}]
[null,null,null,null,null,null," ",null,null,{"$f":"IF(ISBLANK(D1394),\"\",CONCATENATE(C1394,#REF!,#REF!))","v":""}]
[null,null,null,null,null,null," ",null,null,{"$f":"IF(ISBLANK(D1395),\"\",CONCATENATE(C1395,#REF!,#REF!))","v":""}]
[null,null,null,null,null,null," ",null,null,{"$f":"IF(ISBLANK(D1396),\"\",CONCATENATE(C1396,#REF!,#REF!))","v":""}]
[null,null,null,null,null,null," ",null,null,{"$f":"IF(ISBLANK(D1397),\"\",CONCATENATE(C1397,#REF!,#REF!))","v":""}]
[null,null,null,null,null,null," ",null,null,{"$f":"IF(ISBLANK(D1398),\"\",CONCATENATE(C1398,#REF!,#REF!))","v":""}]
[null,null,null,null,null,null," ",null,null,{"$f":"IF(ISBLANK(D1399),\"\",CONCATENATE(C1399,#REF!,#REF!))","v":""}]
[null,null,null,null,null,null," ",null,null,{"$f":"IF(ISBLANK(D1400),\"\",CONCATENATE(C1400,#REF!,#REF!))","v":""}]
[null,null,null,null,null,null," ",null,null,{"$f":"IF(ISBLANK(D1401),\"\",CONCATENATE(C1401,#REF!,#REF!))","v":""}]
[null,null,null,null,null,null," ",null,null,{"$f":"IF(ISBLANK(D1402),\"\",CONCATENATE(C1402,#REF!,#REF!))","v":""}]
[null,null,null,null,null,null," ",null,null,{"$f":"IF(ISBLANK(D1403),\"\",CONCATENATE(C1403,#REF!,#REF!))","v":""}]
[null,null,null,null,null,null," ",null,null,{"$f":"IF(ISBLANK(D1404),\"\",CONCATENATE(C1404,#REF!,#REF!))","v":""}]
[null,null,null,null,null,null," ",null,null,{"$f":"IF(ISBLANK(D1405),\"\",CONCATENATE(C1405,#REF!,#REF!))","v":""}]
[null,null,null,null,null,null," ",null,null,{"$f":"IF(ISBLANK(D1406),\"\",CONCATENATE(C1406,#REF!,#REF!))","v":""}]
[null,null,null,null,null,null," ",null,null,{"$f":"IF(ISBLANK(D1407),\"\",CONCATENATE(C1407,#REF!,#REF!))","v":""}]
[null,null,null,null,null,null," ",null,null,{"$f":"IF(ISBLANK(D1408),\"\",CONCATENATE(C1408,#REF!,#REF!))","v":""}]
[null,null,null,null,null,null," ",null,null,{"$f":"IF(ISBLANK(D1409),\"\",CONCATENATE(C1409,#REF!,#REF!))","v":""}]
[null,null,null,null,null,null," ",null,null,{"$f":"IF(ISBLANK(D1410),\"\",CONCATENATE(C1410,#REF!,#REF!))","v":""}]
[null,null,null,null,null,null," ",null,null,{"$f":"IF(ISBLANK(D1411),\"\",CONCATENATE(C1411,#REF!,#REF!))","v":""}]
[null,null,null,null,null,null," ",null,null,{"$f":"IF(ISBLANK(D1412),\"\",CONCATENATE(C1412,#REF!,#REF!))","v":""}]
[null,null,null,null,null,null," ",null,null,{"$f":"IF(ISBLANK(D1413),\"\",CONCATENATE(C1413,#REF!,#REF!))","v":""}]
[null,null,null,null,null,null," ",null,null,{"$f":"IF(ISBLANK(D1414),\"\",CONCATENATE(C1414,#REF!,#REF!))","v":""}]
[null,null,null,null,null,null," ",null,null,{"$f":"IF(ISBLANK(D1415),\"\",CONCATENATE(C1415,#REF!,#REF!))","v":""}]
[null,null,null,null,null,null," ",null,null,{"$f":"IF(ISBLANK(D1416),\"\",CONCATENATE(C1416,#REF!,#REF!))","v":""}]
[null,null,null,null,null,null," ",null,null,{"$f":"IF(ISBLANK(D1417),\"\",CONCATENATE(C1417,#REF!,#REF!))","v":""}]
[null,null,null,null,null,null," ",null,null,{"$f":"IF(ISBLANK(D1418),\"\",CONCATENATE(C1418,#REF!,#REF!))","v":""}]
[null,null,null,null,null,null," ",null,null,{"$f":"IF(ISBLANK(D1419),\"\",CONCATENATE(C1419,#REF!,#REF!))","v":""}]
[null,null,null,null,null,null," ",null,null,{"$f":"IF(ISBLANK(D1420),\"\",CONCATENATE(C1420,#REF!,#REF!))","v":""}]
[null,null,null,null,null,null," ",null,null,{"$f":"IF(ISBLANK(D1421),\"\",CONCATENATE(C1421,#REF!,#REF!))","v":""}]
[null,null,null,null,null,null," ",null,null,{"$f":"IF(ISBLANK(D1422),\"\",CONCATENATE(C1422,#REF!,#REF!))","v":""}]
[null,null,null,null,null,null," ",null,null,{"$f":"IF(ISBLANK(D1423),\"\",CONCATENATE(C1423,#REF!,#REF!))","v":""}]
[null,null,null,null,null,null," ",null,null,{"$f":"IF(ISBLANK(D1424),\"\",CONCATENATE(C1424,#REF!,#REF!))","v":""}]
[null,null,null,null,null,null," ",null,null,{"$f":"IF(ISBLANK(D1425),\"\",CONCATENATE(C1425,#REF!,#REF!))","v":""}]
[null,null,null,null,null,null," ",null,null,{"$f":"IF(ISBLANK(D1426),\"\",CONCATENATE(C1426,#REF!,#REF!))","v":""}]
[null,null,null,null,null,null," ",null,null,{"$f":"IF(ISBLANK(D1427),\"\",CONCATENATE(C1427,#REF!,#REF!))","v":""}]
[null,null,null,null,null,null," ",null,null,{"$f":"IF(ISBLANK(D1428),\"\",CONCATENATE(C1428,#REF!,#REF!))","v":""}]
[null,null,null,null,null,null," ",null,null,{"$f":"IF(ISBLANK(D1429),\"\",CONCATENATE(C1429,#REF!,#REF!))","v":""}]
[null,null,null,null,null,null," ",null,null,{"$f":"IF(ISBLANK(D1430),\"\",CONCATENATE(C1430,#REF!,#REF!))","v":""}]
[null,null,null,null,null,null," ",null,null,{"$f":"IF(ISBLANK(D1431),\"\",CONCATENATE(C1431,#REF!,#REF!))","v":""}]
[null,null,null,null,null,null," ",null,null,{"$f":"IF(ISBLANK(D1432),\"\",CONCATENATE(C1432,#REF!,#REF!))","v":""}]
[null,null,null,null,null,null," ",null,null,{"$f":"IF(ISBLANK(D1433),\"\",CONCATENATE(C1433,#REF!,#REF!))","v":""}]
[null,null,null,null,null,null," ",null,null,{"$f":"IF(ISBLANK(D1434),\"\",CONCATENATE(C1434,#REF!,#REF!))","v":""}]
[null,null,null,null,null,null," ",null,null,{"$f":"IF(ISBLANK(D1435),\"\",CONCATENATE(C1435,#REF!,#REF!))","v":""}]
[null,null,null,null,null,null," ",null,null,{"$f":"IF(ISBLANK(D1436),\"\",CONCATENATE(C1436,#REF!,#REF!))","v":""}]
[null,null,null,null,null,null," ",null,null,{"$f":"IF(ISBLANK(D1437),\"\",CONCATENATE(C1437,#REF!,#REF!))","v":""}]
[null,null,null,null,null,null," ",null,null,{"$f":"IF(ISBLANK(D1438),\"\",CONCATENATE(C1438,#REF!,#REF!))","v":""}]
[null,null,null,null,null,null," ",null,null,{"$f":"IF(ISBLANK(D1439),\"\",CONCATENATE(C1439,#REF!,#REF!))","v":""}]
[null,null,null,null,null,null," ",null,null,{"$f":"IF(ISBLANK(D1440),\"\",CONCATENATE(C1440,#REF!,#REF!))","v":""}]
[null,null,null,null,null,null," ",null,null,{"$f":"IF(ISBLANK(D1441),\"\",CONCATENATE(C1441,#REF!,#REF!))","v":""}]
[null,null,null,null,null,null," ",null,null,{"$f":"IF(ISBLANK(D1442),\"\",CONCATENATE(C1442,#REF!,#REF!))","v":""}]
[null,null,null,null,null,null," ",null,null,{"$f":"IF(ISBLANK(D1443),\"\",CONCATENATE(C1443,#REF!,#REF!))","v":""}]
[null,null,null,null,null,null," ",null,null,{"$f":"IF(ISBLANK(D1444),\"\",CONCATENATE(C1444,#REF!,#REF!))","v":""}]
[null,null,null,null,null,null," ",null,null,{"$f":"IF(ISBLANK(D1445),\"\",CONCATENATE(C1445,#REF!,#REF!))","v":""}]
[null,null,null,null,null,null," ",null,null,{"$f":"IF(ISBLANK(D1446),\"\",CONCATENATE(C1446,#REF!,#REF!))","v":""}]
[null,null,null,null,null,null," ",null,null,{"$f":"IF(ISBLANK(D1447),\"\",CONCATENATE(C1447,#REF!,#REF!))","v":""}]
[null,null,null,null,null,null," ",null,null,{"$f":"IF(ISBLANK(D1448),\"\",CONCATENATE(C1448,#REF!,#REF!))","v":""}]
[null,null,null,null,null,null," ",null,null,{"$f":"IF(ISBLANK(D1449),\"\",CONCATENATE(C1449,#REF!,#REF!))","v":""}]
[null,null,null,null,null,null," ",null,null,{"$f":"IF(ISBLANK(D1450),\"\",CONCATENATE(C1450,#REF!,#REF!))","v":""}]
[null,null,null,null,null,null," ",null,null,{"$f":"IF(ISBLANK(D1451),\"\",CONCATENATE(C1451,#REF!,#REF!))","v":""}]
[null,null,null,null,null,null," ",null,null,{"$f":"IF(ISBLANK(D1452),\"\",CONCATENATE(C1452,#REF!,#REF!))","v":""}]
[null,null,null,null,null,null," ",null,null,{"$f":"IF(ISBLANK(D1453),\"\",CONCATENATE(C1453,#REF!,#REF!))","v":""}]
[null,null,null,null,null,null," ",null,null,{"$f":"IF(ISBLANK(D1454),\"\",CONCATENATE(C1454,#REF!,#REF!))","v":""}]
[null,null,null,null,null,null," ",null,null,{"$f":"IF(ISBLANK(D1455),\"\",CONCATENATE(C1455,#REF!,#REF!))","v":""}]
[null,null,null,null,null,null," ",null,null,{"$f":"IF(ISBLANK(D1456),\"\",CONCATENATE(C1456,#REF!,#REF!))","v":""}]
[null,null,null,null,null,null," ",null,null,{"$f":"IF(ISBLANK(D1457),\"\",CONCATENATE(C1457,#REF!,#REF!))","v":""}]
[null,null,null,null,null,null," ",null,null,{"$f":"IF(ISBLANK(D1458),\"\",CONCATENATE(C1458,#REF!,#REF!))","v":""}]
[null,null,null,null,null,null," ",null,null,{"$f":"IF(ISBLANK(D1459),\"\",CONCATENATE(C1459,#REF!,#REF!))","v":""}]
[null,null,null,null,null,null," ",null,null,{"$f":"IF(ISBLANK(D1460),\"\",CONCATENATE(C1460,#REF!,#REF!))","v":""}]
[null,null,null,null,null,null," ",null,null,{"$f":"IF(ISBLANK(D1461),\"\",CONCATENATE(C1461,#REF!,#REF!))","v":""}]
[null,null,null,null,null,null," ",null,null,{"$f":"IF(ISBLANK(D1462),\"\",CONCATENATE(C1462,#REF!,#REF!))","v":""}]
[null,null,null,null,null,null," ",null,null,{"$f":"IF(ISBLANK(D1463),\"\",CONCATENATE(C1463,#REF!,#REF!))","v":""}]
[null,null,null,null,null,null," ",null,null,{"$f":"IF(ISBLANK(D1464),\"\",CONCATENATE(C1464,#REF!,#REF!))","v":""}]
[null,null,null,null,null,null," ",null,null,{"$f":"IF(ISBLANK(D1465),\"\",CONCATENATE(C1465,#REF!,#REF!))","v":""}]
[null,null,null,null,null,null," ",null,null,{"$f":"IF(ISBLANK(D1466),\"\",CONCATENATE(C1466,#REF!,#REF!))","v":""}]
[null,null,null,null,null,null," ",null,null,{"$f":"IF(ISBLANK(D1467),\"\",CONCATENATE(C1467,#REF!,#REF!))","v":""}]
[null,null,null,null,null,null," ",null,null,{"$f":"IF(ISBLANK(D1468),\"\",CONCATENATE(C1468,#REF!,#REF!))","v":""}]
[null,null,null,null,null,null," ",null,null,{"$f":"IF(ISBLANK(D1469),\"\",CONCATENATE(C1469,#REF!,#REF!))","v":""}]
[null,null,null,null,null,null," ",null,null,{"$f":"IF(ISBLANK(D1470),\"\",CONCATENATE(C1470,#REF!,#REF!))","v":""}]
[null,null,null,null,null,null," ",null,null,{"$f":"IF(ISBLANK(D1471),\"\",CONCATENATE(C1471,#REF!,#REF!))","v":""}]
[null,null,null,null,null,null," ",null,null,{"$f":"IF(ISBLANK(D1472),\"\",CONCATENATE(C1472,#REF!,#REF!))","v":""}]
[null,null,null,null,null,null," ",null,null,{"$f":"IF(ISBLANK(D1473),\"\",CONCATENATE(C1473,#REF!,#REF!))","v":""}]
[null,null,null,null,null,null," ",null,null,{"$f":"IF(ISBLANK(D1474),\"\",CONCATENATE(C1474,#REF!,#REF!))","v":""}]
[null,null,null,null,null,null," ",null,null,{"$f":"IF(ISBLANK(D1475),\"\",CONCATENATE(C1475,#REF!,#REF!))","v":""}]
[null,null,null,null,null,null," ",null,null,{"$f":"IF(ISBLANK(D1476),\"\",CONCATENATE(C1476,#REF!,#REF!))","v":""}]
[null,null,null,null,null,null," ",null,null,{"$f":"IF(ISBLANK(D1477),\"\",CONCATENATE(C1477,#REF!,#REF!))","v":""}]
[null,null,null,null,null,null," ",null,null,{"$f":"IF(ISBLANK(D1478),\"\",CONCATENATE(C1478,#REF!,#REF!))","v":""}]
[null,null,null,null,null,null," ",null,null,{"$f":"IF(ISBLANK(D1479),\"\",CONCATENATE(C1479,#REF!,#REF!))","v":""}]
[null,null,null,null,null,null," ",null,null,{"$f":"IF(ISBLANK(D1480),\"\",CONCATENATE(C1480,#REF!,#REF!))","v":""}]
[null,null,null,null,null,null," ",null,null,{"$f":"IF(ISBLANK(D1481),\"\",CONCATENATE(C1481,#REF!,#REF!))","v":""}]
[null,null,null,null,null,null," ",null,null,{"$f":"IF(ISBLANK(D1482),\"\",CONCATENATE(C1482,#REF!,#REF!))","v":""}]
[null,null,null,null,null,null," ",null,null,{"$f":"IF(ISBLANK(D1483),\"\",CONCATENATE(C1483,#REF!,#REF!))","v":""}]
[null,null,null,null,null,null," ",null,null,{"$f":"IF(ISBLANK(D1484),\"\",CONCATENATE(C1484,#REF!,#REF!))","v":""}]
[null,null,null,null,null,null," ",null,null,{"$f":"IF(ISBLANK(D1485),\"\",CONCATENATE(C1485,#REF!,#REF!))","v":""}]
[null,null,null,null,null,null," ",null,null,{"$f":"IF(ISBLANK(D1486),\"\",CONCATENATE(C1486,#REF!,#REF!))","v":""}]
[null,null,null,null,null,null," ",null,null,{"$f":"IF(ISBLANK(D1487),\"\",CONCATENATE(C1487,#REF!,#REF!))","v":""}]
[null,null,null,null,null,null," ",null,null,{"$f":"IF(ISBLANK(D1488),\"\",CONCATENATE(C1488,#REF!,#REF!))","v":""}]
[null,null,null,null,null,null," ",null,null,{"$f":"IF(ISBLANK(D1489),\"\",CONCATENATE(C1489,#REF!,#REF!))","v":""}]
[null,null,null,null,null,null," ",null,null,{"$f":"IF(ISBLANK(D1490),\"\",CONCATENATE(C1490,#REF!,#REF!))","v":""}]
[null,null,null,null,null,null," ",null,null,{"$f":"IF(ISBLANK(D1491),\"\",CONCATENATE(C1491,#REF!,#REF!))","v":""}]
[null,null,null,null,null,null," ",null,null,{"$f":"IF(ISBLANK(D1492),\"\",CONCATENATE(C1492,#REF!,#REF!))","v":""}]
[null,null,null,null,null,null," ",null,null,{"$f":"IF(ISBLANK(D1493),\"\",CONCATENATE(C1493,#REF!,#REF!))","v":""}]
[null,null,null,null,null,null," ",null,null,{"$f":"IF(ISBLANK(D1494),\"\",CONCATENATE(C1494,#REF!,#REF!))","v":""}]
[null,null,null,null,null,null," ",null,null,{"$f":"IF(ISBLANK(D1495),\"\",CONCATENATE(C1495,#REF!,#REF!))","v":""}]
[null,null,null,null,null,null," ",null,null,{"$f":"IF(ISBLANK(D1496),\"\",CONCATENATE(C1496,#REF!,#REF!))","v":""}]
[null,null,null,null,null,null," ",null,null,{"$f":"IF(ISBLANK(D1497),\"\",CONCATENATE(C1497,#REF!,#REF!))","v":""}]
[null,null,null,null,null,null," ",null,null,{"$f":"IF(ISBLANK(D1498),\"\",CONCATENATE(C1498,#REF!,#REF!))","v":""}]
[null,null,null,null,null,null," ",null,null,{"$f":"IF(ISBLANK(D1499),\"\",CONCATENATE(C1499,#REF!,#REF!))","v":""}]
[null,null,null,null,null,null," ",null,null,{"$f":"IF(ISBLANK(D1500),\"\",CONCATENATE(C1500,#REF!,#REF!))","v":""}]
[null,null,null,null,null,null," ",null,null,{"$f":"IF(ISBLANK(D1501),\"\",CONCATENATE(C1501,#REF!,#REF!))","v":""}]
[null,null,null,null,null,null," ",null,null,{"$f":"IF(ISBLANK(D1502),\"\",CONCATENATE(C1502,#REF!,#REF!))","v":""}]
[null,null,null,null,null,null," ",null,null,{"$f":"IF(ISBLANK(D1503),\"\",CONCATENATE(C1503,#REF!,#REF!))","v":""}]
[null,null,null,null,null,null," ",null,null,{"$f":"IF(ISBLANK(D1504),\"\",CONCATENATE(C1504,#REF!,#REF!))","v":""}]
[null,null,null,null,null,null," ",null,null,{"$f":"IF(ISBLANK(D1505),\"\",CONCATENATE(C1505,#REF!,#REF!))","v":""}]
[null,null,null,null,null,null," ",null,null,{"$f":"IF(ISBLANK(D1506),\"\",CONCATENATE(C1506,#REF!,#REF!))","v":""}]
[null,null,null,null,null,null," ",null,null,{"$f":"IF(ISBLANK(D1507),\"\",CONCATENATE(C1507,#REF!,#REF!))","v":""}]
[null,null,null,null,null,null," ",null,null,{"$f":"IF(ISBLANK(D1508),\"\",CONCATENATE(C1508,#REF!,#REF!))","v":""}]
[null,null,null,null,null,null," ",null,null,{"$f":"IF(ISBLANK(D1509),\"\",CONCATENATE(C1509,#REF!,#REF!))","v":""}]
[null,null,null,null,null,null," ",null,null,{"$f":"IF(ISBLANK(D1510),\"\",CONCATENATE(C1510,#REF!,#REF!))","v":""}]
[null,null,null,null,null,null," ",null,null,{"$f":"IF(ISBLANK(D1511),\"\",CONCATENATE(C1511,#REF!,#REF!))","v":""}]
[null,null,null,null,null,null," ",null,null,{"$f":"IF(ISBLANK(D1512),\"\",CONCATENATE(C1512,#REF!,#REF!))","v":""}]
[null,null,null,null,null,null," ",null,null,{"$f":"IF(ISBLANK(D1513),\"\",CONCATENATE(C1513,#REF!,#REF!))","v":""}]
[null,null,null,null,null,null," ",null,null,{"$f":"IF(ISBLANK(D1514),\"\",CONCATENATE(C1514,#REF!,#REF!))","v":""}]
[null,null,null,null,null,null," ",null,null,{"$f":"IF(ISBLANK(D1515),\"\",CONCATENATE(C1515,#REF!,#REF!))","v":""}]
[null,null,null,null,null,null," ",null,null,{"$f":"IF(ISBLANK(D1516),\"\",CONCATENATE(C1516,#REF!,#REF!))","v":""}]
[null,null,null,null,null,null," ",null,null,{"$f":"IF(ISBLANK(D1517),\"\",CONCATENATE(C1517,#REF!,#REF!))","v":""}]
[null,null,null,null,null,null," ",null,null,{"$f":"IF(ISBLANK(D1518),\"\",CONCATENATE(C1518,#REF!,#REF!))","v":""}]
[null,null,null,null,null,null," ",null,null,{"$f":"IF(ISBLANK(D1519),\"\",CONCATENATE(C1519,#REF!,#REF!))","v":""}]
[null,null,null,null,null,null," ",null,null,{"$f":"IF(ISBLANK(D1520),\"\",CONCATENATE(C1520,#REF!,#REF!))","v":""}]
[null,null,null,null,null,null," ",null,null,{"$f":"IF(ISBLANK(D1521),\"\",CONCATENATE(C1521,#REF!,#REF!))","v":""}]
[null,null,null,null,null,null," ",null,null,{"$f":"IF(ISBLANK(D1522),\"\",CONCATENATE(C1522,#REF!,#REF!))","v":""}]
[null,null,null,null,null,null," ",null,null,{"$f":"IF(ISBLANK(D1523),\"\",CONCATENATE(C1523,#REF!,#REF!))","v":""}]
[null,null,null,null,null,null," ",null,null,{"$f":"IF(ISBLANK(D1524),\"\",CONCATENATE(C1524,#REF!,#REF!))","v":""}]
[null,null,null,null,null,null," ",null,null,{"$f":"IF(ISBLANK(D1525),\"\",CONCATENATE(C1525,#REF!,#REF!))","v":""}]
[null,null,null,null,null,null," ",null,null,{"$f":"IF(ISBLANK(D1526),\"\",CONCATENATE(C1526,#REF!,#REF!))","v":""}]
[null,null,null,null,null,null," ",null,null,{"$f":"IF(ISBLANK(D1527),\"\",CONCATENATE(C1527,#REF!,#REF!))","v":""}]
[null,null,null,null,null,null," ",null,null,{"$f":"IF(ISBLANK(D1528),\"\",CONCATENATE(C1528,#REF!,#REF!))","v":""}]
[null,null,null,null,null,null," ",null,null,{"$f":"IF(ISBLANK(D1529),\"\",CONCATENATE(C1529,#REF!,#REF!))","v":""}]
[null,null,null,null,null,null," ",null,null,{"$f":"IF(ISBLANK(D1530),\"\",CONCATENATE(C1530,#REF!,#REF!))","v":""}]
[null,null,null,null,null,null," ",null,null,{"$f":"IF(ISBLANK(D1531),\"\",CONCATENATE(C1531,#REF!,#REF!))","v":""}]
[null,null,null,null,null,null," ",null,null,{"$f":"IF(ISBLANK(D1532),\"\",CONCATENATE(C1532,#REF!,#REF!))","v":""}]
[null,null,null,null,null,null," ",null,null,{"$f":"IF(ISBLANK(D1533),\"\",CONCATENATE(C1533,#REF!,#REF!))","v":""}]
[null,null,null,null,null,null," ",null,null,{"$f":"IF(ISBLANK(D1534),\"\",CONCATENATE(C1534,#REF!,#REF!))","v":""}]
[null,null,null,null,null,null," ",null,null,{"$f":"IF(ISBLANK(D1535),\"\",CONCATENATE(C1535,#REF!,#REF!))","v":""}]
[null,null,null,null,null,null," ",null,null,{"$f":"IF(ISBLANK(D1536),\"\",CONCATENATE(C1536,#REF!,#REF!))","v":""}]
[null,null,null,null,null,null," ",null,null,{"$f":"IF(ISBLANK(D1537),\"\",CONCATENATE(C1537,#REF!,#REF!))","v":""}]
[null,null,null,null,null,null," ",null,null,{"$f":"IF(ISBLANK(D1538),\"\",CONCATENATE(C1538,#REF!,#REF!))","v":""}]
[null,null,null,null,null,null," ",null,null,{"$f":"IF(ISBLANK(D1539),\"\",CONCATENATE(C1539,#REF!,#REF!))","v":""}]
[null,null,null,null,null,null," ",null,null,{"$f":"IF(ISBLANK(D1540),\"\",CONCATENATE(C1540,#REF!,#REF!))","v":""}]
[null,null,null,null,null,null," ",null,null,{"$f":"IF(ISBLANK(D1541),\"\",CONCATENATE(C1541,#REF!,#REF!))","v":""}]
[null,null,null,null,null,null," ",null,null,{"$f":"IF(ISBLANK(D1542),\"\",CONCATENATE(C1542,#REF!,#REF!))","v":""}]
[null,null,null,null,null,null," ",null,null,{"$f":"IF(ISBLANK(D1543),\"\",CONCATENATE(C1543,#REF!,#REF!))","v":""}]
[null,null,null,null,null,null," ",null,null,{"$f":"IF(ISBLANK(D1544),\"\",CONCATENATE(C1544,#REF!,#REF!))","v":""}]
[null,null,null,null,null,null," ",null,null,{"$f":"IF(ISBLANK(D1545),\"\",CONCATENATE(C1545,#REF!,#REF!))","v":""}]
[null,null,null,null,null,null," ",null,null,{"$f":"IF(ISBLANK(D1546),\"\",CONCATENATE(C1546,#REF!,#REF!))","v":""}]
[null,null,null,null,null,null," ",null,null,{"$f":"IF(ISBLANK(D1547),\"\",CONCATENATE(C1547,#REF!,#REF!))","v":""}]
[null,null,null,null,null,null," ",null,null,{"$f":"IF(ISBLANK(D1548),\"\",CONCATENATE(C1548,#REF!,#REF!))","v":""}]
[null,null,null,null,null,null," ",null,null,{"$f":"IF(ISBLANK(D1549),\"\",CONCATENATE(C1549,#REF!,#REF!))","v":""}]
[null,null,null,null,null,null," ",null,null,{"$f":"IF(ISBLANK(D1550),\"\",CONCATENATE(C1550,#REF!,#REF!))","v":""}]
[null,null,null,null,null,null," ",null,null,{"$f":"IF(ISBLANK(D1551),\"\",CONCATENATE(C1551,#REF!,#REF!))","v":""}]
[null,null,null,null,null,null," ",null,null,{"$f":"IF(ISBLANK(D1552),\"\",CONCATENATE(C1552,#REF!,#REF!))","v":""}]
[null,null,null,null,null,null," ",null,null,{"$f":"IF(ISBLANK(D1553),\"\",CONCATENATE(C1553,#REF!,#REF!))","v":""}]
[null,null,null,null,null,null," ",null,null,{"$f":"IF(ISBLANK(D1554),\"\",CONCATENATE(C1554,#REF!,#REF!))","v":""}]
[null,null,null,null,null,null," ",null,null,{"$f":"IF(ISBLANK(D1555),\"\",CONCATENATE(C1555,#REF!,#REF!))","v":""}]
[null,null,null,null,null,null," ",null,null,{"$f":"IF(ISBLANK(D1556),\"\",CONCATENATE(C1556,#REF!,#REF!))","v":""}]
[null,null,null,null,null,null," ",null,null,{"$f":"IF(ISBLANK(D1557),\"\",CONCATENATE(C1557,#REF!,#REF!))","v":""}]
[null,null,null,null,null,null," ",null,null,{"$f":"IF(ISBLANK(D1558),\"\",CONCATENATE(C1558,#REF!,#REF!))","v":""}]
[null,null,null,null,null,null," ",null,null,{"$f":"IF(ISBLANK(D1559),\"\",CONCATENATE(C1559,#REF!,#REF!))","v":""}]
[null,null,null,null,null,null," ",null,null,{"$f":"IF(ISBLANK(D1560),\"\",CONCATENATE(C1560,#REF!,#REF!))","v":""}]
[null,null,null,null,null,null," ",null,null,{"$f":"IF(ISBLANK(D1561),\"\",CONCATENATE(C1561,#REF!,#REF!))","v":""}]
[null,null,null,null,null,null," ",null,null,{"$f":"IF(ISBLANK(D1562),\"\",CONCATENATE(C1562,#REF!,#REF!))","v":""}]
[null,null,null,null,null,null," ",null,null,{"$f":"IF(ISBLANK(D1563),\"\",CONCATENATE(C1563,#REF!,#REF!))","v":""}]
[null,null,null,null,null,null," ",null,null,{"$f":"IF(ISBLANK(D1564),\"\",CONCATENATE(C1564,#REF!,#REF!))","v":""}]
[null,null,null,null,null,null," ",null,null,{"$f":"IF(ISBLANK(D1565),\"\",CONCATENATE(C1565,#REF!,#REF!))","v":""}]
[null,null,null,null,null,null," ",null,null,{"$f":"IF(ISBLANK(D1566),\"\",CONCATENATE(C1566,#REF!,#REF!))","v":""}]
[null,null,null,null,null,null," ",null,null,{"$f":"IF(ISBLANK(D1567),\"\",CONCATENATE(C1567,#REF!,#REF!))","v":""}]
[null,null,null,null,null,null," ",null,null,{"$f":"IF(ISBLANK(D1568),\"\",CONCATENATE(C1568,#REF!,#REF!))","v":""}]
[null,null,null,null,null,null," ",null,null,{"$f":"IF(ISBLANK(D1569),\"\",CONCATENATE(C1569,#REF!,#REF!))","v":""}]
[null,null,null,null,null,null," ",null,null,{"$f":"IF(ISBLANK(D1570),\"\",CONCATENATE(C1570,#REF!,#REF!))","v":""}]
[null,null,null,null,null,null," ",null,null,{"$f":"IF(ISBLANK(D1571),\"\",CONCATENATE(C1571,#REF!,#REF!))","v":""}]
[null,null,null,null,null,null," ",null,null,{"$f":"IF(ISBLANK(D1572),\"\",CONCATENATE(C1572,#REF!,#REF!))","v":""}]
[null,null,null,null,null,null," ",null,null,{"$f":"IF(ISBLANK(D1573),\"\",CONCATENATE(C1573,#REF!,#REF!))","v":""}]
[null,null,null,null,null,null," ",null,null,{"$f":"IF(ISBLANK(D1574),\"\",CONCATENATE(C1574,#REF!,#REF!))","v":""}]
[null,null,null,null,null,null," ",null,null,{"$f":"IF(ISBLANK(D1575),\"\",CONCATENATE(C1575,#REF!,#REF!))","v":""}]
[null,null,null,null,null,null," ",null,null,{"$f":"IF(ISBLANK(D1576),\"\",CONCATENATE(C1576,#REF!,#REF!))","v":""}]
[null,null,null,null,null,null," ",null,null,{"$f":"IF(ISBLANK(D1577),\"\",CONCATENATE(C1577,#REF!,#REF!))","v":""}]
[null,null,null,null,null,null," ",null,null,{"$f":"IF(ISBLANK(D1578),\"\",CONCATENATE(C1578,#REF!,#REF!))","v":""}]
[null,null,null,null,null,null," ",null,null,{"$f":"IF(ISBLANK(D1579),\"\",CONCATENATE(C1579,#REF!,#REF!))","v":""}]
[null,null,null,null,null,null," ",null,null,{"$f":"IF(ISBLANK(D1580),\"\",CONCATENATE(C1580,#REF!,#REF!))","v":""}]
[null,null,null,null,null,null," ",null,null,{"$f":"IF(ISBLANK(D1581),\"\",CONCATENATE(C1581,#REF!,#REF!))","v":""}]
[null,null,null,null,null,null," ",null,null,{"$f":"IF(ISBLANK(D1582),\"\",CONCATENATE(C1582,#REF!,#REF!))","v":""}]
[null,null,null,null,null,null," ",null,null,{"$f":"IF(ISBLANK(D1583),\"\",CONCATENATE(C1583,#REF!,#REF!))","v":""}]
[null,null,null,null,null,null," ",null,null,{"$f":"IF(ISBLANK(D1584),\"\",CONCATENATE(C1584,#REF!,#REF!))","v":""}]
[null,null,null,null,null,null," ",null,null,{"$f":"IF(ISBLANK(D1585),\"\",CONCATENATE(C1585,#REF!,#REF!))","v":""}]
[null,null,null,null,null,null," ",null,null,{"$f":"IF(ISBLANK(D1586),\"\",CONCATENATE(C1586,#REF!,#REF!))","v":""}]
[null,null,null,null,null,null," ",null,null,{"$f":"IF(ISBLANK(D1587),\"\",CONCATENATE(C1587,#REF!,#REF!))","v":""}]
[null,null,null,null,null,null," ",null,null,{"$f":"IF(ISBLANK(D1588),\"\",CONCATENATE(C1588,#REF!,#REF!))","v":""}]
[null,null,null,null,null,null," ",null,null,{"$f":"IF(ISBLANK(D1589),\"\",CONCATENATE(C1589,#REF!,#REF!))","v":""}]
[null,null,null,null,null,null," ",null,null,{"$f":"IF(ISBLANK(D1590),\"\",CONCATENATE(C1590,#REF!,#REF!))","v":""}]
[null,null,null,null,null,null," ",null,null,{"$f":"IF(ISBLANK(D1591),\"\",CONCATENATE(C1591,#REF!,#REF!))","v":""}]
[null,null,null,null,null,null," ",null,null,{"$f":"IF(ISBLANK(D1592),\"\",CONCATENATE(C1592,#REF!,#REF!))","v":""}]
[null,null,null,null,null,null," ",null,null,{"$f":"IF(ISBLANK(D1593),\"\",CONCATENATE(C1593,#REF!,#REF!))","v":""}]
[null,null,null,null,null,null," ",null,null,{"$f":"IF(ISBLANK(D1594),\"\",CONCATENATE(C1594,#REF!,#REF!))","v":""}]
[null,null,null,null,null,null," ",null,null,{"$f":"IF(ISBLANK(D1595),\"\",CONCATENATE(C1595,#REF!,#REF!))","v":""}]
[null,null,null,null,null,null," ",null,null,{"$f":"IF(ISBLANK(D1596),\"\",CONCATENATE(C1596,#REF!,#REF!))","v":""}]
[null,null,null,null,null,null," ",null,null,{"$f":"IF(ISBLANK(D1597),\"\",CONCATENATE(C1597,#REF!,#REF!))","v":""}]
[null,null,null,null,null,null," ",null,null,{"$f":"IF(ISBLANK(D1598),\"\",CONCATENATE(C1598,#REF!,#REF!))","v":""}]
[null,null,null,null,null,null," ",null,null,{"$f":"IF(ISBLANK(D1599),\"\",CONCATENATE(C1599,#REF!,#REF!))","v":""}]
[null,null,null,null,null,null," ",null,null,{"$f":"IF(ISBLANK(D1600),\"\",CONCATENATE(C1600,#REF!,#REF!))","v":""}]
[null,null,null,null,null,null," ",null,null,{"$f":"IF(ISBLANK(D1601),\"\",CONCATENATE(C1601,#REF!,#REF!))","v":""}]
[null,null,null,null,null,null," ",null,null,{"$f":"IF(ISBLANK(D1602),\"\",CONCATENATE(C1602,#REF!,#REF!))","v":""}]
[null,null,null,null,null,null," ",null,null,{"$f":"IF(ISBLANK(D1603),\"\",CONCATENATE(C1603,#REF!,#REF!))","v":""}]
[null,null,null,null,null,null," ",null,null,{"$f":"IF(ISBLANK(D1604),\"\",CONCATENATE(C1604,#REF!,#REF!))","v":""}]
[null,null,null,null,null,null," ",null,null,{"$f":"IF(ISBLANK(D1605),\"\",CONCATENATE(C1605,#REF!,#REF!))","v":""}]
[null,null,null,null,null,null," ",null,null,{"$f":"IF(ISBLANK(D1606),\"\",CONCATENATE(C1606,#REF!,#REF!))","v":""}]
[null,null,null,null,null,null," ",null,null,{"$f":"IF(ISBLANK(D1607),\"\",CONCATENATE(C1607,#REF!,#REF!))","v":""}]
[null,null,null,null,null,null," ",null,null,{"$f":"IF(ISBLANK(D1608),\"\",CONCATENATE(C1608,#REF!,#REF!))","v":""}]
[null,null,null,null,null,null," ",null,null,{"$f":"IF(ISBLANK(D1609),\"\",CONCATENATE(C1609,#REF!,#REF!))","v":""}]
[null,null,null,null,null,null," ",null,null,{"$f":"IF(ISBLANK(D1610),\"\",CONCATENATE(C1610,#REF!,#REF!))","v":""}]
[null,null,null,null,null,null," ",null,null,{"$f":"IF(ISBLANK(D1611),\"\",CONCATENATE(C1611,#REF!,#REF!))","v":""}]
[null,null,null,null,null,null," ",null,null,{"$f":"IF(ISBLANK(D1612),\"\",CONCATENATE(C1612,#REF!,#REF!))","v":""}]
[null,null,null,null,null,null," ",null,null,{"$f":"IF(ISBLANK(D1613),\"\",CONCATENATE(C1613,#REF!,#REF!))","v":""}]
[null,null,null,null,null,null," ",null,null,{"$f":"IF(ISBLANK(D1614),\"\",CONCATENATE(C1614,#REF!,#REF!))","v":""}]
[null,null,null,null,null,null," ",null,null,{"$f":"IF(ISBLANK(D1615),\"\",CONCATENATE(C1615,#REF!,#REF!))","v":""}]
[null,null,null,null,null,null," ",null,null,{"$f":"IF(ISBLANK(D1616),\"\",CONCATENATE(C1616,#REF!,#REF!))","v":""}]
[null,null,null,null,null,null," ",null,null,{"$f":"IF(ISBLANK(D1617),\"\",CONCATENATE(C1617,#REF!,#REF!))","v":""}]
[null,null,null,null,null,null," ",null,null,{"$f":"IF(ISBLANK(D1618),\"\",CONCATENATE(C1618,#REF!,#REF!))","v":""}]
[null,null,null,null,null,null," ",null,null,{"$f":"IF(ISBLANK(D1619),\"\",CONCATENATE(C1619,#REF!,#REF!))","v":""}]
[null,null,null,null,null,null," ",null,null,{"$f":"IF(ISBLANK(D1620),\"\",CONCATENATE(C1620,#REF!,#REF!))","v":""}]
[null,null,null,null,null,null," ",null,null,{"$f":"IF(ISBLANK(D1621),\"\",CONCATENATE(C1621,#REF!,#REF!))","v":""}]
[null,null,null,null,null,null," ",null,null,{"$f":"IF(ISBLANK(D1622),\"\",CONCATENATE(C1622,#REF!,#REF!))","v":""}]
[null,null,null,null,null,null," ",null,null,{"$f":"IF(ISBLANK(D1623),\"\",CONCATENATE(C1623,#REF!,#REF!))","v":""}]
[null,null,null,null,null,null," ",null,null,{"$f":"IF(ISBLANK(D1624),\"\",CONCATENATE(C1624,#REF!,#REF!))","v":""}]
[null,null,null,null,null,null," ",null,null,{"$f":"IF(ISBLANK(D1625),\"\",CONCATENATE(C1625,#REF!,#REF!))","v":""}]
[null,null,null,null,null,null," ",null,null,{"$f":"IF(ISBLANK(D1626),\"\",CONCATENATE(C1626,#REF!,#REF!))","v":""}]
[null,null,null,null,null,null," ",null,null,{"$f":"IF(ISBLANK(D1627),\"\",CONCATENATE(C1627,#REF!,#REF!))","v":""}]
[null,null,null,null,null,null," ",null,null,{"$f":"IF(ISBLANK(D1628),\"\",CONCATENATE(C1628,#REF!,#REF!))","v":""}]
[null,null,null,null,null,null," ",null,null,{"$f":"IF(ISBLANK(D1629),\"\",CONCATENATE(C1629,#REF!,#REF!))","v":""}]
[null,null,null,null,null,null," ",null,null,{"$f":"IF(ISBLANK(D1630),\"\",CONCATENATE(C1630,#REF!,#REF!))","v":""}]
[null,null,null,null,null,null," ",null,null,{"$f":"IF(ISBLANK(D1631),\"\",CONCATENATE(C1631,#REF!,#REF!))","v":""}]
[null,null,null,null,null,null," ",null,null,{"$f":"IF(ISBLANK(D1632),\"\",CONCATENATE(C1632,#REF!,#REF!))","v":""}]
[null,null,null,null,null,null," ",null,null,{"$f":"IF(ISBLANK(D1633),\"\",CONCATENATE(C1633,#REF!,#REF!))","v":""}]
[null,null,null,null,null,null," ",null,null,{"$f":"IF(ISBLANK(D1634),\"\",CONCATENATE(C1634,#REF!,#REF!))","v":""}]
[null,null,null,null,null,null," ",null,null,{"$f":"IF(ISBLANK(D1635),\"\",CONCATENATE(C1635,#REF!,#REF!))","v":""}]
[null,null,null,null,null,null," ",null,null,{"$f":"IF(ISBLANK(D1636),\"\",CONCATENATE(C1636,#REF!,#REF!))","v":""}]
[null,null,null,null,null,null," ",null,null,{"$f":"IF(ISBLANK(D1637),\"\",CONCATENATE(C1637,#REF!,#REF!))","v":""}]
[null,null,null,null,null,null," ",null,null,{"$f":"IF(ISBLANK(D1638),\"\",CONCATENATE(C1638,#REF!,#REF!))","v":""}]
[null,null,null,null,null,null," ",null,null,{"$f":"IF(ISBLANK(D1639),\"\",CONCATENATE(C1639,#REF!,#REF!))","v":""}]
[null,null,null,null,null,null," ",null,null,{"$f":"IF(ISBLANK(D1640),\"\",CONCATENATE(C1640,#REF!,#REF!))","v":""}]
[null,null,null,null,null,null," ",null,null,{"$f":"IF(ISBLANK(D1641),\"\",CONCATENATE(C1641,#REF!,#REF!))","v":""}]
[null,null,null,null,null,null," ",null,null,{"$f":"IF(ISBLANK(D1642),\"\",CONCATENATE(C1642,#REF!,#REF!))","v":""}]
[null,null,null,null,null,null," ",null,null,{"$f":"IF(ISBLANK(D1643),\"\",CONCATENATE(C1643,#REF!,#REF!))","v":""}]
[null,null,null,null,null,null," ",null,null,{"$f":"IF(ISBLANK(D1644),\"\",CONCATENATE(C1644,#REF!,#REF!))","v":""}]
[null,null,null,null,null,null," ",null,null,{"$f":"IF(ISBLANK(D1645),\"\",CONCATENATE(C1645,#REF!,#REF!))","v":""}]
[null,null,null,null,null,null," ",null,null,{"$f":"IF(ISBLANK(D1646),\"\",CONCATENATE(C1646,#REF!,#REF!))","v":""}]
[null,null,null,null,null,null," ",null,null,{"$f":"IF(ISBLANK(D1647),\"\",CONCATENATE(C1647,#REF!,#REF!))","v":""}]
[null,null,null,null,null,null," ",null,null,{"$f":"IF(ISBLANK(D1648),\"\",CONCATENATE(C1648,#REF!,#REF!))","v":""}]
[null,null,null,null,null,null," ",null,null,{"$f":"IF(ISBLANK(D1649),\"\",CONCATENATE(C1649,#REF!,#REF!))","v":""}]
[null,null,null,null,null,null," ",null,null,{"$f":"IF(ISBLANK(D1650),\"\",CONCATENATE(C1650,#REF!,#REF!))","v":""}]
[null,null,null,null,null,null," ",null,null,{"$f":"IF(ISBLANK(D1651),\"\",CONCATENATE(C1651,#REF!,#REF!))","v":""}]
[null,null,null,null,null,null," ",null,null,{"$f":"IF(ISBLANK(D1652),\"\",CONCATENATE(C1652,#REF!,#REF!))","v":""}]
[null,null,null,null,null,null," ",null,null,{"$f":"IF(ISBLANK(D1653),\"\",CONCATENATE(C1653,#REF!,#REF!))","v":""}]
[null,null,null,null,null,null," ",null,null,{"$f":"IF(ISBLANK(D1654),\"\",CONCATENATE(C1654,#REF!,#REF!))","v":""}]
[null,null,null,null,null,null," ",null,null,{"$f":"IF(ISBLANK(D1655),\"\",CONCATENATE(C1655,#REF!,#REF!))","v":""}]
[null,null,null,null,null,null," ",null,null,{"$f":"IF(ISBLANK(D1656),\"\",CONCATENATE(C1656,#REF!,#REF!))","v":""}]
[null,null,null,null,null,null," ",null,null,{"$f":"IF(ISBLANK(D1657),\"\",CONCATENATE(C1657,#REF!,#REF!))","v":""}]
[null,null,null,null,null,null," ",null,null,{"$f":"IF(ISBLANK(D1658),\"\",CONCATENATE(C1658,#REF!,#REF!))","v":""}]
[null,null,null,null,null,null," ",null,null,{"$f":"IF(ISBLANK(D1659),\"\",CONCATENATE(C1659,#REF!,#REF!))","v":""}]
[null,null,null,null,null,null," ",null,null,{"$f":"IF(ISBLANK(D1660),\"\",CONCATENATE(C1660,#REF!,#REF!))","v":""}]
[null,null,null,null,null,null," ",null,null,{"$f":"IF(ISBLANK(D1661),\"\",CONCATENATE(C1661,#REF!,#REF!))","v":""}]
[null,null,null,null,null,null," ",null,null,{"$f":"IF(ISBLANK(D1662),\"\",CONCATENATE(C1662,#REF!,#REF!))","v":""}]
[null,null,null,null,null,null," ",null,null,{"$f":"IF(ISBLANK(D1663),\"\",CONCATENATE(C1663,#REF!,#REF!))","v":""}]
[null,null,null,null,null,null," ",null,null,{"$f":"IF(ISBLANK(D1664),\"\",CONCATENATE(C1664,#REF!,#REF!))","v":""}]
[null,null,null,null,null,null," ",null,null,{"$f":"IF(ISBLANK(D1665),\"\",CONCATENATE(C1665,#REF!,#REF!))","v":""}]
[null,null,null,null,null,null," ",null,null,{"$f":"IF(ISBLANK(D1666),\"\",CONCATENATE(C1666,#REF!,#REF!))","v":""}]
[null,null,null,null,null,null," ",null,null,{"$f":"IF(ISBLANK(D1667),\"\",CONCATENATE(C1667,#REF!,#REF!))","v":""}]
[null,null,null,null,null,null," ",null,null,{"$f":"IF(ISBLANK(D1668),\"\",CONCATENATE(C1668,#REF!,#REF!))","v":""}]
[null,null,null,null,null,null," ",null,null,{"$f":"IF(ISBLANK(D1669),\"\",CONCATENATE(C1669,#REF!,#REF!))","v":""}]
[null,null,null,null,null,null," ",null,null,{"$f":"IF(ISBLANK(D1670),\"\",CONCATENATE(C1670,#REF!,#REF!))","v":""}]
[null,null,null,null,null,null," ",null,null,{"$f":"IF(ISBLANK(D1671),\"\",CONCATENATE(C1671,#REF!,#REF!))","v":""}]
[null,null,null,null,null,null," ",null,null,{"$f":"IF(ISBLANK(D1672),\"\",CONCATENATE(C1672,#REF!,#REF!))","v":""}]
[null,null,null,null,null,null," ",null,null,{"$f":"IF(ISBLANK(D1673),\"\",CONCATENATE(C1673,#REF!,#REF!))","v":""}]
[null,null,null,null,null,null," ",null,null,{"$f":"IF(ISBLANK(D1674),\"\",CONCATENATE(C1674,#REF!,#REF!))","v":""}]
[null,null,null,null,null,null," ",null,null,{"$f":"IF(ISBLANK(D1675),\"\",CONCATENATE(C1675,#REF!,#REF!))","v":""}]
[null,null,null,null,null,null," ",null,null,{"$f":"IF(ISBLANK(D1676),\"\",CONCATENATE(C1676,#REF!,#REF!))","v":""}]
[null,null,null,null,null,null," ",null,null,{"$f":"IF(ISBLANK(D1677),\"\",CONCATENATE(C1677,#REF!,#REF!))","v":""}]
[null,null,null,null,null,null," ",null,null,{"$f":"IF(ISBLANK(D1678),\"\",CONCATENATE(C1678,#REF!,#REF!))","v":""}]
[null,null,null,null,null,null," ",null,null,{"$f":"IF(ISBLANK(D1679),\"\",CONCATENATE(C1679,#REF!,#REF!))","v":""}]
[null,null,null,null,null,null," ",null,null,{"$f":"IF(ISBLANK(D1680),\"\",CONCATENATE(C1680,#REF!,#REF!))","v":""}]
[null,null,null,null,null,null," ",null,null,{"$f":"IF(ISBLANK(D1681),\"\",CONCATENATE(C1681,#REF!,#REF!))","v":""}]
[null,null,null,null,null,null," ",null,null,{"$f":"IF(ISBLANK(D1682),\"\",CONCATENATE(C1682,#REF!,#REF!))","v":""}]
[null,null,null,null,null,null," ",null,null,{"$f":"IF(ISBLANK(D1683),\"\",CONCATENATE(C1683,#REF!,#REF!))","v":""}]
[null,null,null,null,null,null," ",null,null,{"$f":"IF(ISBLANK(D1684),\"\",CONCATENATE(C1684,#REF!,#REF!))","v":""}]
[null,null,null,null,null,null," ",null,null,{"$f":"IF(ISBLANK(D1685),\"\",CONCATENATE(C1685,#REF!,#REF!))","v":""}]
[null,null,null,null,null,null," ",null,null,{"$f":"IF(ISBLANK(D1686),\"\",CONCATENATE(C1686,#REF!,#REF!))","v":""}]
[null,null,null,null,null,null," ",null,null,{"$f":"IF(ISBLANK(D1687),\"\",CONCATENATE(C1687,#REF!,#REF!))","v":""}]
[null,null,null,null,null,null," ",null,null,{"$f":"IF(ISBLANK(D1688),\"\",CONCATENATE(C1688,#REF!,#REF!))","v":""}]
[null,null,null,null,null,null," ",null,null,{"$f":"IF(ISBLANK(D1689),\"\",CONCATENATE(C1689,#REF!,#REF!))","v":""}]
[null,null,null,null,null,null," ",null,null,{"$f":"IF(ISBLANK(D1690),\"\",CONCATENATE(C1690,#REF!,#REF!))","v":""}]
[null,null,null,null,null,null," ",null,null,{"$f":"IF(ISBLANK(D1691),\"\",CONCATENATE(C1691,#REF!,#REF!))","v":""}]
[null,null,null,null,null,null," ",null,null,{"$f":"IF(ISBLANK(D1692),\"\",CONCATENATE(C1692,#REF!,#REF!))","v":""}]
[null,null,null,null,null,null," ",null,null,{"$f":"IF(ISBLANK(D1693),\"\",CONCATENATE(C1693,#REF!,#REF!))","v":""}]
[null,null,null,null,null,null," ",null,null,{"$f":"IF(ISBLANK(D1694),\"\",CONCATENATE(C1694,#REF!,#REF!))","v":""}]
[null,null,null,null,null,null," ",null,null,{"$f":"IF(ISBLANK(D1695),\"\",CONCATENATE(C1695,#REF!,#REF!))","v":""}]
[null,null,null,null,null,null," ",null,null,{"$f":"IF(ISBLANK(D1696),\"\",CONCATENATE(C1696,#REF!,#REF!))","v":""}]
[null,null,null,null,null,null," ",null,null,{"$f":"IF(ISBLANK(D1697),\"\",CONCATENATE(C1697,#REF!,#REF!))","v":""}]
[null,null,null,null,null,null," ",null,null,{"$f":"IF(ISBLANK(D1698),\"\",CONCATENATE(C1698,#REF!,#REF!))","v":""}]
[null,null,null,null,null,null," ",null,null,{"$f":"IF(ISBLANK(D1699),\"\",CONCATENATE(C1699,#REF!,#REF!))","v":""}]
[null,null,null,null,null,null," ",null,null,{"$f":"IF(ISBLANK(D1700),\"\",CONCATENATE(C1700,#REF!,#REF!))","v":""}]
[null,null,null,null,null,null," ",null,null,{"$f":"IF(ISBLANK(D1701),\"\",CONCATENATE(C1701,#REF!,#REF!))","v":""}]
[null,null,null,null,null,null," ",null,null,{"$f":"IF(ISBLANK(D1702),\"\",CONCATENATE(C1702,#REF!,#REF!))","v":""}]
[null,null,null,null,null,null," ",null,null,{"$f":"IF(ISBLANK(D1703),\"\",CONCATENATE(C1703,#REF!,#REF!))","v":""}]
[null,null,null,null,null,null," ",null,null,{"$f":"IF(ISBLANK(D1704),\"\",CONCATENATE(C1704,#REF!,#REF!))","v":""}]
[null,null,null,null,null,null," ",null,null,{"$f":"IF(ISBLANK(D1705),\"\",CONCATENATE(C1705,#REF!,#REF!))","v":""}]
[null,null,null,null,null,null," ",null,null,{"$f":"IF(ISBLANK(D1706),\"\",CONCATENATE(C1706,#REF!,#REF!))","v":""}]
[null,null,null,null,null,null," ",null,null,{"$f":"IF(ISBLANK(D1707),\"\",CONCATENATE(C1707,#REF!,#REF!))","v":""}]
[null,null,null,null,null,null," ",null,null,{"$f":"IF(ISBLANK(D1708),\"\",CONCATENATE(C1708,#REF!,#REF!))","v":""}]
[null,null,null,null,null,null," ",null,null,{"$f":"IF(ISBLANK(D1709),\"\",CONCATENATE(C1709,#REF!,#REF!))","v":""}]
[null,null,null,null,null,null," ",null,null,{"$f":"IF(ISBLANK(D1710),\"\",CONCATENATE(C1710,#REF!,#REF!))","v":""}]
[null,null,null,null,null,null," ",null,null,{"$f":"IF(ISBLANK(D1711),\"\",CONCATENATE(C1711,#REF!,#REF!))","v":""}]
[null,null,null,null,null,null," ",null,null,{"$f":"IF(ISBLANK(D1712),\"\",CONCATENATE(C1712,#REF!,#REF!))","v":""}]
[null,null,null,null,null,null," ",null,null,{"$f":"IF(ISBLANK(D1713),\"\",CONCATENATE(C1713,#REF!,#REF!))","v":""}]
[null,null,null,null,null,null," ",null,null,{"$f":"IF(ISBLANK(D1714),\"\",CONCATENATE(C1714,#REF!,#REF!))","v":""}]
[null,null,null,null,null,null," ",null,null,{"$f":"IF(ISBLANK(D1715),\"\",CONCATENATE(C1715,#REF!,#REF!))","v":""}]
[null,null,null,null,null,null," ",null,null,{"$f":"IF(ISBLANK(D1716),\"\",CONCATENATE(C1716,#REF!,#REF!))","v":""}]
[null,null,null,null,null,null," ",null,null,{"$f":"IF(ISBLANK(D1717),\"\",CONCATENATE(C1717,#REF!,#REF!))","v":""}]
[null,null,null,null,null,null," ",null,null,{"$f":"IF(ISBLANK(D1718),\"\",CONCATENATE(C1718,#REF!,#REF!))","v":""}]
[null,null,null,null,null,null," ",null,null,{"$f":"IF(ISBLANK(D1719),\"\",CONCATENATE(C1719,#REF!,#REF!))","v":""}]
[null,null,null,null,null,null," ",null,null,{"$f":"IF(ISBLANK(D1720),\"\",CONCATENATE(C1720,#REF!,#REF!))","v":""}]
[null,null,null,null,null,null," ",null,null,{"$f":"IF(ISBLANK(D1721),\"\",CONCATENATE(C1721,#REF!,#REF!))","v":""}]
[null,null,null,null,null,null," ",null,null,{"$f":"IF(ISBLANK(D1722),\"\",CONCATENATE(C1722,#REF!,#REF!))","v":""}]
[null,null,null,null,null,null," ",null,null,{"$f":"IF(ISBLANK(D1723),\"\",CONCATENATE(C1723,#REF!,#REF!))","v":""}]
[null,null,null,null,null,null," ",null,null,{"$f":"IF(ISBLANK(D1724),\"\",CONCATENATE(C1724,#REF!,#REF!))","v":""}]
[null,null,null,null,null,null," ",null,null,{"$f":"IF(ISBLANK(D1725),\"\",CONCATENATE(C1725,#REF!,#REF!))","v":""}]
[null,null,null,null,null,null," ",null,null,{"$f":"IF(ISBLANK(D1726),\"\",CONCATENATE(C1726,#REF!,#REF!))","v":""}]
[null,null,null,null,null,null," ",null,null,{"$f":"IF(ISBLANK(D1727),\"\",CONCATENATE(C1727,#REF!,#REF!))","v":""}]
[null,null,null,null,null,null," ",null,null,{"$f":"IF(ISBLANK(D1728),\"\",CONCATENATE(C1728,#REF!,#REF!))","v":""}]
[null,null,null,null,null,null," ",null,null,{"$f":"IF(ISBLANK(D1729),\"\",CONCATENATE(C1729,#REF!,#REF!))","v":""}]
[null,null,null,null,null,null," ",null,null,{"$f":"IF(ISBLANK(D1730),\"\",CONCATENATE(C1730,#REF!,#REF!))","v":""}]
[null,null,null,null,null,null," ",null,null,{"$f":"IF(ISBLANK(D1731),\"\",CONCATENATE(C1731,#REF!,#REF!))","v":""}]
[null,null,null,null,null,null," ",null,null,{"$f":"IF(ISBLANK(D1732),\"\",CONCATENATE(C1732,#REF!,#REF!))","v":""}]
[null,null,null,null,null,null," ",null,null,{"$f":"IF(ISBLANK(D1733),\"\",CONCATENATE(C1733,#REF!,#REF!))","v":""}]
[null,null,null,null,null,null," ",null,null,{"$f":"IF(ISBLANK(D1734),\"\",CONCATENATE(C1734,#REF!,#REF!))","v":""}]
[null,null,null,null,null,null," ",null,null,{"$f":"IF(ISBLANK(D1735),\"\",CONCATENATE(C1735,#REF!,#REF!))","v":""}]
[null,null,null,null,null,null," ",null,null,{"$f":"IF(ISBLANK(D1736),\"\",CONCATENATE(C1736,#REF!,#REF!))","v":""}]
[null,null,null,null,null,null," ",null,null,{"$f":"IF(ISBLANK(D1737),\"\",CONCATENATE(C1737,#REF!,#REF!))","v":""}]
[null,null,null,null,null,null," ",null,null,{"$f":"IF(ISBLANK(D1738),\"\",CONCATENATE(C1738,#REF!,#REF!))","v":""}]
[null,null,null,null,null,null," ",null,null,{"$f":"IF(ISBLANK(D1739),\"\",CONCATENATE(C1739,#REF!,#REF!))","v":""}]
[null,null,null,null,null,null," ",null,null,{"$f":"IF(ISBLANK(D1740),\"\",CONCATENATE(C1740,#REF!,#REF!))","v":""}]
[null,null,null,null,null,null," ",null,null,{"$f":"IF(ISBLANK(D1741),\"\",CONCATENATE(C1741,#REF!,#REF!))","v":""}]
[null,null,null,null,null,null," ",null,null,{"$f":"IF(ISBLANK(D1742),\"\",CONCATENATE(C1742,#REF!,#REF!))","v":""}]
[null,null,null,null,null,null," ",null,null,{"$f":"IF(ISBLANK(D1743),\"\",CONCATENATE(C1743,#REF!,#REF!))","v":""}]
[null,null,null,null,null,null," ",null,null,{"$f":"IF(ISBLANK(D1744),\"\",CONCATENATE(C1744,#REF!,#REF!))","v":""}]
[null,null,null,null,null,null," ",null,null,{"$f":"IF(ISBLANK(D1745),\"\",CONCATENATE(C1745,#REF!,#REF!))","v":""}]
[null,null,null,null,null,null," ",null,null,{"$f":"IF(ISBLANK(D1746),\"\",CONCATENATE(C1746,#REF!,#REF!))","v":""}]
[null,null,null,null,null,null," ",null,null,{"$f":"IF(ISBLANK(D1747),\"\",CONCATENATE(C1747,#REF!,#REF!))","v":""}]
[null,null,null,null,null,null," ",null,null,{"$f":"IF(ISBLANK(D1748),\"\",CONCATENATE(C1748,#REF!,#REF!))","v":""}]
[null,null,null,null,null,null," ",null,null,{"$f":"IF(ISBLANK(D1749),\"\",CONCATENATE(C1749,#REF!,#REF!))","v":""}]
[null,null,null,null,null,null," ",null,null,{"$f":"IF(ISBLANK(D1750),\"\",CONCATENATE(C1750,#REF!,#REF!))","v":""}]
[null,null,null,null,null,null," ",null,null,{"$f":"IF(ISBLANK(D1751),\"\",CONCATENATE(C1751,#REF!,#REF!))","v":""}]
[null,null,null,null,null,null," ",null,null,{"$f":"IF(ISBLANK(D1752),\"\",CONCATENATE(C1752,#REF!,#REF!))","v":""}]
[null,null,null,null,null,null," ",null,null,{"$f":"IF(ISBLANK(D1753),\"\",CONCATENATE(C1753,#REF!,#REF!))","v":""}]
[null,null,null,null,null,null," ",null,null,{"$f":"IF(ISBLANK(D1754),\"\",CONCATENATE(C1754,#REF!,#REF!))","v":""}]
[null,null,null,null,null,null," ",null,null,{"$f":"IF(ISBLANK(D1755),\"\",CONCATENATE(C1755,#REF!,#REF!))","v":""}]
[null,null,null,null,null,null," ",null,null,{"$f":"IF(ISBLANK(D1756),\"\",CONCATENATE(C1756,#REF!,#REF!))","v":""}]
[null,null,null,null,null,null," ",null,null,{"$f":"IF(ISBLANK(D1757),\"\",CONCATENATE(C1757,#REF!,#REF!))","v":""}]
[null,null,null,null,null,null," ",null,null,{"$f":"IF(ISBLANK(D1758),\"\",CONCATENATE(C1758,#REF!,#REF!))","v":""}]
[null,null,null,null,null,null," ",null,null,{"$f":"IF(ISBLANK(D1759),\"\",CONCATENATE(C1759,#REF!,#REF!))","v":""}]
[null,null,null,null,null,null," ",null,null,{"$f":"IF(ISBLANK(D1760),\"\",CONCATENATE(C1760,#REF!,#REF!))","v":""}]
[null,null,null,null,null,null," ",null,null,{"$f":"IF(ISBLANK(D1761),\"\",CONCATENATE(C1761,#REF!,#REF!))","v":""}]
[null,null,null,null,null,null," ",null,null,{"$f":"IF(ISBLANK(D1762),\"\",CONCATENATE(C1762,#REF!,#REF!))","v":""}]
[null,null,null,null,null,null," ",null,null,{"$f":"IF(ISBLANK(D1763),\"\",CONCATENATE(C1763,#REF!,#REF!))","v":""}]
[null,null,null,null,null,null," ",null,null,{"$f":"IF(ISBLANK(D1764),\"\",CONCATENATE(C1764,#REF!,#REF!))","v":""}]
[null,null,null,null,null,null," ",null,null,{"$f":"IF(ISBLANK(D1765),\"\",CONCATENATE(C1765,#REF!,#REF!))","v":""}]
[null,null,null,null,null,null," ",null,null,{"$f":"IF(ISBLANK(D1766),\"\",CONCATENATE(C1766,#REF!,#REF!))","v":""}]
[null,null,null,null,null,null," ",null,null,{"$f":"IF(ISBLANK(D1767),\"\",CONCATENATE(C1767,#REF!,#REF!))","v":""}]
[null,null,null,null,null,null," ",null,null,{"$f":"IF(ISBLANK(D1768),\"\",CONCATENATE(C1768,#REF!,#REF!))","v":""}]
[null,null,null,null,null,null," ",null,null,{"$f":"IF(ISBLANK(D1769),\"\",CONCATENATE(C1769,#REF!,#REF!))","v":""}]
[null,null,null,null,null,null," ",null,null,{"$f":"IF(ISBLANK(D1770),\"\",CONCATENATE(C1770,#REF!,#REF!))","v":""}]
[null,null,null,null,null,null," ",null,null,{"$f":"IF(ISBLANK(D1771),\"\",CONCATENATE(C1771,#REF!,#REF!))","v":""}]
[null,null,null,null,null,null," ",null,null,{"$f":"IF(ISBLANK(D1772),\"\",CONCATENATE(C1772,#REF!,#REF!))","v":""}]
[null,null,null,null,null,null," ",null,null,{"$f":"IF(ISBLANK(D1773),\"\",CONCATENATE(C1773,#REF!,#REF!))","v":""}]
[null,null,null,null,null,null," ",null,null,{"$f":"IF(ISBLANK(D1774),\"\",CONCATENATE(C1774,#REF!,#REF!))","v":""}]
[null,null,null,null,null,null," ",null,null,{"$f":"IF(ISBLANK(D1775),\"\",CONCATENATE(C1775,#REF!,#REF!))","v":""}]
[null,null,null,null,null,null," ",null,null,{"$f":"IF(ISBLANK(D1776),\"\",CONCATENATE(C1776,#REF!,#REF!))","v":""}]
[null,null,null,null,null,null," ",null,null,{"$f":"IF(ISBLANK(D1777),\"\",CONCATENATE(C1777,#REF!,#REF!))","v":""}]
[null,null,null,null,null,null," ",null,null,{"$f":"IF(ISBLANK(D1778),\"\",CONCATENATE(C1778,#REF!,#REF!))","v":""}]
[null,null,null,null,null,null," ",null,null,{"$f":"IF(ISBLANK(D1779),\"\",CONCATENATE(C1779,#REF!,#REF!))","v":""}]
[null,null,null,null,null,null," ",null,null,{"$f":"IF(ISBLANK(D1780),\"\",CONCATENATE(C1780,#REF!,#REF!))","v":""}]
[null,null,null,null,null,null," ",null,null,{"$f":"IF(ISBLANK(D1781),\"\",CONCATENATE(C1781,#REF!,#REF!))","v":""}]
[null,null,null,null,null,null," ",null,null,{"$f":"IF(ISBLANK(D1782),\"\",CONCATENATE(C1782,#REF!,#REF!))","v":""}]
[null,null,null,null,null,null," ",null,null,{"$f":"IF(ISBLANK(D1783),\"\",CONCATENATE(C1783,#REF!,#REF!))","v":""}]
[null,null,null,null,null,null," ",null,null,{"$f":"IF(ISBLANK(D1784),\"\",CONCATENATE(C1784,#REF!,#REF!))","v":""}]
[null,null,null,null,null,null," ",null,null,{"$f":"IF(ISBLANK(D1785),\"\",CONCATENATE(C1785,#REF!,#REF!))","v":""}]
[null,null,null,null,null,null," ",null,null,{"$f":"IF(ISBLANK(D1786),\"\",CONCATENATE(C1786,#REF!,#REF!))","v":""}]
[null,null,null,null,null,null," ",null,null,{"$f":"IF(ISBLANK(D1787),\"\",CONCATENATE(C1787,#REF!,#REF!))","v":""}]
[null,null,null,null,null,null," ",null,null,{"$f":"IF(ISBLANK(D1788),\"\",CONCATENATE(C1788,#REF!,#REF!))","v":""}]
[null,null,null,null,null,null," ",null,null,{"$f":"IF(ISBLANK(D1789),\"\",CONCATENATE(C1789,#REF!,#REF!))","v":""}]
[null,null,null,null,null,null," ",null,null,{"$f":"IF(ISBLANK(D1790),\"\",CONCATENATE(C1790,#REF!,#REF!))","v":""}]
[null,null,null,null,null,null," ",null,null,{"$f":"IF(ISBLANK(D1791),\"\",CONCATENATE(C1791,#REF!,#REF!))","v":""}]
[null,null,null,null,null,null," ",null,null,{"$f":"IF(ISBLANK(D1792),\"\",CONCATENATE(C1792,#REF!,#REF!))","v":""}]
[null,null,null,null,null,null," ",null,null,{"$f":"IF(ISBLANK(D1793),\"\",CONCATENATE(C1793,#REF!,#REF!))","v":""}]
[null,null,null,null,null,null," ",null,null,{"$f":"IF(ISBLANK(D1794),\"\",CONCATENATE(C1794,#REF!,#REF!))","v":""}]
[null,null,null,null,null,null," ",null,null,{"$f":"IF(ISBLANK(D1795),\"\",CONCATENATE(C1795,#REF!,#REF!))","v":""}]
[null,null,null,null,null,null," ",null,null,{"$f":"IF(ISBLANK(D1796),\"\",CONCATENATE(C1796,#REF!,#REF!))","v":""}]
[null,null,null,null,null,null," ",null,null,{"$f":"IF(ISBLANK(D1797),\"\",CONCATENATE(C1797,#REF!,#REF!))","v":""}]
[null,null,null,null,null,null," ",null,null,{"$f":"IF(ISBLANK(D1798),\"\",CONCATENATE(C1798,#REF!,#REF!))","v":""}]
[null,null,null,null,null,null," ",null,null,{"$f":"IF(ISBLANK(D1799),\"\",CONCATENATE(C1799,#REF!,#REF!))","v":""}]
[null,null,null,null,null,null," ",null,null,{"$f":"IF(ISBLANK(D1800),\"\",CONCATENATE(C1800,#REF!,#REF!))","v":""}]
[null,null,null,null,null,null," ",null,null,{"$f":"IF(ISBLANK(D1801),\"\",CONCATENATE(C1801,#REF!,#REF!))","v":""}]
[null,null,null,null,null,null," ",null,null,{"$f":"IF(ISBLANK(D1802),\"\",CONCATENATE(C1802,#REF!,#REF!))","v":""}]
[null,null,null,null,null,null," ",null,null,{"$f":"IF(ISBLANK(D1803),\"\",CONCATENATE(C1803,#REF!,#REF!))","v":""}]
[null,null,null,null,null,null," ",null,null,{"$f":"IF(ISBLANK(D1804),\"\",CONCATENATE(C1804,#REF!,#REF!))","v":""}]
[null,null,null,null,null,null," ",null,null,{"$f":"IF(ISBLANK(D1805),\"\",CONCATENATE(C1805,#REF!,#REF!))","v":""}]
[null,null,null,null,null,null," ",null,null,{"$f":"IF(ISBLANK(D1806),\"\",CONCATENATE(C1806,#REF!,#REF!))","v":""}]
[null,null,null,null,null,null," ",null,null,{"$f":"IF(ISBLANK(D1807),\"\",CONCATENATE(C1807,#REF!,#REF!))","v":""}]
[null,null,null,null,null,null," ",null,null,{"$f":"IF(ISBLANK(D1808),\"\",CONCATENATE(C1808,#REF!,#REF!))","v":""}]
[null,null,null,null,null,null," ",null,null,{"$f":"IF(ISBLANK(D1809),\"\",CONCATENATE(C1809,#REF!,#REF!))","v":""}]
[null,null,null,null,null,null," ",null,null,{"$f":"IF(ISBLANK(D1810),\"\",CONCATENATE(C1810,#REF!,#REF!))","v":""}]
[null,null,null,null,null,null," ",null,null,{"$f":"IF(ISBLANK(D1811),\"\",CONCATENATE(C1811,#REF!,#REF!))","v":""}]
[null,null,null,null,null,null," ",null,null,{"$f":"IF(ISBLANK(D1812),\"\",CONCATENATE(C1812,#REF!,#REF!))","v":""}]
[null,null,null,null,null,null," ",null,null,{"$f":"IF(ISBLANK(D1813),\"\",CONCATENATE(C1813,#REF!,#REF!))","v":""}]
[null,null,null,null,null,null," ",null,null,{"$f":"IF(ISBLANK(D1814),\"\",CONCATENATE(C1814,#REF!,#REF!))","v":""}]
[null,null,null,null,null,null," ",null,null,{"$f":"IF(ISBLANK(D1815),\"\",CONCATENATE(C1815,#REF!,#REF!))","v":""}]
[null,null,null,null,null,null," ",null,null,{"$f":"IF(ISBLANK(D1816),\"\",CONCATENATE(C1816,#REF!,#REF!))","v":""}]
[null,null,null,null,null,null," ",null,null,{"$f":"IF(ISBLANK(D1817),\"\",CONCATENATE(C1817,#REF!,#REF!))","v":""}]
[null,null,null,null,null,null," ",null,null,{"$f":"IF(ISBLANK(D1818),\"\",CONCATENATE(C1818,#REF!,#REF!))","v":""}]
[null,null,null,null,null,null," ",null,null,{"$f":"IF(ISBLANK(D1819),\"\",CONCATENATE(C1819,#REF!,#REF!))","v":""}]
[null,null,null,null,null,null," ",null,null,{"$f":"IF(ISBLANK(D1820),\"\",CONCATENATE(C1820,#REF!,#REF!))","v":""}]
[null,null,null,null,null,null," ",null,null,{"$f":"IF(ISBLANK(D1821),\"\",CONCATENATE(C1821,#REF!,#REF!))","v":""}]
[null,null,null,null,null,null," ",null,null,{"$f":"IF(ISBLANK(D1822),\"\",CONCATENATE(C1822,#REF!,#REF!))","v":""}]
[null,null,null,null,null,null," ",null,null,{"$f":"IF(ISBLANK(D1823),\"\",CONCATENATE(C1823,#REF!,#REF!))","v":""}]
[null,null,null,null,null,null," ",null,null,{"$f":"IF(ISBLANK(D1824),\"\",CONCATENATE(C1824,#REF!,#REF!))","v":""}]
[null,null,null,null,null,null," ",null,null,{"$f":"IF(ISBLANK(D1825),\"\",CONCATENATE(C1825,#REF!,#REF!))","v":""}]
[null,null,null,null,null,null," ",null,null,{"$f":"IF(ISBLANK(D1826),\"\",CONCATENATE(C1826,#REF!,#REF!))","v":""}]
[null,null,null,null,null,null," ",null,null,{"$f":"IF(ISBLANK(D1827),\"\",CONCATENATE(C1827,#REF!,#REF!))","v":""}]
[null,null,null,null,null,null," ",null,null,{"$f":"IF(ISBLANK(D1828),\"\",CONCATENATE(C1828,#REF!,#REF!))","v":""}]
[null,null,null,null,null,null," ",null,null,{"$f":"IF(ISBLANK(D1829),\"\",CONCATENATE(C1829,#REF!,#REF!))","v":""}]
[null,null,null,null,null,null," ",null,null,{"$f":"IF(ISBLANK(D1830),\"\",CONCATENATE(C1830,#REF!,#REF!))","v":""}]
[null,null,null,null,null,null," ",null,null,{"$f":"IF(ISBLANK(D1831),\"\",CONCATENATE(C1831,#REF!,#REF!))","v":""}]
[null,null,null,null,null,null," ",null,null,{"$f":"IF(ISBLANK(D1832),\"\",CONCATENATE(C1832,#REF!,#REF!))","v":""}]
[null,null,null,null,null,null," ",null,null,{"$f":"IF(ISBLANK(D1833),\"\",CONCATENATE(C1833,#REF!,#REF!))","v":""}]
[null,null,null,null,null,null," ",null,null,{"$f":"IF(ISBLANK(D1834),\"\",CONCATENATE(C1834,#REF!,#REF!))","v":""}]
[null,null,null,null,null,null," ",null,null,{"$f":"IF(ISBLANK(D1835),\"\",CONCATENATE(C1835,#REF!,#REF!))","v":""}]
[null,null,null,null,null,null," ",null,null,{"$f":"IF(ISBLANK(D1836),\"\",CONCATENATE(C1836,#REF!,#REF!))","v":""}]
[null,null,null,null,null,null," ",null,null,{"$f":"IF(ISBLANK(D1837),\"\",CONCATENATE(C1837,#REF!,#REF!))","v":""}]
[null,null,null,null,null,null," ",null,null,{"$f":"IF(ISBLANK(D1838),\"\",CONCATENATE(C1838,#REF!,#REF!))","v":""}]
[null,null,null,null,null,null," ",null,null,{"$f":"IF(ISBLANK(D1839),\"\",CONCATENATE(C1839,#REF!,#REF!))","v":""}]
[null,null,null,null,null,null," ",null,null,{"$f":"IF(ISBLANK(D1840),\"\",CONCATENATE(C1840,#REF!,#REF!))","v":""}]
[null,null,null,null,null,null," ",null,null,{"$f":"IF(ISBLANK(D1841),\"\",CONCATENATE(C1841,#REF!,#REF!))","v":""}]
[null,null,null,null,null,null," ",null,null,{"$f":"IF(ISBLANK(D1842),\"\",CONCATENATE(C1842,#REF!,#REF!))","v":""}]
[null,null,null,null,null,null," ",null,null,{"$f":"IF(ISBLANK(D1843),\"\",CONCATENATE(C1843,#REF!,#REF!))","v":""}]
[null,null,null,null,null,null," ",null,null,{"$f":"IF(ISBLANK(D1844),\"\",CONCATENATE(C1844,#REF!,#REF!))","v":""}]
[null,null,null,null,null,null," ",null,null,{"$f":"IF(ISBLANK(D1845),\"\",CONCATENATE(C1845,#REF!,#REF!))","v":""}]
[null,null,null,null,null,null," ",null,null,{"$f":"IF(ISBLANK(D1846),\"\",CONCATENATE(C1846,#REF!,#REF!))","v":""}]
[null,null,null,null,null,null," ",null,null,{"$f":"IF(ISBLANK(D1847),\"\",CONCATENATE(C1847,#REF!,#REF!))","v":""}]
[null,null,null,null,null,null," ",null,null,{"$f":"IF(ISBLANK(D1848),\"\",CONCATENATE(C1848,#REF!,#REF!))","v":""}]
[null,null,null,null,null,null," ",null,null,{"$f":"IF(ISBLANK(D1849),\"\",CONCATENATE(C1849,#REF!,#REF!))","v":""}]
[null,null,null,null,null,null," ",null,null,{"$f":"IF(ISBLANK(D1850),\"\",CONCATENATE(C1850,#REF!,#REF!))","v":""}]
[null,null,null,null,null,null," ",null,null,{"$f":"IF(ISBLANK(D1851),\"\",CONCATENATE(C1851,#REF!,#REF!))","v":""}]
[null,null,null,null,null,null," ",null,null,{"$f":"IF(ISBLANK(D1852),\"\",CONCATENATE(C1852,#REF!,#REF!))","v":""}]
[null,null,null,null,null,null," ",null,null,{"$f":"IF(ISBLANK(D1853),\"\",CONCATENATE(C1853,#REF!,#REF!))","v":""}]
[null,null,null,null,null,null," ",null,null,{"$f":"IF(ISBLANK(D1854),\"\",CONCATENATE(C1854,#REF!,#REF!))","v":""}]
[null,null,null,null,null,null," ",null,null,{"$f":"IF(ISBLANK(D1855),\"\",CONCATENATE(C1855,#REF!,#REF!))","v":""}]
[null,null,null,null,null,null," ",null,null,{"$f":"IF(ISBLANK(D1856),\"\",CONCATENATE(C1856,#REF!,#REF!))","v":""}]
[null,null,null,null,null,null," ",null,null,{"$f":"IF(ISBLANK(D1857),\"\",CONCATENATE(C1857,#REF!,#REF!))","v":""}]
[null,null,null,null,null,null," ",null,null,{"$f":"IF(ISBLANK(D1858),\"\",CONCATENATE(C1858,#REF!,#REF!))","v":""}]
[null,null,null,null,null,null," ",null,null,{"$f":"IF(ISBLANK(D1859),\"\",CONCATENATE(C1859,#REF!,#REF!))","v":""}]
[null,null,null,null,null,null," ",null,null,{"$f":"IF(ISBLANK(D1860),\"\",CONCATENATE(C1860,#REF!,#REF!))","v":""}]
[null,null,null,null,null,null," ",null,null,{"$f":"IF(ISBLANK(D1861),\"\",CONCATENATE(C1861,#REF!,#REF!))","v":""}]
[null,null,null,null,null,null," ",null,null,{"$f":"IF(ISBLANK(D1862),\"\",CONCATENATE(C1862,#REF!,#REF!))","v":""}]
[null,null,null,null,null,null," ",null,null,{"$f":"IF(ISBLANK(D1863),\"\",CONCATENATE(C1863,#REF!,#REF!))","v":""}]
[null,null,null,null,null,null," ",null,null,{"$f":"IF(ISBLANK(D1864),\"\",CONCATENATE(C1864,#REF!,#REF!))","v":""}]
[null,null,null,null,null,null," ",null,null,{"$f":"IF(ISBLANK(D1865),\"\",CONCATENATE(C1865,#REF!,#REF!))","v":""}]
[null,null,null,null,null,null," ",null,null,{"$f":"IF(ISBLANK(D1866),\"\",CONCATENATE(C1866,#REF!,#REF!))","v":""}]
[null,null,null,null,null,null," ",null,null,{"$f":"IF(ISBLANK(D1867),\"\",CONCATENATE(C1867,#REF!,#REF!))","v":""}]
[null,null,null,null,null,null," ",null,null,{"$f":"IF(ISBLANK(D1868),\"\",CONCATENATE(C1868,#REF!,#REF!))","v":""}]
[null,null,null,null,null,null," ",null,null,{"$f":"IF(ISBLANK(D1869),\"\",CONCATENATE(C1869,#REF!,#REF!))","v":""}]
[null,null,null,null,null,null," ",null,null,{"$f":"IF(ISBLANK(D1870),\"\",CONCATENATE(C1870,#REF!,#REF!))","v":""}]
[null,null,null,null,null,null," ",null,null,{"$f":"IF(ISBLANK(D1871),\"\",CONCATENATE(C1871,#REF!,#REF!))","v":""}]
[null,null,null,null,null,null," ",null,null,{"$f":"IF(ISBLANK(D1872),\"\",CONCATENATE(C1872,#REF!,#REF!))","v":""}]
[null,null,null,null,null,null," ",null,null,{"$f":"IF(ISBLANK(D1873),\"\",CONCATENATE(C1873,#REF!,#REF!))","v":""}]
[null,null,null,null,null,null," ",null,null,{"$f":"IF(ISBLANK(D1874),\"\",CONCATENATE(C1874,#REF!,#REF!))","v":""}]
[null,null,null,null,null,null," ",null,null,{"$f":"IF(ISBLANK(D1875),\"\",CONCATENATE(C1875,#REF!,#REF!))","v":""}]
[null,null,null,null,null,null," ",null,null,{"$f":"IF(ISBLANK(D1876),\"\",CONCATENATE(C1876,#REF!,#REF!))","v":""}]
[null,null,null,null,null,null," ",null,null,{"$f":"IF(ISBLANK(D1877),\"\",CONCATENATE(C1877,#REF!,#REF!))","v":""}]
[null,null,null,null,null,null," ",null,null,{"$f":"IF(ISBLANK(D1878),\"\",CONCATENATE(C1878,#REF!,#REF!))","v":""}]
[null,null,null,null,null,null," ",null,null,{"$f":"IF(ISBLANK(D1879),\"\",CONCATENATE(C1879,#REF!,#REF!))","v":""}]
[null,null,null,null,null,null," ",null,null,{"$f":"IF(ISBLANK(D1880),\"\",CONCATENATE(C1880,#REF!,#REF!))","v":""}]
[null,null,null,null,null,null," ",null,null,{"$f":"IF(ISBLANK(D1881),\"\",CONCATENATE(C1881,#REF!,#REF!))","v":""}]
[null,null,null,null,null,null," ",null,null,{"$f":"IF(ISBLANK(D1882),\"\",CONCATENATE(C1882,#REF!,#REF!))","v":""}]
[null,null,null,null,null,null," ",null,null,{"$f":"IF(ISBLANK(D1883),\"\",CONCATENATE(C1883,#REF!,#REF!))","v":""}]
[null,null,null,null,null,null," ",null,null,{"$f":"IF(ISBLANK(D1884),\"\",CONCATENATE(C1884,#REF!,#REF!))","v":""}]
[null,null,null,null,null,null," ",null,null,{"$f":"IF(ISBLANK(D1885),\"\",CONCATENATE(C1885,#REF!,#REF!))","v":""}]
[null,null,null,null,null,null," ",null,null,{"$f":"IF(ISBLANK(D1886),\"\",CONCATENATE(C1886,#REF!,#REF!))","v":""}]
[null,null,null,null,null,null," ",null,null,{"$f":"IF(ISBLANK(D1887),\"\",CONCATENATE(C1887,#REF!,#REF!))","v":""}]
[null,null,null,null,null,null," ",null,null,{"$f":"IF(ISBLANK(D1888),\"\",CONCATENATE(C1888,#REF!,#REF!))","v":""}]
[null,null,null,null,null,null," ",null,null,{"$f":"IF(ISBLANK(D1889),\"\",CONCATENATE(C1889,#REF!,#REF!))","v":""}]
[null,null,null,null,null,null," ",null,null,{"$f":"IF(ISBLANK(D1890),\"\",CONCATENATE(C1890,#REF!,#REF!))","v":""}]
[null,null,null,null,null,null," ",null,null,{"$f":"IF(ISBLANK(D1891),\"\",CONCATENATE(C1891,#REF!,#REF!))","v":""}]
[null,null,null,null,null,null," ",null,null,{"$f":"IF(ISBLANK(D1892),\"\",CONCATENATE(C1892,#REF!,#REF!))","v":""}]
[null,null,null,null,null,null," ",null,null,{"$f":"IF(ISBLANK(D1893),\"\",CONCATENATE(C1893,#REF!,#REF!))","v":""}]
[null,null,null,null,null,null," ",null,null,{"$f":"IF(ISBLANK(D1894),\"\",CONCATENATE(C1894,#REF!,#REF!))","v":""}]
[null,null,null,null,null,null," ",null,null,{"$f":"IF(ISBLANK(D1895),\"\",CONCATENATE(C1895,#REF!,#REF!))","v":""}]
[null,null,null,null,null,null," ",null,null,{"$f":"IF(ISBLANK(D1896),\"\",CONCATENATE(C1896,#REF!,#REF!))","v":""}]
[null,null,null,null,null,null," ",null,null,{"$f":"IF(ISBLANK(D1897),\"\",CONCATENATE(C1897,#REF!,#REF!))","v":""}]
[null,null,null,null,null,null," ",null,null,{"$f":"IF(ISBLANK(D1898),\"\",CONCATENATE(C1898,#REF!,#REF!))","v":""}]
[null,null,null,null,null,null," ",null,null,{"$f":"IF(ISBLANK(D1899),\"\",CONCATENATE(C1899,#REF!,#REF!))","v":""}]
[null,null,null,null,null,null," ",null,null,{"$f":"IF(ISBLANK(D1900),\"\",CONCATENATE(C1900,#REF!,#REF!))","v":""}]
[null,null,null,null,null,null," ",null,null,{"$f":"IF(ISBLANK(D1901),\"\",CONCATENATE(C1901,#REF!,#REF!))","v":""}]
[null,null,null,null,null,null," ",null,null,{"$f":"IF(ISBLANK(D1902),\"\",CONCATENATE(C1902,#REF!,#REF!))","v":""}]
[null,null,null,null,null,null," ",null,null,{"$f":"IF(ISBLANK(D1903),\"\",CONCATENATE(C1903,#REF!,#REF!))","v":""}]
[null,null,null,null,null,null," ",null,null,{"$f":"IF(ISBLANK(D1904),\"\",CONCATENATE(C1904,#REF!,#REF!))","v":""}]
[null,null,null,null,null,null," ",null,null,{"$f":"IF(ISBLANK(D1905),\"\",CONCATENATE(C1905,#REF!,#REF!))","v":""}]
[null,null,null,null,null,null," ",null,null,{"$f":"IF(ISBLANK(D1906),\"\",CONCATENATE(C1906,#REF!,#REF!))","v":""}]
[null,null,null,null,null,null," ",null,null,{"$f":"IF(ISBLANK(D1907),\"\",CONCATENATE(C1907,#REF!,#REF!))","v":""}]
[null,null,null,null,null,null," ",null,null,{"$f":"IF(ISBLANK(D1908),\"\",CONCATENATE(C1908,#REF!,#REF!))","v":""}]
[null,null,null,null,null,null," ",null,null,{"$f":"IF(ISBLANK(D1909),\"\",CONCATENATE(C1909,#REF!,#REF!))","v":""}]
[null,null,null,null,null,null," ",null,null,{"$f":"IF(ISBLANK(D1910),\"\",CONCATENATE(C1910,#REF!,#REF!))","v":""}]
[null,null,null,null,null,null," ",null,null,{"$f":"IF(ISBLANK(D1911),\"\",CONCATENATE(C1911,#REF!,#REF!))","v":""}]
[null,null,null,null,null,null," ",null,null,{"$f":"IF(ISBLANK(D1912),\"\",CONCATENATE(C1912,#REF!,#REF!))","v":""}]
[null,null,null,null,null,null," ",null,null,{"$f":"IF(ISBLANK(D1913),\"\",CONCATENATE(C1913,#REF!,#REF!))","v":""}]
[null,null,null,null,null,null," ",null,null,{"$f":"IF(ISBLANK(D1914),\"\",CONCATENATE(C1914,#REF!,#REF!))","v":""}]
[null,null,null,null,null,null," ",null,null,{"$f":"IF(ISBLANK(D1915),\"\",CONCATENATE(C1915,#REF!,#REF!))","v":""}]
[null,null,null,null,null,null," ",null,null,{"$f":"IF(ISBLANK(D1916),\"\",CONCATENATE(C1916,#REF!,#REF!))","v":""}]
[null,null,null,null,null,null," ",null,null,{"$f":"IF(ISBLANK(D1917),\"\",CONCATENATE(C1917,#REF!,#REF!))","v":""}]
[null,null,null,null,null,null," ",null,null,{"$f":"IF(ISBLANK(D1918),\"\",CONCATENATE(C1918,#REF!,#REF!))","v":""}]
[null,null,null,null,null,null," ",null,null,{"$f":"IF(ISBLANK(D1919),\"\",CONCATENATE(C1919,#REF!,#REF!))","v":""}]
[null,null,null,null,null,null," ",null,null,{"$f":"IF(ISBLANK(D1920),\"\",CONCATENATE(C1920,#REF!,#REF!))","v":""}]
[null,null,null,null,null,null," ",null,null,{"$f":"IF(ISBLANK(D1921),\"\",CONCATENATE(C1921,#REF!,#REF!))","v":""}]
[null,null,null,null,null,null," ",null,null,{"$f":"IF(ISBLANK(D1922),\"\",CONCATENATE(C1922,#REF!,#REF!))","v":""}]
[null,null,null,null,null,null," ",null,null,{"$f":"IF(ISBLANK(D1923),\"\",CONCATENATE(C1923,#REF!,#REF!))","v":""}]
[null,null,null,null,null,null," ",null,null,{"$f":"IF(ISBLANK(D1924),\"\",CONCATENATE(C1924,#REF!,#REF!))","v":""}]
[null,null,null,null,null,null," ",null,null,{"$f":"IF(ISBLANK(D1925),\"\",CONCATENATE(C1925,#REF!,#REF!))","v":""}]
[null,null,null,null,null,null," ",null,null,{"$f":"IF(ISBLANK(D1926),\"\",CONCATENATE(C1926,#REF!,#REF!))","v":""}]
[null,null,null,null,null,null," ",null,null,{"$f":"IF(ISBLANK(D1927),\"\",CONCATENATE(C1927,#REF!,#REF!))","v":""}]
[null,null,null,null,null,null," ",null,null,{"$f":"IF(ISBLANK(D1928),\"\",CONCATENATE(C1928,#REF!,#REF!))","v":""}]
[null,null,null,null,null,null," ",null,null,{"$f":"IF(ISBLANK(D1929),\"\",CONCATENATE(C1929,#REF!,#REF!))","v":""}]
[null,null,null,null,null,null," ",null,null,{"$f":"IF(ISBLANK(D1930),\"\",CONCATENATE(C1930,#REF!,#REF!))","v":""}]
[null,null,null,null,null,null," ",null,null,{"$f":"IF(ISBLANK(D1931),\"\",CONCATENATE(C1931,#REF!,#REF!))","v":""}]
[null,null,null,null,null,null," ",null,null,{"$f":"IF(ISBLANK(D1932),\"\",CONCATENATE(C1932,#REF!,#REF!))","v":""}]
[null,null,null,null,null,null," ",null,null,{"$f":"IF(ISBLANK(D1933),\"\",CONCATENATE(C1933,#REF!,#REF!))","v":""}]
[null,null,null,null,null,null," ",null,null,{"$f":"IF(ISBLANK(D1934),\"\",CONCATENATE(C1934,#REF!,#REF!))","v":""}]
[null,null,null,null,null,null," ",null,null,{"$f":"IF(ISBLANK(D1935),\"\",CONCATENATE(C1935,#REF!,#REF!))","v":""}]
[null,null,null,null,null,null," ",null,null,{"$f":"IF(ISBLANK(D1936),\"\",CONCATENATE(C1936,#REF!,#REF!))","v":""}]
[null,null,null,null,null,null," ",null,null,{"$f":"IF(ISBLANK(D1937),\"\",CONCATENATE(C1937,#REF!,#REF!))","v":""}]
[null,null,null,null,null,null," ",null,null,{"$f":"IF(ISBLANK(D1938),\"\",CONCATENATE(C1938,#REF!,#REF!))","v":""}]
[null,null,null,null,null,null," ",null,null,{"$f":"IF(ISBLANK(D1939),\"\",CONCATENATE(C1939,#REF!,#REF!))","v":""}]
[null,null,null,null,null,null," ",null,null,{"$f":"IF(ISBLANK(D1940),\"\",CONCATENATE(C1940,#REF!,#REF!))","v":""}]
[null,null,null,null,null,null," ",null,null,{"$f":"IF(ISBLANK(D1941),\"\",CONCATENATE(C1941,#REF!,#REF!))","v":""}]
[null,null,null,null,null,null," ",null,null,{"$f":"IF(ISBLANK(D1942),\"\",CONCATENATE(C1942,#REF!,#REF!))","v":""}]
[null,null,null,null,null,null," ",null,null,{"$f":"IF(ISBLANK(D1943),\"\",CONCATENATE(C1943,#REF!,#REF!))","v":""}]
[null,null,null,null,null,null," ",null,null,{"$f":"IF(ISBLANK(D1944),\"\",CONCATENATE(C1944,#REF!,#REF!))","v":""}]
[null,null,null,null,null,null," ",null,null,{"$f":"IF(ISBLANK(D1945),\"\",CONCATENATE(C1945,#REF!,#REF!))","v":""}]
[null,null,null,null,null,null," ",null,null,{"$f":"IF(ISBLANK(D1946),\"\",CONCATENATE(C1946,#REF!,#REF!))","v":""}]
[null,null,null,null,null,null," ",null,null,{"$f":"IF(ISBLANK(D1947),\"\",CONCATENATE(C1947,#REF!,#REF!))","v":""}]
[null,null,null,null,null,null," ",null,null,{"$f":"IF(ISBLANK(D1948),\"\",CONCATENATE(C1948,#REF!,#REF!))","v":""}]
[null,null,null,null,null,null," ",null,null,{"$f":"IF(ISBLANK(D1949),\"\",CONCATENATE(C1949,#REF!,#REF!))","v":""}]
[null,null,null,null,null,null," ",null,null,{"$f":"IF(ISBLANK(D1950),\"\",CONCATENATE(C1950,#REF!,#REF!))","v":""}]
[null,null,null,null,null,null," ",null,null,{"$f":"IF(ISBLANK(D1951),\"\",CONCATENATE(C1951,#REF!,#REF!))","v":""}]
[null,null,null,null,null,null," ",null,null,{"$f":"IF(ISBLANK(D1952),\"\",CONCATENATE(C1952,#REF!,#REF!))","v":""}]
[null,null,null,null,null,null," ",null,null,{"$f":"IF(ISBLANK(D1953),\"\",CONCATENATE(C1953,#REF!,#REF!))","v":""}]
[null,null,null,null,null,null," ",null,null,{"$f":"IF(ISBLANK(D1954),\"\",CONCATENATE(C1954,#REF!,#REF!))","v":""}]
[null,null,null,null,null,null," ",null,null,{"$f":"IF(ISBLANK(D1955),\"\",CONCATENATE(C1955,#REF!,#REF!))","v":""}]
[null,null,null,null,null,null," ",null,null,{"$f":"IF(ISBLANK(D1956),\"\",CONCATENATE(C1956,#REF!,#REF!))","v":""}]
[null,null,null,null,null,null," ",null,null,{"$f":"IF(ISBLANK(D1957),\"\",CONCATENATE(C1957,#REF!,#REF!))","v":""}]
[null,null,null,null,null,null," ",null,null,{"$f":"IF(ISBLANK(D1958),\"\",CONCATENATE(C1958,#REF!,#REF!))","v":""}]
[null,null,null,null,null,null," ",null,null,{"$f":"IF(ISBLANK(D1959),\"\",CONCATENATE(C1959,#REF!,#REF!))","v":""}]
[null,null,null,null,null,null," ",null,null,{"$f":"IF(ISBLANK(D1960),\"\",CONCATENATE(C1960,#REF!,#REF!))","v":""}]
[null,null,null,null,null,null," ",null,null,{"$f":"IF(ISBLANK(D1961),\"\",CONCATENATE(C1961,#REF!,#REF!))","v":""}]
[null,null,null,null,null,null," ",null,null,{"$f":"IF(ISBLANK(D1962),\"\",CONCATENATE(C1962,#REF!,#REF!))","v":""}]
[null,null,null,null,null,null," ",null,null,{"$f":"IF(ISBLANK(D1963),\"\",CONCATENATE(C1963,#REF!,#REF!))","v":""}]
[null,null,null,null,null,null," ",null,null,{"$f":"IF(ISBLANK(D1964),\"\",CONCATENATE(C1964,#REF!,#REF!))","v":""}]
[null,null,null,null,null,null," ",null,null,{"$f":"IF(ISBLANK(D1965),\"\",CONCATENATE(C1965,#REF!,#REF!))","v":""}]
[null,null,null,null,null,null," ",null,null,{"$f":"IF(ISBLANK(D1966),\"\",CONCATENATE(C1966,#REF!,#REF!))","v":""}]
[null,null,null,null,null,null," ",null,null,{"$f":"IF(ISBLANK(D1967),\"\",CONCATENATE(C1967,#REF!,#REF!))","v":""}]
[null,null,null,null,null,null," ",null,null,{"$f":"IF(ISBLANK(D1968),\"\",CONCATENATE(C1968,#REF!,#REF!))","v":""}]
[null,null,null,null,null,null," ",null,null,{"$f":"IF(ISBLANK(D1969),\"\",CONCATENATE(C1969,#REF!,#REF!))","v":""}]
[null,null,null,null,null,null," ",null,null,{"$f":"IF(ISBLANK(D1970),\"\",CONCATENATE(C1970,#REF!,#REF!))","v":""}]
[null,null,null,null,null,null," ",null,null,{"$f":"IF(ISBLANK(D1971),\"\",CONCATENATE(C1971,#REF!,#REF!))","v":""}]
[null,null,null,null,null,null," ",null,null,{"$f":"IF(ISBLANK(D1972),\"\",CONCATENATE(C1972,#REF!,#REF!))","v":""}]
[null,null,null,null,null,null," ",null,null,{"$f":"IF(ISBLANK(D1973),\"\",CONCATENATE(C1973,#REF!,#REF!))","v":""}]
[null,null,null,null,null,null," ",null,null,{"$f":"IF(ISBLANK(D1974),\"\",CONCATENATE(C1974,#REF!,#REF!))","v":""}]
[null,null,null,null,null,null," ",null,null,{"$f":"IF(ISBLANK(D1975),\"\",CONCATENATE(C1975,#REF!,#REF!))","v":""}]
[null,null,null,null,null,null," ",null,null,{"$f":"IF(ISBLANK(D1976),\"\",CONCATENATE(C1976,#REF!,#REF!))","v":""}]
[null,null,null,null,null,null," ",null,null,{"$f":"IF(ISBLANK(D1977),\"\",CONCATENATE(C1977,#REF!,#REF!))","v":""}]
[null,null,null,null,null,null," ",null,null,{"$f":"IF(ISBLANK(D1978),\"\",CONCATENATE(C1978,#REF!,#REF!))","v":""}]
[null,null,null,null,null,null," ",null,null,{"$f":"IF(ISBLANK(D1979),\"\",CONCATENATE(C1979,#REF!,#REF!))","v":""}]
[null,null,null,null,null,null," ",null,null,{"$f":"IF(ISBLANK(D1980),\"\",CONCATENATE(C1980,#REF!,#REF!))","v":""}]
[null,null,null,null,null,null," ",null,null,{"$f":"IF(ISBLANK(D1981),\"\",CONCATENATE(C1981,#REF!,#REF!))","v":""}]
[null,null,null,null,null,null," ",null,null,{"$f":"IF(ISBLANK(D1982),\"\",CONCATENATE(C1982,#REF!,#REF!))","v":""}]
[null,null,null,null,null,null," ",null,null,{"$f":"IF(ISBLANK(D1983),\"\",CONCATENATE(C1983,#REF!,#REF!))","v":""}]
[null,null,null,null,null,null," ",null,null,{"$f":"IF(ISBLANK(D1984),\"\",CONCATENATE(C1984,#REF!,#REF!))","v":""}]
[null,null,null,null,null,null," ",null,null,{"$f":"IF(ISBLANK(D1985),\"\",CONCATENATE(C1985,#REF!,#REF!))","v":""}]
[null,null,null,null,null,null," ",null,null,{"$f":"IF(ISBLANK(D1986),\"\",CONCATENATE(C1986,#REF!,#REF!))","v":""}]
[null,null,null,null,null,null," ",null,null,{"$f":"IF(ISBLANK(D1987),\"\",CONCATENATE(C1987,#REF!,#REF!))","v":""}]
[null,null,null,null,null,null," ",null,null,{"$f":"IF(ISBLANK(D1988),\"\",CONCATENATE(C1988,#REF!,#REF!))","v":""}]
[null,null,null,null,null,null," ",null,null,{"$f":"IF(ISBLANK(D1989),\"\",CONCATENATE(C1989,#REF!,#REF!))","v":""}]
[null,null,null,null,null,null," ",null,null,{"$f":"IF(ISBLANK(D1990),\"\",CONCATENATE(C1990,#REF!,#REF!))","v":""}]
[null,null,null,null,null,null," ",null,null,{"$f":"IF(ISBLANK(D1991),\"\",CONCATENATE(C1991,#REF!,#REF!))","v":""}]
[null,null,null,null,null,null," ",null,null,{"$f":"IF(ISBLANK(D1992),\"\",CONCATENATE(C1992,#REF!,#REF!))","v":""}]
[null,null,null,null,null,null," ",null,null,{"$f":"IF(ISBLANK(D1993),\"\",CONCATENATE(C1993,#REF!,#REF!))","v":""}]
[null,null,null,null,null,null," ",null,null,{"$f":"IF(ISBLANK(D1994),\"\",CONCATENATE(C1994,#REF!,#REF!))","v":""}]
[null,null,null,null,null,null," ",null,null,{"$f":"IF(ISBLANK(D1995),\"\",CONCATENATE(C1995,#REF!,#REF!))","v":""}]
[null,null,null,null,null,null," ",null,null,{"$f":"IF(ISBLANK(D1996),\"\",CONCATENATE(C1996,#REF!,#REF!))","v":""}]
[null,null,null,null,null,null," ",null,null,{"$f":"IF(ISBLANK(D1997),\"\",CONCATENATE(C1997,#REF!,#REF!))","v":""}]
[null,null,null,null,null,null," ",null,null,{"$f":"IF(ISBLANK(D1998),\"\",CONCATENATE(C1998,#REF!,#REF!))","v":""}]
[null,null,null,null,null,null," ",null,null,{"$f":"IF(ISBLANK(D1999),\"\",CONCATENATE(C1999,#REF!,#REF!))","v":""}]
[null,null,null,null,null,null," ",null,null,{"$f":"IF(ISBLANK(D2000),\"\",CONCATENATE(C2000,#REF!,#REF!))","v":""}]
[null,null,null,null,null,null," ",null,null,{"$f":"IF(ISBLANK(D2001),\"\",CONCATENATE(C2001,#REF!,#REF!))","v":""}]
[null,null,null,null,null,null," ",null,null,{"$f":"IF(ISBLANK(D2007),\"\",CONCATENATE(C2007,#REF!,#REF!))","v":""}]
[null,null,null,null,null,null," ",null,null,{"$f":"IF(ISBLANK(D2012),\"\",CONCATENATE(C2012,#REF!,#REF!))","v":""}]
[null,null,null,null,null,null," ",null,null,{"$f":"IF(ISBLANK(D2018),\"\",CONCATENATE(C2018,#REF!,#REF!))","v":""}]
[null,null,null,null,null,null," ",null,null,{"$f":"IF(ISBLANK(D2023),\"\",CONCATENATE(C2023,#REF!,#REF!))","v":""}]
[null,null,null,null,null,null," ",null,null,{"$f":"IF(ISBLANK(D2028),\"\",CONCATENATE(C2028,#REF!,#REF!))","v":""}]
[null,null,null,null,null,null," ",null,null,{"$f":"IF(ISBLANK(D2034),\"\",CONCATENATE(C2034,#REF!,#REF!))","v":""}]
[null,null,null,null,null,null," ",null,null,{"$f":"IF(ISBLANK(D2039),\"\",CONCATENATE(C2039,#REF!,#REF!))","v":""}]
[null,null,null,null,null,null," ",null,null,{"$f":"IF(ISBLANK(D2045),\"\",CONCATENATE(C2045,#REF!,#REF!))","v":""}]
[null,null,null,null,null,null," ",null,null,{"$f":"IF(ISBLANK(D2050),\"\",CONCATENATE(C2050,#REF!,#REF!))","v":""}]
[null,null,null,null,null,null," ",null,null,{"$f":"IF(ISBLANK(D2055),\"\",CONCATENATE(C2055,#REF!,#REF!))","v":""}]
[null,null,null,null,null,null," ",null,null,{"$f":"IF(ISBLANK(D2056),\"\",CONCATENATE(C2056,#REF!,#REF!))","v":""}]
[null,null,null,null,null,null," ",null,null,{"$f":"IF(ISBLANK(D2061),\"\",CONCATENATE(C2061,#REF!,#REF!))","v":""}]
[null,null,null,null,null,null," ",null,null,{"$f":"IF(ISBLANK(D2066),\"\",CONCATENATE(C2066,#REF!,#REF!))","v":""}]
[null,null,null,null,null,null," ",null,null,{"$f":"IF(ISBLANK(D2072),\"\",CONCATENATE(C2072,#REF!,#REF!))","v":""}]
[null,null,null,null,null,null," ",null,null,{"$f":"IF(ISBLANK(D2076),\"\",CONCATENATE(C2076,#REF!,#REF!))","v":""}]
[null,null,null,null,null,null," ",null,null,{"$f":"IF(ISBLANK(D2084),\"\",CONCATENATE(C2084,#REF!,#REF!))","v":""}]
[null,null,null,null,null,null," ",null,null,{"$f":"IF(ISBLANK(D2089),\"\",CONCATENATE(C2089,#REF!,#REF!))","v":""}]
[null,null,null,null,null,null," ",null,null,{"$f":"IF(ISBLANK(D2094),\"\",CONCATENATE(C2094,#REF!,#REF!))","v":""}]
[null,null,null,null,null,null," ",null,null,{"$f":"IF(ISBLANK(D2100),\"\",CONCATENATE(C2100,#REF!,#REF!))","v":""}]
[null,null,null,null,null,null," ",null,null,{"$f":"IF(ISBLANK(D2105),\"\",CONCATENATE(C2105,#REF!,#REF!))","v":""}]
[null,null,null,null,null,null," ",null,null,{"$f":"IF(ISBLANK(D2111),\"\",CONCATENATE(C2111,#REF!,#REF!))","v":""}]
[null,null,null,null,null,null," ",null,null,{"$f":"IF(ISBLANK(D2116),\"\",CONCATENATE(C2116,#REF!,#REF!))","v":""}]
[null,null,null,null,null,null," ",null,null,{"$f":"IF(ISBLANK(D2121),\"\",CONCATENATE(C2121,#REF!,#REF!))","v":""}]
[null,null,null,null,null,null," ",null,null,{"$f":"IF(ISBLANK(D2122),\"\",CONCATENATE(C2122,#REF!,#REF!))","v":""}]
[null,null,null,null,null,null," ",null,null,{"$f":"IF(ISBLANK(D2127),\"\",CONCATENATE(C2127,#REF!,#REF!))","v":""}]
[null,null,null,null,null,null," ",null,null,{"$f":"IF(ISBLANK(D2132),\"\",CONCATENATE(C2132,#REF!,#REF!))","v":""}]
[null,null,null,null,null,null," ",null,null,{"$f":"IF(ISBLANK(D2138),\"\",CONCATENATE(C2138,#REF!,#REF!))","v":""}]
[null,null,null,null,null,null," ",null,null,{"$f":"IF(ISBLANK(D2143),\"\",CONCATENATE(C2143,#REF!,#REF!))","v":""}]
[null,null,null,null,null,null," ",null,null,{"$f":"IF(ISBLANK(D2149),\"\",CONCATENATE(C2149,#REF!,#REF!))","v":""}]
[null,null,null,null,null,null," ",null,null,{"$f":"IF(ISBLANK(D2154),\"\",CONCATENATE(C2154,#REF!,#REF!))","v":""}]
[null,null,null,null,null,null," ",null,null,{"$f":"IF(ISBLANK(D2157),\"\",CONCATENATE(C2157,#REF!,#REF!))","v":""}]
[null,null,null,null,null,null," ",null,null,{"$f":"IF(ISBLANK(D2166),\"\",CONCATENATE(C2166,#REF!,#REF!))","v":""}]
[null,null,null,null,null,null," ",null,null,{"$f":"IF(ISBLANK(D2171),\"\",CONCATENATE(C2171,#REF!,#REF!))","v":""}]
[null,null,null,null,null,null," ",null,null,{"$f":"IF(ISBLANK(D2176),\"\",CONCATENATE(C2176,#REF!,#REF!))","v":""}]
[null,null,null,null,null,null," ",null,null,{"$f":"IF(ISBLANK(D2182),\"\",CONCATENATE(C2182,#REF!,#REF!))","v":""}]
[null,null,null,null,null,null," ",null,null,{"$f":"IF(ISBLANK(D2187),\"\",CONCATENATE(C2187,#REF!,#REF!))","v":""}]
[null,null,null,null,null,null," ",null,null,{"$f":"IF(ISBLANK(D2188),\"\",CONCATENATE(C2188,#REF!,#REF!))","v":""}]
[null,null,null,null,null,null," ",null,null,{"$f":"IF(ISBLANK(D2193),\"\",CONCATENATE(C2193,#REF!,#REF!))","v":""}]
[null,null,null,null,null,null," ",null,null,{"$f":"IF(ISBLANK(D2198),\"\",CONCATENATE(C2198,#REF!,#REF!))","v":""}]
[null,null,null,null,null,null," ",null,null,{"$f":"IF(ISBLANK(D2204),\"\",CONCATENATE(C2204,#REF!,#REF!))","v":""}]
[null,null,null,null,null,null," ",null,null,{"$f":"IF(ISBLANK(D2209),\"\",CONCATENATE(C2209,#REF!,#REF!))","v":""}]
[null,null,null,null,null,null," ",null,null,{"$f":"IF(ISBLANK(D2215),\"\",CONCATENATE(C2215,#REF!,#REF!))","v":""}]
[null,null,null,null,null,null," ",null,null,{"$f":"IF(ISBLANK(D2220),\"\",CONCATENATE(C2220,#REF!,#REF!))","v":""}]
[null,null,null,null,null,null," ",null,null,{"$f":"IF(ISBLANK(D2225),\"\",CONCATENATE(C2225,#REF!,#REF!))","v":""}]
[null,null,null,null,null,null," ",null,null,{"$f":"IF(ISBLANK(D2231),\"\",CONCATENATE(C2231,#REF!,#REF!))","v":""}]
[null,null,null,null,null,null," ",null,null,{"$f":"IF(ISBLANK(D2236),\"\",CONCATENATE(C2236,#REF!,#REF!))","v":""}]
[null,null,null,null,null,null," ",null,null,{"$f":"IF(ISBLANK(D2238),\"\",CONCATENATE(C2238,#REF!,#REF!))","v":""}]
[null,null,null,null,null,null," ",null,null,{"$f":"IF(ISBLANK(D2248),\"\",CONCATENATE(C2248,#REF!,#REF!))","v":""}]
[null,null,null,null,null,null," ",null,null,{"$f":"IF(ISBLANK(D2253),\"\",CONCATENATE(C2253,#REF!,#REF!))","v":""}]
[null,null,null,null,null,null," ",null,null,{"$f":"IF(ISBLANK(D2254),\"\",CONCATENATE(C2254,#REF!,#REF!))","v":""}]
[null,null,null,null,null,null," ",null,null,{"$f":"IF(ISBLANK(D2259),\"\",CONCATENATE(C2259,#REF!,#REF!))","v":""}]
[null,null,null,null,null,null," ",null,null,{"$f":"IF(ISBLANK(D2264),\"\",CONCATENATE(C2264,#REF!,#REF!))","v":""}]
[null,null,null,null,null,null," ",null,null,{"$f":"IF(ISBLANK(D2270),\"\",CONCATENATE(C2270,#REF!,#REF!))","v":""}]
[null,null,null,null,null,null," ",null,null,{"$f":"IF(ISBLANK(D2275),\"\",CONCATENATE(C2275,#REF!,#REF!))","v":""}]
[null,null,null,null,null,null," ",null,null,{"$f":"IF(ISBLANK(D2281),\"\",CONCATENATE(C2281,#REF!,#REF!))","v":""}]
[null,null,null,null,null,null," ",null,null,{"$f":"IF(ISBLANK(D2286),\"\",CONCATENATE(C2286,#REF!,#REF!))","v":""}]
[null,null,null,null,null,null," ",null,null,{"$f":"IF(ISBLANK(D2291),\"\",CONCATENATE(C2291,#REF!,#REF!))","v":""}]
[null,null,null,null,null,null," ",null,null,{"$f":"IF(ISBLANK(D2297),\"\",CONCATENATE(C2297,#REF!,#REF!))","v":""}]
[null,null,null,null,null,null," ",null,null,{"$f":"IF(ISBLANK(D2302),\"\",CONCATENATE(C2302,#REF!,#REF!))","v":""}]
[null,null,null,null,null,null," ",null,null,{"$f":"IF(ISBLANK(D2307),\"\",CONCATENATE(C2307,#REF!,#REF!))","v":""}]
[null,null,null,null,null,null," ",null,null,{"$f":"IF(ISBLANK(D2313),\"\",CONCATENATE(C2313,#REF!,#REF!))","v":""}]
[null,null,null,null,null,null," ",null,null,{"$f":"IF(ISBLANK(D2318),\"\",CONCATENATE(C2318,#REF!,#REF!))","v":""}]
[null,null,null,null,null,null," ",null,null,{"$f":"IF(ISBLANK(D2323),\"\",CONCATENATE(C2323,#REF!,#REF!))","v":""}]
[null,null,null,null,null,null," ",null,null,{"$f":"IF(ISBLANK(D2325),\"\",CONCATENATE(C2325,#REF!,#REF!))","v":""}]
[null,null,null,null,null,null," ",null,null,{"$f":"IF(ISBLANK(D2330),\"\",CONCATENATE(C2330,#REF!,#REF!))","v":""}]
[null,null,null,null,null,null," ",null,null,{"$f":"IF(ISBLANK(D2336),\"\",CONCATENATE(C2336,#REF!,#REF!))","v":""}]
[null,null,null,null,null,null," ",null,null,{"$f":"IF(ISBLANK(D2341),\"\",CONCATENATE(C2341,#REF!,#REF!))","v":""}]
[null,null,null,null,null,null," ",null,null,{"$f":"IF(ISBLANK(D2346),\"\",CONCATENATE(C2346,#REF!,#REF!))","v":""}]
[null,null,null,null,null,null," ",null,null,{"$f":"IF(ISBLANK(D2352),\"\",CONCATENATE(C2352,#REF!,#REF!))","v":""}]
[null,null,null,null,null,null," ",null,null,{"$f":"IF(ISBLANK(D2357),\"\",CONCATENATE(C2357,#REF!,#REF!))","v":""}]
[null,null,null,null,null,null," ",null,null,{"$f":"IF(ISBLANK(D2363),\"\",CONCATENATE(C2363,#REF!,#REF!))","v":""}]
[null,null,null,null,null,null," ",null,null,{"$f":"IF(ISBLANK(D2368),\"\",CONCATENATE(C2368,#REF!,#REF!))","v":""}]
[null,null,null,null,null,null," ",null,null,{"$f":"IF(ISBLANK(D2373),\"\",CONCATENATE(C2373,#REF!,#REF!))","v":""}]
[null,null,null,null,null,null," ",null,null,{"$f":"IF(ISBLANK(D2379),\"\",CONCATENATE(C2379,#REF!,#REF!))","v":""}]
[null,null,null,null,null,null," ",null,null,{"$f":"IF(ISBLANK(D2384),\"\",CONCATENATE(C2384,#REF!,#REF!))","v":""}]
[null,null,null,null,null,null," ",null,null,{"$f":"IF(ISBLANK(D2385),\"\",CONCATENATE(C2385,#REF!,#REF!))","v":""}]
[null,null,null,null,null,null," ",null,null,{"$f":"IF(ISBLANK(D2390),\"\",CONCATENATE(C2390,#REF!,#REF!))","v":""}]
[null,null,null,null,null,null," ",null,null,{"$f":"IF(ISBLANK(D2395),\"\",CONCATENATE(C2395,#REF!,#REF!))","v":""}]
[null,null,null,null,null,null," ",null,null,{"$f":"IF(ISBLANK(D2404),\"\",CONCATENATE(C2404,#REF!,#REF!))","v":""}]
[null,null,null,null,null,null," ",null,null,{"$f":"IF(ISBLANK(D2407),\"\",CONCATENATE(C2407,#REF!,#REF!))","v":""}]
[null,null,null,null,null,null," ",null,null,{"$f":"IF(ISBLANK(D2412),\"\",CONCATENATE(C2412,#REF!,#REF!))","v":""}]
[null,null,null,null,null,null," ",null,null,{"$f":"IF(ISBLANK(D2418),\"\",CONCATENATE(C2418,#REF!,#REF!))","v":""}]
[null,null,null,null,null,null," ",null,null,{"$f":"IF(ISBLANK(D2423),\"\",CONCATENATE(C2423,#REF!,#REF!))","v":""}]
[null,null,null,null,null,null," ",null,null,{"$f":"IF(ISBLANK(D2429),\"\",CONCATENATE(C2429,#REF!,#REF!))","v":""}]
[null,null,null,null,null,null," ",null,null,{"$f":"IF(ISBLANK(D2434),\"\",CONCATENATE(C2434,#REF!,#REF!))","v":""}]
[null,null,null,null,null,null," ",null,null,{"$f":"IF(ISBLANK(D2439),\"\",CONCATENATE(C2439,#REF!,#REF!))","v":""}]
[null,null,null,null,null,null," ",null,null,{"$f":"IF(ISBLANK(D2445),\"\",CONCATENATE(C2445,#REF!,#REF!))","v":""}]
[null,null,null,null,null,null," ",null,null,{"$f":"IF(ISBLANK(D2450),\"\",CONCATENATE(C2450,#REF!,#REF!))","v":""}]
[null,null,null,null,null,null," ",null,null,{"$f":"IF(ISBLANK(D2455),\"\",CONCATENATE(C2455,#REF!,#REF!))","v":""}]
[null,null,null,null,null,null," ",null,null,{"$f":"IF(ISBLANK(D2456),\"\",CONCATENATE(C2456,#REF!,#REF!))","v":""}]
[null,null,null,null,null,null," ",null,null,{"$f":"IF(ISBLANK(D2461),\"\",CONCATENATE(C2461,#REF!,#REF!))","v":""}]
[null,null,null,null,null,null," ",null,null,{"$f":"IF(ISBLANK(D2467),\"\",CONCATENATE(C2467,#REF!,#REF!))","v":""}]
[null,null,null,null,null,null," ",null,null,{"$f":"IF(ISBLANK(D2472),\"\",CONCATENATE(C2472,#REF!,#REF!))","v":""}]
[null,null,null,null,null,null," ",null,null,{"$f":"IF(ISBLANK(D2477),\"\",CONCATENATE(C2477,#REF!,#REF!))","v":""}]
[null,null,null,null,null,null," ",null,null,{"$f":"IF(ISBLANK(D2485),\"\",CONCATENATE(C2485,#REF!,#REF!))","v":""}]
[null,null,null,null,null,null," ",null,null,{"$f":"IF(ISBLANK(D2489),\"\",CONCATENATE(C2489,#REF!,#REF!))","v":""}]
[null,null,null,null,null,null," ",null,null,{"$f":"IF(ISBLANK(D2495),\"\",CONCATENATE(C2495,#REF!,#REF!))","v":""}]
[null,null,null,null,null,null," ",null,null,{"$f":"IF(ISBLANK(D2500),\"\",CONCATENATE(C2500,#REF!,#REF!))","v":""}]
[null,null,null,null,null,null," ",null,null,{"$f":"IF(ISBLANK(D2505),\"\",CONCATENATE(C2505,#REF!,#REF!))","v":""}]
[null,null,null,null,null,null," ",null,null,{"$f":"IF(ISBLANK(D2511),\"\",CONCATENATE(C2511,#REF!,#REF!))","v":""}]
[null,null,null,null,null,null," ",null,null,{"$f":"IF(ISBLANK(D2516),\"\",CONCATENATE(C2516,#REF!,#REF!))","v":""}]
[null,null,null,null,null,null," ",null,null,{"$f":"IF(ISBLANK(D2521),\"\",CONCATENATE(C2521,#REF!,#REF!))","v":""}]
[null,null,null,null,null,null," ",null,null,{"$f":"IF(ISBLANK(D2522),\"\",CONCATENATE(C2522,#REF!,#REF!))","v":""}]
[null,null,null,null,null,null," ",null,null,{"$f":"IF(ISBLANK(D2527),\"\",CONCATENATE(C2527,#REF!,#REF!))","v":""}]
[null,null,null,null,null,null," ",null,null,{"$f":"IF(ISBLANK(D2533),\"\",CONCATENATE(C2533,#REF!,#REF!))","v":""}]
[null,null,null,null,null,null," ",null,null,{"$f":"IF(ISBLANK(D2538),\"\",CONCATENATE(C2538,#REF!,#REF!))","v":""}]
[null,null,null,null,null,null," ",null,null,{"$f":"IF(ISBLANK(D2543),\"\",CONCATENATE(C2543,#REF!,#REF!))","v":""}]
[null,null,null,null,null,null," ",null,null,{"$f":"IF(ISBLANK(D2549),\"\",CONCATENATE(C2549,#REF!,#REF!))","v":""}]
[null,null,null,null,null,null," ",null,null,{"$f":"IF(ISBLANK(D2554),\"\",CONCATENATE(C2554,#REF!,#REF!))","v":""}]
[null,null,null,null,null,null," ",null,null,{"$f":"IF(ISBLANK(D2560),\"\",CONCATENATE(C2560,#REF!,#REF!))","v":""}]
[null,null,null,null,null,null," ",null,null,{"$f":"IF(ISBLANK(D2566),\"\",CONCATENATE(C2566,#REF!,#REF!))","v":""}]
[null,null,null,null,null,null," ",null,null,{"$f":"IF(ISBLANK(D2571),\"\",CONCATENATE(C2571,#REF!,#REF!))","v":""}]
[null,null,null,null,null,null," ",null,null,{"$f":"IF(ISBLANK(D2577),\"\",CONCATENATE(C2577,#REF!,#REF!))","v":""}]
[null,null,null,null,null,null," ",null,null,{"$f":"IF(ISBLANK(D2582),\"\",CONCATENATE(C2582,#REF!,#REF!))","v":""}]
[null,null,null,null,null,null," ",null,null,{"$f":"IF(ISBLANK(D2587),\"\",CONCATENATE(C2587,#REF!,#REF!))","v":""}]
[null,null,null,null,null,null," ",null,null,{"$f":"IF(ISBLANK(D2588),\"\",CONCATENATE(C2588,#REF!,#REF!))","v":""}]
[null,null,null,null,null,null," ",null,null,{"$f":"IF(ISBLANK(D2593),\"\",CONCATENATE(C2593,#REF!,#REF!))","v":""}]
[null,null,null,null,null,null," ",null,null,{"$f":"IF(ISBLANK(D2599),\"\",CONCATENATE(C2599,#REF!,#REF!))","v":""}]
[null,null,null,null,null,null," ",null,null,{"$f":"IF(ISBLANK(D2604),\"\",CONCATENATE(C2604,#REF!,#REF!))","v":""}]
[null,null,null,null,null,null," ",null,null,{"$f":"IF(ISBLANK(D2609),\"\",CONCATENATE(C2609,#REF!,#REF!))","v":""}]
[null,null,null,null,null,null," ",null,null,{"$f":"IF(ISBLANK(D2615),\"\",CONCATENATE(C2615,#REF!,#REF!))","v":""}]
[null,null,null,null,null,null," ",null,null,{"$f":"IF(ISBLANK(D2620),\"\",CONCATENATE(C2620,#REF!,#REF!))","v":""}]
[null,null,null,null,null,null," ",null,null,{"$f":"IF(ISBLANK(D2625),\"\",CONCATENATE(C2625,#REF!,#REF!))","v":""}]
[null,null,null,null,null,null," ",null,null,{"$f":"IF(ISBLANK(D2631),\"\",CONCATENATE(C2631,#REF!,#REF!))","v":""}]
[null,null,null,null,null,null," ",null,null,{"$f":"IF(ISBLANK(D2636),\"\",CONCATENATE(C2636,#REF!,#REF!))","v":""}]
[null,null,null,null,null,null," ",null,null,{"$f":"IF(ISBLANK(D2642),\"\",CONCATENATE(C2642,#REF!,#REF!))","v":""}]
[null,null,null,null,null,null," ",null,null,{"$f":"IF(ISBLANK(D2647),\"\",CONCATENATE(C2647,#REF!,#REF!))","v":""}]
[null,null,null,null,null,null," ",null,null,{"$f":"IF(ISBLANK(D2653),\"\",CONCATENATE(C2653,#REF!,#REF!))","v":""}]
[null,null,null,null,null,null," ",null,null,{"$f":"IF(ISBLANK(D2654),\"\",CONCATENATE(C2654,#REF!,#REF!))","v":""}]
[null,null,null,null,null,null," ",null,null,{"$f":"IF(ISBLANK(D2659),\"\",CONCATENATE(C2659,#REF!,#REF!))","v":""}]
[null,null,null,null,null,null," ",null,null,{"$f":"IF(ISBLANK(D2665),\"\",CONCATENATE(C2665,#REF!,#REF!))","v":""}]
[null,null,null,null,null,null," ",null,null,{"$f":"IF(ISBLANK(D2670),\"\",CONCATENATE(C2670,#REF!,#REF!))","v":""}]
[null,null,null,null,null,null," ",null,null,{"$f":"IF(ISBLANK(D2675),\"\",CONCATENATE(C2675,#REF!,#REF!))","v":""}]
[null,null,null,null,null,null," ",null,null,{"$f":"IF(ISBLANK(D2681),\"\",CONCATENATE(C2681,#REF!,#REF!))","v":""}]
[null,null,null,null,null,null," ",null,null,{"$f":"IF(ISBLANK(D2686),\"\",CONCATENATE(C2686,#REF!,#REF!))","v":""}]
[null,null,null,null,null,null," ",null,null,{"$f":"IF(ISBLANK(D2691),\"\",CONCATENATE(C2691,#REF!,#REF!))","v":""}]
[null,null,null,null,null,null," ",null,null,{"$f":"IF(ISBLANK(D2697),\"\",CONCATENATE(C2697,#REF!,#REF!))","v":""}]
[null,null,null,null,null,null," ",null,null,{"$f":"IF(ISBLANK(D2702),\"\",CONCATENATE(C2702,#REF!,#REF!))","v":""}]
[null,null,null,null,null,null," ",null,null,{"$f":"IF(ISBLANK(D2708),\"\",CONCATENATE(C2708,#REF!,#REF!))","v":""}]
[null,null,null,null,null,null," ",null,null,{"$f":"IF(ISBLANK(D2713),\"\",CONCATENATE(C2713,#REF!,#REF!))","v":""}]
[null,null,null,null,null,null," ",null,null,{"$f":"IF(ISBLANK(D2718),\"\",CONCATENATE(C2718,#REF!,#REF!))","v":""}]
[null,null,null,null,null,null," ",null,null,{"$f":"IF(ISBLANK(D2719),\"\",CONCATENATE(C2719,#REF!,#REF!))","v":""}]
[null,null,null,null,null,null," ",null,null,{"$f":"IF(ISBLANK(D2728),\"\",CONCATENATE(C2728,#REF!,#REF!))","v":""}]
[null,null,null,null,null,null," ",null,null,{"$f":"IF(ISBLANK(D2731),\"\",CONCATENATE(C2731,#REF!,#REF!))","v":""}]
[null,null,null,null,null,null," ",null,null,{"$f":"IF(ISBLANK(D2736),\"\",CONCATENATE(C2736,#REF!,#REF!))","v":""}]
[null,null,null,null,null,null," ",null,null,{"$f":"IF(ISBLANK(D2741),\"\",CONCATENATE(C2741,#REF!,#REF!))","v":""}]
[null,null,null,null,null,null," ",null,null,{"$f":"IF(ISBLANK(D2747),\"\",CONCATENATE(C2747,#REF!,#REF!))","v":""}]
[null,null,null,null,null,null," ",null,null,{"$f":"IF(ISBLANK(D2752),\"\",CONCATENATE(C2752,#REF!,#REF!))","v":""}]
[null,null,null,null,null,null," ",null,null,{"$f":"IF(ISBLANK(D2757),\"\",CONCATENATE(C2757,#REF!,#REF!))","v":""}]
[null,null,null,null,null,null," ",null,null,{"$f":"IF(ISBLANK(D2763),\"\",CONCATENATE(C2763,#REF!,#REF!))","v":""}]
[null,null,null,null,null,null," ",null,null,{"$f":"IF(ISBLANK(D2768),\"\",CONCATENATE(C2768,#REF!,#REF!))","v":""}]
[null,null,null,null,null,null," ",null,null,{"$f":"IF(ISBLANK(D2774),\"\",CONCATENATE(C2774,#REF!,#REF!))","v":""}]
[null,null,null,null,null,null," ",null,null,{"$f":"IF(ISBLANK(D2779),\"\",CONCATENATE(C2779,#REF!,#REF!))","v":""}]
[null,null,null,null,null,null," ",null,null,{"$f":"IF(ISBLANK(D2784),\"\",CONCATENATE(C2784,#REF!,#REF!))","v":""}]
[null,null,null,null,null,null," ",null,null,{"$f":"IF(ISBLANK(D2785),\"\",CONCATENATE(C2785,#REF!,#REF!))","v":""}]
[null,null,null,null,null,null," ",null,null,{"$f":"IF(ISBLANK(D2790),\"\",CONCATENATE(C2790,#REF!,#REF!))","v":""}]
[null,null,null,null,null,null," ",null,null,{"$f":"IF(ISBLANK(D2795),\"\",CONCATENATE(C2795,#REF!,#REF!))","v":""}]
[null,null,null,null,null,null," ",null,null,{"$f":"IF(ISBLANK(D2801),\"\",CONCATENATE(C2801,#REF!,#REF!))","v":""}]
[null,null,null,null,null,null," ",null,null,{"$f":"IF(ISBLANK(D2809),\"\",CONCATENATE(C2809,#REF!,#REF!))","v":""}]
[null,null,null,null,null,null," ",null,null,{"$f":"IF(ISBLANK(D2813),\"\",CONCATENATE(C2813,#REF!,#REF!))","v":""}]
[null,null,null,null,null,null," ",null,null,{"$f":"IF(ISBLANK(D2818),\"\",CONCATENATE(C2818,#REF!,#REF!))","v":""}]
[null,null,null,null,null,null," ",null,null,{"$f":"IF(ISBLANK(D2823),\"\",CONCATENATE(C2823,#REF!,#REF!))","v":""}]
[null,null,null,null,null,null," ",null,null,{"$f":"IF(ISBLANK(D2829),\"\",CONCATENATE(C2829,#REF!,#REF!))","v":""}]
[null,null,null,null,null,null," ",null,null,{"$f":"IF(ISBLANK(D2834),\"\",CONCATENATE(C2834,#REF!,#REF!))","v":""}]
[null,null,null,null,null,null," ",null,null,{"$f":"IF(ISBLANK(D2840),\"\",CONCATENATE(C2840,#REF!,#REF!))","v":""}]
[null,null,null,null,null,null," ",null,null,{"$f":"IF(ISBLANK(D2845),\"\",CONCATENATE(C2845,#REF!,#REF!))","v":""}]
[null,null,null,null,null,null," ",null,null,{"$f":"IF(ISBLANK(D2850),\"\",CONCATENATE(C2850,#REF!,#REF!))","v":""}]
[null,null,null,null,null,null," ",null,null,{"$f":"IF(ISBLANK(D2851),\"\",CONCATENATE(C2851,#REF!,#REF!))","v":""}]
[null,null,null,null,null,null," ",null,null,{"$f":"IF(ISBLANK(D2856),\"\",CONCATENATE(C2856,#REF!,#REF!))","v":""}]
[null,null,null,null,null,null," ",null,null,{"$f":"IF(ISBLANK(D2861),\"\",CONCATENATE(C2861,#REF!,#REF!))","v":""}]
[null,null,null,null,null,null," ",null,null,{"$f":"IF(ISBLANK(D2867),\"\",CONCATENATE(C2867,#REF!,#REF!))","v":""}]
[null,null,null,null,null,null," ",null,null,{"$f":"IF(ISBLANK(D2872),\"\",CONCATENATE(C2872,#REF!,#REF!))","v":""}]
[null,null,null,null,null,null," ",null,null,{"$f":"IF(ISBLANK(D2878),\"\",CONCATENATE(C2878,#REF!,#REF!))","v":""}]
[null,null,null,null,null,null," ",null,null,{"$f":"IF(ISBLANK(D2883),\"\",CONCATENATE(C2883,#REF!,#REF!))","v":""}]
[null,null,null,null,null,null," ",null,null,{"$f":"IF(ISBLANK(D2890),\"\",CONCATENATE(C2890,#REF!,#REF!))","v":""}]
[null,null,null,null,null,null," ",null,null,{"$f":"IF(ISBLANK(D2895),\"\",CONCATENATE(C2895,#REF!,#REF!))","v":""}]
[null,null,null,null,null,null," ",null,null,{"$f":"IF(ISBLANK(D2900),\"\",CONCATENATE(C2900,#REF!,#REF!))","v":""}]
[null,null,null,null,null,null," ",null,null,{"$f":"IF(ISBLANK(D2905),\"\",CONCATENATE(C2905,#REF!,#REF!))","v":""}]
[null,null,null,null,null,null," ",null,null,{"$f":"IF(ISBLANK(D2911),\"\",CONCATENATE(C2911,#REF!,#REF!))","v":""}]
[null,null,null,null,null,null," ",null,null,{"$f":"IF(ISBLANK(D2916),\"\",CONCATENATE(C2916,#REF!,#REF!))","v":""}]
[null,null,null,null,null,null," ",null,null,{"$f":"IF(ISBLANK(D2917),\"\",CONCATENATE(C2917,#REF!,#REF!))","v":""}]
[null,null,null,null,null,null," ",null,null,{"$f":"IF(ISBLANK(D2922),\"\",CONCATENATE(C2922,#REF!,#REF!))","v":""}]
[null,null,null,null,null,null," ",null,null,{"$f":"IF(ISBLANK(D2927),\"\",CONCATENATE(C2927,#REF!,#REF!))","v":""}]
[null,null,null,null,null,null," ",null,null,{"$f":"IF(ISBLANK(D2933),\"\",CONCATENATE(C2933,#REF!,#REF!))","v":""}]
[null,null,null,null,null,null," ",null,null,{"$f":"IF(ISBLANK(D2938),\"\",CONCATENATE(C2938,#REF!,#REF!))","v":""}]
[null,null,null,null,null,null," ",null,null,{"$f":"IF(ISBLANK(D2944),\"\",CONCATENATE(C2944,#REF!,#REF!))","v":""}]
[null,null,null,null,null,null," ",null,null,{"$f":"IF(ISBLANK(D2949),\"\",CONCATENATE(C2949,#REF!,#REF!))","v":""}]
[null,null,null,null,null,null," ",null,null,{"$f":"IF(ISBLANK(D2954),\"\",CONCATENATE(C2954,#REF!,#REF!))","v":""}]
[null,null,null,null,null,null," ",null,null,{"$f":"IF(ISBLANK(D2960),\"\",CONCATENATE(C2960,#REF!,#REF!))","v":""}]
[null,null,null,null,null,null," ",null,null,{"$f":"IF(ISBLANK(D2965),\"\",CONCATENATE(C2965,#REF!,#REF!))","v":""}]
[null,null,null,null,null,null," ",null,null,{"$f":"IF(ISBLANK(D2971),\"\",CONCATENATE(C2971,#REF!,#REF!))","v":""}]
[null,null,null,null,null,null," ",null,null,{"$f":"IF(ISBLANK(D2977),\"\",CONCATENATE(C2977,#REF!,#REF!))","v":""}]
[null,null,null,null,null,null," ",null,null,{"$f":"IF(ISBLANK(D2982),\"\",CONCATENATE(C2982,#REF!,#REF!))","v":""}]
[null,null,null,null,null,null," ",null,null,{"$f":"IF(ISBLANK(D2983),\"\",CONCATENATE(C2983,#REF!,#REF!))","v":""}]
[null,null,null,null,null,null," ",null,null,{"$f":"IF(ISBLANK(D2988),\"\",CONCATENATE(C2988,#REF!,#REF!))","v":""}]
[null,null,null,null,null,null," ",null,null,{"$f":"IF(ISBLANK(D2993),\"\",CONCATENATE(C2993,#REF!,#REF!))","v":""}]
[null,null,null,null,null,null," ",null,null,{"$f":"IF(ISBLANK(D2999),\"\",CONCATENATE(C2999,#REF!,#REF!))","v":""}]
[null,null,null,null,null,null," ",null,null,{"$f":"IF(ISBLANK(D3004),\"\",CONCATENATE(C3004,#REF!,#REF!))","v":""}]
[null,null,null,null,null,null," ",null,null,{"$f":"IF(ISBLANK(D3010),\"\",CONCATENATE(C3010,#REF!,#REF!))","v":""}]
[null,null,null,null,null,null," ",null,null,{"$f":"IF(ISBLANK(D3015),\"\",CONCATENATE(C3015,#REF!,#REF!))","v":""}]
[null,null,null,null,null,null," ",null,null,{"$f":"IF(ISBLANK(D3020),\"\",CONCATENATE(C3020,#REF!,#REF!))","v":""}]
[null,null,null,null,null,null," ",null,null,{"$f":"IF(ISBLANK(D3026),\"\",CONCATENATE(C3026,#REF!,#REF!))","v":""}]
[null,null,null,null,null,null," ",null,null,{"$f":"IF(ISBLANK(D3031),\"\",CONCATENATE(C3031,#REF!,#REF!))","v":""}]
[null,null,null,null,null,null," ",null,null,{"$f":"IF(ISBLANK(D3036),\"\",CONCATENATE(C3036,#REF!,#REF!))","v":""}]
[null,null,null,null,null,null," ",null,null,{"$f":"IF(ISBLANK(D3042),\"\",CONCATENATE(C3042,#REF!,#REF!))","v":""}]
[null,null,null,null,null,null," ",null,null,{"$f":"IF(ISBLANK(D3047),\"\",CONCATENATE(C3047,#REF!,#REF!))","v":""}]
[null,null,null,null,null,null," ",null,null,{"$f":"IF(ISBLANK(D3050),\"\",CONCATENATE(C3050,#REF!,#REF!))","v":""}]
[null,null,null,null,null,null," ",null,null,{"$f":"IF(ISBLANK(D3054),\"\",CONCATENATE(C3054,#REF!,#REF!))","v":""}]
[null,null,null,null,null,null," ",null,null,{"$f":"IF(ISBLANK(D3059),\"\",CONCATENATE(C3059,#REF!,#REF!))","v":""}]
[null,null,null,null,null,null," ",null,null,{"$f":"IF(ISBLANK(D3065),\"\",CONCATENATE(C3065,#REF!,#REF!))","v":""}]
[null,null,null,null,null,null," ",null,null,{"$f":"IF(ISBLANK(D3070),\"\",CONCATENATE(C3070,#REF!,#REF!))","v":""}]
[null,null,null,null,null,null," ",null,null,{"$f":"IF(ISBLANK(D3075),\"\",CONCATENATE(C3075,#REF!,#REF!))","v":""}]
[null,null,null,null,null,null," ",null,null,{"$f":"IF(ISBLANK(D3081),\"\",CONCATENATE(C3081,#REF!,#REF!))","v":""}]
[null,null,null,null,null,null," ",null,null,{"$f":"IF(ISBLANK(D3086),\"\",CONCATENATE(C3086,#REF!,#REF!))","v":""}]
[null,null,null,null,null,null," ",null,null,{"$f":"IF(ISBLANK(D3092),\"\",CONCATENATE(C3092,#REF!,#REF!))","v":""}]
[null,null,null,null,null,null," ",null,null,{"$f":"IF(ISBLANK(D3097),\"\",CONCATENATE(C3097,#REF!,#REF!))","v":""}]
[null,null,null,null,null,null," ",null,null,{"$f":"IF(ISBLANK(D3102),\"\",CONCATENATE(C3102,#REF!,#REF!))","v":""}]
[null,null,null,null,null,null," ",null,null,{"$f":"IF(ISBLANK(D3108),\"\",CONCATENATE(C3108,#REF!,#REF!))","v":""}]
[null,null,null,null,null,null," ",null,null,{"$f":"IF(ISBLANK(D3113),\"\",CONCATENATE(C3113,#REF!,#REF!))","v":""}]
[null,null,null,null,null,null," ",null,null,{"$f":"IF(ISBLANK(D3114),\"\",CONCATENATE(C3114,#REF!,#REF!))","v":""}]
[null,null,null,null,null,null," ",null,null,{"$f":"IF(ISBLANK(D3119),\"\",CONCATENATE(C3119,#REF!,#REF!))","v":""}]
[null,null,null,null,null,null," ",null,null,{"$f":"IF(ISBLANK(D3124),\"\",CONCATENATE(C3124,#REF!,#REF!))","v":""}]
[null,null,null,null,null,null," ",null,null,{"$f":"IF(ISBLANK(D3131),\"\",CONCATENATE(C3131,#REF!,#REF!))","v":""}]
[null,null,null,null,null,null," ",null,null,{"$f":"IF(ISBLANK(D3136),\"\",CONCATENATE(C3136,#REF!,#REF!))","v":""}]
[null,null,null,null,null,null," ",null,null,{"$f":"IF(ISBLANK(D3141),\"\",CONCATENATE(C3141,#REF!,#REF!))","v":""}]
[null,null,null,null,null,null," ",null,null,{"$f":"IF(ISBLANK(D3147),\"\",CONCATENATE(C3147,#REF!,#REF!))","v":""}]
[null,null,null,null,null,null," ",null,null,{"$f":"IF(ISBLANK(D3152),\"\",CONCATENATE(C3152,#REF!,#REF!))","v":""}]
[null,null,null,null,null,null," ",null,null,{"$f":"IF(ISBLANK(D3158),\"\",CONCATENATE(C3158,#REF!,#REF!))","v":""}]
[null,null,null,null,null,null," ",null,null,{"$f":"IF(ISBLANK(D3163),\"\",CONCATENATE(C3163,#REF!,#REF!))","v":""}]
[null,null,null,null,null,null," ",null,null,{"$f":"IF(ISBLANK(D3168),\"\",CONCATENATE(C3168,#REF!,#REF!))","v":""}]
[null,null,null,null,null,null," ",null,null,{"$f":"IF(ISBLANK(D3174),\"\",CONCATENATE(C3174,#REF!,#REF!))","v":""}]
[null,null,null,null,null,null," ",null,null,{"$f":"IF(ISBLANK(D3179),\"\",CONCATENATE(C3179,#REF!,#REF!))","v":""}]
[null,null,null,null,null,null," ",null,null,{"$f":"IF(ISBLANK(D3184),\"\",CONCATENATE(C3184,#REF!,#REF!))","v":""}]
[null,null,null,null,null,null," ",null,null,{"$f":"IF(ISBLANK(D3185),\"\",CONCATENATE(C3185,#REF!,#REF!))","v":""}]
[null,null,null,null,null,null," ",null,null,{"$f":"IF(ISBLANK(D3190),\"\",CONCATENATE(C3190,#REF!,#REF!))","v":""}]
[null,null,null,null,null,null," ",null,null,{"$f":"IF(ISBLANK(D3196),\"\",CONCATENATE(C3196,#REF!,#REF!))","v":""}]
[null,null,null,null,null,null," ",null,null,{"$f":"IF(ISBLANK(D3201),\"\",CONCATENATE(C3201,#REF!,#REF!))","v":""}]
[null,null,null,null,null,null," ",null,null,{"$f":"IF(ISBLANK(D3206),\"\",CONCATENATE(C3206,#REF!,#REF!))","v":""}]
[null,null,null,null,null,null," ",null,null,{"$f":"IF(ISBLANK(D3212),\"\",CONCATENATE(C3212,#REF!,#REF!))","v":""}]
[null,null,null,null,null,null," ",null,null,{"$f":"IF(ISBLANK(D3218),\"\",CONCATENATE(C3218,#REF!,#REF!))","v":""}]
[null,null,null,null,null,null," ",null,null,{"$f":"IF(ISBLANK(D3224),\"\",CONCATENATE(C3224,#REF!,#REF!))","v":""}]
[null,null,null,null,null,null," ",null,null,{"$f":"IF(ISBLANK(D3229),\"\",CONCATENATE(C3229,#REF!,#REF!))","v":""}]
[null,null,null,null,null,null," ",null,null,{"$f":"IF(ISBLANK(D3234),\"\",CONCATENATE(C3234,#REF!,#REF!))","v":""}]
[null,null,null,null,null,null," ",null,null,{"$f":"IF(ISBLANK(D3240),\"\",CONCATENATE(C3240,#REF!,#REF!))","v":""}]
[null,null,null,null,null,null," ",null,null,{"$f":"IF(ISBLANK(D3245),\"\",CONCATENATE(C3245,#REF!,#REF!))","v":""}]
[null,null,null,null,null,null," ",null,null,{"$f":"IF(ISBLANK(D3250),\"\",CONCATENATE(C3250,#REF!,#REF!))","v":""}]
[null,null,null,null,null,null," ",null,null,{"$f":"IF(ISBLANK(D3251),\"\",CONCATENATE(C3251,#REF!,#REF!))","v":""}]
[null,null,null,null,null,null," ",null,null,{"$f":"IF(ISBLANK(D3256),\"\",CONCATENATE(C3256,#REF!,#REF!))","v":""}]
[null,null,null,null,null,null," ",null,null,{"$f":"IF(ISBLANK(D3262),\"\",CONCATENATE(C3262,#REF!,#REF!))","v":""}]
[null,null,null,null,null,null," ",null,null,{"$f":"IF(ISBLANK(D3267),\"\",CONCATENATE(C3267,#REF!,#REF!))","v":""}]
[null,null,null,null,null,null," ",null,null,{"$f":"IF(ISBLANK(D3272),\"\",CONCATENATE(C3272,#REF!,#REF!))","v":""}]
[null,null,null,null,null,null," ",null,null,{"$f":"IF(ISBLANK(D3278),\"\",CONCATENATE(C3278,#REF!,#REF!))","v":""}]
[null,null,null,null,null,null," ",null,null,{"$f":"IF(ISBLANK(D3283),\"\",CONCATENATE(C3283,#REF!,#REF!))","v":""}]
[null,null,null,null,null,null," ",null,null,{"$f":"IF(ISBLANK(D3289),\"\",CONCATENATE(C3289,#REF!,#REF!))","v":""}]
[null,null,null,null,null,null," ",null,null,{"$f":"IF(ISBLANK(D3293),\"\",CONCATENATE(C3293,#REF!,#REF!))","v":""}]
[null,null,null,null,null,null," ",null,null,{"$f":"IF(ISBLANK(D3300),\"\",CONCATENATE(C3300,#REF!,#REF!))","v":""}]
[null,null,null,null,null,null," ",null,null,{"$f":"IF(ISBLANK(D3306),\"\",CONCATENATE(C3306,#REF!,#REF!))","v":""}]
[null,null,null,null,null,null," ",null,null,{"$f":"IF(ISBLANK(D3311),\"\",CONCATENATE(C3311,#REF!,#REF!))","v":""}]
[null,null,null,null,null,null," ",null,null,{"$f":"IF(ISBLANK(D3316),\"\",CONCATENATE(C3316,#REF!,#REF!))","v":""}]
[null,null,null,null,null,null," ",null,null,{"$f":"IF(ISBLANK(D3317),\"\",CONCATENATE(C3317,#REF!,#REF!))","v":""}]
[null,null,null,null,null,null," ",null,null,{"$f":"IF(ISBLANK(D3322),\"\",CONCATENATE(C3322,#REF!,#REF!))","v":""}]
[null,null,null,null,null,null," ",null,null,{"$f":"IF(ISBLANK(D3328),\"\",CONCATENATE(C3328,#REF!,#REF!))","v":""}]
[null,null,null,null,null,null," ",null,null,{"$f":"IF(ISBLANK(D3333),\"\",CONCATENATE(C3333,#REF!,#REF!))","v":""}]
[null,null,null,null,null,null," ",null,null,{"$f":"IF(ISBLANK(D3338),\"\",CONCATENATE(C3338,#REF!,#REF!))","v":""}]
[null,null,null,null,null,null," ",null,null,{"$f":"IF(ISBLANK(D3344),\"\",CONCATENATE(C3344,#REF!,#REF!))","v":""}]
[null,null,null,null,null,null," ",null,null,{"$f":"IF(ISBLANK(D3349),\"\",CONCATENATE(C3349,#REF!,#REF!))","v":""}]
[null,null,null,null,null,null," ",null,null,{"$f":"IF(ISBLANK(D3354),\"\",CONCATENATE(C3354,#REF!,#REF!))","v":""}]
[null,null,null,null,null,null," ",null,null,{"$f":"IF(ISBLANK(D3360),\"\",CONCATENATE(C3360,#REF!,#REF!))","v":""}]
[null,null,null,null,null,null," ",null,null,{"$f":"IF(ISBLANK(D3365),\"\",CONCATENATE(C3365,#REF!,#REF!))","v":""}]
[null,null,null,null,null,null," ",null,null,{"$f":"IF(ISBLANK(D3371),\"\",CONCATENATE(C3371,#REF!,#REF!))","v":""}]
[null,null,null,null,null,null," ",null,null,{"$f":"IF(ISBLANK(D3374),\"\",CONCATENATE(C3374,#REF!,#REF!))","v":""}]
[null,null,null,null,null,null," ",null,null,{"$f":"IF(ISBLANK(D3382),\"\",CONCATENATE(C3382,#REF!,#REF!))","v":""}]
[null,null,null,null,null,null," ",null,null,{"$f":"IF(ISBLANK(D3383),\"\",CONCATENATE(C3383,#REF!,#REF!))","v":""}]
[null,null,null,null,null,null," ",null,null,{"$f":"IF(ISBLANK(D3388),\"\",CONCATENATE(C3388,#REF!,#REF!))","v":""}]
[null,null,null,null,null,null," ",null,null,{"$f":"IF(ISBLANK(D3394),\"\",CONCATENATE(C3394,#REF!,#REF!))","v":""}]
[null,null,null,null,null,null," ",null,null,{"$f":"IF(ISBLANK(D3399),\"\",CONCATENATE(C3399,#REF!,#REF!))","v":""}]
[null,null,null,null,null,null," ",null,null,{"$f":"IF(ISBLANK(D3404),\"\",CONCATENATE(C3404,#REF!,#REF!))","v":""}]
[null,null,null,null,null,null," ",null,null,{"$f":"IF(ISBLANK(D3410),\"\",CONCATENATE(C3410,#REF!,#REF!))","v":""}]
[null,null,null,null,null,null," ",null,null,{"$f":"IF(ISBLANK(D3415),\"\",CONCATENATE(C3415,#REF!,#REF!))","v":""}]
[null,null,null,null,null,null," ",null,null,{"$f":"IF(ISBLANK(D3420),\"\",CONCATENATE(C3420,#REF!,#REF!))","v":""}]
[null,null,null,null,null,null," ",null,null,{"$f":"IF(ISBLANK(D3426),\"\",CONCATENATE(C3426,#REF!,#REF!))","v":""}]
[null,null,null,null,null,null," ",null,null,{"$f":"IF(ISBLANK(D3431),\"\",CONCATENATE(C3431,#REF!,#REF!))","v":""}]
[null,null,null,null,null,null," ",null,null,{"$f":"IF(ISBLANK(D3437),\"\",CONCATENATE(C3437,#REF!,#REF!))","v":""}]
[null,null,null,null,null,null," ",null,null,{"$f":"IF(ISBLANK(D3442),\"\",CONCATENATE(C3442,#REF!,#REF!))","v":""}]
[null,null,null,null,null,null," ",null,null,{"$f":"IF(ISBLANK(D3447),\"\",CONCATENATE(C3447,#REF!,#REF!))","v":""}]
[null,null,null,null,null,null," ",null,null,{"$f":"IF(ISBLANK(D3448),\"\",CONCATENATE(C3448,#REF!,#REF!))","v":""}]
[null,null,null,null,null,null," ",null,null,{"$f":"IF(ISBLANK(D3455),\"\",CONCATENATE(C3455,#REF!,#REF!))","v":""}]
[null,null,null,null,null,null," ",null,null,{"$f":"IF(ISBLANK(D3460),\"\",CONCATENATE(C3460,#REF!,#REF!))","v":""}]
[null,null,null,null,null,null," ",null,null,{"$f":"IF(ISBLANK(D3465),\"\",CONCATENATE(C3465,#REF!,#REF!))","v":""}]
[null,null,null,null,null,null," ",null,null,{"$f":"IF(ISBLANK(D3470),\"\",CONCATENATE(C3470,#REF!,#REF!))","v":""}]
[null,null,null,null,null,null," ",null,null,{"$f":"IF(ISBLANK(D3476),\"\",CONCATENATE(C3476,#REF!,#REF!))","v":""}]
[null,null,null,null,null,null," ",null,null,{"$f":"IF(ISBLANK(D3481),\"\",CONCATENATE(C3481,#REF!,#REF!))","v":""}]
[null,null,null,null,null,null," ",null,null,{"$f":"IF(ISBLANK(D3486),\"\",CONCATENATE(C3486,#REF!,#REF!))","v":""}]
[null,null,null,null,null,null," ",null,null,{"$f":"IF(ISBLANK(D3492),\"\",CONCATENATE(C3492,#REF!,#REF!))","v":""}]
[null,null,null,null,null,null," ",null,null,{"$f":"IF(ISBLANK(D3497),\"\",CONCATENATE(C3497,#REF!,#REF!))","v":""}]
[null,null,null,null,null,null," ",null,null,{"$f":"IF(ISBLANK(D3503),\"\",CONCATENATE(C3503,#REF!,#REF!))","v":""}]
[null,null,null,null,null,null," ",null,null,{"$f":"IF(ISBLANK(D3508),\"\",CONCATENATE(C3508,#REF!,#REF!))","v":""}]
[null,null,null,null,null,null," ",null,null,{"$f":"IF(ISBLANK(D3513),\"\",CONCATENATE(C3513,#REF!,#REF!))","v":""}]
[null,null,null,null,null,null," ",null,null,{"$f":"IF(ISBLANK(D3514),\"\",CONCATENATE(C3514,#REF!,#REF!))","v":""}]
[null,null,null,null,null,null," ",null,null,{"$f":"IF(ISBLANK(D3519),\"\",CONCATENATE(C3519,#REF!,#REF!))","v":""}]
[null,null,null,null,null,null," ",null,null,{"$f":"IF(ISBLANK(D3524),\"\",CONCATENATE(C3524,#REF!,#REF!))","v":""}]
[null,null,null,null,null,null," ",null,null,{"$f":"IF(ISBLANK(D3530),\"\",CONCATENATE(C3530,#REF!,#REF!))","v":""}]
[null,null,null,null,null,null," ",null,null,{"$f":"IF(ISBLANK(D3536),\"\",CONCATENATE(C3536,#REF!,#REF!))","v":""}]
[null,null,null,null,null,null," ",null,null,{"$f":"IF(ISBLANK(D3542),\"\",CONCATENATE(C3542,#REF!,#REF!))","v":""}]
[null,null,null,null,null,null," ",null,null,{"$f":"IF(ISBLANK(D3547),\"\",CONCATENATE(C3547,#REF!,#REF!))","v":""}]
[null,null,null,null,null,null," ",null,null,{"$f":"IF(ISBLANK(D3552),\"\",CONCATENATE(C3552,#REF!,#REF!))","v":""}]
[null,null,null,null,null,null," ",null,null,{"$f":"IF(ISBLANK(D3558),\"\",CONCATENATE(C3558,#REF!,#REF!))","v":""}]
[null,null,null,null,null,null," ",null,null,{"$f":"IF(ISBLANK(D3563),\"\",CONCATENATE(C3563,#REF!,#REF!))","v":""}]
[null,null,null,null,null,null," ",null,null,{"$f":"IF(ISBLANK(D3569),\"\",CONCATENATE(C3569,#REF!,#REF!))","v":""}]
[null,null,null,null,null,null," ",null,null,{"$f":"IF(ISBLANK(D3574),\"\",CONCATENATE(C3574,#REF!,#REF!))","v":""}]
[null,null,null,null,null,null," ",null,null,{"$f":"IF(ISBLANK(D3579),\"\",CONCATENATE(C3579,#REF!,#REF!))","v":""}]
[null,null,null,null,null,null," ",null,null,{"$f":"IF(ISBLANK(D3580),\"\",CONCATENATE(C3580,#REF!,#REF!))","v":""}]
[null,null,null,null,null,null," ",null,null,{"$f":"IF(ISBLANK(D3585),\"\",CONCATENATE(C3585,#REF!,#REF!))","v":""}]
[null,null,null,null,null,null," ",null,null,{"$f":"IF(ISBLANK(D3590),\"\",CONCATENATE(C3590,#REF!,#REF!))","v":""}]
[null,null,null,null,null,null," ",null,null,{"$f":"IF(ISBLANK(D3596),\"\",CONCATENATE(C3596,#REF!,#REF!))","v":""}]
[null,null,null,null,null,null," ",null,null,{"$f":"IF(ISBLANK(D3601),\"\",CONCATENATE(C3601,#REF!,#REF!))","v":""}]
[null,null,null,null,null,null," ",null,null,{"$f":"IF(ISBLANK(D3607),\"\",CONCATENATE(C3607,#REF!,#REF!))","v":""}]
[null,null,null,null,null,null," ",null,null,{"$f":"IF(ISBLANK(D3612),\"\",CONCATENATE(C3612,#REF!,#REF!))","v":""}]
[null,null,null,null,null,null," ",null,null,{"$f":"IF(ISBLANK(D3617),\"\",CONCATENATE(C3617,#REF!,#REF!))","v":""}]
[null,null,null,null,null,null," ",null,null,{"$f":"IF(ISBLANK(D3624),\"\",CONCATENATE(C3624,#REF!,#REF!))","v":""}]
[null,null,null,null,null,null," ",null,null,{"$f":"IF(ISBLANK(D3629),\"\",CONCATENATE(C3629,#REF!,#REF!))","v":""}]
[null,null,null,null,null,null," ",null,null,{"$f":"IF(ISBLANK(D3634),\"\",CONCATENATE(C3634,#REF!,#REF!))","v":""}]
[null,null,null,null,null,null," ",null,null,{"$f":"IF(ISBLANK(D3640),\"\",CONCATENATE(C3640,#REF!,#REF!))","v":""}]
[null,null,null,null,null,null," ",null,null,{"$f":"IF(ISBLANK(D3645),\"\",CONCATENATE(C3645,#REF!,#REF!))","v":""}]
[null,null,null,null,null,null," ",null,null,{"$f":"IF(ISBLANK(D3646),\"\",CONCATENATE(C3646,#REF!,#REF!))","v":""}]
[null,null,null,null,null,null," ",null,null,{"$f":"IF(ISBLANK(D3651),\"\",CONCATENATE(C3651,#REF!,#REF!))","v":""}]
[null,null,null,null,null,null," ",null,null,{"$f":"IF(ISBLANK(D3656),\"\",CONCATENATE(C3656,#REF!,#REF!))","v":""}]
[null,null,null,null,null,null," ",null,null,{"$f":"IF(ISBLANK(D3662),\"\",CONCATENATE(C3662,#REF!,#REF!))","v":""}]
[null,null,null,null,null,null," ",null,null,{"$f":"IF(ISBLANK(D3667),\"\",CONCATENATE(C3667,#REF!,#REF!))","v":""}]
[null,null,null,null,null,null," ",null,null,{"$f":"IF(ISBLANK(D3673),\"\",CONCATENATE(C3673,#REF!,#REF!))","v":""}]
[null,null,null,null,null,null," ",null,null,{"$f":"IF(ISBLANK(D3678),\"\",CONCATENATE(C3678,#REF!,#REF!))","v":""}]
[null,null,null,null,null,null," ",null,null,{"$f":"IF(ISBLANK(D3683),\"\",CONCATENATE(C3683,#REF!,#REF!))","v":""}]
[null,null,null,null,null,null," ",null,null,{"$f":"IF(ISBLANK(D3689),\"\",CONCATENATE(C3689,#REF!,#REF!))","v":""}]
[null,null,null,null,null,null," ",null,null,{"$f":"IF(ISBLANK(D3694),\"\",CONCATENATE(C3694,#REF!,#REF!))","v":""}]
[null,null,null,null,null,null," ",null,null,{"$f":"IF(ISBLANK(D3698),\"\",CONCATENATE(C3698,#REF!,#REF!))","v":""}]
[null,null,null,null,null,null," ",null,null,{"$f":"IF(ISBLANK(D3706),\"\",CONCATENATE(C3706,#REF!,#REF!))","v":""}]
[null,null,null,null,null,null," ",null,null,{"$f":"IF(ISBLANK(D3711),\"\",CONCATENATE(C3711,#REF!,#REF!))","v":""}]
[null,null,null,null,null,null," ",null,null,{"$f":"IF(ISBLANK(D3712),\"\",CONCATENATE(C3712,#REF!,#REF!))","v":""}]
[null,null,null,null,null,null," ",null,null,{"$f":"IF(ISBLANK(D3717),\"\",CONCATENATE(C3717,#REF!,#REF!))","v":""}]
[null,null,null,null,null,null," ",null,null,{"$f":"IF(ISBLANK(D3722),\"\",CONCATENATE(C3722,#REF!,#REF!))","v":""}]
[null,null,null,null,null,null," ",null,null,{"$f":"IF(ISBLANK(D3728),\"\",CONCATENATE(C3728,#REF!,#REF!))","v":""}]
[null,null,null,null,null,null," ",null,null,{"$f":"IF(ISBLANK(D3733),\"\",CONCATENATE(C3733,#REF!,#REF!))","v":""}]
[null,null,null,null,null,null," ",null,null,{"$f":"IF(ISBLANK(D3739),\"\",CONCATENATE(C3739,#REF!,#REF!))","v":""}]
[null,null,null,null,null,null," ",null,null,{"$f":"IF(ISBLANK(D3744),\"\",CONCATENATE(C3744,#REF!,#REF!))","v":""}]
[null,null,null,null,null,null," ",null,null,{"$f":"IF(ISBLANK(D3749),\"\",CONCATENATE(C3749,#REF!,#REF!))","v":""}]
[null,null,null,null,null,null," ",null,null,{"$f":"IF(ISBLANK(D3755),\"\",CONCATENATE(C3755,#REF!,#REF!))","v":""}]
[null,null,null,null,null,null," ",null,null,{"$f":"IF(ISBLANK(D3760),\"\",CONCATENATE(C3760,#REF!,#REF!))","v":""}]
[null,null,null,null,null,null," ",null,null,{"$f":"IF(ISBLANK(D3765),\"\",CONCATENATE(C3765,#REF!,#REF!))","v":""}]
[null,null,null,null,null,null," ",null,null,{"$f":"IF(ISBLANK(D3771),\"\",CONCATENATE(C3771,#REF!,#REF!))","v":""}]
[null,null,null,null,null,null," ",null,null,{"$f":"IF(ISBLANK(D3776),\"\",CONCATENATE(C3776,#REF!,#REF!))","v":""}]
[null,null,null,null,null,null," ",null,null,{"$f":"IF(ISBLANK(D3777),\"\",CONCATENATE(C3777,#REF!,#REF!))","v":""}]
[null,null,null,null,null,null," ",null,null,{"$f":"IF(ISBLANK(D3783),\"\",CONCATENATE(C3783,#REF!,#REF!))","v":""}]
[null,null,null,null,null,null," ",null,null,{"$f":"IF(ISBLANK(D3788),\"\",CONCATENATE(C3788,#REF!,#REF!))","v":""}]
[null,null,null,null,null,null," ",null,null,{"$f":"IF(ISBLANK(D3794),\"\",CONCATENATE(C3794,#REF!,#REF!))","v":""}]
[null,null,null,null,null,null," ",null,null,{"$f":"IF(ISBLANK(D3799),\"\",CONCATENATE(C3799,#REF!,#REF!))","v":""}]
[null,null,null,null,null,null," ",null,null,{"$f":"IF(ISBLANK(D3804),\"\",CONCATENATE(C3804,#REF!,#REF!))","v":""}]
[null,null,null,null,null,null," ",null,null,{"$f":"IF(ISBLANK(D3810),\"\",CONCATENATE(C3810,#REF!,#REF!))","v":""}]
[null,null,null,null,null,null," ",null,null,{"$f":"IF(ISBLANK(D3815),\"\",CONCATENATE(C3815,#REF!,#REF!))","v":""}]
[null,null,null,null,null,null," ",null,null,{"$f":"IF(ISBLANK(D3821),\"\",CONCATENATE(C3821,#REF!,#REF!))","v":""}]
[null,null,null,null,null,null," ",null,null,{"$f":"IF(ISBLANK(D3826),\"\",CONCATENATE(C3826,#REF!,#REF!))","v":""}]
[null,null,null,null,null,null," ",null,null,{"$f":"IF(ISBLANK(D3831),\"\",CONCATENATE(C3831,#REF!,#REF!))","v":""}]
[null,null,null,null,null,null," ",null,null,{"$f":"IF(ISBLANK(D3837),\"\",CONCATENATE(C3837,#REF!,#REF!))","v":""}]
[null,null,null,null,null,null," ",null,null,{"$f":"IF(ISBLANK(D3842),\"\",CONCATENATE(C3842,#REF!,#REF!))","v":""}]
[null,null,null,null,null,null," ",null,null,{"$f":"IF(ISBLANK(D3843),\"\",CONCATENATE(C3843,#REF!,#REF!))","v":""}]
[null,null,null,null,null,null," ",null,null,{"$f":"IF(ISBLANK(D3848),\"\",CONCATENATE(C3848,#REF!,#REF!))","v":""}]
[null,null,null,null,null,null," ",null,null,{"$f":"IF(ISBLANK(D3853),\"\",CONCATENATE(C3853,#REF!,#REF!))","v":""}]
[null,null,null,null,null,null," ",null,null,{"$f":"IF(ISBLANK(D3858),\"\",CONCATENATE(C3858,#REF!,#REF!))","v":""}]
[null,null,null,null,null,null," ",null,null,{"$f":"IF(ISBLANK(D3865),\"\",CONCATENATE(C3865,#REF!,#REF!))","v":""}]
[null,null,null,null,null,null," ",null,null,{"$f":"IF(ISBLANK(D3870),\"\",CONCATENATE(C3870,#REF!,#REF!))","v":""}]
[null,null,null,null,null,null," ",null,null,{"$f":"IF(ISBLANK(D3876),\"\",CONCATENATE(C3876,#REF!,#REF!))","v":""}]
[null,null,null,null,null,null," ",null,null,{"$f":"IF(ISBLANK(D3881),\"\",CONCATENATE(C3881,#REF!,#REF!))","v":""}]
[null,null,null,null,null,null," ",null,null,{"$f":"IF(ISBLANK(D3887),\"\",CONCATENATE(C3887,#REF!,#REF!))","v":""}]
[null,null,null,null,null,null," ",null,null,{"$f":"IF(ISBLANK(D3892),\"\",CONCATENATE(C3892,#REF!,#REF!))","v":""}]
[null,null,null,null,null,null," ",null,null,{"$f":"IF(ISBLANK(D3897),\"\",CONCATENATE(C3897,#REF!,#REF!))","v":""}]
[null,null,null,null,null,null," ",null,null,{"$f":"IF(ISBLANK(D3903),\"\",CONCATENATE(C3903,#REF!,#REF!))","v":""}]
[null,null,null,null,null,null," ",null,null,{"$f":"IF(ISBLANK(D3908),\"\",CONCATENATE(C3908,#REF!,#REF!))","v":""}]
[null,null,null,null,null,null," ",null,null,{"$f":"IF(ISBLANK(D3909),\"\",CONCATENATE(C3909,#REF!,#REF!))","v":""}]
[null,null,null,null,null,null," ",null,null,{"$f":"IF(ISBLANK(D3914),\"\",CONCATENATE(C3914,#REF!,#REF!))","v":""}]
[null,null,null,null,null,null," ",null,null,{"$f":"IF(ISBLANK(D3919),\"\",CONCATENATE(C3919,#REF!,#REF!))","v":""}]
[null,null,null,null,null,null," ",null,null,{"$f":"IF(ISBLANK(D3925),\"\",CONCATENATE(C3925,#REF!,#REF!))","v":""}]
[null,null,null,null,null,null," ",null,null,{"$f":"IF(ISBLANK(D3930),\"\",CONCATENATE(C3930,#REF!,#REF!))","v":""}]
[null,null,null,null,null,null," ",null,null,{"$f":"IF(ISBLANK(D3935),\"\",CONCATENATE(C3935,#REF!,#REF!))","v":""}]
[null,null,null,null,null,null," ",null,null,{"$f":"IF(ISBLANK(D3939),\"\",CONCATENATE(C3939,#REF!,#REF!))","v":""}]
[null,null,null,null,null,null," ",null,null,{"$f":"IF(ISBLANK(D3947),\"\",CONCATENATE(C3947,#REF!,#REF!))","v":""}]
[null,null,null,null,null,null," ",null,null,{"$f":"IF(ISBLANK(D3953),\"\",CONCATENATE(C3953,#REF!,#REF!))","v":""}]
[null,null,null,null,null,null," ",null,null,{"$f":"IF(ISBLANK(D3958),\"\",CONCATENATE(C3958,#REF!,#REF!))","v":""}]
[null,null,null,null,null,null," ",null,null,{"$f":"IF(ISBLANK(D3963),\"\",CONCATENATE(C3963,#REF!,#REF!))","v":""}]
[null,null,null,null,null,null," ",null,null,{"$f":"IF(ISBLANK(D3969),\"\",CONCATENATE(C3969,#REF!,#REF!))","v":""}]
[null,null,null,null,null,null," ",null,null,{"$f":"IF(ISBLANK(D3974),\"\",CONCATENATE(C3974,#REF!,#REF!))","v":""}]
[null,null,null,null,null,null," ",null,null,{"$f":"IF(ISBLANK(D3979),\"\",CONCATENATE(C3979,#REF!,#REF!))","v":""}]
[null,null,null,null,null,null," ",null,null,{"$f":"IF(ISBLANK(D3980),\"\",CONCATENATE(C3980,#REF!,#REF!))","v":""}]
[null,null,null,null,null,null," ",null,null,{"$f":"IF(ISBLANK(D3985),\"\",CONCATENATE(C3985,#REF!,#REF!))","v":""}]
[null,null,null,null,null,null," ",null,null,{"$f":"IF(ISBLANK(D3991),\"\",CONCATENATE(C3991,#REF!,#REF!))","v":""}]
[null,null,null,null,null,null," ",null,null,{"$f":"IF(ISBLANK(D3996),\"\",CONCATENATE(C3996,#REF!,#REF!))","v":""}]
[null,null,null,null,null,null," ",null,null,{"$f":"IF(ISBLANK(D4001),\"\",CONCATENATE(C4001,#REF!,#REF!))","v":""}]
[null,null,null,null,null,null," ",null,null,{"$f":"IF(ISBLANK(D4007),\"\",CONCATENATE(C4007,#REF!,#REF!))","v":""}]
[null,null,null,null,null,null," ",null,null,{"$f":"IF(ISBLANK(D4012),\"\",CONCATENATE(C4012,#REF!,#REF!))","v":""}]
[null,null,null,null,null,null," ",null,null,{"$f":"IF(ISBLANK(D4018),\"\",CONCATENATE(C4018,#REF!,#REF!))","v":""}]
[null,null,null,null,null,null," ",null,null,{"$f":"IF(ISBLANK(D4020),\"\",CONCATENATE(C4020,#REF!,#REF!))","v":""}]
[null,null,null,null,null,null," ",null,null,{"$f":"IF(ISBLANK(D4029),\"\",CONCATENATE(C4029,#REF!,#REF!))","v":""}]
[null,null,null,null,null,null," ",null,null,{"$f":"IF(ISBLANK(D4035),\"\",CONCATENATE(C4035,#REF!,#REF!))","v":""}]
[null,null,null,null,null,null," ",null,null,{"$f":"IF(ISBLANK(D4040),\"\",CONCATENATE(C4040,#REF!,#REF!))","v":""}]
[null,null,null,null,null,null," ",null,null,{"$f":"IF(ISBLANK(D4045),\"\",CONCATENATE(C4045,#REF!,#REF!))","v":""}]
[null,null,null,null,null,null," ",null,null,{"$f":"IF(ISBLANK(D4046),\"\",CONCATENATE(C4046,#REF!,#REF!))","v":""}]
[null,null,null,null,null,null," ",null,null,{"$f":"IF(ISBLANK(D4051),\"\",CONCATENATE(C4051,#REF!,#REF!))","v":""}]
[null,null,null,null,null,null," ",null,null,{"$f":"IF(ISBLANK(D4057),\"\",CONCATENATE(C4057,#REF!,#REF!))","v":""}]
[null,null,null,null,null,null," ",null,null,{"$f":"IF(ISBLANK(D4062),\"\",CONCATENATE(C4062,#REF!,#REF!))","v":""}]
[null,null,null,null,null,null," ",null,null,{"$f":"IF(ISBLANK(D4067),\"\",CONCATENATE(C4067,#REF!,#REF!))","v":""}]
[null,null,null,null,null,null," ",null,null,{"$f":"IF(ISBLANK(D4073),\"\",CONCATENATE(C4073,#REF!,#REF!))","v":""}]
[null,null,null,null,null,null," ",null,null,{"$f":"IF(ISBLANK(D4078),\"\",CONCATENATE(C4078,#REF!,#REF!))","v":""}]
[null,null,null,null,null,null," ",null,null,{"$f":"IF(ISBLANK(D4083),\"\",CONCATENATE(C4083,#REF!,#REF!))","v":""}]
[null,null,null,null,null,null," ",null,null,{"$f":"IF(ISBLANK(D4089),\"\",CONCATENATE(C4089,#REF!,#REF!))","v":""}]
[null,null,null,null,null,null," ",null,null,{"$f":"IF(ISBLANK(D4094),\"\",CONCATENATE(C4094,#REF!,#REF!))","v":""}]
[null,null,null,null,null,null," ",null,null,{"$f":"IF(ISBLANK(D4100),\"\",CONCATENATE(C4100,#REF!,#REF!))","v":""}]
[null,null,null,null,null,null," ",null,null,{"$f":"IF(ISBLANK(D4101),\"\",CONCATENATE(C4101,#REF!,#REF!))","v":""}]
[null,null,null,null,null,null," ",null,null,{"$f":"IF(ISBLANK(D4111),\"\",CONCATENATE(C4111,#REF!,#REF!))","v":""}]
[null,null,null,null,null,null," ",null,null,{"$f":"IF(ISBLANK(D4112),\"\",CONCATENATE(C4112,#REF!,#REF!))","v":""}]
[null,null,null,null,null,null," ",null,null,{"$f":"IF(ISBLANK(D4117),\"\",CONCATENATE(C4117,#REF!,#REF!))","v":""}]
[null,null,null,null,null,null," ",null,null,{"$f":"IF(ISBLANK(D4123),\"\",CONCATENATE(C4123,#REF!,#REF!))","v":""}]
[null,null,null,null,null,null," ",null,null,{"$f":"IF(ISBLANK(D4128),\"\",CONCATENATE(C4128,#REF!,#REF!))","v":""}]
[null,null,null,null,null,null," ",null,null,{"$f":"IF(ISBLANK(D4133),\"\",CONCATENATE(C4133,#REF!,#REF!))","v":""}]
[null,null,null,null,null,null," ",null,null,{"$f":"IF(ISBLANK(D4139),\"\",CONCATENATE(C4139,#REF!,#REF!))","v":""}]
[null,null,null,null,null,null," ",null,null,{"$f":"IF(ISBLANK(D4144),\"\",CONCATENATE(C4144,#REF!,#REF!))","v":""}]
[null,null,null,null,null,null," ",null,null,{"$f":"IF(ISBLANK(D4149),\"\",CONCATENATE(C4149,#REF!,#REF!))","v":""}]
[null,null,null,null,null,null," ",null,null,{"$f":"IF(ISBLANK(D4155),\"\",CONCATENATE(C4155,#REF!,#REF!))","v":""}]
[null,null,null,null,null,null," ",null,null,{"$f":"IF(ISBLANK(D4160),\"\",CONCATENATE(C4160,#REF!,#REF!))","v":""}]
[null,null,null,null,null,null," ",null,null,{"$f":"IF(ISBLANK(D4166),\"\",CONCATENATE(C4166,#REF!,#REF!))","v":""}]
[null,null,null,null,null,null," ",null,null,{"$f":"IF(ISBLANK(D4171),\"\",CONCATENATE(C4171,#REF!,#REF!))","v":""}]
[null,null,null,null,null,null," ",null,null,{"$f":"IF(ISBLANK(D4176),\"\",CONCATENATE(C4176,#REF!,#REF!))","v":""}]
[null,null,null,null,null,null," ",null,null,{"$f":"IF(ISBLANK(D4177),\"\",CONCATENATE(C4177,#REF!,#REF!))","v":""}]
[null,null,null,null,null,null," ",null,null,{"$f":"IF(ISBLANK(D4182),\"\",CONCATENATE(C4182,#REF!,#REF!))","v":""}]
[null,null,null,null,null,null," ",null,null,{"$f":"IF(ISBLANK(D4189),\"\",CONCATENATE(C4189,#REF!,#REF!))","v":""}]
[null,null,null,null,null,null," ",null,null,{"$f":"IF(ISBLANK(D4194),\"\",CONCATENATE(C4194,#REF!,#REF!))","v":""}]
[null,null,null,null,null,null," ",null,null,{"$f":"IF(ISBLANK(D4199),\"\",CONCATENATE(C4199,#REF!,#REF!))","v":""}]
[null,null,null,null,null,null," ",null,null,{"$f":"IF(ISBLANK(D4205),\"\",CONCATENATE(C4205,#REF!,#REF!))","v":""}]
[null,null,null,null,null,null," ",null,null,{"$f":"IF(ISBLANK(D4210),\"\",CONCATENATE(C4210,#REF!,#REF!))","v":""}]
[null,null,null,null,null,null," ",null,null,{"$f":"IF(ISBLANK(D4215),\"\",CONCATENATE(C4215,#REF!,#REF!))","v":""}]
[null,null,null,null,null,null," ",null,null,{"$f":"IF(ISBLANK(D4221),\"\",CONCATENATE(C4221,#REF!,#REF!))","v":""}]
[null,null,null,null,null,null," ",null,null,{"$f":"IF(ISBLANK(D4226),\"\",CONCATENATE(C4226,#REF!,#REF!))","v":""}]
[null,null,null,null,null,null," ",null,null,{"$f":"IF(ISBLANK(D4232),\"\",CONCATENATE(C4232,#REF!,#REF!))","v":""}]
[null,null,null,null,null,null," ",null,null,{"$f":"IF(ISBLANK(D4237),\"\",CONCATENATE(C4237,#REF!,#REF!))","v":""}]
[null,null,null,null,null,null," ",null,null,{"$f":"IF(ISBLANK(D4242),\"\",CONCATENATE(C4242,#REF!,#REF!))","v":""}]
[null,null,null,null,null,null," ",null,null,{"$f":"IF(ISBLANK(D4243),\"\",CONCATENATE(C4243,#REF!,#REF!))","v":""}]
[null,null,null,null,null,null," ",null,null,{"$f":"IF(ISBLANK(D4248),\"\",CONCATENATE(C4248,#REF!,#REF!))","v":""}]
[null,null,null,null,null,null," ",null,null,{"$f":"IF(ISBLANK(D4253),\"\",CONCATENATE(C4253,#REF!,#REF!))","v":""}]
[null,null,null,null,null,null," ",null,null,{"$f":"IF(ISBLANK(D4259),\"\",CONCATENATE(C4259,#REF!,#REF!))","v":""}]
[null,null,null,null,null,null," ",null,null,{"$f":"IF(ISBLANK(D4263),\"\",CONCATENATE(C4263,#REF!,#REF!))","v":""}]
[null,null,null,null,null,null," ",null,null,{"$f":"IF(ISBLANK(D4271),\"\",CONCATENATE(C4271,#REF!,#REF!))","v":""}]
[null,null,null,null,null,null," ",null,null,{"$f":"IF(ISBLANK(D4276),\"\",CONCATENATE(C4276,#REF!,#REF!))","v":""}]
[null,null,null,null,null,null," ",null,null,{"$f":"IF(ISBLANK(D4281),\"\",CONCATENATE(C4281,#REF!,#REF!))","v":""}]
[null,null,null,null,null,null," ",null,null,{"$f":"IF(ISBLANK(D4287),\"\",CONCATENATE(C4287,#REF!,#REF!))","v":""}]
[null,null,null,null,null,null," ",null,null,{"$f":"IF(ISBLANK(D4292),\"\",CONCATENATE(C4292,#REF!,#REF!))","v":""}]
[null,null,null,null,null,null," ",null,null,{"$f":"IF(ISBLANK(D4298),\"\",CONCATENATE(C4298,#REF!,#REF!))","v":""}]
[null,null,null,null,null,null," ",null,null,{"$f":"IF(ISBLANK(D4303),\"\",CONCATENATE(C4303,#REF!,#REF!))","v":""}]
[null,null,null,null,null,null," ",null,null,{"$f":"IF(ISBLANK(D4308),\"\",CONCATENATE(C4308,#REF!,#REF!))","v":""}]
[null,null,null,null,null,null," ",null,null,{"$f":"IF(ISBLANK(D4309),\"\",CONCATENATE(C4309,#REF!,#REF!))","v":""}]
[null,null,null,null,null,null," ",null,null,{"$f":"IF(ISBLANK(D4314),\"\",CONCATENATE(C4314,#REF!,#REF!))","v":""}]
[null,null,null,null,null,null," ",null,null,{"$f":"IF(ISBLANK(D4319),\"\",CONCATENATE(C4319,#REF!,#REF!))","v":""}]
[null,null,null,null,null,null," ",null,null,{"$f":"IF(ISBLANK(D4325),\"\",CONCATENATE(C4325,#REF!,#REF!))","v":""}]
[null,null,null,null,null,null," ",null,null,{"$f":"IF(ISBLANK(D4330),\"\",CONCATENATE(C4330,#REF!,#REF!))","v":""}]
[null,null,null,null,null,null," ",null,null,{"$f":"IF(ISBLANK(D4336),\"\",CONCATENATE(C4336,#REF!,#REF!))","v":""}]
[null,null,null,null,null,null," ",null,null,{"$f":"IF(ISBLANK(D4341),\"\",CONCATENATE(C4341,#REF!,#REF!))","v":""}]
[null,null,null,null,null,null," ",null,null,{"$f":"IF(ISBLANK(D4344),\"\",CONCATENATE(C4344,#REF!,#REF!))","v":""}]
[null,null,null,null,null,null," ",null,null,{"$f":"IF(ISBLANK(D4353),\"\",CONCATENATE(C4353,#REF!,#REF!))","v":""}]
[null,null,null,null,null,null," ",null,null,{"$f":"IF(ISBLANK(D4358),\"\",CONCATENATE(C4358,#REF!,#REF!))","v":""}]
[null,null,null,null,null,null," ",null,null,{"$f":"IF(ISBLANK(D4363),\"\",CONCATENATE(C4363,#REF!,#REF!))","v":""}]
[null,null,null,null,null,null," ",null,null,{"$f":"IF(ISBLANK(D4369),\"\",CONCATENATE(C4369,#REF!,#REF!))","v":""}]
[null,null,null,null,null,null," ",null,null,{"$f":"IF(ISBLANK(D4374),\"\",CONCATENATE(C4374,#REF!,#REF!))","v":""}]
[null,null,null,null,null,null," ",null,null,{"$f":"IF(ISBLANK(D4375),\"\",CONCATENATE(C4375,#REF!,#REF!))","v":""}]
[null,null,null,null,null,null," ",null,null,{"$f":"IF(ISBLANK(D4380),\"\",CONCATENATE(C4380,#REF!,#REF!))","v":""}]
[null,null,null,null,null,null," ",null,null,{"$f":"IF(ISBLANK(D4385),\"\",CONCATENATE(C4385,#REF!,#REF!))","v":""}]
[null,null,null,null,null,null," ",null,null,{"$f":"IF(ISBLANK(D4391),\"\",CONCATENATE(C4391,#REF!,#REF!))","v":""}]
[null,null,null,null,null,null," ",null,null,{"$f":"IF(ISBLANK(D4396),\"\",CONCATENATE(C4396,#REF!,#REF!))","v":""}]
[null,null,null,null,null,null," ",null,null,{"$f":"IF(ISBLANK(D4402),\"\",CONCATENATE(C4402,#REF!,#REF!))","v":""}]
[null,null,null,null,null,null," ",null,null,{"$f":"IF(ISBLANK(D4407),\"\",CONCATENATE(C4407,#REF!,#REF!))","v":""}]
[null,null,null,null,null,null," ",null,null,{"$f":"IF(ISBLANK(D4412),\"\",CONCATENATE(C4412,#REF!,#REF!))","v":""}]
[null,null,null,null,null,null," ",null,null,{"$f":"IF(ISBLANK(D4418),\"\",CONCATENATE(C4418,#REF!,#REF!))","v":""}]
[null,null,null,null,null,null," ",null,null,{"$f":"IF(ISBLANK(D4423),\"\",CONCATENATE(C4423,#REF!,#REF!))","v":""}]
[null,null,null,null,null,null," ",null,null,{"$f":"IF(ISBLANK(D4425),\"\",CONCATENATE(C4425,#REF!,#REF!))","v":""}]
[null,null,null,null,null,null," ",null,null,{"$f":"IF(ISBLANK(D4435),\"\",CONCATENATE(C4435,#REF!,#REF!))","v":""}]
[null,null,null,null,null,null," ",null,null,{"$f":"IF(ISBLANK(D4440),\"\",CONCATENATE(C4440,#REF!,#REF!))","v":""}]
[null,null,null,null,null,null," ",null,null,{"$f":"IF(ISBLANK(D4441),\"\",CONCATENATE(C4441,#REF!,#REF!))","v":""}]
[null,null,null,null,null,null," ",null,null,{"$f":"IF(ISBLANK(D4446),\"\",CONCATENATE(C4446,#REF!,#REF!))","v":""}]
[null,null,null,null,null,null," ",null,null,{"$f":"IF(ISBLANK(D4451),\"\",CONCATENATE(C4451,#REF!,#REF!))","v":""}]
[null,null,null,null,null,null," ",null,null,{"$f":"IF(ISBLANK(D4457),\"\",CONCATENATE(C4457,#REF!,#REF!))","v":""}]
[null,null,null,null,null,null," ",null,null,{"$f":"IF(ISBLANK(D4462),\"\",CONCATENATE(C4462,#REF!,#REF!))","v":""}]
[null,null,null,null,null,null," ",null,null,{"$f":"IF(ISBLANK(D4468),\"\",CONCATENATE(C4468,#REF!,#REF!))","v":""}]
[null,null,null,null,null,null," ",null,null,{"$f":"IF(ISBLANK(D4473),\"\",CONCATENATE(C4473,#REF!,#REF!))","v":""}]
[null,null,null,null,null,null," ",null,null,{"$f":"IF(ISBLANK(D4478),\"\",CONCATENATE(C4478,#REF!,#REF!))","v":""}]
[null,null,null,null,null,null," ",null,null,{"$f":"IF(ISBLANK(D4484),\"\",CONCATENATE(C4484,#REF!,#REF!))","v":""}]
[null,null,null,null,null,null," ",null,null,{"$f":"IF(ISBLANK(D4489),\"\",CONCATENATE(C4489,#REF!,#REF!))","v":""}]
[null,null,null,null,null,null," ",null,null,{"$f":"IF(ISBLANK(D4494),\"\",CONCATENATE(C4494,#REF!,#REF!))","v":""}]
[null,null,null,null,null,null," ",null,null,{"$f":"IF(ISBLANK(D4500),\"\",CONCATENATE(C4500,#REF!,#REF!))","v":""}]
[null,null,null,null,null,null," ",null,null,{"$f":"IF(ISBLANK(D4505),\"\",CONCATENATE(C4505,#REF!,#REF!))","v":""}]
[null,null,null,null,null,null," ",null,null,{"$f":"IF(ISBLANK(D4510),\"\",CONCATENATE(C4510,#REF!,#REF!))","v":""}]
[null,null,null,null,null,null," ",null,null,{"$f":"IF(ISBLANK(D4512),\"\",CONCATENATE(C4512,#REF!,#REF!))","v":""}]
[null,null,null,null,null,null," ",null,null,{"$f":"IF(ISBLANK(D4517),\"\",CONCATENATE(C4517,#REF!,#REF!))","v":""}]
[null,null,null,null,null,null," ",null,null,{"$f":"IF(ISBLANK(D4523),\"\",CONCATENATE(C4523,#REF!,#REF!))","v":""}]
[null,null,null,null,null,null," ",null,null,{"$f":"IF(ISBLANK(D4528),\"\",CONCATENATE(C4528,#REF!,#REF!))","v":""}]
[null,null,null,null,null,null," ",null,null,{"$f":"IF(ISBLANK(D4533),\"\",CONCATENATE(C4533,#REF!,#REF!))","v":""}]
[null,null,null,null,null,null," ",null,null,{"$f":"IF(ISBLANK(D4539),\"\",CONCATENATE(C4539,#REF!,#REF!))","v":""}]
[null,null,null,null,null,null," ",null,null,{"$f":"IF(ISBLANK(D4544),\"\",CONCATENATE(C4544,#REF!,#REF!))","v":""}]
[null,null,null,null,null,null," ",null,null,{"$f":"IF(ISBLANK(D4550),\"\",CONCATENATE(C4550,#REF!,#REF!))","v":""}]
[null,null,null,null,null,null," ",null,null,{"$f":"IF(ISBLANK(D4555),\"\",CONCATENATE(C4555,#REF!,#REF!))","v":""}]
[null,null,null,null,null,null," ",null,null,{"$f":"IF(ISBLANK(D4560),\"\",CONCATENATE(C4560,#REF!,#REF!))","v":""}]
[null,null,null,null,null,null," ",null,null,{"$f":"IF(ISBLANK(D4566),\"\",CONCATENATE(C4566,#REF!,#REF!))","v":""}]
[null,null,null,null,null,null," ",null,null,{"$f":"IF(ISBLANK(D4571),\"\",CONCATENATE(C4571,#REF!,#REF!))","v":""}]
[null,null,null,null,null,null," ",null,null,{"$f":"IF(ISBLANK(D4572),\"\",CONCATENATE(C4572,#REF!,#REF!))","v":""}]
[null,null,null,null,null,null," ",null,null,{"$f":"IF(ISBLANK(D4577),\"\",CONCATENATE(C4577,#REF!,#REF!))","v":""}]
[null,null,null,null,null,null," ",null,null,{"$f":"IF(ISBLANK(D4582),\"\",CONCATENATE(C4582,#REF!,#REF!))","v":""}]
[null,null,null,null,null,null," ",null,null,{"$f":"IF(ISBLANK(D4591),\"\",CONCATENATE(C4591,#REF!,#REF!))","v":""}]
[null,null,null,null,null,null," ",null,null,{"$f":"IF(ISBLANK(D4594),\"\",CONCATENATE(C4594,#REF!,#REF!))","v":""}]
[null,null,null,null,null,null," ",null,null,{"$f":"IF(ISBLANK(D4599),\"\",CONCATENATE(C4599,#REF!,#REF!))","v":""}]
[null,null,null,null,null,null," ",null,null,{"$f":"IF(ISBLANK(D4605),\"\",CONCATENATE(C4605,#REF!,#REF!))","v":""}]
[null,null,null,null,null,null," ",null,null,{"$f":"IF(ISBLANK(D4610),\"\",CONCATENATE(C4610,#REF!,#REF!))","v":""}]
[null,null,null,null,null,null," ",null,null,{"$f":"IF(ISBLANK(D4616),\"\",CONCATENATE(C4616,#REF!,#REF!))","v":""}]
[null,null,null,null,null,null," ",null,null,{"$f":"IF(ISBLANK(D4621),\"\",CONCATENATE(C4621,#REF!,#REF!))","v":""}]
[null,null,null,null,null,null," ",null,null,{"$f":"IF(ISBLANK(D4626),\"\",CONCATENATE(C4626,#REF!,#REF!))","v":""}]
[null,null,null,null,null,null," ",null,null,{"$f":"IF(ISBLANK(D4632),\"\",CONCATENATE(C4632,#REF!,#REF!))","v":""}]
[null,null,null,null,null,null," ",null,null,{"$f":"IF(ISBLANK(D4637),\"\",CONCATENATE(C4637,#REF!,#REF!))","v":""}]
[null,null,null,null,null,null," ",null,null,{"$f":"IF(ISBLANK(D4638),\"\",CONCATENATE(C4638,#REF!,#REF!))","v":""}]
[null,null,null,null,null,null," ",null,null,{"$f":"IF(ISBLANK(D4643),\"\",CONCATENATE(C4643,#REF!,#REF!))","v":""}]
[null,null,null,null,null,null," ",null,null,{"$f":"IF(ISBLANK(D4648),\"\",CONCATENATE(C4648,#REF!,#REF!))","v":""}]
[null,null,null,null,null,null," ",null,null,{"$f":"IF(ISBLANK(D4654),\"\",CONCATENATE(C4654,#REF!,#REF!))","v":""}]
[null,null,null,null,null,null," ",null,null,{"$f":"IF(ISBLANK(D4659),\"\",CONCATENATE(C4659,#REF!,#REF!))","v":""}]
[null,null,null,null,null,null," ",null,null,{"$f":"IF(ISBLANK(D4664),\"\",CONCATENATE(C4664,#REF!,#REF!))","v":""}]
[null,null,null,null,null,null," ",null,null,{"$f":"IF(ISBLANK(D4672),\"\",CONCATENATE(C4672,#REF!,#REF!))","v":""}]
[null,null,null,null,null,null," ",null,null,{"$f":"IF(ISBLANK(D4676),\"\",CONCATENATE(C4676,#REF!,#REF!))","v":""}]
[null,null,null,null,null,null," ",null,null,{"$f":"IF(ISBLANK(D4682),\"\",CONCATENATE(C4682,#REF!,#REF!))","v":""}]
[null,null,null,null,null,null," ",null,null,{"$f":"IF(ISBLANK(D4687),\"\",CONCATENATE(C4687,#REF!,#REF!))","v":""}]
[null,null,null,null,null,null," ",null,null,{"$f":"IF(ISBLANK(D4692),\"\",CONCATENATE(C4692,#REF!,#REF!))","v":""}]
[null,null,null,null,null,null," ",null,null,{"$f":"IF(ISBLANK(D4698),\"\",CONCATENATE(C4698,#REF!,#REF!))","v":""}]
[null,null,null,null,null,null," ",null,null,{"$f":"IF(ISBLANK(D4703),\"\",CONCATENATE(C4703,#REF!,#REF!))","v":""}]
[null,null,null,null,null,null," ",null,null,{"$f":"IF(ISBLANK(D4708),\"\",CONCATENATE(C4708,#REF!,#REF!))","v":""}]
[null,null,null,null,null,null," ",null,null,{"$f":"IF(ISBLANK(D4709),\"\",CONCATENATE(C4709,#REF!,#REF!))","v":""}]
[null,null,null,null,null,null," ",null,null,{"$f":"IF(ISBLANK(D4714),\"\",CONCATENATE(C4714,#REF!,#REF!))","v":""}]
[null,null,null,null,null,null," ",null,null,{"$f":"IF(ISBLANK(D4720),\"\",CONCATENATE(C4720,#REF!,#REF!))","v":""}]
[null,null,null,null,null,null," ",null,null,{"$f":"IF(ISBLANK(D4725),\"\",CONCATENATE(C4725,#REF!,#REF!))","v":""}]
[null,null,null,null,null,null," ",null,null,{"$f":"IF(ISBLANK(D4730),\"\",CONCATENATE(C4730,#REF!,#REF!))","v":""}]
[null,null,null,null,null,null," ",null,null,{"$f":"IF(ISBLANK(D4736),\"\",CONCATENATE(C4736,#REF!,#REF!))","v":""}]
[null,null,null,null,null,null," ",null,null,{"$f":"IF(ISBLANK(D4741),\"\",CONCATENATE(C4741,#REF!,#REF!))","v":""}]
[null,null,null,null,null,null," ",null,null,{"$f":"IF(ISBLANK(D4747),\"\",CONCATENATE(C4747,#REF!,#REF!))","v":""}]
[null,null,null,null,null,null," ",null,null,{"$f":"IF(ISBLANK(D4753),\"\",CONCATENATE(C4753,#REF!,#REF!))","v":""}]
[null,null,null,null,null,null," ",null,null,{"$f":"IF(ISBLANK(D4758),\"\",CONCATENATE(C4758,#REF!,#REF!))","v":""}]
[null,null,null,null,null,null," ",null,null,{"$f":"IF(ISBLANK(D4764),\"\",CONCATENATE(C4764,#REF!,#REF!))","v":""}]
[null,null,null,null,null,null," ",null,null,{"$f":"IF(ISBLANK(D4769),\"\",CONCATENATE(C4769,#REF!,#REF!))","v":""}]
[null,null,null,null,null,null," ",null,null,{"$f":"IF(ISBLANK(D4774),\"\",CONCATENATE(C4774,#REF!,#REF!))","v":""}]
[null,null,null,null,null,null," ",null,null,{"$f":"IF(ISBLANK(D4775),\"\",CONCATENATE(C4775,#REF!,#REF!))","v":""}]
[null,null,null,null,null,null," ",null,null,{"$f":"IF(ISBLANK(D4780),\"\",CONCATENATE(C4780,#REF!,#REF!))","v":""}]
[null,null,null,null,null,null," ",null,null,{"$f":"IF(ISBLANK(D4786),\"\",CONCATENATE(C4786,#REF!,#REF!))","v":""}]
[null,null,null,null,null,null," ",null,null,{"$f":"IF(ISBLANK(D4791),\"\",CONCATENATE(C4791,#REF!,#REF!))","v":""}]
[null,null,null,null,null,null," ",null,null,{"$f":"IF(ISBLANK(D4796),\"\",CONCATENATE(C4796,#REF!,#REF!))","v":""}]
[null,null,null,null,null,null," ",null,null,{"$f":"IF(ISBLANK(D4802),\"\",CONCATENATE(C4802,#REF!,#REF!))","v":""}]
[null,null,null,null,null,null," ",null,null,{"$f":"IF(ISBLANK(D4807),\"\",CONCATENATE(C4807,#REF!,#REF!))","v":""}]
[null,null,null,null,null,null," ",null,null,{"$f":"IF(ISBLANK(D4812),\"\",CONCATENATE(C4812,#REF!,#REF!))","v":""}]
[null,null,null,null,null,null," ",null,null,{"$f":"IF(ISBLANK(D4818),\"\",CONCATENATE(C4818,#REF!,#REF!))","v":""}]
[null,null,null,null,null,null," ",null,null,{"$f":"IF(ISBLANK(D4823),\"\",CONCATENATE(C4823,#REF!,#REF!))","v":""}]
[null,null,null,null,null,null," ",null,null,{"$f":"IF(ISBLANK(D4829),\"\",CONCATENATE(C4829,#REF!,#REF!))","v":""}]
[null,null,null,null,null,null," ",null,null,{"$f":"IF(ISBLANK(D4834),\"\",CONCATENATE(C4834,#REF!,#REF!))","v":""}]
[null,null,null,null,null,null," ",null,null,{"$f":"IF(ISBLANK(D4840),\"\",CONCATENATE(C4840,#REF!,#REF!))","v":""}]
[null,null,null,null,null,null," ",null,null,{"$f":"IF(ISBLANK(D4841),\"\",CONCATENATE(C4841,#REF!,#REF!))","v":""}]
[null,null,null,null,null,null," ",null,null,{"$f":"IF(ISBLANK(D4846),\"\",CONCATENATE(C4846,#REF!,#REF!))","v":""}]
[null,null,null,null,null,null," ",null,null,{"$f":"IF(ISBLANK(D4852),\"\",CONCATENATE(C4852,#REF!,#REF!))","v":""}]
[null,null,null,null,null,null," ",null,null,{"$f":"IF(ISBLANK(D4857),\"\",CONCATENATE(C4857,#REF!,#REF!))","v":""}]
[null,null,null,null,null,null," ",null,null,{"$f":"IF(ISBLANK(D4862),\"\",CONCATENATE(C4862,#REF!,#REF!))","v":""}]
[null,null,null,null,null,null," ",null,null,{"$f":"IF(ISBLANK(D4868),\"\",CONCATENATE(C4868,#REF!,#REF!))","v":""}]
[null,null,null,null,null,null," ",null,null,{"$f":"IF(ISBLANK(D4873),\"\",CONCATENATE(C4873,#REF!,#REF!))","v":""}]
[null,null,null,null,null,null," ",null,null,{"$f":"IF(ISBLANK(D4878),\"\",CONCATENATE(C4878,#REF!,#REF!))","v":""}]
[null,null,null,null,null,null," ",null,null,{"$f":"IF(ISBLANK(D4884),\"\",CONCATENATE(C4884,#REF!,#REF!))","v":""}]
[null,null,null,null,null,null," ",null,null,{"$f":"IF(ISBLANK(D4889),\"\",CONCATENATE(C4889,#REF!,#REF!))","v":""}]
[null,null,null,null,null,null," ",null,null,{"$f":"IF(ISBLANK(D4895),\"\",CONCATENATE(C4895,#REF!,#REF!))","v":""}]
[null,null,null,null,null,null," ",null,null,{"$f":"IF(ISBLANK(D4900),\"\",CONCATENATE(C4900,#REF!,#REF!))","v":""}]
[null,null,null,null,null,null," ",null,null,{"$f":"IF(ISBLANK(D4905),\"\",CONCATENATE(C4905,#REF!,#REF!))","v":""}]
[null,null,null,null,null,null," ",null,null,{"$f":"IF(ISBLANK(D4906),\"\",CONCATENATE(C4906,#REF!,#REF!))","v":""}]
[null,null,null,null,null,null," ",null,null,{"$f":"IF(ISBLANK(D4915),\"\",CONCATENATE(C4915,#REF!,#REF!))","v":""}]
[null,null,null,null,null,null," ",null,null,{"$f":"IF(ISBLANK(D4918),\"\",CONCATENATE(C4918,#REF!,#REF!))","v":""}]
[null,null,null,null,null,null," ",null,null,{"$f":"IF(ISBLANK(D4923),\"\",CONCATENATE(C4923,#REF!,#REF!))","v":""}]
[null,null,null,null,null,null," ",null,null,{"$f":"IF(ISBLANK(D4928),\"\",CONCATENATE(C4928,#REF!,#REF!))","v":""}]
[null,null,null,null,null,null," ",null,null,{"$f":"IF(ISBLANK(D4934),\"\",CONCATENATE(C4934,#REF!,#REF!))","v":""}]
[null,null,null,null,null,null," ",null,null,{"$f":"IF(ISBLANK(D4939),\"\",CONCATENATE(C4939,#REF!,#REF!))","v":""}]
[null,null,null,null,null,null," ",null,null,{"$f":"IF(ISBLANK(D4944),\"\",CONCATENATE(C4944,#REF!,#REF!))","v":""}]
[null,null,null,null,null,null," ",null,null,{"$f":"IF(ISBLANK(D4950),\"\",CONCATENATE(C4950,#REF!,#REF!))","v":""}]
[null,null,null,null,null,null," ",null,null,{"$f":"IF(ISBLANK(D4955),\"\",CONCATENATE(C4955,#REF!,#REF!))","v":""}]
[null,null,null,null,null,null," ",null,null,{"$f":"IF(ISBLANK(D4961),\"\",CONCATENATE(C4961,#REF!,#REF!))","v":""}]
[null,null,null,null,null,null," ",null,null,{"$f":"IF(ISBLANK(D4966),\"\",CONCATENATE(C4966,#REF!,#REF!))","v":""}]
[null,null,null,null,null,null," ",null,null,{"$f":"IF(ISBLANK(D4971),\"\",CONCATENATE(C4971,#REF!,#REF!))","v":""}]
[null,null,null,null,null,null," ",null,null,{"$f":"IF(ISBLANK(D4972),\"\",CONCATENATE(C4972,#REF!,#REF!))","v":""}]
[null,null,null,null,null,null," ",null,null,{"$f":"IF(ISBLANK(D4977),\"\",CONCATENATE(C4977,#REF!,#REF!))","v":""}]
[null,null,null,null,null,null," ",null,null,{"$f":"IF(ISBLANK(D4982),\"\",CONCATENATE(C4982,#REF!,#REF!))","v":""}]
[null,null,null,null,null,null," ",null,null,{"$f":"IF(ISBLANK(D4988),\"\",CONCATENATE(C4988,#REF!,#REF!))","v":""}]
[null,null,null,null,null,null," ",null,null,{"$f":"IF(ISBLANK(D4996),\"\",CONCATENATE(C4996,#REF!,#REF!))","v":""}]
[null,null,null,null,null,null," ",null,null,{"$f":"IF(ISBLANK(D5000),\"\",CONCATENATE(C5000,#REF!,#REF!))","v":""}]
[null,null,null,null,null,null," ",null,null,{"$f":"IF(ISBLANK(D5005),\"\",CONCATENATE(C5005,#REF!,#REF!))","v":""}]
[null,null,null,null,null,null," ",null,null,{"$f":"IF(ISBLANK(D5010),\"\",CONCATENATE(C5010,#REF!,#REF!))","v":""}]
[null,null,null,null,null,null," ",null,null,{"$f":"IF(ISBLANK(D5016),\"\",CONCATENATE(C5016,#REF!,#REF!))","v":""}]
[null,null,null,null,null,null," ",null,null,{"$f":"IF(ISBLANK(D5021),\"\",CONCATENATE(C5021,#REF!,#REF!))","v":""}]
[null,null,null,null,null,null," ",null,null,{"$f":"IF(ISBLANK(D5027),\"\",CONCATENATE(C5027,#REF!,#REF!))","v":""}]
[null,null,null,null,null,null," ",null,null,{"$f":"IF(ISBLANK(D5032),\"\",CONCATENATE(C5032,#REF!,#REF!))","v":""}]
[null,null,null,null,null,null," ",null,null,{"$f":"IF(ISBLANK(D5037),\"\",CONCATENATE(C5037,#REF!,#REF!))","v":""}]
[null,null,null,null,null,null," ",null,null,{"$f":"IF(ISBLANK(D5038),\"\",CONCATENATE(C5038,#REF!,#REF!))","v":""}]
[null,null,null,null,null,null," ",null,null,{"$f":"IF(ISBLANK(D5043),\"\",CONCATENATE(C5043,#REF!,#REF!))","v":""}]
[null,null,null,null,null,null," ",null,null,{"$f":"IF(ISBLANK(D5048),\"\",CONCATENATE(C5048,#REF!,#REF!))","v":""}]
[null,null,null,null,null,null," ",null,null,{"$f":"IF(ISBLANK(D5054),\"\",CONCATENATE(C5054,#REF!,#REF!))","v":""}]
[null,null,null,null,null,null," ",null,null,{"$f":"IF(ISBLANK(D5059),\"\",CONCATENATE(C5059,#REF!,#REF!))","v":""}]
[null,null,null,null,null,null," ",null,null,{"$f":"IF(ISBLANK(D5065),\"\",CONCATENATE(C5065,#REF!,#REF!))","v":""}]
[null,null,null,null,null,null," ",null,null,{"$f":"IF(ISBLANK(D5070),\"\",CONCATENATE(C5070,#REF!,#REF!))","v":""}]
[null,null,null,null,null,null," ",null,null,{"$f":"IF(ISBLANK(D5077),\"\",CONCATENATE(C5077,#REF!,#REF!))","v":""}]
[null,null,null,null,null,null," ",null,null,{"$f":"IF(ISBLANK(D5082),\"\",CONCATENATE(C5082,#REF!,#REF!))","v":""}]
[null,null,null,null,null,null," ",null,null,{"$f":"IF(ISBLANK(D5087),\"\",CONCATENATE(C5087,#REF!,#REF!))","v":""}]
[null,null,null,null,null,null," ",null,null,{"$f":"IF(ISBLANK(D5092),\"\",CONCATENATE(C5092,#REF!,#REF!))","v":""}]
[null,null,null,null,null,null," ",null,null,{"$f":"IF(ISBLANK(D5098),\"\",CONCATENATE(C5098,#REF!,#REF!))","v":""}]
[null,null,null,null,null,null," ",null,null,{"$f":"IF(ISBLANK(D5103),\"\",CONCATENATE(C5103,#REF!,#REF!))","v":""}]
[null,null,null,null,null,null," ",null,null,{"$f":"IF(ISBLANK(D5104),\"\",CONCATENATE(C5104,#REF!,#REF!))","v":""}]
[null,null,null,null,null,null," ",null,null,{"$f":"IF(ISBLANK(D5109),\"\",CONCATENATE(C5109,#REF!,#REF!))","v":""}]
[null,null,null,null,null,null," ",null,null,{"$f":"IF(ISBLANK(D5114),\"\",CONCATENATE(C5114,#REF!,#REF!))","v":""}]
[null,null,null,null,null,null," ",null,null,{"$f":"IF(ISBLANK(D5120),\"\",CONCATENATE(C5120,#REF!,#REF!))","v":""}]
[null,null,null,null,null,null," ",null,null,{"$f":"IF(ISBLANK(D5125),\"\",CONCATENATE(C5125,#REF!,#REF!))","v":""}]
[null,null,null,null,null,null," ",null,null,{"$f":"IF(ISBLANK(D5131),\"\",CONCATENATE(C5131,#REF!,#REF!))","v":""}]
[null,null,null,null,null,null," ",null,null,{"$f":"IF(ISBLANK(D5136),\"\",CONCATENATE(C5136,#REF!,#REF!))","v":""}]
[null,null,null,null,null,null," ",null,null,{"$f":"IF(ISBLANK(D5141),\"\",CONCATENATE(C5141,#REF!,#REF!))","v":""}]
[null,null,null,null,null,null," ",null,null,{"$f":"IF(ISBLANK(D5147),\"\",CONCATENATE(C5147,#REF!,#REF!))","v":""}]
[null,null,null,null,null,null," ",null,null,{"$f":"IF(ISBLANK(D5152),\"\",CONCATENATE(C5152,#REF!,#REF!))","v":""}]
[null,null,null,null,null,null," ",null,null,{"$f":"IF(ISBLANK(D5158),\"\",CONCATENATE(C5158,#REF!,#REF!))","v":""}]
[null,null,null,null,null,null," ",null,null,{"$f":"IF(ISBLANK(D5164),\"\",CONCATENATE(C5164,#REF!,#REF!))","v":""}]
[null,null,null,null,null,null," ",null,null,{"$f":"IF(ISBLANK(D5169),\"\",CONCATENATE(C5169,#REF!,#REF!))","v":""}]
[null,null,null,null,null,null," ",null,null,{"$f":"IF(ISBLANK(D5170),\"\",CONCATENATE(C5170,#REF!,#REF!))","v":""}]
[null,null,null,null,null,null," ",null,null,{"$f":"IF(ISBLANK(D5175),\"\",CONCATENATE(C5175,#REF!,#REF!))","v":""}]
[null,null,null,null,null,null," ",null,null,{"$f":"IF(ISBLANK(D5180),\"\",CONCATENATE(C5180,#REF!,#REF!))","v":""}]
[null,null,null,null,null,null," ",null,null,{"$f":"IF(ISBLANK(D5186),\"\",CONCATENATE(C5186,#REF!,#REF!))","v":""}]
[null,null,null,null,null,null," ",null,null,{"$f":"IF(ISBLANK(D5191),\"\",CONCATENATE(C5191,#REF!,#REF!))","v":""}]
[null,null,null,null,null,null," ",null,null,{"$f":"IF(ISBLANK(D5197),\"\",CONCATENATE(C5197,#REF!,#REF!))","v":""}]
[null,null,null,null,null,null," ",null,null,{"$f":"IF(ISBLANK(D5202),\"\",CONCATENATE(C5202,#REF!,#REF!))","v":""}]
[null,null,null,null,null,null," ",null,null,{"$f":"IF(ISBLANK(D5207),\"\",CONCATENATE(C5207,#REF!,#REF!))","v":""}]
[null,null,null,null,null,null," ",null,null,{"$f":"IF(ISBLANK(D5213),\"\",CONCATENATE(C5213,#REF!,#REF!))","v":""}]
[null,null,null,null,null,null," ",null,null,{"$f":"IF(ISBLANK(D5218),\"\",CONCATENATE(C5218,#REF!,#REF!))","v":""}]
[null,null,null,null,null,null," ",null,null,{"$f":"IF(ISBLANK(D5223),\"\",CONCATENATE(C5223,#REF!,#REF!))","v":""}]
[null,null,null,null,null,null," ",null,null,{"$f":"IF(ISBLANK(D5229),\"\",CONCATENATE(C5229,#REF!,#REF!))","v":""}]
[null,null,null,null,null,null," ",null,null,{"$f":"IF(ISBLANK(D5234),\"\",CONCATENATE(C5234,#REF!,#REF!))","v":""}]
[null,null,null,null,null,null," ",null,null,{"$f":"IF(ISBLANK(D5237),\"\",CONCATENATE(C5237,#REF!,#REF!))","v":""}]
[null,null,null,null,null,null," ",null,null,{"$f":"IF(ISBLANK(D5241),\"\",CONCATENATE(C5241,#REF!,#REF!))","v":""}]
[null,null,null,null,null,null," ",null,null,{"$f":"IF(ISBLANK(D5246),\"\",CONCATENATE(C5246,#REF!,#REF!))","v":""}]
[null,null,null,null,null,null," ",null,null,{"$f":"IF(ISBLANK(D5252),\"\",CONCATENATE(C5252,#REF!,#REF!))","v":""}]
[null,null,null,null,null,null," ",null,null,{"$f":"IF(ISBLANK(D5257),\"\",CONCATENATE(C5257,#REF!,#REF!))","v":""}]
[null,null,null,null,null,null," ",null,null,{"$f":"IF(ISBLANK(D5262),\"\",CONCATENATE(C5262,#REF!,#REF!))","v":""}]
[null,null,null,null,null,null," ",null,null,{"$f":"IF(ISBLANK(D5268),\"\",CONCATENATE(C5268,#REF!,#REF!))","v":""}]
[null,null,null,null,null,null," ",null,null,{"$f":"IF(ISBLANK(D5273),\"\",CONCATENATE(C5273,#REF!,#REF!))","v":""}]
[null,null,null,null,null,null," ",null,null,{"$f":"IF(ISBLANK(D5279),\"\",CONCATENATE(C5279,#REF!,#REF!))","v":""}]
[null,null,null,null,null,null," ",null,null,{"$f":"IF(ISBLANK(D5284),\"\",CONCATENATE(C5284,#REF!,#REF!))","v":""}]
[null,null,null,null,null,null," ",null,null,{"$f":"IF(ISBLANK(D5289),\"\",CONCATENATE(C5289,#REF!,#REF!))","v":""}]
[null,null,null,null,null,null," ",null,null,{"$f":"IF(ISBLANK(D5295),\"\",CONCATENATE(C5295,#REF!,#REF!))","v":""}]
[null,null,null,null,null,null," ",null,null,{"$f":"IF(ISBLANK(D5300),\"\",CONCATENATE(C5300,#REF!,#REF!))","v":""}]
[null,null,null,null,null,null," ",null,null,{"$f":"IF(ISBLANK(D5301),\"\",CONCATENATE(C5301,#REF!,#REF!))","v":""}]
[null,null,null,null,null,null," ",null,null,{"$f":"IF(ISBLANK(D5306),\"\",CONCATENATE(C5306,#REF!,#REF!))","v":""}]
[null,null,null,null,null,null," ",null,null,{"$f":"IF(ISBLANK(D5311),\"\",CONCATENATE(C5311,#REF!,#REF!))","v":""}]
[null,null,null,null,null,null," ",null,null,{"$f":"IF(ISBLANK(D5318),\"\",CONCATENATE(C5318,#REF!,#REF!))","v":""}]
[null,null,null,null,null,null," ",null,null,{"$f":"IF(ISBLANK(D5323),\"\",CONCATENATE(C5323,#REF!,#REF!))","v":""}]
[null,null,null,null,null,null," ",null,null,{"$f":"IF(ISBLANK(D5328),\"\",CONCATENATE(C5328,#REF!,#REF!))","v":""}]
[null,null,null,null,null,null," ",null,null,{"$f":"IF(ISBLANK(D5334),\"\",CONCATENATE(C5334,#REF!,#REF!))","v":""}]
[null,null,null,null,null,null," ",null,null,{"$f":"IF(ISBLANK(D5339),\"\",CONCATENATE(C5339,#REF!,#REF!))","v":""}]
[null,null,null,null,null,null," ",null,null,{"$f":"IF(ISBLANK(D5345),\"\",CONCATENATE(C5345,#REF!,#REF!))","v":""}]
[null,null,null,null,null,null," ",null,null,{"$f":"IF(ISBLANK(D5350),\"\",CONCATENATE(C5350,#REF!,#REF!))","v":""}]
[null,null,null,null,null,null," ",null,null,{"$f":"IF(ISBLANK(D5355),\"\",CONCATENATE(C5355,#REF!,#REF!))","v":""}]
[null,null,null,null,null,null," ",null,null,{"$f":"IF(ISBLANK(D5361),\"\",CONCATENATE(C5361,#REF!,#REF!))","v":""}]
[null,null,null,null,null,null," ",null,null,{"$f":"IF(ISBLANK(D5366),\"\",CONCATENATE(C5366,#REF!,#REF!))","v":""}]
[null,null,null,null,null,null," ",null,null,{"$f":"IF(ISBLANK(D5367),\"\",CONCATENATE(C5367,#REF!,#REF!))","v":""}]
[null,null,null,null,null,null," ",null,null,{"$f":"IF(ISBLANK(D5372),\"\",CONCATENATE(C5372,#REF!,#REF!))","v":""}]
[null,null,null,null,null,null," ",null,null,{"$f":"IF(ISBLANK(D5377),\"\",CONCATENATE(C5377,#REF!,#REF!))","v":""}]
[null,null,null,null,null,null," ",null,null,{"$f":"IF(ISBLANK(D5383),\"\",CONCATENATE(C5383,#REF!,#REF!))","v":""}]
[null,null,null,null,null,null," ",null,null,{"$f":"IF(ISBLANK(D5388),\"\",CONCATENATE(C5388,#REF!,#REF!))","v":""}]
[null,null,null,null,null,null," ",null,null,{"$f":"IF(ISBLANK(D5393),\"\",CONCATENATE(C5393,#REF!,#REF!))","v":""}]
[null,null,null,null,null,null," ",null,null,{"$f":"IF(ISBLANK(D5399),\"\",CONCATENATE(C5399,#REF!,#REF!))","v":""}]
[null,null,null,null,null,null," ",null,null,{"$f":"IF(ISBLANK(D5405),\"\",CONCATENATE(C5405,#REF!,#REF!))","v":""}]
[null,null,null,null,null,null," ",null,null,{"$f":"IF(ISBLANK(D5411),\"\",CONCATENATE(C5411,#REF!,#REF!))","v":""}]
[null,null,null,null,null,null," ",null,null,{"$f":"IF(ISBLANK(D5416),\"\",CONCATENATE(C5416,#REF!,#REF!))","v":""}]
[null,null,null,null,null,null," ",null,null,{"$f":"IF(ISBLANK(D5421),\"\",CONCATENATE(C5421,#REF!,#REF!))","v":""}]
[null,null,null,null,null,null," ",null,null,{"$f":"IF(ISBLANK(D5427),\"\",CONCATENATE(C5427,#REF!,#REF!))","v":""}]
[null,null,null,null,null,null," ",null,null,{"$f":"IF(ISBLANK(D5432),\"\",CONCATENATE(C5432,#REF!,#REF!))","v":""}]
[null,null,null,null,null,null," ",null,null,{"$f":"IF(ISBLANK(D5437),\"\",CONCATENATE(C5437,#REF!,#REF!))","v":""}]
[null,null,null,null,null,null," ",null,null,{"$f":"IF(ISBLANK(D5438),\"\",CONCATENATE(C5438,#REF!,#REF!))","v":""}]
[null,null,null,null,null,null," ",null,null,{"$f":"IF(ISBLANK(D5443),\"\",CONCATENATE(C5443,#REF!,#REF!))","v":""}]
[null,null,null,null,null,null," ",null,null,{"$f":"IF(ISBLANK(D5449),\"\",CONCATENATE(C5449,#REF!,#REF!))","v":""}]
[null,null,null,null,null,null," ",null,null,{"$f":"IF(ISBLANK(D5454),\"\",CONCATENATE(C5454,#REF!,#REF!))","v":""}]
[null,null,null,null,null,null," ",null,null,{"$f":"IF(ISBLANK(D5459),\"\",CONCATENATE(C5459,#REF!,#REF!))","v":""}]
[null,null,null,null,null,null," ",null,null,{"$f":"IF(ISBLANK(D5465),\"\",CONCATENATE(C5465,#REF!,#REF!))","v":""}]
[null,null,null,null,null,null," ",null,null,{"$f":"IF(ISBLANK(D5470),\"\",CONCATENATE(C5470,#REF!,#REF!))","v":""}]
[null,null,null,null,null,null," ",null,null,{"$f":"IF(ISBLANK(D5476),\"\",CONCATENATE(C5476,#REF!,#REF!))","v":""}]
[null,null,null,null,null,null," ",null,null,{"$f":"IF(ISBLANK(D5480),\"\",CONCATENATE(C5480,#REF!,#REF!))","v":""}]
[null,null,null,null,null,null," ",null,null,{"$f":"IF(ISBLANK(D5487),\"\",CONCATENATE(C5487,#REF!,#REF!))","v":""}]
[null,null,null,null,null,null," ",null,null,{"$f":"IF(ISBLANK(D5493),\"\",CONCATENATE(C5493,#REF!,#REF!))","v":""}]
[null,null,null,null,null,null," ",null,null,{"$f":"IF(ISBLANK(D5498),\"\",CONCATENATE(C5498,#REF!,#REF!))","v":""}]
[null,null,null,null,null,null," ",null,null,{"$f":"IF(ISBLANK(D5503),\"\",CONCATENATE(C5503,#REF!,#REF!))","v":""}]
[null,null,null,null,null,null," ",null,null,{"$f":"IF(ISBLANK(D5504),\"\",CONCATENATE(C5504,#REF!,#REF!))","v":""}]
[null,null,null,null,null,null," ",null,null,{"$f":"IF(ISBLANK(D5509),\"\",CONCATENATE(C5509,#REF!,#REF!))","v":""}]
[null,null,null,null,null,null," ",null,null,{"$f":"IF(ISBLANK(D5515),\"\",CONCATENATE(C5515,#REF!,#REF!))","v":""}]
[null,null,null,null,null,null," ",null,null,{"$f":"IF(ISBLANK(D5520),\"\",CONCATENATE(C5520,#REF!,#REF!))","v":""}]
[null,null,null,null,null,null," ",null,null,{"$f":"IF(ISBLANK(D5525),\"\",CONCATENATE(C5525,#REF!,#REF!))","v":""}]
[null,null,null,null,null,null," ",null,null,{"$f":"IF(ISBLANK(D5531),\"\",CONCATENATE(C5531,#REF!,#REF!))","v":""}]
[null,null,null,null,null,null," ",null,null,{"$f":"IF(ISBLANK(D5536),\"\",CONCATENATE(C5536,#REF!,#REF!))","v":""}]
[null,null,null,null,null,null," ",null,null,{"$f":"IF(ISBLANK(D5541),\"\",CONCATENATE(C5541,#REF!,#REF!))","v":""}]
[null,null,null,null,null,null," ",null,null,{"$f":"IF(ISBLANK(D5547),\"\",CONCATENATE(C5547,#REF!,#REF!))","v":""}]
[null,null,null,null,null,null," ",null,null,{"$f":"IF(ISBLANK(D5552),\"\",CONCATENATE(C5552,#REF!,#REF!))","v":""}]
[null,null,null,null,null,null," ",null,null,{"$f":"IF(ISBLANK(D5558),\"\",CONCATENATE(C5558,#REF!,#REF!))","v":""}]
[null,null,null,null,null,null," ",null,null,{"$f":"IF(ISBLANK(D5561),\"\",CONCATENATE(C5561,#REF!,#REF!))","v":""}]
[null,null,null,null,null,null," ",null,null,{"$f":"IF(ISBLANK(D5569),\"\",CONCATENATE(C5569,#REF!,#REF!))","v":""}]
[null,null,null,null,null,null," ",null,null,{"$f":"IF(ISBLANK(D5570),\"\",CONCATENATE(C5570,#REF!,#REF!))","v":""}]
[null,null,null,null,null,null," ",null,null,{"$f":"IF(ISBLANK(D5575),\"\",CONCATENATE(C5575,#REF!,#REF!))","v":""}]
[null,null,null,null,null,null," ",null,null,{"$f":"IF(ISBLANK(D5581),\"\",CONCATENATE(C5581,#REF!,#REF!))","v":""}]
[null,null,null,null,null,null," ",null,null,{"$f":"IF(ISBLANK(D5586),\"\",CONCATENATE(C5586,#REF!,#REF!))","v":""}]
[null,null,null,null,null,null," ",null,null,{"$f":"IF(ISBLANK(D5591),\"\",CONCATENATE(C5591,#REF!,#REF!))","v":""}]
[null,null,null,null,null,null," ",null,null,{"$f":"IF(ISBLANK(D5597),\"\",CONCATENATE(C5597,#REF!,#REF!))","v":""}]
[null,null,null,null,null,null," ",null,null,{"$f":"IF(ISBLANK(D5602),\"\",CONCATENATE(C5602,#REF!,#REF!))","v":""}]
[null,null,null,null,null,null," ",null,null,{"$f":"IF(ISBLANK(D5607),\"\",CONCATENATE(C5607,#REF!,#REF!))","v":""}]
[null,null,null,null,null,null," ",null,null,{"$f":"IF(ISBLANK(D5613),\"\",CONCATENATE(C5613,#REF!,#REF!))","v":""}]
[null,null,null,null,null,null," ",null,null,{"$f":"IF(ISBLANK(D5618),\"\",CONCATENATE(C5618,#REF!,#REF!))","v":""}]
[null,null,null,null,null,null," ",null,null,{"$f":"IF(ISBLANK(D5624),\"\",CONCATENATE(C5624,#REF!,#REF!))","v":""}]
[null,null,null,null,null,null," ",null,null,{"$f":"IF(ISBLANK(D5629),\"\",CONCATENATE(C5629,#REF!,#REF!))","v":""}]
[null,null,null,null,null,null," ",null,null,{"$f":"IF(ISBLANK(D5634),\"\",CONCATENATE(C5634,#REF!,#REF!))","v":""}]
[null,null,null,null,null,null," ",null,null,{"$f":"IF(ISBLANK(D5635),\"\",CONCATENATE(C5635,#REF!,#REF!))","v":""}]
[null,null,null,null,null,null," ",null,null,{"$f":"IF(ISBLANK(D5642),\"\",CONCATENATE(C5642,#REF!,#REF!))","v":""}]
[null,null,null,null,null,null," ",null,null,{"$f":"IF(ISBLANK(D5647),\"\",CONCATENATE(C5647,#REF!,#REF!))","v":""}]
[null,null,null,null,null,null," ",null,null,{"$f":"IF(ISBLANK(D5652),\"\",CONCATENATE(C5652,#REF!,#REF!))","v":""}]
[null,null,null,null,null,null," ",null,null,{"$f":"IF(ISBLANK(D5657),\"\",CONCATENATE(C5657,#REF!,#REF!))","v":""}]
[null,null,null,null,null,null," ",null,null,{"$f":"IF(ISBLANK(D5663),\"\",CONCATENATE(C5663,#REF!,#REF!))","v":""}]
[null,null,null,null,null,null," ",null,null,{"$f":"IF(ISBLANK(D5668),\"\",CONCATENATE(C5668,#REF!,#REF!))","v":""}]
[null,null,null,null,null,null," ",null,null,{"$f":"IF(ISBLANK(D5673),\"\",CONCATENATE(C5673,#REF!,#REF!))","v":""}]
[null,null,null,null,null,null," ",null,null,{"$f":"IF(ISBLANK(D5679),\"\",CONCATENATE(C5679,#REF!,#REF!))","v":""}]
[null,null,null,null,null,null," ",null,null,{"$f":"IF(ISBLANK(D5684),\"\",CONCATENATE(C5684,#REF!,#REF!))","v":""}]
[null,null,null,null,null,null," ",null,null,{"$f":"IF(ISBLANK(D5690),\"\",CONCATENATE(C5690,#REF!,#REF!))","v":""}]
[null,null,null,null,null,null," ",null,null,{"$f":"IF(ISBLANK(D5695),\"\",CONCATENATE(C5695,#REF!,#REF!))","v":""}]
[null,null,null,null,null,null," ",null,null,{"$f":"IF(ISBLANK(D5700),\"\",CONCATENATE(C5700,#REF!,#REF!))","v":""}]
[null,null,null,null,null,null," ",null,null,{"$f":"IF(ISBLANK(D5701),\"\",CONCATENATE(C5701,#REF!,#REF!))","v":""}]
[null,null,null,null,null,null," ",null,null,{"$f":"IF(ISBLANK(D5706),\"\",CONCATENATE(C5706,#REF!,#REF!))","v":""}]
[null,null,null,null,null,null," ",null,null,{"$f":"IF(ISBLANK(D5711),\"\",CONCATENATE(C5711,#REF!,#REF!))","v":""}]
[null,null,null,null,null,null," ",null,null,{"$f":"IF(ISBLANK(D5717),\"\",CONCATENATE(C5717,#REF!,#REF!))","v":""}]
[null,null,null,null,null,null," ",null,null,{"$f":"IF(ISBLANK(D5723),\"\",CONCATENATE(C5723,#REF!,#REF!))","v":""}]
[null,null,null,null,null,null," ",null,null,{"$f":"IF(ISBLANK(D5729),\"\",CONCATENATE(C5729,#REF!,#REF!))","v":""}]
[null,null,null,null,null,null," ",null,null,{"$f":"IF(ISBLANK(D5734),\"\",CONCATENATE(C5734,#REF!,#REF!))","v":""}]
[null,null,null,null,null,null," ",null,null,{"$f":"IF(ISBLANK(D5739),\"\",CONCATENATE(C5739,#REF!,#REF!))","v":""}]
[null,null,null,null,null,null," ",null,null,{"$f":"IF(ISBLANK(D5745),\"\",CONCATENATE(C5745,#REF!,#REF!))","v":""}]
[null,null,null,null,null,null," ",null,null,{"$f":"IF(ISBLANK(D5750),\"\",CONCATENATE(C5750,#REF!,#REF!))","v":""}]
[null,null,null,null,null,null," ",null,null,{"$f":"IF(ISBLANK(D5756),\"\",CONCATENATE(C5756,#REF!,#REF!))","v":""}]
[null,null,null,null,null,null," ",null,null,{"$f":"IF(ISBLANK(D5761),\"\",CONCATENATE(C5761,#REF!,#REF!))","v":""}]
[null,null,null,null,null,null," ",null,null,{"$f":"IF(ISBLANK(D5766),\"\",CONCATENATE(C5766,#REF!,#REF!))","v":""}]
[null,null,null,null,null,null," ",null,null,{"$f":"IF(ISBLANK(D5767),\"\",CONCATENATE(C5767,#REF!,#REF!))","v":""}]
[null,null,null,null,null,null," ",null,null,{"$f":"IF(ISBLANK(D5772),\"\",CONCATENATE(C5772,#REF!,#REF!))","v":""}]
[null,null,null,null,null,null," ",null,null,{"$f":"IF(ISBLANK(D5777),\"\",CONCATENATE(C5777,#REF!,#REF!))","v":""}]
[null,null,null,null,null,null," ",null,null,{"$f":"IF(ISBLANK(D5783),\"\",CONCATENATE(C5783,#REF!,#REF!))","v":""}]
[null,null,null,null,null,null," ",null,null,{"$f":"IF(ISBLANK(D5788),\"\",CONCATENATE(C5788,#REF!,#REF!))","v":""}]
[null,null,null,null,null,null," ",null,null,{"$f":"IF(ISBLANK(D5794),\"\",CONCATENATE(C5794,#REF!,#REF!))","v":""}]
[null,null,null,null,null,null," ",null,null,{"$f":"IF(ISBLANK(D5799),\"\",CONCATENATE(C5799,#REF!,#REF!))","v":""}]
[null,null,null,null,null,null," ",null,null,{"$f":"IF(ISBLANK(D5804),\"\",CONCATENATE(C5804,#REF!,#REF!))","v":""}]
[null,null,null,null,null,null," ",null,null,{"$f":"IF(ISBLANK(D5811),\"\",CONCATENATE(C5811,#REF!,#REF!))","v":""}]
[null,null,null,null,null,null," ",null,null,{"$f":"IF(ISBLANK(D5816),\"\",CONCATENATE(C5816,#REF!,#REF!))","v":""}]
[null,null,null,null,null,null," ",null,null,{"$f":"IF(ISBLANK(D5822),\"\",CONCATENATE(C5822,#REF!,#REF!))","v":""}]
[null,null,null,null,null,null," ",null,null,{"$f":"IF(ISBLANK(D5827),\"\",CONCATENATE(C5827,#REF!,#REF!))","v":""}]
[null,null,null,null,null,null," ",null,null,{"$f":"IF(ISBLANK(D5832),\"\",CONCATENATE(C5832,#REF!,#REF!))","v":""}]
[null,null,null,null,null,null," ",null,null,{"$f":"IF(ISBLANK(D5833),\"\",CONCATENATE(C5833,#REF!,#REF!))","v":""}]
[null,null,null,null,null,null," ",null,null,{"$f":"IF(ISBLANK(D5838),\"\",CONCATENATE(C5838,#REF!,#REF!))","v":""}]
[null,null,null,null,null,null," ",null,null,{"$f":"IF(ISBLANK(D5843),\"\",CONCATENATE(C5843,#REF!,#REF!))","v":""}]
[null,null,null,null,null,null," ",null,null,{"$f":"IF(ISBLANK(D5849),\"\",CONCATENATE(C5849,#REF!,#REF!))","v":""}]
[null,null,null,null,null,null," ",null,null,{"$f":"IF(ISBLANK(D5854),\"\",CONCATENATE(C5854,#REF!,#REF!))","v":""}]
[null,null,null,null,null,null," ",null,null,{"$f":"IF(ISBLANK(D5860),\"\",CONCATENATE(C5860,#REF!,#REF!))","v":""}]
[null,null,null,null,null,null," ",null,null,{"$f":"IF(ISBLANK(D5865),\"\",CONCATENATE(C5865,#REF!,#REF!))","v":""}]
[null,null,null,null,null,null," ",null,null,{"$f":"IF(ISBLANK(D5870),\"\",CONCATENATE(C5870,#REF!,#REF!))","v":""}]
[null,null,null,null,null,null," ",null,null,{"$f":"IF(ISBLANK(D5876),\"\",CONCATENATE(C5876,#REF!,#REF!))","v":""}]
[null,null,null,null,null,null," ",null,null,{"$f":"IF(ISBLANK(D5881),\"\",CONCATENATE(C5881,#REF!,#REF!))","v":""}]
[null,null,null,null,null,null," ",null,null,{"$f":"IF(ISBLANK(D5885),\"\",CONCATENATE(C5885,#REF!,#REF!))","v":""}]
[null,null,null,null,null,null," ",null,null,{"$f":"IF(ISBLANK(D5893),\"\",CONCATENATE(C5893,#REF!,#REF!))","v":""}]
[null,null,null,null,null,null," ",null,null,{"$f":"IF(ISBLANK(D5898),\"\",CONCATENATE(C5898,#REF!,#REF!))","v":""}]
[null,null,null,null,null,null," ",null,null,{"$f":"IF(ISBLANK(D5899),\"\",CONCATENATE(C5899,#REF!,#REF!))","v":""}]
[null,null,null,null,null,null," ",null,null,{"$f":"IF(ISBLANK(D5904),\"\",CONCATENATE(C5904,#REF!,#REF!))","v":""}]
[null,null,null,null,null,null," ",null,null,{"$f":"IF(ISBLANK(D5909),\"\",CONCATENATE(C5909,#REF!,#REF!))","v":""}]
[null,null,null,null,null,null," ",null,null,{"$f":"IF(ISBLANK(D5915),\"\",CONCATENATE(C5915,#REF!,#REF!))","v":""}]
[null,null,null,null,null,null," ",null,null,{"$f":"IF(ISBLANK(D5920),\"\",CONCATENATE(C5920,#REF!,#REF!))","v":""}]
[null,null,null,null,null,null," ",null,null,{"$f":"IF(ISBLANK(D5926),\"\",CONCATENATE(C5926,#REF!,#REF!))","v":""}]
[null,null,null,null,null,null," ",null,null,{"$f":"IF(ISBLANK(D5931),\"\",CONCATENATE(C5931,#REF!,#REF!))","v":""}]
[null,null,null,null,null,null," ",null,null,{"$f":"IF(ISBLANK(D5936),\"\",CONCATENATE(C5936,#REF!,#REF!))","v":""}]
[null,null,null,null,null,null," ",null,null,{"$f":"IF(ISBLANK(D5942),\"\",CONCATENATE(C5942,#REF!,#REF!))","v":""}]
[null,null,null,null,null,null," ",null,null,{"$f":"IF(ISBLANK(D5947),\"\",CONCATENATE(C5947,#REF!,#REF!))","v":""}]
[null,null,null,null,null,null," ",null,null,{"$f":"IF(ISBLANK(D5952),\"\",CONCATENATE(C5952,#REF!,#REF!))","v":""}]
[null,null,null,null,null,null," ",null,null,{"$f":"IF(ISBLANK(D5958),\"\",CONCATENATE(C5958,#REF!,#REF!))","v":""}]
[null,null,null,null,null,null," ",null,null,{"$f":"IF(ISBLANK(D5963),\"\",CONCATENATE(C5963,#REF!,#REF!))","v":""}]
[null,null,null,null,null,null," ",null,null,{"$f":"IF(ISBLANK(D5964),\"\",CONCATENATE(C5964,#REF!,#REF!))","v":""}]
[null,null,null,null,null,null," ",null,null,{"$f":"IF(ISBLANK(D5970),\"\",CONCATENATE(C5970,#REF!,#REF!))","v":""}]
[null,null,null,null,null,null," ",null,null,{"$f":"IF(ISBLANK(D5975),\"\",CONCATENATE(C5975,#REF!,#REF!))","v":""}]
[null,null,null,null,null,null," ",null,null,{"$f":"IF(ISBLANK(D5981),\"\",CONCATENATE(C5981,#REF!,#REF!))","v":""}]
[null,null,null,null,null,null," ",null,null,{"$f":"IF(ISBLANK(D5986),\"\",CONCATENATE(C5986,#REF!,#REF!))","v":""}]
[null,null,null,null,null,null," ",null,null,{"$f":"IF(ISBLANK(D5991),\"\",CONCATENATE(C5991,#REF!,#REF!))","v":""}]
[null,null,null,null,null,null," ",null,null,{"$f":"IF(ISBLANK(D5997),\"\",CONCATENATE(C5997,#REF!,#REF!))","v":""}]
[null,null,null,null,null,null," ",null,null,{"$f":"IF(ISBLANK(D6002),\"\",CONCATENATE(C6002,#REF!,#REF!))","v":""}]
[null,null,null,null,null,null," ",null,null,{"$f":"IF(ISBLANK(D6008),\"\",CONCATENATE(C6008,#REF!,#REF!))","v":""}]
[null,null,null,null,null,null," ",null,null,{"$f":"IF(ISBLANK(D6013),\"\",CONCATENATE(C6013,#REF!,#REF!))","v":""}]
[null,null,null,null,null,null," ",null,null,{"$f":"IF(ISBLANK(D6018),\"\",CONCATENATE(C6018,#REF!,#REF!))","v":""}]
[null,null,null,null,null,null," ",null,null,{"$f":"IF(ISBLANK(D6024),\"\",CONCATENATE(C6024,#REF!,#REF!))","v":""}]
[null,null,null,null,null,null," ",null,null,{"$f":"IF(ISBLANK(D6029),\"\",CONCATENATE(C6029,#REF!,#REF!))","v":""}]
[null,null,null,null,null,null," ",null,null,{"$f":"IF(ISBLANK(D6030),\"\",CONCATENATE(C6030,#REF!,#REF!))","v":""}]
[null,null,null,null,null,null," ",null,null,{"$f":"IF(ISBLANK(D6035),\"\",CONCATENATE(C6035,#REF!,#REF!))","v":""}]
[null,null,null,null,null,null," ",null,null,{"$f":"IF(ISBLANK(D6040),\"\",CONCATENATE(C6040,#REF!,#REF!))","v":""}]
[null,null,null,null,null,null," ",null,null,{"$f":"IF(ISBLANK(D6045),\"\",CONCATENATE(C6045,#REF!,#REF!))","v":""}]
[null,null,null,null,null,null," ",null,null,{"$f":"IF(ISBLANK(D6052),\"\",CONCATENATE(C6052,#REF!,#REF!))","v":""}]
[null,null,null,null,null,null," ",null,null,{"$f":"IF(ISBLANK(D6057),\"\",CONCATENATE(C6057,#REF!,#REF!))","v":""}]
[null,null,null,null,null,null," ",null,null,{"$f":"IF(ISBLANK(D6063),\"\",CONCATENATE(C6063,#REF!,#REF!))","v":""}]
[null,null,null,null,null,null," ",null,null,{"$f":"IF(ISBLANK(D6068),\"\",CONCATENATE(C6068,#REF!,#REF!))","v":""}]
[null,null,null,null,null,null," ",null,null,{"$f":"IF(ISBLANK(D6074),\"\",CONCATENATE(C6074,#REF!,#REF!))","v":""}]
[null,null,null,null,null,null," ",null,null,{"$f":"IF(ISBLANK(D6079),\"\",CONCATENATE(C6079,#REF!,#REF!))","v":""}]
[null,null,null,null,null,null," ",null,null,{"$f":"IF(ISBLANK(D6084),\"\",CONCATENATE(C6084,#REF!,#REF!))","v":""}]
[null,null,null,null,null,null," ",null,null,{"$f":"IF(ISBLANK(D6090),\"\",CONCATENATE(C6090,#REF!,#REF!))","v":""}]
[null,null,null,null,null,null," ",null,null,{"$f":"IF(ISBLANK(D6095),\"\",CONCATENATE(C6095,#REF!,#REF!))","v":""}]
[null,null,null,null,null,null," ",null,null,{"$f":"IF(ISBLANK(D6096),\"\",CONCATENATE(C6096,#REF!,#REF!))","v":""}]
[null,null,null,null,null,null," ",null,null,{"$f":"IF(ISBLANK(D6101),\"\",CONCATENATE(C6101,#REF!,#REF!))","v":""}]
[null,null,null,null,null,null," ",null,null,{"$f":"IF(ISBLANK(D6106),\"\",CONCATENATE(C6106,#REF!,#REF!))","v":""}]
[null,null,null,null,null,null," ",null,null,{"$f":"IF(ISBLANK(D6112),\"\",CONCATENATE(C6112,#REF!,#REF!))","v":""}]
[null,null,null,null,null,null," ",null,null,{"$f":"IF(ISBLANK(D6117),\"\",CONCATENATE(C6117,#REF!,#REF!))","v":""}]
[null,null,null,null,null,null," ",null,null,{"$f":"IF(ISBLANK(D6122),\"\",CONCATENATE(C6122,#REF!,#REF!))","v":""}]
[null,null,null,null,null,null," ",null,null,{"$f":"IF(ISBLANK(D6126),\"\",CONCATENATE(C6126,#REF!,#REF!))","v":""}]
[null,null,null,null,null,null," ",null,null,{"$f":"IF(ISBLANK(D6134),\"\",CONCATENATE(C6134,#REF!,#REF!))","v":""}]
[null,null,null,null,null,null," ",null,null,{"$f":"IF(ISBLANK(D6140),\"\",CONCATENATE(C6140,#REF!,#REF!))","v":""}]
[null,null,null,null,null,null," ",null,null,{"$f":"IF(ISBLANK(D6145),\"\",CONCATENATE(C6145,#REF!,#REF!))","v":""}]
[null,null,null,null,null,null," ",null,null,{"$f":"IF(ISBLANK(D6150),\"\",CONCATENATE(C6150,#REF!,#REF!))","v":""}]
[null,null,null,null,null,null," ",null,null,{"$f":"IF(ISBLANK(D6156),\"\",CONCATENATE(C6156,#REF!,#REF!))","v":""}]
[null,null,null,null,null,null," ",null,null,{"$f":"IF(ISBLANK(D6161),\"\",CONCATENATE(C6161,#REF!,#REF!))","v":""}]
[null,null,null,null,null,null," ",null,null,{"$f":"IF(ISBLANK(D6166),\"\",CONCATENATE(C6166,#REF!,#REF!))","v":""}]
[null,null,null,null,null,null," ",null,null,{"$f":"IF(ISBLANK(D6167),\"\",CONCATENATE(C6167,#REF!,#REF!))","v":""}]
[null,null,null,null,null,null," ",null,null,{"$f":"IF(ISBLANK(D6172),\"\",CONCATENATE(C6172,#REF!,#REF!))","v":""}]
[null,null,null,null,null,null," ",null,null,{"$f":"IF(ISBLANK(D6178),\"\",CONCATENATE(C6178,#REF!,#REF!))","v":""}]
[null,null,null,null,null,null," ",null,null,{"$f":"IF(ISBLANK(D6183),\"\",CONCATENATE(C6183,#REF!,#REF!))","v":""}]
[null,null,null,null,null,null," ",null,null,{"$f":"IF(ISBLANK(D6188),\"\",CONCATENATE(C6188,#REF!,#REF!))","v":""}]
[null,null,null,null,null,null," ",null,null,{"$f":"IF(ISBLANK(D6194),\"\",CONCATENATE(C6194,#REF!,#REF!))","v":""}]
[null,null,null,null,null,null," ",null,null,{"$f":"IF(ISBLANK(D6199),\"\",CONCATENATE(C6199,#REF!,#REF!))","v":""}]
[null,null,null,null,null,null," ",null,null,{"$f":"IF(ISBLANK(D6205),\"\",CONCATENATE(C6205,#REF!,#REF!))","v":""}]
[null,null,null,null,null,null," ",null,null,{"$f":"IF(ISBLANK(D6207),\"\",CONCATENATE(C6207,#REF!,#REF!))","v":""}]
[null,null,null,null,null,null," ",null,null,{"$f":"IF(ISBLANK(D6216),\"\",CONCATENATE(C6216,#REF!,#REF!))","v":""}]
[null,null,null,null,null,null," ",null,null,{"$f":"IF(ISBLANK(D6222),\"\",CONCATENATE(C6222,#REF!,#REF!))","v":""}]
[null,null,null,null,null,null," ",null,null,{"$f":"IF(ISBLANK(D6227),\"\",CONCATENATE(C6227,#REF!,#REF!))","v":""}]
[null,null,null,null,null,null," ",null,null,{"$f":"IF(ISBLANK(D6232),\"\",CONCATENATE(C6232,#REF!,#REF!))","v":""}]
[null,null,null,null,null,null," ",null,null,{"$f":"IF(ISBLANK(D6233),\"\",CONCATENATE(C6233,#REF!,#REF!))","v":""}]
[null,null,null,null,null,null," ",null,null,{"$f":"IF(ISBLANK(D6238),\"\",CONCATENATE(C6238,#REF!,#REF!))","v":""}]
[null,null,null,null,null,null," ",null,null,{"$f":"IF(ISBLANK(D6244),\"\",CONCATENATE(C6244,#REF!,#REF!))","v":""}]
[null,null,null,null,null,null," ",null,null,{"$f":"IF(ISBLANK(D6249),\"\",CONCATENATE(C6249,#REF!,#REF!))","v":""}]
[null,null,null,null,null,null," ",null,null,{"$f":"IF(ISBLANK(D6254),\"\",CONCATENATE(C6254,#REF!,#REF!))","v":""}]
[null,null,null,null,null,null," ",null,null,{"$f":"IF(ISBLANK(D6260),\"\",CONCATENATE(C6260,#REF!,#REF!))","v":""}]
[null,null,null,null,null,null," ",null,null,{"$f":"IF(ISBLANK(D6265),\"\",CONCATENATE(C6265,#REF!,#REF!))","v":""}]
[null,null,null,null,null,null," ",null,null,{"$f":"IF(ISBLANK(D6270),\"\",CONCATENATE(C6270,#REF!,#REF!))","v":""}]
[null,null,null,null,null,null," ",null,null,{"$f":"IF(ISBLANK(D6276),\"\",CONCATENATE(C6276,#REF!,#REF!))","v":""}]
[null,null,null,null,null,null," ",null,null,{"$f":"IF(ISBLANK(D6281),\"\",CONCATENATE(C6281,#REF!,#REF!))","v":""}]
[null,null,null,null,null,null," ",null,null,{"$f":"IF(ISBLANK(D6287),\"\",CONCATENATE(C6287,#REF!,#REF!))","v":""}]
[null,null,null,null,null,null," ",null,null,{"$f":"IF(ISBLANK(D6288),\"\",CONCATENATE(C6288,#REF!,#REF!))","v":""}]
[null,null,null,null,null,null," ",null,null,{"$f":"IF(ISBLANK(D6298),\"\",CONCATENATE(C6298,#REF!,#REF!))","v":""}]
[null,null,null,null,null,null," ",null,null,{"$f":"IF(ISBLANK(D6299),\"\",CONCATENATE(C6299,#REF!,#REF!))","v":""}]
[null,null,null,null,null,null," ",null,null,{"$f":"IF(ISBLANK(D6304),\"\",CONCATENATE(C6304,#REF!,#REF!))","v":""}]
[null,null,null,null,null,null," ",null,null,{"$f":"IF(ISBLANK(D6310),\"\",CONCATENATE(C6310,#REF!,#REF!))","v":""}]
[null,null,null,null,null,null," ",null,null,{"$f":"IF(ISBLANK(D6315),\"\",CONCATENATE(C6315,#REF!,#REF!))","v":""}]
[null,null,null,null,null,null," ",null,null,{"$f":"IF(ISBLANK(D6320),\"\",CONCATENATE(C6320,#REF!,#REF!))","v":""}]
[null,null,null,null,null,null," ",null,null,{"$f":"IF(ISBLANK(D6326),\"\",CONCATENATE(C6326,#REF!,#REF!))","v":""}]
[null,null,null,null,null,null," ",null,null,{"$f":"IF(ISBLANK(D6331),\"\",CONCATENATE(C6331,#REF!,#REF!))","v":""}]
[null,null,null,null,null,null," ",null,null,{"$f":"IF(ISBLANK(D6336),\"\",CONCATENATE(C6336,#REF!,#REF!))","v":""}]
[null,null,null,null,null,null," ",null,null,{"$f":"IF(ISBLANK(D6342),\"\",CONCATENATE(C6342,#REF!,#REF!))","v":""}]
[null,null,null,null,null,null," ",null,null,{"$f":"IF(ISBLANK(D6347),\"\",CONCATENATE(C6347,#REF!,#REF!))","v":""}]
[null,null,null,null,null,null," ",null,null,{"$f":"IF(ISBLANK(D6353),\"\",CONCATENATE(C6353,#REF!,#REF!))","v":""}]
[null,null,null,null,null,null," ",null,null,{"$f":"IF(ISBLANK(D6358),\"\",CONCATENATE(C6358,#REF!,#REF!))","v":""}]
[null,null,null,null,null,null," ",null,null,{"$f":"IF(ISBLANK(D6363),\"\",CONCATENATE(C6363,#REF!,#REF!))","v":""}]
[null,null,null,null,null,null," ",null,null,{"$f":"IF(ISBLANK(D6364),\"\",CONCATENATE(C6364,#REF!,#REF!))","v":""}]
[null,null,null,null,null,null," ",null,null,{"$f":"IF(ISBLANK(D6369),\"\",CONCATENATE(C6369,#REF!,#REF!))","v":""}]
[null,null,null,null,null,null," ",null,null,{"$f":"IF(ISBLANK(D6376),\"\",CONCATENATE(C6376,#REF!,#REF!))","v":""}]
[null,null,null,null,null,null," ",null,null,{"$f":"IF(ISBLANK(D6381),\"\",CONCATENATE(C6381,#REF!,#REF!))","v":""}]
[null,null,null,null,null,null," ",null,null,{"$f":"IF(ISBLANK(D6386),\"\",CONCATENATE(C6386,#REF!,#REF!))","v":""}]
[null,null,null,null,null,null," ",null,null,{"$f":"IF(ISBLANK(D6392),\"\",CONCATENATE(C6392,#REF!,#REF!))","v":""}]
[null,null,null,null,null,null," ",null,null,{"$f":"IF(ISBLANK(D6397),\"\",CONCATENATE(C6397,#REF!,#REF!))","v":""}]
[null,null,null,null,null,null," ",null,null,{"$f":"IF(ISBLANK(D6402),\"\",CONCATENATE(C6402,#REF!,#REF!))","v":""}]
[null,null,null,null,null,null," ",null,null,{"$f":"IF(ISBLANK(D6408),\"\",CONCATENATE(C6408,#REF!,#REF!))","v":""}]
[null,null,null,null,null,null," ",null,null,{"$f":"IF(ISBLANK(D6413),\"\",CONCATENATE(C6413,#REF!,#REF!))","v":""}]
[null,null,null,null,null,null," ",null,null,{"$f":"IF(ISBLANK(D6419),\"\",CONCATENATE(C6419,#REF!,#REF!))","v":""}]
[null,null,null,null,null,null," ",null,null,{"$f":"IF(ISBLANK(D6424),\"\",CONCATENATE(C6424,#REF!,#REF!))","v":""}]
[null,null,null,null,null,null," ",null,null,{"$f":"IF(ISBLANK(D6429),\"\",CONCATENATE(C6429,#REF!,#REF!))","v":""}]
[null,null,null,null,null,null," ",null,null,{"$f":"IF(ISBLANK(D6430),\"\",CONCATENATE(C6430,#REF!,#REF!))","v":""}]
[null,null,null,null,null,null," ",null,null,{"$f":"IF(ISBLANK(D6435),\"\",CONCATENATE(C6435,#REF!,#REF!))","v":""}]
[null,null,null,null,null,null," ",null,null,{"$f":"IF(ISBLANK(D6440),\"\",CONCATENATE(C6440,#REF!,#REF!))","v":""}]
[null,null,null,null,null,null," ",null,null,{"$f":"IF(ISBLANK(D6446),\"\",CONCATENATE(C6446,#REF!,#REF!))","v":""}]
[null,null,null,null,null,null," ",null,null,{"$f":"IF(ISBLANK(D6450),\"\",CONCATENATE(C6450,#REF!,#REF!))","v":""}]
[null,null,null,null,null,null," ",null,null,{"$f":"IF(ISBLANK(D6458),\"\",CONCATENATE(C6458,#REF!,#REF!))","v":""}]
[null,null,null,null,null,null," ",null,null,{"$f":"IF(ISBLANK(D6463),\"\",CONCATENATE(C6463,#REF!,#REF!))","v":""}]
[null,null,null,null,null,null," ",null,null,{"$f":"IF(ISBLANK(D6468),\"\",CONCATENATE(C6468,#REF!,#REF!))","v":""}]
[null,null,null,null,null,null," ",null,null,{"$f":"IF(ISBLANK(D6474),\"\",CONCATENATE(C6474,#REF!,#REF!))","v":""}]
[null,null,null,null,null,null," ",null,null,{"$f":"IF(ISBLANK(D6479),\"\",CONCATENATE(C6479,#REF!,#REF!))","v":""}]
[null,null,null,null,null,null," ",null,null,{"$f":"IF(ISBLANK(D6485),\"\",CONCATENATE(C6485,#REF!,#REF!))","v":""}]
[null,null,null,null,null,null," ",null,null,{"$f":"IF(ISBLANK(D6490),\"\",CONCATENATE(C6490,#REF!,#REF!))","v":""}]
[null,null,null,null,null,null," ",null,null,{"$f":"IF(ISBLANK(D6495),\"\",CONCATENATE(C6495,#REF!,#REF!))","v":""}]
[null,null,null,null,null,null," ",null,null,{"$f":"IF(ISBLANK(D6496),\"\",CONCATENATE(C6496,#REF!,#REF!))","v":""}]
[null,null,null,null,null,null," ",null,null,{"$f":"IF(ISBLANK(D6501),\"\",CONCATENATE(C6501,#REF!,#REF!))","v":""}]
[null,null,null,null,null,null," ",null,null,{"$f":"IF(ISBLANK(D6506),\"\",CONCATENATE(C6506,#REF!,#REF!))","v":""}]
[null,null,null,null,null,null," ",null,null,{"$f":"IF(ISBLANK(D6512),\"\",CONCATENATE(C6512,#REF!,#REF!))","v":""}]
[null,null,null,null,null,null," ",null,null,{"$f":"IF(ISBLANK(D6517),\"\",CONCATENATE(C6517,#REF!,#REF!))","v":""}]
[null,null,null,null,null,null," ",null,null,{"$f":"IF(ISBLANK(D6523),\"\",CONCATENATE(C6523,#REF!,#REF!))","v":""}]
[null,null,null,null,null,null," ",null,null,{"$f":"IF(ISBLANK(D6528),\"\",CONCATENATE(C6528,#REF!,#REF!))","v":""}]
[null,null,null,null,null,null," ",null,null,{"$f":"IF(ISBLANK(D6531),\"\",CONCATENATE(C6531,#REF!,#REF!))","v":""}]
[null,null,null,null,null,null," ",null,null,{"$f":"IF(ISBLANK(D6540),\"\",CONCATENATE(C6540,#REF!,#REF!))","v":""}]
[null,null,null,null,null,null," ",null,null,{"$f":"IF(ISBLANK(D6545),\"\",CONCATENATE(C6545,#REF!,#REF!))","v":""}]
[null,null,null,null,null,null," ",null,null,{"$f":"IF(ISBLANK(D6551),\"\",CONCATENATE(C6551,#REF!,#REF!))","v":""}]
[null,null,null,null,null,null," ",null,null,{"$f":"IF(ISBLANK(D6556),\"\",CONCATENATE(C6556,#REF!,#REF!))","v":""}]
[null,null,null,null,null,null," ",null,null,{"$f":"IF(ISBLANK(D6561),\"\",CONCATENATE(C6561,#REF!,#REF!))","v":""}]
[null,null,null,null,null,null," ",null,null,{"$f":"IF(ISBLANK(D6562),\"\",CONCATENATE(C6562,#REF!,#REF!))","v":""}]
[null,null,null,null,null,null," ",null,null,{"$f":"IF(ISBLANK(D6567),\"\",CONCATENATE(C6567,#REF!,#REF!))","v":""}]
[null,null,null,null,null,null," ",null,null,{"$f":"IF(ISBLANK(D6572),\"\",CONCATENATE(C6572,#REF!,#REF!))","v":""}]
[null,null,null,null,null,null," ",null,null,{"$f":"IF(ISBLANK(D6578),\"\",CONCATENATE(C6578,#REF!,#REF!))","v":""}]
[null,null,null,null,null,null," ",null,null,{"$f":"IF(ISBLANK(D6583),\"\",CONCATENATE(C6583,#REF!,#REF!))","v":""}]
[null,null,null,null,null,null," ",null,null,{"$f":"IF(ISBLANK(D6589),\"\",CONCATENATE(C6589,#REF!,#REF!))","v":""}]
[null,null,null,null,null,null," ",null,null,{"$f":"IF(ISBLANK(D6594),\"\",CONCATENATE(C6594,#REF!,#REF!))","v":""}]
[null,null,null,null,null,null," ",null,null,{"$f":"IF(ISBLANK(D6599),\"\",CONCATENATE(C6599,#REF!,#REF!))","v":""}]
[null,null,null,null,null,null," ",null,null,{"$f":"IF(ISBLANK(D6605),\"\",CONCATENATE(C6605,#REF!,#REF!))","v":""}]
[null,null,null,null,null,null," ",null,null,{"$f":"IF(ISBLANK(D6610),\"\",CONCATENATE(C6610,#REF!,#REF!))","v":""}]
[null,null,null,null,null,null," ",null,null,{"$f":"IF(ISBLANK(D6612),\"\",CONCATENATE(C6612,#REF!,#REF!))","v":""}]
[null,null,null,null,null,null," ",null,null,{"$f":"IF(ISBLANK(D6622),\"\",CONCATENATE(C6622,#REF!,#REF!))","v":""}]
[null,null,null,null,null,null," ",null,null,{"$f":"IF(ISBLANK(D6627),\"\",CONCATENATE(C6627,#REF!,#REF!))","v":""}]
[null,null,null,null,null,null," ",null,null,{"$f":"IF(ISBLANK(D6628),\"\",CONCATENATE(C6628,#REF!,#REF!))","v":""}]
[null,null,null,null,null,null," ",null,null,{"$f":"IF(ISBLANK(D6633),\"\",CONCATENATE(C6633,#REF!,#REF!))","v":""}]
[null,null,null,null,null,null," ",null,null,{"$f":"IF(ISBLANK(D6638),\"\",CONCATENATE(C6638,#REF!,#REF!))","v":""}]
[null,null,null,null,null,null," ",null,null,{"$f":"IF(ISBLANK(D6644),\"\",CONCATENATE(C6644,#REF!,#REF!))","v":""}]
[null,null,null,null,null,null," ",null,null,{"$f":"IF(ISBLANK(D6649),\"\",CONCATENATE(C6649,#REF!,#REF!))","v":""}]
[null,null,null,null,null,null," ",null,null,{"$f":"IF(ISBLANK(D6655),\"\",CONCATENATE(C6655,#REF!,#REF!))","v":""}]
[null,null,null,null,null,null," ",null,null,{"$f":"IF(ISBLANK(D6660),\"\",CONCATENATE(C6660,#REF!,#REF!))","v":""}]
[null,null,null,null,null,null," ",null,null,{"$f":"IF(ISBLANK(D6665),\"\",CONCATENATE(C6665,#REF!,#REF!))","v":""}]
[null,null,null,null,null,null," ",null,null,{"$f":"IF(ISBLANK(D6671),\"\",CONCATENATE(C6671,#REF!,#REF!))","v":""}]
[null,null,null,null,null,null," ",null,null,{"$f":"IF(ISBLANK(D6676),\"\",CONCATENATE(C6676,#REF!,#REF!))","v":""}]
[null,null,null,null,null,null," ",null,null,{"$f":"IF(ISBLANK(D6681),\"\",CONCATENATE(C6681,#REF!,#REF!))","v":""}]
[null,null,null,null,null,null," ",null,null,{"$f":"IF(ISBLANK(D6687),\"\",CONCATENATE(C6687,#REF!,#REF!))","v":""}]
[null,null,null,null,null,null," ",null,null,{"$f":"IF(ISBLANK(D6692),\"\",CONCATENATE(C6692,#REF!,#REF!))","v":""}]
[null,null,null,null,null,null," ",null,null,{"$f":"IF(ISBLANK(D6697),\"\",CONCATENATE(C6697,#REF!,#REF!))","v":""}]
[null,null,null,null,null,null," ",null,null,{"$f":"IF(ISBLANK(D6699),\"\",CONCATENATE(C6699,#REF!,#REF!))","v":""}]
[null,null,null,null,null,null," ",null,null,{"$f":"IF(ISBLANK(D6704),\"\",CONCATENATE(C6704,#REF!,#REF!))","v":""}]
[null,null,null,null,null,null," ",null,null,{"$f":"IF(ISBLANK(D6710),\"\",CONCATENATE(C6710,#REF!,#REF!))","v":""}]
[null,null,null,null,null,null," ",null,null,{"$f":"IF(ISBLANK(D6715),\"\",CONCATENATE(C6715,#REF!,#REF!))","v":""}]
[null,null,null,null,null,null," ",null,null,{"$f":"IF(ISBLANK(D6720),\"\",CONCATENATE(C6720,#REF!,#REF!))","v":""}]
[null,null,null,null,null,null," ",null,null,{"$f":"IF(ISBLANK(D6726),\"\",CONCATENATE(C6726,#REF!,#REF!))","v":""}]
[null,null,null,null,null,null," ",null,null,{"$f":"IF(ISBLANK(D6731),\"\",CONCATENATE(C6731,#REF!,#REF!))","v":""}]
[null,null,null,null,null,null," ",null,null,{"$f":"IF(ISBLANK(D6737),\"\",CONCATENATE(C6737,#REF!,#REF!))","v":""}]
[null,null,null,null,null,null," ",null,null,{"$f":"IF(ISBLANK(D6742),\"\",CONCATENATE(C6742,#REF!,#REF!))","v":""}]
[null,null,null,null,null,null," ",null,null,{"$f":"IF(ISBLANK(D6747),\"\",CONCATENATE(C6747,#REF!,#REF!))","v":""}]
[null,null,null,null,null,null," ",null,null,{"$f":"IF(ISBLANK(D6753),\"\",CONCATENATE(C6753,#REF!,#REF!))","v":""}]
[null,null,null,null,null,null," ",null,null,{"$f":"IF(ISBLANK(D6758),\"\",CONCATENATE(C6758,#REF!,#REF!))","v":""}]
[null,null,null,null,null,null," ",null,null,{"$f":"IF(ISBLANK(D6759),\"\",CONCATENATE(C6759,#REF!,#REF!))","v":""}]
[null,null,null,null,null,null," ",null,null,{"$f":"IF(ISBLANK(D6764),\"\",CONCATENATE(C6764,#REF!,#REF!))","v":""}]
[null,null,null,null,null,null," ",null,null,{"$f":"IF(ISBLANK(D6769),\"\",CONCATENATE(C6769,#REF!,#REF!))","v":""}]
[null,null,null,null,null,null," ",null,null,{"$f":"IF(ISBLANK(D6778),\"\",CONCATENATE(C6778,#REF!,#REF!))","v":""}]
[null,null,null,null,null,null," ",null,null,{"$f":"IF(ISBLANK(D6781),\"\",CONCATENATE(C6781,#REF!,#REF!))","v":""}]
[null,null,null,null,null,null," ",null,null,{"$f":"IF(ISBLANK(D6786),\"\",CONCATENATE(C6786,#REF!,#REF!))","v":""}]
[null,null,null,null,null,null," ",null,null,{"$f":"IF(ISBLANK(D6792),\"\",CONCATENATE(C6792,#REF!,#REF!))","v":""}]
[null,null,null,null,null,null," ",null,null,{"$f":"IF(ISBLANK(D6797),\"\",CONCATENATE(C6797,#REF!,#REF!))","v":""}]
[null,null,null,null,null,null," ",null,null,{"$f":"IF(ISBLANK(D6803),\"\",CONCATENATE(C6803,#REF!,#REF!))","v":""}]
[null,null,null,null,null,null," ",null,null,{"$f":"IF(ISBLANK(D6808),\"\",CONCATENATE(C6808,#REF!,#REF!))","v":""}]
[null,null,null,null,null,null," ",null,null,{"$f":"IF(ISBLANK(D6813),\"\",CONCATENATE(C6813,#REF!,#REF!))","v":""}]
[null,null,null,null,null,null," ",null,null,{"$f":"IF(ISBLANK(D6819),\"\",CONCATENATE(C6819,#REF!,#REF!))","v":""}]
[null,null,null,null,null,null," ",null,null,{"$f":"IF(ISBLANK(D6824),\"\",CONCATENATE(C6824,#REF!,#REF!))","v":""}]
[null,null,null,null,null,null," ",null,null,{"$f":"IF(ISBLANK(D6825),\"\",CONCATENATE(C6825,#REF!,#REF!))","v":""}]
[null,null,null,null,null,null," ",null,null,{"$f":"IF(ISBLANK(D6830),\"\",CONCATENATE(C6830,#REF!,#REF!))","v":""}]
[null,null,null,null,null,null," ",null,null,{"$f":"IF(ISBLANK(D6835),\"\",CONCATENATE(C6835,#REF!,#REF!))","v":""}]
[null,null,null,null,null,null," ",null,null,{"$f":"IF(ISBLANK(D6841),\"\",CONCATENATE(C6841,#REF!,#REF!))","v":""}]
[null,null,null,null,null,null," ",null,null,{"$f":"IF(ISBLANK(D6846),\"\",CONCATENATE(C6846,#REF!,#REF!))","v":""}]
[null,null,null,null,null,null," ",null,null,{"$f":"IF(ISBLANK(D6851),\"\",CONCATENATE(C6851,#REF!,#REF!))","v":""}]
[null,null,null,null,null,null," ",null,null,{"$f":"IF(ISBLANK(D6859),\"\",CONCATENATE(C6859,#REF!,#REF!))","v":""}]
[null,null,null,null,null,null," ",null,null,{"$f":"IF(ISBLANK(D6863),\"\",CONCATENATE(C6863,#REF!,#REF!))","v":""}]
[null,null,null,null,null,null," ",null,null,{"$f":"IF(ISBLANK(D6869),\"\",CONCATENATE(C6869,#REF!,#REF!))","v":""}]
[null,null,null,null,null,null," ",null,null,{"$f":"IF(ISBLANK(D6874),\"\",CONCATENATE(C6874,#REF!,#REF!))","v":""}]
[null,null,null,null,null,null," ",null,null,{"$f":"IF(ISBLANK(D6879),\"\",CONCATENATE(C6879,#REF!,#REF!))","v":""}]
[null,null,null,null,null,null," ",null,null,{"$f":"IF(ISBLANK(D6885),\"\",CONCATENATE(C6885,#REF!,#REF!))","v":""}]
[null,null,null,null,null,null," ",null,null,{"$f":"IF(ISBLANK(D6890),\"\",CONCATENATE(C6890,#REF!,#REF!))","v":""}]
[null,null,null,null,null,null," ",null,null,{"$f":"IF(ISBLANK(D6895),\"\",CONCATENATE(C6895,#REF!,#REF!))","v":""}]
[null,null,null,null,null,null," ",null,null,{"$f":"IF(ISBLANK(D6896),\"\",CONCATENATE(C6896,#REF!,#REF!))","v":""}]
[null,null,null,null,null,null," ",null,null,{"$f":"IF(ISBLANK(D6901),\"\",CONCATENATE(C6901,#REF!,#REF!))","v":""}]
[null,null,null,null,null,null," ",null,null,{"$f":"IF(ISBLANK(D6907),\"\",CONCATENATE(C6907,#REF!,#REF!))","v":""}]
[null,null,null,null,null,null," ",null,null,{"$f":"IF(ISBLANK(D6912),\"\",CONCATENATE(C6912,#REF!,#REF!))","v":""}]
[null,null,null,null,null,null," ",null,null,{"$f":"IF(ISBLANK(D6917),\"\",CONCATENATE(C6917,#REF!,#REF!))","v":""}]
[null,null,null,null,null,null," ",null,null,{"$f":"IF(ISBLANK(D6923),\"\",CONCATENATE(C6923,#REF!,#REF!))","v":""}]
[null,null,null,null,null,null," ",null,null,{"$f":"IF(ISBLANK(D6928),\"\",CONCATENATE(C6928,#REF!,#REF!))","v":""}]
[null,null,null,null,null,null," ",null,null,{"$f":"IF(ISBLANK(D6934),\"\",CONCATENATE(C6934,#REF!,#REF!))","v":""}]
[null,null,null,null,null,null," ",null,null,{"$f":"IF(ISBLANK(D6940),\"\",CONCATENATE(C6940,#REF!,#REF!))","v":""}]
[null,null,null,null,null,null," ",null,null,{"$f":"IF(ISBLANK(D6945),\"\",CONCATENATE(C6945,#REF!,#REF!))","v":""}]
[null,null,null,null,null,null," ",null,null,{"$f":"IF(ISBLANK(D6951),\"\",CONCATENATE(C6951,#REF!,#REF!))","v":""}]
[null,null,null,null,null,null," ",null,null,{"$f":"IF(ISBLANK(D6956),\"\",CONCATENATE(C6956,#REF!,#REF!))","v":""}]
[null,null,null,null,null,null," ",null,null,{"$f":"IF(ISBLANK(D6961),\"\",CONCATENATE(C6961,#REF!,#REF!))","v":""}]
[null,null,null,null,null,null," ",null,null,{"$f":"IF(ISBLANK(D6962),\"\",CONCATENATE(C6962,#REF!,#REF!))","v":""}]
[null,null,null,null,null,null," ",null,null,{"$f":"IF(ISBLANK(D6967),\"\",CONCATENATE(C6967,#REF!,#REF!))","v":""}]
[null,null,null,null,null,null," ",null,null,{"$f":"IF(ISBLANK(D6973),\"\",CONCATENATE(C6973,#REF!,#REF!))","v":""}]
[null,null,null,null,null,null," ",null,null,{"$f":"IF(ISBLANK(D6978),\"\",CONCATENATE(C6978,#REF!,#REF!))","v":""}]
[null,null,null,null,null,null," ",null,null,{"$f":"IF(ISBLANK(D6983),\"\",CONCATENATE(C6983,#REF!,#REF!))","v":""}]
[null,null,null,null,null,null," ",null,null,{"$f":"IF(ISBLANK(D6989),\"\",CONCATENATE(C6989,#REF!,#REF!))","v":""}]
[null,null,null,null,null,null," ",null,null,{"$f":"IF(ISBLANK(D6994),\"\",CONCATENATE(C6994,#REF!,#REF!))","v":""}]
[null,null,null,null,null,null," ",null,null,{"$f":"IF(ISBLANK(D7000),\"\",CONCATENATE(C7000,#REF!,#REF!))","v":""}]
[null,null,null,null,null,null," ",null,null,{"$f":"IF(ISBLANK(D7005),\"\",CONCATENATE(C7005,#REF!,#REF!))","v":""}]
[null,null,null,null,null,null," ",null,null,{"$f":"IF(ISBLANK(D7010),\"\",CONCATENATE(C7010,#REF!,#REF!))","v":""}]
[null,null,null,null,null,null," ",null,null,{"$f":"IF(ISBLANK(D7016),\"\",CONCATENATE(C7016,#REF!,#REF!))","v":""}]
[null,null,null,null,null,null," ",null,null,{"$f":"IF(ISBLANK(D7021),\"\",CONCATENATE(C7021,#REF!,#REF!))","v":""}]
[null,null,null,null,null,null," ",null,null,{"$f":"IF(ISBLANK(D7027),\"\",CONCATENATE(C7027,#REF!,#REF!))","v":""}]
[null,null,null,null,null,null," ",null,null,{"$f":"IF(ISBLANK(D7028),\"\",CONCATENATE(C7028,#REF!,#REF!))","v":""}]
[null,null,null,null,null,null," ",null,null,{"$f":"IF(ISBLANK(D7033),\"\",CONCATENATE(C7033,#REF!,#REF!))","v":""}]
[null,null,null,null,null,null," ",null,null,{"$f":"IF(ISBLANK(D7039),\"\",CONCATENATE(C7039,#REF!,#REF!))","v":""}]
[null,null,null,null,null,null," ",null,null,{"$f":"IF(ISBLANK(D7044),\"\",CONCATENATE(C7044,#REF!,#REF!))","v":""}]
[null,null,null,null,null,null," ",null,null,{"$f":"IF(ISBLANK(D7049),\"\",CONCATENATE(C7049,#REF!,#REF!))","v":""}]
[null,null,null,null,null,null," ",null,null,{"$f":"IF(ISBLANK(D7055),\"\",CONCATENATE(C7055,#REF!,#REF!))","v":""}]
[null,null,null,null,null,null," ",null,null,{"$f":"IF(ISBLANK(D7060),\"\",CONCATENATE(C7060,#REF!,#REF!))","v":""}]
[null,null,null,null,null,null," ",null,null,{"$f":"IF(ISBLANK(D7065),\"\",CONCATENATE(C7065,#REF!,#REF!))","v":""}]
[null,null,null,null,null,null," ",null,null,{"$f":"IF(ISBLANK(D7071),\"\",CONCATENATE(C7071,#REF!,#REF!))","v":""}]
[null,null,null,null,null,null," ",null,null,{"$f":"IF(ISBLANK(D7076),\"\",CONCATENATE(C7076,#REF!,#REF!))","v":""}]
[null,null,null,null,null,null," ",null,null,{"$f":"IF(ISBLANK(D7082),\"\",CONCATENATE(C7082,#REF!,#REF!))","v":""}]
[null,null,null,null,null,null," ",null,null,{"$f":"IF(ISBLANK(D7087),\"\",CONCATENATE(C7087,#REF!,#REF!))","v":""}]
[null,null,null,null,null,null," ",null,null,{"$f":"IF(ISBLANK(D7092),\"\",CONCATENATE(C7092,#REF!,#REF!))","v":""}]
[null,null,null,null,null,null," ",null,null,{"$f":"IF(ISBLANK(D7093),\"\",CONCATENATE(C7093,#REF!,#REF!))","v":""}]
[null,null,null,null,null,null," ",null,null,{"$f":"IF(ISBLANK(D7102),\"\",CONCATENATE(C7102,#REF!,#REF!))","v":""}]
[null,null,null,null,null,null," ",null,null,{"$f":"IF(ISBLANK(D7105),\"\",CONCATENATE(C7105,#REF!,#REF!))","v":""}]
[null,null,null,null,null,null," ",null,null,{"$f":"IF(ISBLANK(D7110),\"\",CONCATENATE(C7110,#REF!,#REF!))","v":""}]
[null,null,null,null,null,null," ",null,null,{"$f":"IF(ISBLANK(D7115),\"\",CONCATENATE(C7115,#REF!,#REF!))","v":""}]
[null,null,null,null,null,null," ",null,null,{"$f":"IF(ISBLANK(D7121),\"\",CONCATENATE(C7121,#REF!,#REF!))","v":""}]
[null,null,null,null,null,null," ",null,null,{"$f":"IF(ISBLANK(D7126),\"\",CONCATENATE(C7126,#REF!,#REF!))","v":""}]
[null,null,null,null,null,null," ",null,null,{"$f":"IF(ISBLANK(D7131),\"\",CONCATENATE(C7131,#REF!,#REF!))","v":""}]
[null,null,null,null,null,null," ",null,null,{"$f":"IF(ISBLANK(D7137),\"\",CONCATENATE(C7137,#REF!,#REF!))","v":""}]
[null,null,null,null,null,null," ",null,null,{"$f":"IF(ISBLANK(D7142),\"\",CONCATENATE(C7142,#REF!,#REF!))","v":""}]
[null,null,null,null,null,null," ",null,null,{"$f":"IF(ISBLANK(D7148),\"\",CONCATENATE(C7148,#REF!,#REF!))","v":""}]
[null,null,null,null,null,null," ",null,null,{"$f":"IF(ISBLANK(D7153),\"\",CONCATENATE(C7153,#REF!,#REF!))","v":""}]
[null,null,null,null,null,null," ",null,null,{"$f":"IF(ISBLANK(D7158),\"\",CONCATENATE(C7158,#REF!,#REF!))","v":""}]
[null,null,null,null,null,null," ",null,null,{"$f":"IF(ISBLANK(D7159),\"\",CONCATENATE(C7159,#REF!,#REF!))","v":""}]
[null,null,null,null,null,null," ",null,null,{"$f":"IF(ISBLANK(D7164),\"\",CONCATENATE(C7164,#REF!,#REF!))","v":""}]
[null,null,null,null,null,null," ",null,null,{"$f":"IF(ISBLANK(D7169),\"\",CONCATENATE(C7169,#REF!,#REF!))","v":""}]
[null,null,null,null,null,null," ",null,null,{"$f":"IF(ISBLANK(D7175),\"\",CONCATENATE(C7175,#REF!,#REF!))","v":""}]
[null,null,null,null,null,null," ",null,null,{"$f":"IF(ISBLANK(D7183),\"\",CONCATENATE(C7183,#REF!,#REF!))","v":""}]
[null,null,null,null,null,null," ",null,null,{"$f":"IF(ISBLANK(D7187),\"\",CONCATENATE(C7187,#REF!,#REF!))","v":""}]
[null,null,null,null,null,null," ",null,null,{"$f":"IF(ISBLANK(D7192),\"\",CONCATENATE(C7192,#REF!,#REF!))","v":""}]
[null,null,null,null,null,null," ",null,null,{"$f":"IF(ISBLANK(D7197),\"\",CONCATENATE(C7197,#REF!,#REF!))","v":""}]
[null,null,null,null,null,null," ",null,null,{"$f":"IF(ISBLANK(D7203),\"\",CONCATENATE(C7203,#REF!,#REF!))","v":""}]
[null,null,null,null,null,null," ",null,null,{"$f":"IF(ISBLANK(D7208),\"\",CONCATENATE(C7208,#REF!,#REF!))","v":""}]
[null,null,null,null,null,null," ",null,null,{"$f":"IF(ISBLANK(D7214),\"\",CONCATENATE(C7214,#REF!,#REF!))","v":""}]
[null,null,null,null,null,null," ",null,null,{"$f":"IF(ISBLANK(D7219),\"\",CONCATENATE(C7219,#REF!,#REF!))","v":""}]
[null,null,null,null,null,null," ",null,null,{"$f":"IF(ISBLANK(D7224),\"\",CONCATENATE(C7224,#REF!,#REF!))","v":""}]
[null,null,null,null,null,null," ",null,null,{"$f":"IF(ISBLANK(D7225),\"\",CONCATENATE(C7225,#REF!,#REF!))","v":""}]
[null,null,null,null,null,null," ",null,null,{"$f":"IF(ISBLANK(D7230),\"\",CONCATENATE(C7230,#REF!,#REF!))","v":""}]
[null,null,null,null,null,null," ",null,null,{"$f":"IF(ISBLANK(D7235),\"\",CONCATENATE(C7235,#REF!,#REF!))","v":""}]
[null,null,null,null,null,null," ",null,null,{"$f":"IF(ISBLANK(D7241),\"\",CONCATENATE(C7241,#REF!,#REF!))","v":""}]
[null,null,null,null,null,null," ",null,null,{"$f":"IF(ISBLANK(D7246),\"\",CONCATENATE(C7246,#REF!,#REF!))","v":""}]
[null,null,null,null,null,null," ",null,null,{"$f":"IF(ISBLANK(D7252),\"\",CONCATENATE(C7252,#REF!,#REF!))","v":""}]
[null,null,null,null,null,null," ",null,null,{"$f":"IF(ISBLANK(D7257),\"\",CONCATENATE(C7257,#REF!,#REF!))","v":""}]
[null,null,null,null,null,null," ",null,null,{"$f":"IF(ISBLANK(D7264),\"\",CONCATENATE(C7264,#REF!,#REF!))","v":""}]
[null,null,null,null,null,null," ",null,null,{"$f":"IF(ISBLANK(D7269),\"\",CONCATENATE(C7269,#REF!,#REF!))","v":""}]
[null,null,null,null,null,null," ",null,null,{"$f":"IF(ISBLANK(D7274),\"\",CONCATENATE(C7274,#REF!,#REF!))","v":""}]
[null,null,null,null,null,null," ",null,null,{"$f":"IF(ISBLANK(D7280),\"\",CONCATENATE(C7280,#REF!,#REF!))","v":""}]
[null,null,null,null,null,null," ",null,null,{"$f":"IF(ISBLANK(D7285),\"\",CONCATENATE(C7285,#REF!,#REF!))","v":""}]
[null,null,null,null,null,null," ",null,null,{"$f":"IF(ISBLANK(D7290),\"\",CONCATENATE(C7290,#REF!,#REF!))","v":""}]
[null,null,null,null,null,null," ",null,null,{"$f":"IF(ISBLANK(D7291),\"\",CONCATENATE(C7291,#REF!,#REF!))","v":""}]
[null,null,null,null,null,null," ",null,null,{"$f":"IF(ISBLANK(D7296),\"\",CONCATENATE(C7296,#REF!,#REF!))","v":""}]
[null,null,null,null,null,null," ",null,null,{"$f":"IF(ISBLANK(D7301),\"\",CONCATENATE(C7301,#REF!,#REF!))","v":""}]
[null,null,null,null,null,null," ",null,null,{"$f":"IF(ISBLANK(D7307),\"\",CONCATENATE(C7307,#REF!,#REF!))","v":""}]
[null,null,null,null,null,null," ",null,null,{"$f":"IF(ISBLANK(D7312),\"\",CONCATENATE(C7312,#REF!,#REF!))","v":""}]
[null,null,null,null,null,null," ",null,null,{"$f":"IF(ISBLANK(D7318),\"\",CONCATENATE(C7318,#REF!,#REF!))","v":""}]
[null,null,null,null,null,null," ",null,null,{"$f":"IF(ISBLANK(D7323),\"\",CONCATENATE(C7323,#REF!,#REF!))","v":""}]
[null,null,null,null,null,null," ",null,null,{"$f":"IF(ISBLANK(D7328),\"\",CONCATENATE(C7328,#REF!,#REF!))","v":""}]
[null,null,null,null,null,null," ",null,null,{"$f":"IF(ISBLANK(D7334),\"\",CONCATENATE(C7334,#REF!,#REF!))","v":""}]
[null,null,null,null,null,null," ",null,null,{"$f":"IF(ISBLANK(D7339),\"\",CONCATENATE(C7339,#REF!,#REF!))","v":""}]
[null,null,null,null,null,null," ",null,null,{"$f":"IF(ISBLANK(D7345),\"\",CONCATENATE(C7345,#REF!,#REF!))","v":""}]
[null,null,null,null,null,null," ",null,null,{"$f":"IF(ISBLANK(D7351),\"\",CONCATENATE(C7351,#REF!,#REF!))","v":""}]
[null,null,null,null,null,null," ",null,null,{"$f":"IF(ISBLANK(D7356),\"\",CONCATENATE(C7356,#REF!,#REF!))","v":""}]
[null,null,null,null,null,null," ",null,null,{"$f":"IF(ISBLANK(D7357),\"\",CONCATENATE(C7357,#REF!,#REF!))","v":""}]
[null,null,null,null,null,null," ",null,null,{"$f":"IF(ISBLANK(D7362),\"\",CONCATENATE(C7362,#REF!,#REF!))","v":""}]
[null,null,null,null,null,null," ",null,null,{"$f":"IF(ISBLANK(D7367),\"\",CONCATENATE(C7367,#REF!,#REF!))","v":""}]
[null,null,null,null,null,null," ",null,null,{"$f":"IF(ISBLANK(D7373),\"\",CONCATENATE(C7373,#REF!,#REF!))","v":""}]
[null,null,null,null,null,null," ",null,null,{"$f":"IF(ISBLANK(D7378),\"\",CONCATENATE(C7378,#REF!,#REF!))","v":""}]
[null,null,null,null,null,null," ",null,null,{"$f":"IF(ISBLANK(D7384),\"\",CONCATENATE(C7384,#REF!,#REF!))","v":""}]
[null,null,null,null,null,null," ",null,null,{"$f":"IF(ISBLANK(D7389),\"\",CONCATENATE(C7389,#REF!,#REF!))","v":""}]
[null,null,null,null,null,null," ",null,null,{"$f":"IF(ISBLANK(D7394),\"\",CONCATENATE(C7394,#REF!,#REF!))","v":""}]
[null,null,null,null,null,null," ",null,null,{"$f":"IF(ISBLANK(D7400),\"\",CONCATENATE(C7400,#REF!,#REF!))","v":""}]
[null,null,null,null,null,null," ",null,null,{"$f":"IF(ISBLANK(D7405),\"\",CONCATENATE(C7405,#REF!,#REF!))","v":""}]
[null,null,null,null,null,null," ",null,null,{"$f":"IF(ISBLANK(D7410),\"\",CONCATENATE(C7410,#REF!,#REF!))","v":""}]
[null,null,null,null,null,null," ",null,null,{"$f":"IF(ISBLANK(D7416),\"\",CONCATENATE(C7416,#REF!,#REF!))","v":""}]
[null,null,null,null,null,null," ",null,null,{"$f":"IF(ISBLANK(D7421),\"\",CONCATENATE(C7421,#REF!,#REF!))","v":""}]
[null,null,null,null,null,null," ",null,null,{"$f":"IF(ISBLANK(D7424),\"\",CONCATENATE(C7424,#REF!,#REF!))","v":""}]
[null,null,null,null,null,null," ",null,null,{"$f":"IF(ISBLANK(D7428),\"\",CONCATENATE(C7428,#REF!,#REF!))","v":""}]
[null,null,null,null,null,null," ",null,null,{"$f":"IF(ISBLANK(D7433),\"\",CONCATENATE(C7433,#REF!,#REF!))","v":""}]
[null,null,null,null,null,null," ",null,null,{"$f":"IF(ISBLANK(D7439),\"\",CONCATENATE(C7439,#REF!,#REF!))","v":""}]
[null,null,null,null,null,null," ",null,null,{"$f":"IF(ISBLANK(D7444),\"\",CONCATENATE(C7444,#REF!,#REF!))","v":""}]
[null,null,null,null,null,null," ",null,null,{"$f":"IF(ISBLANK(D7449),\"\",CONCATENATE(C7449,#REF!,#REF!))","v":""}]
[null,null,null,null,null,null," ",null,null,{"$f":"IF(ISBLANK(D7455),\"\",CONCATENATE(C7455,#REF!,#REF!))","v":""}]
[null,null,null,null,null,null," ",null,null,{"$f":"IF(ISBLANK(D7460),\"\",CONCATENATE(C7460,#REF!,#REF!))","v":""}]
[null,null,null,null,null,null," ",null,null,{"$f":"IF(ISBLANK(D7466),\"\",CONCATENATE(C7466,#REF!,#REF!))","v":""}]
[null,null,null,null,null,null," ",null,null,{"$f":"IF(ISBLANK(D7471),\"\",CONCATENATE(C7471,#REF!,#REF!))","v":""}]
[null,null,null,null,null,null," ",null,null,{"$f":"IF(ISBLANK(D7476),\"\",CONCATENATE(C7476,#REF!,#REF!))","v":""}]
[null,null,null,null,null,null," ",null,null,{"$f":"IF(ISBLANK(D7482),\"\",CONCATENATE(C7482,#REF!,#REF!))","v":""}]
[null,null,null,null,null,null," ",null,null,{"$f":"IF(ISBLANK(D7487),\"\",CONCATENATE(C7487,#REF!,#REF!))","v":""}]
[null,null,null,null,null,null," ",null,null,{"$f":"IF(ISBLANK(D7488),\"\",CONCATENATE(C7488,#REF!,#REF!))","v":""}]
[null,null,null,null,null,null," ",null,null,{"$f":"IF(ISBLANK(D7493),\"\",CONCATENATE(C7493,#REF!,#REF!))","v":""}]
[null,null,null,null,null,null," ",null,null,{"$f":"IF(ISBLANK(D7498),\"\",CONCATENATE(C7498,#REF!,#REF!))","v":""}]
[null,null,null,null,null,null," ",null,null,{"$f":"IF(ISBLANK(D7505),\"\",CONCATENATE(C7505,#REF!,#REF!))","v":""}]
[null,null,null,null,null,null," ",null,null,{"$f":"IF(ISBLANK(D7510),\"\",CONCATENATE(C7510,#REF!,#REF!))","v":""}]
[null,null,null,null,null,null," ",null,null,{"$f":"IF(ISBLANK(D7515),\"\",CONCATENATE(C7515,#REF!,#REF!))","v":""}]
[null,null,null,null,null,null," ",null,null,{"$f":"IF(ISBLANK(D7521),\"\",CONCATENATE(C7521,#REF!,#REF!))","v":""}]
[null,null,null,null,null,null," ",null,null,{"$f":"IF(ISBLANK(D7526),\"\",CONCATENATE(C7526,#REF!,#REF!))","v":""}]
[null,null,null,null,null,null," ",null,null,{"$f":"IF(ISBLANK(D7532),\"\",CONCATENATE(C7532,#REF!,#REF!))","v":""}]
[null,null,null,null,null,null," ",null,null,{"$f":"IF(ISBLANK(D7537),\"\",CONCATENATE(C7537,#REF!,#REF!))","v":""}]
[null,null,null,null,null,null," ",null,null,{"$f":"IF(ISBLANK(D7542),\"\",CONCATENATE(C7542,#REF!,#REF!))","v":""}]
[null,null,null,null,null,null," ",null,null,{"$f":"IF(ISBLANK(D7548),\"\",CONCATENATE(C7548,#REF!,#REF!))","v":""}]
[null,null,null,null,null,null," ",null,null,{"$f":"IF(ISBLANK(D7553),\"\",CONCATENATE(C7553,#REF!,#REF!))","v":""}]
[null,null,null,null,null,null," ",null,null,{"$f":"IF(ISBLANK(D7554),\"\",CONCATENATE(C7554,#REF!,#REF!))","v":""}]
[null,null,null,null,null,null," ",null,null,{"$f":"IF(ISBLANK(D7559),\"\",CONCATENATE(C7559,#REF!,#REF!))","v":""}]
[null,null,null,null,null,null," ",null,null,{"$f":"IF(ISBLANK(D7564),\"\",CONCATENATE(C7564,#REF!,#REF!))","v":""}]
[null,null,null,null,null,null," ",null,null,{"$f":"IF(ISBLANK(D7570),\"\",CONCATENATE(C7570,#REF!,#REF!))","v":""}]
[null,null,null,null,null,null," ",null,null,{"$f":"IF(ISBLANK(D7575),\"\",CONCATENATE(C7575,#REF!,#REF!))","v":""}]
[null,null,null,null,null,null," ",null,null,{"$f":"IF(ISBLANK(D7580),\"\",CONCATENATE(C7580,#REF!,#REF!))","v":""}]
[null,null,null,null,null,null," ",null,null,{"$f":"IF(ISBLANK(D7586),\"\",CONCATENATE(C7586,#REF!,#REF!))","v":""}]
[null,null,null,null,null,null," ",null,null,{"$f":"IF(ISBLANK(D7592),\"\",CONCATENATE(C7592,#REF!,#REF!))","v":""}]
[null,null,null,null,null,null," ",null,null,{"$f":"IF(ISBLANK(D7598),\"\",CONCATENATE(C7598,#REF!,#REF!))","v":""}]
[null,null,null,null,null,null," ",null,null,{"$f":"IF(ISBLANK(D7603),\"\",CONCATENATE(C7603,#REF!,#REF!))","v":""}]
[null,null,null,null,null,null," ",null,null,{"$f":"IF(ISBLANK(D7608),\"\",CONCATENATE(C7608,#REF!,#REF!))","v":""}]
[null,null,null,null,null,null," ",null,null,{"$f":"IF(ISBLANK(D7614),\"\",CONCATENATE(C7614,#REF!,#REF!))","v":""}]
[null,null,null,null,null,null," ",null,null,{"$f":"IF(ISBLANK(D7619),\"\",CONCATENATE(C7619,#REF!,#REF!))","v":""}]
[null,null,null,null,null,null," ",null,null,{"$f":"IF(ISBLANK(D7624),\"\",CONCATENATE(C7624,#REF!,#REF!))","v":""}]
[null,null,null,null,null,null," ",null,null,{"$f":"IF(ISBLANK(D7625),\"\",CONCATENATE(C7625,#REF!,#REF!))","v":""}]
[null,null,null,null,null,null," ",null,null,{"$f":"IF(ISBLANK(D7630),\"\",CONCATENATE(C7630,#REF!,#REF!))","v":""}]
[null,null,null,null,null,null," ",null,null,{"$f":"IF(ISBLANK(D7636),\"\",CONCATENATE(C7636,#REF!,#REF!))","v":""}]
[null,null,null,null,null,null," ",null,null,{"$f":"IF(ISBLANK(D7641),\"\",CONCATENATE(C7641,#REF!,#REF!))","v":""}]
[null,null,null,null,null,null," ",null,null,{"$f":"IF(ISBLANK(D7646),\"\",CONCATENATE(C7646,#REF!,#REF!))","v":""}]
[null,null,null,null,null,null," ",null,null,{"$f":"IF(ISBLANK(D7652),\"\",CONCATENATE(C7652,#REF!,#REF!))","v":""}]
[null,null,null,null,null,null," ",null,null,{"$f":"IF(ISBLANK(D7657),\"\",CONCATENATE(C7657,#REF!,#REF!))","v":""}]
[null,null,null,null,null,null," ",null,null,{"$f":"IF(ISBLANK(D7663),\"\",CONCATENATE(C7663,#REF!,#REF!))","v":""}]
[null,null,null,null,null,null," ",null,null,{"$f":"IF(ISBLANK(D7667),\"\",CONCATENATE(C7667,#REF!,#REF!))","v":""}]
[null,null,null,null,null,null," ",null,null,{"$f":"IF(ISBLANK(D7674),\"\",CONCATENATE(C7674,#REF!,#REF!))","v":""}]
[null,null,null,null,null,null," ",null,null,{"$f":"IF(ISBLANK(D7680),\"\",CONCATENATE(C7680,#REF!,#REF!))","v":""}]
[null,null,null,null,null,null," ",null,null,{"$f":"IF(ISBLANK(D7685),\"\",CONCATENATE(C7685,#REF!,#REF!))","v":""}]
[null,null,null,null,null,null," ",null,null,{"$f":"IF(ISBLANK(D7690),\"\",CONCATENATE(C7690,#REF!,#REF!))","v":""}]
[null,null,null,null,null,null," ",null,null,{"$f":"IF(ISBLANK(D7691),\"\",CONCATENATE(C7691,#REF!,#REF!))","v":""}]
[null,null,null,null,null,null," ",null,null,{"$f":"IF(ISBLANK(D7696),\"\",CONCATENATE(C7696,#REF!,#REF!))","v":""}]
[null,null,null,null,null,null," ",null,null,{"$f":"IF(ISBLANK(D7702),\"\",CONCATENATE(C7702,#REF!,#REF!))","v":""}]
[null,null,null,null,null,null," ",null,null,{"$f":"IF(ISBLANK(D7707),\"\",CONCATENATE(C7707,#REF!,#REF!))","v":""}]
[null,null,null,null,null,null," ",null,null,{"$f":"IF(ISBLANK(D7712),\"\",CONCATENATE(C7712,#REF!,#REF!))","v":""}]
[null,null,null,null,null,null," ",null,null,{"$f":"IF(ISBLANK(D7718),\"\",CONCATENATE(C7718,#REF!,#REF!))","v":""}]
[null,null,null,null,null,null," ",null,null,{"$f":"IF(ISBLANK(D7723),\"\",CONCATENATE(C7723,#REF!,#REF!))","v":""}]
[null,null,null,null,null,null," ",null,null,{"$f":"IF(ISBLANK(D7729),\"\",CONCATENATE(C7729,#REF!,#REF!))","v":""}]
[null,null,null,null,null,null," ",null,null,{"$f":"IF(ISBLANK(D7734),\"\",CONCATENATE(C7734,#REF!,#REF!))","v":""}]
[null,null,null,null,null,null," ",null,null,{"$f":"IF(ISBLANK(D7739),\"\",CONCATENATE(C7739,#REF!,#REF!))","v":""}]
[null,null,null,null,null,null," ",null,null,{"$f":"IF(ISBLANK(D7745),\"\",CONCATENATE(C7745,#REF!,#REF!))","v":""}]
[null,null,null,null,null,null," ",null,null,{"$f":"IF(ISBLANK(D7748),\"\",CONCATENATE(C7748,#REF!,#REF!))","v":""}]
[null,null,null,null,null,null," ",null,null,{"$f":"IF(ISBLANK(D7756),\"\",CONCATENATE(C7756,#REF!,#REF!))","v":""}]
[null,null,null,null,null,null," ",null,null,{"$f":"IF(ISBLANK(D7757),\"\",CONCATENATE(C7757,#REF!,#REF!))","v":""}]
[null,null,null,null,null,null," ",null,null,{"$f":"IF(ISBLANK(D7762),\"\",CONCATENATE(C7762,#REF!,#REF!))","v":""}]
[null,null,null,null,null,null," ",null,null,{"$f":"IF(ISBLANK(D7768),\"\",CONCATENATE(C7768,#REF!,#REF!))","v":""}]
[null,null,null,null,null,null," ",null,null,{"$f":"IF(ISBLANK(D7773),\"\",CONCATENATE(C7773,#REF!,#REF!))","v":""}]
[null,null,null,null,null,null," ",null,null,{"$f":"IF(ISBLANK(D7778),\"\",CONCATENATE(C7778,#REF!,#REF!))","v":""}]
[null,null,null,null,null,null," ",null,null,{"$f":"IF(ISBLANK(D7784),\"\",CONCATENATE(C7784,#REF!,#REF!))","v":""}]
[null,null,null,null,null,null," ",null,null,{"$f":"IF(ISBLANK(D7789),\"\",CONCATENATE(C7789,#REF!,#REF!))","v":""}]
[null,null,null,null,null,null," ",null,null,{"$f":"IF(ISBLANK(D7794),\"\",CONCATENATE(C7794,#REF!,#REF!))","v":""}]
[null,null,null,null,null,null," ",null,null,{"$f":"IF(ISBLANK(D7800),\"\",CONCATENATE(C7800,#REF!,#REF!))","v":""}]
[null,null,null,null,null,null," ",null,null,{"$f":"IF(ISBLANK(D7805),\"\",CONCATENATE(C7805,#REF!,#REF!))","v":""}]
[null,null,null,null,null,null," ",null,null,{"$f":"IF(ISBLANK(D7811),\"\",CONCATENATE(C7811,#REF!,#REF!))","v":""}]
[null,null,null,null,null,null," ",null,null,{"$f":"IF(ISBLANK(D7816),\"\",CONCATENATE(C7816,#REF!,#REF!))","v":""}]
[null,null,null,null,null,null," ",null,null,{"$f":"IF(ISBLANK(D7821),\"\",CONCATENATE(C7821,#REF!,#REF!))","v":""}]
[null,null,null,null,null,null," ",null,null,{"$f":"IF(ISBLANK(D7822),\"\",CONCATENATE(C7822,#REF!,#REF!))","v":""}]
[null,null,null,null,null,null," ",null,null,{"$f":"IF(ISBLANK(D7829),\"\",CONCATENATE(C7829,#REF!,#REF!))","v":""}]
[null,null,null,null,null,null," ",null,null,{"$f":"IF(ISBLANK(D7834),\"\",CONCATENATE(C7834,#REF!,#REF!))","v":""}]
[null,null,null,null,null,null," ",null,null,{"$f":"IF(ISBLANK(D7839),\"\",CONCATENATE(C7839,#REF!,#REF!))","v":""}]
[null,null,null,null,null,null," ",null,null,{"$f":"IF(ISBLANK(D7844),\"\",CONCATENATE(C7844,#REF!,#REF!))","v":""}]
[null,null,null,null,null,null," ",null,null,{"$f":"IF(ISBLANK(D7850),\"\",CONCATENATE(C7850,#REF!,#REF!))","v":""}]
[null,null,null,null,null,null," ",null,null,{"$f":"IF(ISBLANK(D7855),\"\",CONCATENATE(C7855,#REF!,#REF!))","v":""}]
[null,null,null,null,null,null," ",null,null,{"$f":"IF(ISBLANK(D7860),\"\",CONCATENATE(C7860,#REF!,#REF!))","v":""}]
[null,null,null,null,null,null," ",null,null,{"$f":"IF(ISBLANK(D7866),\"\",CONCATENATE(C7866,#REF!,#REF!))","v":""}]
[null,null,null,null,null,null," ",null,null,{"$f":"IF(ISBLANK(D7871),\"\",CONCATENATE(C7871,#REF!,#REF!))","v":""}]
[null,null,null,null,null,null," ",null,null,{"$f":"IF(ISBLANK(D7877),\"\",CONCATENATE(C7877,#REF!,#REF!))","v":""}]
[null,null,null,null,null,null," ",null,null,{"$f":"IF(ISBLANK(D7882),\"\",CONCATENATE(C7882,#REF!,#REF!))","v":""}]
[null,null,null,null,null,null," ",null,null,{"$f":"IF(ISBLANK(D7887),\"\",CONCATENATE(C7887,#REF!,#REF!))","v":""}]
[null,null,null,null,null,null," ",null,null,{"$f":"IF(ISBLANK(D7888),\"\",CONCATENATE(C7888,#REF!,#REF!))","v":""}]
[null,null,null,null,null,null," ",null,null,{"$f":"IF(ISBLANK(D7893),\"\",CONCATENATE(C7893,#REF!,#REF!))","v":""}]
[null,null,null,null,null,null," ",null,null,{"$f":"IF(ISBLANK(D7898),\"\",CONCATENATE(C7898,#REF!,#REF!))","v":""}]
[null,null,null,null,null,null," ",null,null,{"$f":"IF(ISBLANK(D7904),\"\",CONCATENATE(C7904,#REF!,#REF!))","v":""}]
[null,null,null,null,null,null," ",null,null,{"$f":"IF(ISBLANK(D7910),\"\",CONCATENATE(C7910,#REF!,#REF!))","v":""}]
[null,null,null,null,null,null," ",null,null,{"$f":"IF(ISBLANK(D7916),\"\",CONCATENATE(C7916,#REF!,#REF!))","v":""}]
[null,null,null,null,null,null," ",null,null,{"$f":"IF(ISBLANK(D7921),\"\",CONCATENATE(C7921,#REF!,#REF!))","v":""}]
[null,null,null,null,null,null," ",null,null,{"$f":"IF(ISBLANK(D7926),\"\",CONCATENATE(C7926,#REF!,#REF!))","v":""}]
[null,null,null,null,null,null," ",null,null,{"$f":"IF(ISBLANK(D7932),\"\",CONCATENATE(C7932,#REF!,#REF!))","v":""}]
[null,null,null,null,null,null," ",null,null,{"$f":"IF(ISBLANK(D7937),\"\",CONCATENATE(C7937,#REF!,#REF!))","v":""}]
[null,null,null,null,null,null," ",null,null,{"$f":"IF(ISBLANK(D7943),\"\",CONCATENATE(C7943,#REF!,#REF!))","v":""}]
[null,null,null,null,null,null," ",null,null,{"$f":"IF(ISBLANK(D7948),\"\",CONCATENATE(C7948,#REF!,#REF!))","v":""}]
[null,null,null,null,null,null," ",null,null,{"$f":"IF(ISBLANK(D7953),\"\",CONCATENATE(C7953,#REF!,#REF!))","v":""}]
[null,null,null,null,null,null," ",null,null,{"$f":"IF(ISBLANK(D7954),\"\",CONCATENATE(C7954,#REF!,#REF!))","v":""}]
[null,null,null,null,null,null," ",null,null,{"$f":"IF(ISBLANK(D7959),\"\",CONCATENATE(C7959,#REF!,#REF!))","v":""}]
[null,null,null,null,null,null," ",null,null,{"$f":"IF(ISBLANK(D7964),\"\",CONCATENATE(C7964,#REF!,#REF!))","v":""}]
[null,null,null,null,null,null," ",null,null,{"$f":"IF(ISBLANK(D7970),\"\",CONCATENATE(C7970,#REF!,#REF!))","v":""}]
[null,null,null,null,null,null," ",null,null,{"$f":"IF(ISBLANK(D7975),\"\",CONCATENATE(C7975,#REF!,#REF!))","v":""}]
[null,null,null,null,null,null," ",null,null,{"$f":"IF(ISBLANK(D7981),\"\",CONCATENATE(C7981,#REF!,#REF!))","v":""}]
[null,null,null,null,null,null," ",null,null,{"$f":"IF(ISBLANK(D7986),\"\",CONCATENATE(C7986,#REF!,#REF!))","v":""}]
[null,null,null,null,null,null," ",null,null,{"$f":"IF(ISBLANK(D7991),\"\",CONCATENATE(C7991,#REF!,#REF!))","v":""}]
[null,null,null,null,null,null," ",null,null,{"$f":"IF(ISBLANK(D7998),\"\",CONCATENATE(C7998,#REF!,#REF!))","v":""}]
[null,null,null,null,null,null," ",null,null,{"$f":"IF(ISBLANK(D8003),\"\",CONCATENATE(C8003,#REF!,#REF!))","v":""}]
[null,null,null,null,null,null," ",null,null,{"$f":"IF(ISBLANK(D8009),\"\",CONCATENATE(C8009,#REF!,#REF!))","v":""}]
[null,null,null,null,null,null," ",null,null,{"$f":"IF(ISBLANK(D8014),\"\",CONCATENATE(C8014,#REF!,#REF!))","v":""}]
[null,null,null,null,null,null," ",null,null,{"$f":"IF(ISBLANK(D8019),\"\",CONCATENATE(C8019,#REF!,#REF!))","v":""}]
[null,null,null,null,null,null," ",null,null,{"$f":"IF(ISBLANK(D8020),\"\",CONCATENATE(C8020,#REF!,#REF!))","v":""}]
[null,null,null,null,null,null," ",null,null,{"$f":"IF(ISBLANK(D8025),\"\",CONCATENATE(C8025,#REF!,#REF!))","v":""}]
[null,null,null,null,null,null," ",null,null,{"$f":"IF(ISBLANK(D8030),\"\",CONCATENATE(C8030,#REF!,#REF!))","v":""}]
[null,null,null,null,null,null," ",null,null,{"$f":"IF(ISBLANK(D8036),\"\",CONCATENATE(C8036,#REF!,#REF!))","v":""}]
[null,null,null,null,null,null," ",null,null,{"$f":"IF(ISBLANK(D8041),\"\",CONCATENATE(C8041,#REF!,#REF!))","v":""}]
[null,null,null,null,null,null," ",null,null,{"$f":"IF(ISBLANK(D8047),\"\",CONCATENATE(C8047,#REF!,#REF!))","v":""}]
[null,null,null,null,null,null," ",null,null,{"$f":"IF(ISBLANK(D8052),\"\",CONCATENATE(C8052,#REF!,#REF!))","v":""}]
[null,null,null,null,null,null," ",null,null,{"$f":"IF(ISBLANK(D8057),\"\",CONCATENATE(C8057,#REF!,#REF!))","v":""}]
[null,null,null,null,null,null," ",null,null,{"$f":"IF(ISBLANK(D8063),\"\",CONCATENATE(C8063,#REF!,#REF!))","v":""}]
[null,null,null,null,null,null," ",null,null,{"$f":"IF(ISBLANK(D8068),\"\",CONCATENATE(C8068,#REF!,#REF!))","v":""}]
[null,null,null,null,null,null," ",null,null,{"$f":"IF(ISBLANK(D8072),\"\",CONCATENATE(C8072,#REF!,#REF!))","v":""}]
[null,null,null,null,null,null," ",null,null,{"$f":"IF(ISBLANK(D8080),\"\",CONCATENATE(C8080,#REF!,#REF!))","v":""}]
[null,null,null,null,null,null," ",null,null,{"$f":"IF(ISBLANK(D8085),\"\",CONCATENATE(C8085,#REF!,#REF!))","v":""}]
[null,null,null,null,null,null," ",null,null,{"$f":"IF(ISBLANK(D8086),\"\",CONCATENATE(C8086,#REF!,#REF!))","v":""}]
[null,null,null,null,null,null," ",null,null,{"$f":"IF(ISBLANK(D8091),\"\",CONCATENATE(C8091,#REF!,#REF!))","v":""}]
[null,null,null,null,null,null," ",null,null,{"$f":"IF(ISBLANK(D8096),\"\",CONCATENATE(C8096,#REF!,#REF!))","v":""}]
[null,null,null,null,null,null," ",null,null,{"$f":"IF(ISBLANK(D8102),\"\",CONCATENATE(C8102,#REF!,#REF!))","v":""}]
[null,null,null,null,null,null," ",null,null,{"$f":"IF(ISBLANK(D8107),\"\",CONCATENATE(C8107,#REF!,#REF!))","v":""}]
[null,null,null,null,null,null," ",null,null,{"$f":"IF(ISBLANK(D8113),\"\",CONCATENATE(C8113,#REF!,#REF!))","v":""}]
[null,null,null,null,null,null," ",null,null,{"$f":"IF(ISBLANK(D8118),\"\",CONCATENATE(C8118,#REF!,#REF!))","v":""}]
[null,null,null,null,null,null," ",null,null,{"$f":"IF(ISBLANK(D8123),\"\",CONCATENATE(C8123,#REF!,#REF!))","v":""}]
[null,null,null,null,null,null," ",null,null,{"$f":"IF(ISBLANK(D8129),\"\",CONCATENATE(C8129,#REF!,#REF!))","v":""}]
[null,null,null,null,null,null," ",null,null,{"$f":"IF(ISBLANK(D8134),\"\",CONCATENATE(C8134,#REF!,#REF!))","v":""}]
[null,null,null,null,null,null," ",null,null,{"$f":"IF(ISBLANK(D8139),\"\",CONCATENATE(C8139,#REF!,#REF!))","v":""}]
[null,null,null,null,null,null," ",null,null,{"$f":"IF(ISBLANK(D8145),\"\",CONCATENATE(C8145,#REF!,#REF!))","v":""}]
[null,null,null,null,null,null," ",null,null,{"$f":"IF(ISBLANK(D8150),\"\",CONCATENATE(C8150,#REF!,#REF!))","v":""}]
[null,null,null,null,null,null," ",null,null,{"$f":"IF(ISBLANK(D8151),\"\",CONCATENATE(C8151,#REF!,#REF!))","v":""}]
[null,null,null,null,null,null," ",null,null,{"$f":"IF(ISBLANK(D8157),\"\",CONCATENATE(C8157,#REF!,#REF!))","v":""}]
[null,null,null,null,null,null," ",null,null,{"$f":"IF(ISBLANK(D8162),\"\",CONCATENATE(C8162,#REF!,#REF!))","v":""}]
[null,null,null,null,null,null," ",null,null,{"$f":"IF(ISBLANK(D8168),\"\",CONCATENATE(C8168,#REF!,#REF!))","v":""}]
[null,null,null,null,null,null," ",null,null,{"$f":"IF(ISBLANK(D8173),\"\",CONCATENATE(C8173,#REF!,#REF!))","v":""}]
[null,null,null,null,null,null," ",null,null,{"$f":"IF(ISBLANK(D8178),\"\",CONCATENATE(C8178,#REF!,#REF!))","v":""}]
[null,null,null,null,null,null," ",null,null,{"$f":"IF(ISBLANK(D8184),\"\",CONCATENATE(C8184,#REF!,#REF!))","v":""}]
[null,null,null,null,null,null," ",null,null,{"$f":"IF(ISBLANK(D8189),\"\",CONCATENATE(C8189,#REF!,#REF!))","v":""}]
[null,null,null,null,null,null," ",null,null,{"$f":"IF(ISBLANK(D8195),\"\",CONCATENATE(C8195,#REF!,#REF!))","v":""}]
[null,null,null,null,null,null," ",null,null,{"$f":"IF(ISBLANK(D8200),\"\",CONCATENATE(C8200,#REF!,#REF!))","v":""}]
[null,null,null,null,null,null," ",null,null,{"$f":"IF(ISBLANK(D8205),\"\",CONCATENATE(C8205,#REF!,#REF!))","v":""}]
[null,null,null,null,null,null," ",null,null,{"$f":"IF(ISBLANK(D8211),\"\",CONCATENATE(C8211,#REF!,#REF!))","v":""}]
[null,null,null,null,null,null," ",null,null,{"$f":"IF(ISBLANK(D8216),\"\",CONCATENATE(C8216,#REF!,#REF!))","v":""}]
[null,null,null,null,null,null," ",null,null,{"$f":"IF(ISBLANK(D8217),\"\",CONCATENATE(C8217,#REF!,#REF!))","v":""}]
[null,null,null,null,null,null," ",null,null,{"$f":"IF(ISBLANK(D8222),\"\",CONCATENATE(C8222,#REF!,#REF!))","v":""}]
[null,null,null,null,null,null," ",null,null,{"$f":"IF(ISBLANK(D8227),\"\",CONCATENATE(C8227,#REF!,#REF!))","v":""}]
[null,null,null,null,null,null," ",null,null,{"$f":"IF(ISBLANK(D8232),\"\",CONCATENATE(C8232,#REF!,#REF!))","v":""}]
[null,null,null,null,null,null," ",null,null,{"$f":"IF(ISBLANK(D8239),\"\",CONCATENATE(C8239,#REF!,#REF!))","v":""}]
[null,null,null,null,null,null," ",null,null,{"$f":"IF(ISBLANK(D8244),\"\",CONCATENATE(C8244,#REF!,#REF!))","v":""}]
[null,null,null,null,null,null," ",null,null,{"$f":"IF(ISBLANK(D8250),\"\",CONCATENATE(C8250,#REF!,#REF!))","v":""}]
[null,null,null,null,null,null," ",null,null,{"$f":"IF(ISBLANK(D8255),\"\",CONCATENATE(C8255,#REF!,#REF!))","v":""}]
[null,null,null,null,null,null," ",null,null,{"$f":"IF(ISBLANK(D8261),\"\",CONCATENATE(C8261,#REF!,#REF!))","v":""}]
[null,null,null,null,null,null," ",null,null,{"$f":"IF(ISBLANK(D8266),\"\",CONCATENATE(C8266,#REF!,#REF!))","v":""}]
[null,null,null,null,null,null," ",null,null,{"$f":"IF(ISBLANK(D8271),\"\",CONCATENATE(C8271,#REF!,#REF!))","v":""}]
[null,null,null,null,null,null," ",null,null,{"$f":"IF(ISBLANK(D8277),\"\",CONCATENATE(C8277,#REF!,#REF!))","v":""}]
[null,null,null,null,null,null," ",null,null,{"$f":"IF(ISBLANK(D8282),\"\",CONCATENATE(C8282,#REF!,#REF!))","v":""}]
[null,null,null,null,null,null," ",null,null,{"$f":"IF(ISBLANK(D8283),\"\",CONCATENATE(C8283,#REF!,#REF!))","v":""}]
[null,null,null,null,null,null," ",null,null,{"$f":"IF(ISBLANK(D8288),\"\",CONCATENATE(C8288,#REF!,#REF!))","v":""}]
[null,null,null,null,null,null," ",null,null,{"$f":"IF(ISBLANK(D8293),\"\",CONCATENATE(C8293,#REF!,#REF!))","v":""}]
[null,null,null,null,null,null," ",null,null,{"$f":"IF(ISBLANK(D8299),\"\",CONCATENATE(C8299,#REF!,#REF!))","v":""}]
[null,null,null,null,null,null," ",null,null,{"$f":"IF(ISBLANK(D8304),\"\",CONCATENATE(C8304,#REF!,#REF!))","v":""}]
[null,null,null,null,null,null," ",null,null,{"$f":"IF(ISBLANK(D8309),\"\",CONCATENATE(C8309,#REF!,#REF!))","v":""}]
[null,null,null,null,null,null," ",null,null,{"$f":"IF(ISBLANK(D8313),\"\",CONCATENATE(C8313,#REF!,#REF!))","v":""}]
[null,null,null,null,null,null," ",null,null,{"$f":"IF(ISBLANK(D8321),\"\",CONCATENATE(C8321,#REF!,#REF!))","v":""}]
[null,null,null,null,null,null," ",null,null,{"$f":"IF(ISBLANK(D8327),\"\",CONCATENATE(C8327,#REF!,#REF!))","v":""}]
[null,null,null,null,null,null," ",null,null,{"$f":"IF(ISBLANK(D8332),\"\",CONCATENATE(C8332,#REF!,#REF!))","v":""}]
[null,null,null,null,null,null," ",null,null,{"$f":"IF(ISBLANK(D8337),\"\",CONCATENATE(C8337,#REF!,#REF!))","v":""}]
[null,null,null,null,null,null," ",null,null,{"$f":"IF(ISBLANK(D8343),\"\",CONCATENATE(C8343,#REF!,#REF!))","v":""}]
[null,null,null,null,null,null," ",null,null,{"$f":"IF(ISBLANK(D8348),\"\",CONCATENATE(C8348,#REF!,#REF!))","v":""}]
[null,null,null,null,null,null," ",null,null,{"$f":"IF(ISBLANK(D8353),\"\",CONCATENATE(C8353,#REF!,#REF!))","v":""}]
[null,null,null,null,null,null," ",null,null,{"$f":"IF(ISBLANK(D8354),\"\",CONCATENATE(C8354,#REF!,#REF!))","v":""}]
[null,null,null,null,null,null," ",null,null,{"$f":"IF(ISBLANK(D8359),\"\",CONCATENATE(C8359,#REF!,#REF!))","v":""}]
[null,null,null,null,null,null," ",null,null,{"$f":"IF(ISBLANK(D8365),\"\",CONCATENATE(C8365,#REF!,#REF!))","v":""}]
[null,null,null,null,null,null," ",null,null,{"$f":"IF(ISBLANK(D8370),\"\",CONCATENATE(C8370,#REF!,#REF!))","v":""}]
[null,null,null,null,null,null," ",null,null,{"$f":"IF(ISBLANK(D8375),\"\",CONCATENATE(C8375,#REF!,#REF!))","v":""}]
[null,null,null,null,null,null," ",null,null,{"$f":"IF(ISBLANK(D8381),\"\",CONCATENATE(C8381,#REF!,#REF!))","v":""}]
[null,null,null,null,null,null," ",null,null,{"$f":"IF(ISBLANK(D8386),\"\",CONCATENATE(C8386,#REF!,#REF!))","v":""}]
[null,null,null,null,null,null," ",null,null,{"$f":"IF(ISBLANK(D8392),\"\",CONCATENATE(C8392,#REF!,#REF!))","v":""}]
[null,null,null,null,null,null," ",null,null,{"$f":"IF(ISBLANK(D8394),\"\",CONCATENATE(C8394,#REF!,#REF!))","v":""}]
[null,null,null,null,null,null," ",null,null,{"$f":"IF(ISBLANK(D8403),\"\",CONCATENATE(C8403,#REF!,#REF!))","v":""}]
[null,null,null,null,null,null," ",null,null,{"$f":"IF(ISBLANK(D8409),\"\",CONCATENATE(C8409,#REF!,#REF!))","v":""}]
[null,null,null,null,null,null," ",null,null,{"$f":"IF(ISBLANK(D8414),\"\",CONCATENATE(C8414,#REF!,#REF!))","v":""}]
[null,null,null,null,null,null," ",null,null,{"$f":"IF(ISBLANK(D8419),\"\",CONCATENATE(C8419,#REF!,#REF!))","v":""}]
[null,null,null,null,null,null," ",null,null,{"$f":"IF(ISBLANK(D8420),\"\",CONCATENATE(C8420,#REF!,#REF!))","v":""}]
[null,null,null,null,null,null," ",null,null,{"$f":"IF(ISBLANK(D8425),\"\",CONCATENATE(C8425,#REF!,#REF!))","v":""}]
[null,null,null,null,null,null," ",null,null,{"$f":"IF(ISBLANK(D8431),\"\",CONCATENATE(C8431,#REF!,#REF!))","v":""}]
[null,null,null,null,null,null," ",null,null,{"$f":"IF(ISBLANK(D8436),\"\",CONCATENATE(C8436,#REF!,#REF!))","v":""}]
[null,null,null,null,null,null," ",null,null,{"$f":"IF(ISBLANK(D8441),\"\",CONCATENATE(C8441,#REF!,#REF!))","v":""}]
[null,null,null,null,null,null," ",null,null,{"$f":"IF(ISBLANK(D8447),\"\",CONCATENATE(C8447,#REF!,#REF!))","v":""}]
[null,null,null,null,null,null," ",null,null,{"$f":"IF(ISBLANK(D8452),\"\",CONCATENATE(C8452,#REF!,#REF!))","v":""}]
[null,null,null,null,null,null," ",null,null,{"$f":"IF(ISBLANK(D8458),\"\",CONCATENATE(C8458,#REF!,#REF!))","v":""}]
[null,null,null,null,null,null," ",null,null,{"$f":"IF(ISBLANK(D8463),\"\",CONCATENATE(C8463,#REF!,#REF!))","v":""}]
[null,null,null,null,null,null," ",null,null,{"$f":"IF(ISBLANK(D8468),\"\",CONCATENATE(C8468,#REF!,#REF!))","v":""}]
[null,null,null,null,null,null," ",null,null,{"$f":"IF(ISBLANK(D8474),\"\",CONCATENATE(C8474,#REF!,#REF!))","v":""}]
[null,null,null,null,null,null," ",null,null,{"$f":"IF(ISBLANK(D8475),\"\",CONCATENATE(C8475,#REF!,#REF!))","v":""}]
[null,null,null,null,null,null," ",null,null,{"$f":"IF(ISBLANK(D8485),\"\",CONCATENATE(C8485,#REF!,#REF!))","v":""}]
[null,null,null,null,null,null," ",null,null,{"$f":"IF(ISBLANK(D8486),\"\",CONCATENATE(C8486,#REF!,#REF!))","v":""}]
[null,null,null,null,null,null," ",null,null,{"$f":"IF(ISBLANK(D8491),\"\",CONCATENATE(C8491,#REF!,#REF!))","v":""}]
[null,null,null,null,null,null," ",null,null,{"$f":"IF(ISBLANK(D8497),\"\",CONCATENATE(C8497,#REF!,#REF!))","v":""}]
[null,null,null,null,null,null," ",null,null,{"$f":"IF(ISBLANK(D8502),\"\",CONCATENATE(C8502,#REF!,#REF!))","v":""}]
[null,null,null,null,null,null," ",null,null,{"$f":"IF(ISBLANK(D8507),\"\",CONCATENATE(C8507,#REF!,#REF!))","v":""}]
[null,null,null,null,null,null," ",null,null,{"$f":"IF(ISBLANK(D8513),\"\",CONCATENATE(C8513,#REF!,#REF!))","v":""}]
[null,null,null,null,null,null," ",null,null,{"$f":"IF(ISBLANK(D8518),\"\",CONCATENATE(C8518,#REF!,#REF!))","v":""}]
[null,null,null,null,null,null," ",null,null,{"$f":"IF(ISBLANK(D8523),\"\",CONCATENATE(C8523,#REF!,#REF!))","v":""}]
[null,null,null,null,null,null," ",null,null,{"$f":"IF(ISBLANK(D8529),\"\",CONCATENATE(C8529,#REF!,#REF!))","v":""}]
[null,null,null,null,null,null," ",null,null,{"$f":"IF(ISBLANK(D8534),\"\",CONCATENATE(C8534,#REF!,#REF!))","v":""}]
[null,null,null,null,null,null," ",null,null,{"$f":"IF(ISBLANK(D8540),\"\",CONCATENATE(C8540,#REF!,#REF!))","v":""}]
[null,null,null,null,null,null," ",null,null,{"$f":"IF(ISBLANK(D8545),\"\",CONCATENATE(C8545,#REF!,#REF!))","v":""}]
[null,null,null,null,null,null," ",null,null,{"$f":"IF(ISBLANK(D8550),\"\",CONCATENATE(C8550,#REF!,#REF!))","v":""}]
[null,null,null,null,null,null," ",null,null,{"$f":"IF(ISBLANK(D8551),\"\",CONCATENATE(C8551,#REF!,#REF!))","v":""}]
[null,null,null,null,null,null," ",null,null,{"$f":"IF(ISBLANK(D8556),\"\",CONCATENATE(C8556,#REF!,#REF!))","v":""}]
[null,null,null,null,null,null," ",null,null,{"$f":"IF(ISBLANK(D8563),\"\",CONCATENATE(C8563,#REF!,#REF!))","v":""}]
[null,null,null,null,null,null," ",null,null,{"$f":"IF(ISBLANK(D8568),\"\",CONCATENATE(C8568,#REF!,#REF!))","v":""}]
[null,null,null,null,null,null," ",null,null,{"$f":"IF(ISBLANK(D8573),\"\",CONCATENATE(C8573,#REF!,#REF!))","v":""}]
[null,null,null,null,null,null," ",null,null,{"$f":"IF(ISBLANK(D8579),\"\",CONCATENATE(C8579,#REF!,#REF!))","v":""}]
[null,null,null,null,null,null," ",null,null,{"$f":"IF(ISBLANK(D8584),\"\",CONCATENATE(C8584,#REF!,#REF!))","v":""}]
[null,null,null,null,null,null," ",null,null,{"$f":"IF(ISBLANK(D8589),\"\",CONCATENATE(C8589,#REF!,#REF!))","v":""}]
[null,null,null,null,null,null," ",null,null,{"$f":"IF(ISBLANK(D8595),\"\",CONCATENATE(C8595,#REF!,#REF!))","v":""}]
[null,null,null,null,null,null," ",null,null,{"$f":"IF(ISBLANK(D8600),\"\",CONCATENATE(C8600,#REF!,#REF!))","v":""}]
[null,null,null,null,null,null," ",null,null,{"$f":"IF(ISBLANK(D8606),\"\",CONCATENATE(C8606,#REF!,#REF!))","v":""}]
[null,null,null,null,null,null," ",null,null,{"$f":"IF(ISBLANK(D8611),\"\",CONCATENATE(C8611,#REF!,#REF!))","v":""}]
[null,null,null,null,null,null," ",null,null,{"$f":"IF(ISBLANK(D8616),\"\",CONCATENATE(C8616,#REF!,#REF!))","v":""}]
[null,null,null,null,null,null," ",null,null,{"$f":"IF(ISBLANK(D8617),\"\",CONCATENATE(C8617,#REF!,#REF!))","v":""}]
[null,null,null,null,null,null," ",null,null,{"$f":"IF(ISBLANK(D8622),\"\",CONCATENATE(C8622,#REF!,#REF!))","v":""}]
[null,null,null,null,null,null," ",null,null,{"$f":"IF(ISBLANK(D8627),\"\",CONCATENATE(C8627,#REF!,#REF!))","v":""}]
[null,null,null,null,null,null," ",null,null,{"$f":"IF(ISBLANK(D8633),\"\",CONCATENATE(C8633,#REF!,#REF!))","v":""}]
[null,null,null,null,null,null," ",null,null,{"$f":"IF(ISBLANK(D8637),\"\",CONCATENATE(C8637,#REF!,#REF!))","v":""}]
[null,null,null,null,null,null," ",null,null,{"$f":"IF(ISBLANK(D8645),\"\",CONCATENATE(C8645,#REF!,#REF!))","v":""}]
[null,null,null,null,null,null," ",null,null,{"$f":"IF(ISBLANK(D8650),\"\",CONCATENATE(C8650,#REF!,#REF!))","v":""}]
[null,null,null,null,null,null," ",null,null,{"$f":"IF(ISBLANK(D8655),\"\",CONCATENATE(C8655,#REF!,#REF!))","v":""}]
[null,null,null,null,null,null," ",null,null,{"$f":"IF(ISBLANK(D8661),\"\",CONCATENATE(C8661,#REF!,#REF!))","v":""}]
[null,null,null,null,null,null," ",null,null,{"$f":"IF(ISBLANK(D8666),\"\",CONCATENATE(C8666,#REF!,#REF!))","v":""}]
[null,null,null,null,null,null," ",null,null,{"$f":"IF(ISBLANK(D8672),\"\",CONCATENATE(C8672,#REF!,#REF!))","v":""}]
[null,null,null,null,null,null," ",null,null,{"$f":"IF(ISBLANK(D8677),\"\",CONCATENATE(C8677,#REF!,#REF!))","v":""}]
[null,null,null,null,null,null," ",null,null,{"$f":"IF(ISBLANK(D8682),\"\",CONCATENATE(C8682,#REF!,#REF!))","v":""}]
[null,null,null,null,null,null," ",null,null,{"$f":"IF(ISBLANK(D8683),\"\",CONCATENATE(C8683,#REF!,#REF!))","v":""}]
[null,null,null,null,null,null," ",null,null,{"$f":"IF(ISBLANK(D8688),\"\",CONCATENATE(C8688,#REF!,#REF!))","v":""}]
[null,null,null,null,null,null," ",null,null,{"$f":"IF(ISBLANK(D8693),\"\",CONCATENATE(C8693,#REF!,#REF!))","v":""}]
[null,null,null,null,null,null," ",null,null,{"$f":"IF(ISBLANK(D8699),\"\",CONCATENATE(C8699,#REF!,#REF!))","v":""}]
[null,null,null,null,null,null," ",null,null,{"$f":"IF(ISBLANK(D8704),\"\",CONCATENATE(C8704,#REF!,#REF!))","v":""}]
[null,null,null,null,null,null," ",null,null,{"$f":"IF(ISBLANK(D8710),\"\",CONCATENATE(C8710,#REF!,#REF!))","v":""}]
[null,null,null,null,null,null," ",null,null,{"$f":"IF(ISBLANK(D8715),\"\",CONCATENATE(C8715,#REF!,#REF!))","v":""}]
[null,null,null,null,null,null," ",null,null,{"$f":"IF(ISBLANK(D8718),\"\",CONCATENATE(C8718,#REF!,#REF!))","v":""}]
[null,null,null,null,null,null," ",null,null,{"$f":"IF(ISBLANK(D8727),\"\",CONCATENATE(C8727,#REF!,#REF!))","v":""}]
[null,null,null,null,null,null," ",null,null,{"$f":"IF(ISBLANK(D8732),\"\",CONCATENATE(C8732,#REF!,#REF!))","v":""}]
[null,null,null,null,null,null," ",null,null,{"$f":"IF(ISBLANK(D8738),\"\",CONCATENATE(C8738,#REF!,#REF!))","v":""}]
[null,null,null,null,null,null," ",null,null,{"$f":"IF(ISBLANK(D8743),\"\",CONCATENATE(C8743,#REF!,#REF!))","v":""}]
[null,null,null,null,null,null," ",null,null,{"$f":"IF(ISBLANK(D8748),\"\",CONCATENATE(C8748,#REF!,#REF!))","v":""}]
[null,null,null,null,null,null," ",null,null,{"$f":"IF(ISBLANK(D8749),\"\",CONCATENATE(C8749,#REF!,#REF!))","v":""}]
[null,null,null,null,null,null," ",null,null,{"$f":"IF(ISBLANK(D8754),\"\",CONCATENATE(C8754,#REF!,#REF!))","v":""}]
[null,null,null,null,null,null," ",null,null,{"$f":"IF(ISBLANK(D8759),\"\",CONCATENATE(C8759,#REF!,#REF!))","v":""}]
[null,null,null,null,null,null," ",null,null,{"$f":"IF(ISBLANK(D8765),\"\",CONCATENATE(C8765,#REF!,#REF!))","v":""}]
[null,null,null,null,null,null," ",null,null,{"$f":"IF(ISBLANK(D8770),\"\",CONCATENATE(C8770,#REF!,#REF!))","v":""}]
[null,null,null,null,null,null," ",null,null,{"$f":"IF(ISBLANK(D8776),\"\",CONCATENATE(C8776,#REF!,#REF!))","v":""}]
[null,null,null,null,null,null," ",null,null,{"$f":"IF(ISBLANK(D8781),\"\",CONCATENATE(C8781,#REF!,#REF!))","v":""}]
[null,null,null,null,null,null," ",null,null,{"$f":"IF(ISBLANK(D8786),\"\",CONCATENATE(C8786,#REF!,#REF!))","v":""}]
[null,null,null,null,null,null," ",null,null,{"$f":"IF(ISBLANK(D8792),\"\",CONCATENATE(C8792,#REF!,#REF!))","v":""}]
[null,null,null,null,null,null," ",null,null,{"$f":"IF(ISBLANK(D8797),\"\",CONCATENATE(C8797,#REF!,#REF!))","v":""}]
[null,null,null,null,null,null," ",null,null,{"$f":"IF(ISBLANK(D8799),\"\",CONCATENATE(C8799,#REF!,#REF!))","v":""}]
[null,null,null,null,null,null," ",null,null,{"$f":"IF(ISBLANK(D8809),\"\",CONCATENATE(C8809,#REF!,#REF!))","v":""}]
[null,null,null,null,null,null," ",null,null,{"$f":"IF(ISBLANK(D8814),\"\",CONCATENATE(C8814,#REF!,#REF!))","v":""}]
[null,null,null,null,null,null," ",null,null,{"$f":"IF(ISBLANK(D8815),\"\",CONCATENATE(C8815,#REF!,#REF!))","v":""}]
[null,null,null,null,null,null," ",null,null,{"$f":"IF(ISBLANK(D8820),\"\",CONCATENATE(C8820,#REF!,#REF!))","v":""}]
[null,null,null,null,null,null," ",null,null,{"$f":"IF(ISBLANK(D8825),\"\",CONCATENATE(C8825,#REF!,#REF!))","v":""}]
[null,null,null,null,null,null," ",null,null,{"$f":"IF(ISBLANK(D8831),\"\",CONCATENATE(C8831,#REF!,#REF!))","v":""}]
[null,null,null,null,null,null," ",null,null,{"$f":"IF(ISBLANK(D8836),\"\",CONCATENATE(C8836,#REF!,#REF!))","v":""}]
[null,null,null,null,null,null," ",null,null,{"$f":"IF(ISBLANK(D8842),\"\",CONCATENATE(C8842,#REF!,#REF!))","v":""}]
[null,null,null,null,null,null," ",null,null,{"$f":"IF(ISBLANK(D8847),\"\",CONCATENATE(C8847,#REF!,#REF!))","v":""}]
[null,null,null,null,null,null," ",null,null,{"$f":"IF(ISBLANK(D8852),\"\",CONCATENATE(C8852,#REF!,#REF!))","v":""}]
[null,null,null,null,null,null," ",null,null,{"$f":"IF(ISBLANK(D8858),\"\",CONCATENATE(C8858,#REF!,#REF!))","v":""}]
[null,null,null,null,null,null," ",null,null,{"$f":"IF(ISBLANK(D8863),\"\",CONCATENATE(C8863,#REF!,#REF!))","v":""}]
[null,null,null,null,null,null," ",null,null,{"$f":"IF(ISBLANK(D8868),\"\",CONCATENATE(C8868,#REF!,#REF!))","v":""}]
[null,null,null,null,null,null," ",null,null,{"$f":"IF(ISBLANK(D8874),\"\",CONCATENATE(C8874,#REF!,#REF!))","v":""}]
[null,null,null,null,null,null," ",null,null,{"$f":"IF(ISBLANK(D8879),\"\",CONCATENATE(C8879,#REF!,#REF!))","v":""}]
[null,null,null,null,null,null," ",null,null,{"$f":"IF(ISBLANK(D8884),\"\",CONCATENATE(C8884,#REF!,#REF!))","v":""}]
[null,null,null,null,null,null," ",null,null,{"$f":"IF(ISBLANK(D8886),\"\",CONCATENATE(C8886,#REF!,#REF!))","v":""}]
[null,null,null,null,null,null," ",null,null,{"$f":"IF(ISBLANK(D8891),\"\",CONCATENATE(C8891,#REF!,#REF!))","v":""}]
[null,null,null,null,null,null," ",null,null,{"$f":"IF(ISBLANK(D8897),\"\",CONCATENATE(C8897,#REF!,#REF!))","v":""}]
[null,null,null,null,null,null," ",null,null,{"$f":"IF(ISBLANK(D8902),\"\",CONCATENATE(C8902,#REF!,#REF!))","v":""}]
[null,null,null,null,null,null," ",null,null,{"$f":"IF(ISBLANK(D8908),\"\",CONCATENATE(C8908,#REF!,#REF!))","v":""}]
[null,null,null,null,null,null," ",null,null,{"$f":"IF(ISBLANK(D8913),\"\",CONCATENATE(C8913,#REF!,#REF!))","v":""}]
[null,null,null,null,null,null," ",null,null,{"$f":"IF(ISBLANK(D8918),\"\",CONCATENATE(C8918,#REF!,#REF!))","v":""}]
[null,null,null,null,null,null," ",null,null,{"$f":"IF(ISBLANK(D8924),\"\",CONCATENATE(C8924,#REF!,#REF!))","v":""}]
[null,null,null,null,null,null," ",null,null,{"$f":"IF(ISBLANK(D8929),\"\",CONCATENATE(C8929,#REF!,#REF!))","v":""}]
[null,null,null,null,null,null," ",null,null,{"$f":"IF(ISBLANK(D8934),\"\",CONCATENATE(C8934,#REF!,#REF!))","v":""}]
[null,null,null,null,null,null," ",null,null,{"$f":"IF(ISBLANK(D8940),\"\",CONCATENATE(C8940,#REF!,#REF!))","v":""}]
[null,null,null,null,null,null," ",null,null,{"$f":"IF(ISBLANK(D8945),\"\",CONCATENATE(C8945,#REF!,#REF!))","v":""}]
[null,null,null,null,null,null," ",null,null,{"$f":"IF(ISBLANK(D8946),\"\",CONCATENATE(C8946,#REF!,#REF!))","v":""}]
[null,null,null,null,null,null," ",null,null,{"$f":"IF(ISBLANK(D8951),\"\",CONCATENATE(C8951,#REF!,#REF!))","v":""}]
[null,null,null,null,null,null," ",null,null,{"$f":"IF(ISBLANK(D8956),\"\",CONCATENATE(C8956,#REF!,#REF!))","v":""}]
[null,null,null,null,null,null," ",null,null,{"$f":"IF(ISBLANK(D8965),\"\",CONCATENATE(C8965,#REF!,#REF!))","v":""}]
[null,null,null,null,null,null," ",null,null,{"$f":"IF(ISBLANK(D8968),\"\",CONCATENATE(C8968,#REF!,#REF!))","v":""}]
[null,null,null,null,null,null," ",null,null,{"$f":"IF(ISBLANK(D8973),\"\",CONCATENATE(C8973,#REF!,#REF!))","v":""}]
[null,null,null,null,null,null," ",null,null,{"$f":"IF(ISBLANK(D8979),\"\",CONCATENATE(C8979,#REF!,#REF!))","v":""}]
[null,null,null,null,null,null," ",null,null,{"$f":"IF(ISBLANK(D8984),\"\",CONCATENATE(C8984,#REF!,#REF!))","v":""}]
[null,null,null,null,null,null," ",null,null,{"$f":"IF(ISBLANK(D8990),\"\",CONCATENATE(C8990,#REF!,#REF!))","v":""}]
[null,null,null,null,null,null," ",null,null,{"$f":"IF(ISBLANK(D8995),\"\",CONCATENATE(C8995,#REF!,#REF!))","v":""}]
[null,null,null,null,null,null," ",null,null,{"$f":"IF(ISBLANK(D9000),\"\",CONCATENATE(C9000,#REF!,#REF!))","v":""}]
[null,null,null,null,null,null," ",null,null,{"$f":"IF(ISBLANK(D9006),\"\",CONCATENATE(C9006,#REF!,#REF!))","v":""}]
[null,null,null,null,null,null," ",null,null,{"$f":"IF(ISBLANK(D9011),\"\",CONCATENATE(C9011,#REF!,#REF!))","v":""}]
[null,null,null,null,null,null," ",null,null,{"$f":"IF(ISBLANK(D9012),\"\",CONCATENATE(C9012,#REF!,#REF!))","v":""}]
[null,null,null,null,null,null," ",null,null,{"$f":"IF(ISBLANK(D9017),\"\",CONCATENATE(C9017,#REF!,#REF!))","v":""}]
[null,null,null,null,null,null," ",null,null,{"$f":"IF(ISBLANK(D9022),\"\",CONCATENATE(C9022,#REF!,#REF!))","v":""}]
[null,null,null,null,null,null," ",null,null,{"$f":"IF(ISBLANK(D9028),\"\",CONCATENATE(C9028,#REF!,#REF!))","v":""}]
[null,null,null,null,null,null," ",null,null,{"$f":"IF(ISBLANK(D9033),\"\",CONCATENATE(C9033,#REF!,#REF!))","v":""}]
[null,null,null,null,null,null," ",null,null,{"$f":"IF(ISBLANK(D9038),\"\",CONCATENATE(C9038,#REF!,#REF!))","v":""}]
[null,null,null,null,null,null," ",null,null,{"$f":"IF(ISBLANK(D9046),\"\",CONCATENATE(C9046,#REF!,#REF!))","v":""}]
[null,null,null,null,null,null," ",null,null,{"$f":"IF(ISBLANK(D9050),\"\",CONCATENATE(C9050,#REF!,#REF!))","v":""}]
[null,null,null,null,null,null," ",null,null,{"$f":"IF(ISBLANK(D9056),\"\",CONCATENATE(C9056,#REF!,#REF!))","v":""}]
[null,null,null,null,null,null," ",null,null,{"$f":"IF(ISBLANK(D9061),\"\",CONCATENATE(C9061,#REF!,#REF!))","v":""}]
[null,null,null,null,null,null," ",null,null,{"$f":"IF(ISBLANK(D9066),\"\",CONCATENATE(C9066,#REF!,#REF!))","v":""}]
[null,null,null,null,null,null," ",null,null,{"$f":"IF(ISBLANK(D9072),\"\",CONCATENATE(C9072,#REF!,#REF!))","v":""}]
[null,null,null,null,null,null," ",null,null,{"$f":"IF(ISBLANK(D9077),\"\",CONCATENATE(C9077,#REF!,#REF!))","v":""}]
[null,null,null,null,null,null," ",null,null,{"$f":"IF(ISBLANK(D9082),\"\",CONCATENATE(C9082,#REF!,#REF!))","v":""}]
[null,null,null,null,null,null," ",null,null,{"$f":"IF(ISBLANK(D9083),\"\",CONCATENATE(C9083,#REF!,#REF!))","v":""}]
[null,null,null,null,null,null," ",null,null,{"$f":"IF(ISBLANK(D9088),\"\",CONCATENATE(C9088,#REF!,#REF!))","v":""}]
[null,null,null,null,null,null," ",null,null,{"$f":"IF(ISBLANK(D9094),\"\",CONCATENATE(C9094,#REF!,#REF!))","v":""}]
[null,null,null,null,null,null," ",null,null,{"$f":"IF(ISBLANK(D9099),\"\",CONCATENATE(C9099,#REF!,#REF!))","v":""}]
[null,null,null,null,null,null," ",null,null,{"$f":"IF(ISBLANK(D9104),\"\",CONCATENATE(C9104,#REF!,#REF!))","v":""}]
[null,null,null,null,null,null," ",null,null,{"$f":"IF(ISBLANK(D9110),\"\",CONCATENATE(C9110,#REF!,#REF!))","v":""}]
[null,null,null,null,null,null," ",null,null,{"$f":"IF(ISBLANK(D9115),\"\",CONCATENATE(C9115,#REF!,#REF!))","v":""}]
[null,null,null,null,null,null," ",null,null,{"$f":"IF(ISBLANK(D9121),\"\",CONCATENATE(C9121,#REF!,#REF!))","v":""}]
[null,null,null,null,null,null," ",null,null,{"$f":"IF(ISBLANK(D9127),\"\",CONCATENATE(C9127,#REF!,#REF!))","v":""}]
[null,null,null,null,null,null," ",null,null,{"$f":"IF(ISBLANK(D9132),\"\",CONCATENATE(C9132,#REF!,#REF!))","v":""}]
[null,null,null,null,null,null," ",null,null,{"$f":"IF(ISBLANK(D9138),\"\",CONCATENATE(C9138,#REF!,#REF!))","v":""}]
[null,null,null,null,null,null," ",null,null,{"$f":"IF(ISBLANK(D9143),\"\",CONCATENATE(C9143,#REF!,#REF!))","v":""}]
[null,null,null,null,null,null," ",null,null,{"$f":"IF(ISBLANK(D9148),\"\",CONCATENATE(C9148,#REF!,#REF!))","v":""}]
[null,null,null,null,null,null," ",null,null,{"$f":"IF(ISBLANK(D9149),\"\",CONCATENATE(C9149,#REF!,#REF!))","v":""}]
[null,null,null,null,null,null," ",null,null,{"$f":"IF(ISBLANK(D9154),\"\",CONCATENATE(C9154,#REF!,#REF!))","v":""}]
[null,null,null,null,null,null," ",null,null,{"$f":"IF(ISBLANK(D9160),\"\",CONCATENATE(C9160,#REF!,#REF!))","v":""}]
[null,null,null,null,null,null," ",null,null,{"$f":"IF(ISBLANK(D9165),\"\",CONCATENATE(C9165,#REF!,#REF!))","v":""}]
[null,null,null,null,null,null," ",null,null,{"$f":"IF(ISBLANK(D9170),\"\",CONCATENATE(C9170,#REF!,#REF!))","v":""}]
[null,null,null,null,null,null," ",null,null,{"$f":"IF(ISBLANK(D9176),\"\",CONCATENATE(C9176,#REF!,#REF!))","v":""}]
[null,null,null,null,null,null," ",null,null,{"$f":"IF(ISBLANK(D9181),\"\",CONCATENATE(C9181,#REF!,#REF!))","v":""}]
[null,null,null,null,null,null," ",null,null,{"$f":"IF(ISBLANK(D9187),\"\",CONCATENATE(C9187,#REF!,#REF!))","v":""}]
[null,null,null,null,null,null," ",null,null,{"$f":"IF(ISBLANK(D9192),\"\",CONCATENATE(C9192,#REF!,#REF!))","v":""}]
[null,null,null,null,null,null," ",null,null,{"$f":"IF(ISBLANK(D9197),\"\",CONCATENATE(C9197,#REF!,#REF!))","v":""}]
[null,null,null,null,null,null," ",null,null,{"$f":"IF(ISBLANK(D9203),\"\",CONCATENATE(C9203,#REF!,#REF!))","v":""}]
[null,null,null,null,null,null," ",null,null,{"$f":"IF(ISBLANK(D9208),\"\",CONCATENATE(C9208,#REF!,#REF!))","v":""}]
[null,null,null,null,null,null," ",null,null,{"$f":"IF(ISBLANK(D9214),\"\",CONCATENATE(C9214,#REF!,#REF!))","v":""}]
[null,null,null,null,null,null," ",null,null,{"$f":"IF(ISBLANK(D9215),\"\",CONCATENATE(C9215,#REF!,#REF!))","v":""}]
[null,null,null,null,null,null," ",null,null,{"$f":"IF(ISBLANK(D9220),\"\",CONCATENATE(C9220,#REF!,#REF!))","v":""}]
[null,null,null,null,null,null," ",null,null,{"$f":"IF(ISBLANK(D9226),\"\",CONCATENATE(C9226,#REF!,#REF!))","v":""}]
[null,null,null,null,null,null," ",null,null,{"$f":"IF(ISBLANK(D9231),\"\",CONCATENATE(C9231,#REF!,#REF!))","v":""}]
[null,null,null,null,null,null," ",null,null,{"$f":"IF(ISBLANK(D9236),\"\",CONCATENATE(C9236,#REF!,#REF!))","v":""}]
[null,null,null,null,null,null," ",null,null,{"$f":"IF(ISBLANK(D9242),\"\",CONCATENATE(C9242,#REF!,#REF!))","v":""}]
[null,null,null,null,null,null," ",null,null,{"$f":"IF(ISBLANK(D9247),\"\",CONCATENATE(C9247,#REF!,#REF!))","v":""}]
[null,null,null,null,null,null," ",null,null,{"$f":"IF(ISBLANK(D9252),\"\",CONCATENATE(C9252,#REF!,#REF!))","v":""}]
[null,null,null,null,null,null," ",null,null,{"$f":"IF(ISBLANK(D9258),\"\",CONCATENATE(C9258,#REF!,#REF!))","v":""}]
[null,null,null,null,null,null," ",null,null,{"$f":"IF(ISBLANK(D9263),\"\",CONCATENATE(C9263,#REF!,#REF!))","v":""}]
[null,null,null,null,null,null," ",null,null,{"$f":"IF(ISBLANK(D9269),\"\",CONCATENATE(C9269,#REF!,#REF!))","v":""}]
[null,null,null,null,null,null," ",null,null,{"$f":"IF(ISBLANK(D9274),\"\",CONCATENATE(C9274,#REF!,#REF!))","v":""}]
[null,null,null,null,null,null," ",null,null,{"$f":"IF(ISBLANK(D9279),\"\",CONCATENATE(C9279,#REF!,#REF!))","v":""}]
[null,null,null,null,null,null," ",null,null,{"$f":"IF(ISBLANK(D9280),\"\",CONCATENATE(C9280,#REF!,#REF!))","v":""}]
[null,null,null,null,null,null," ",null,null,{"$f":"IF(ISBLANK(D9289),\"\",CONCATENATE(C9289,#REF!,#REF!))","v":""}]
[null,null,null,null,null,null," ",null,null,{"$f":"IF(ISBLANK(D9292),\"\",CONCATENATE(C9292,#REF!,#REF!))","v":""}]
[null,null,null,null,null,null," ",null,null,{"$f":"IF(ISBLANK(D9297),\"\",CONCATENATE(C9297,#REF!,#REF!))","v":""}]
[null,null,null,null,null,null," ",null,null,{"$f":"IF(ISBLANK(D9302),\"\",CONCATENATE(C9302,#REF!,#REF!))","v":""}]
[null,null,null,null,null,null," ",null,null,{"$f":"IF(ISBLANK(D9308),\"\",CONCATENATE(C9308,#REF!,#REF!))","v":""}]
[null,null,null,null,null,null," ",null,null,{"$f":"IF(ISBLANK(D9313),\"\",CONCATENATE(C9313,#REF!,#REF!))","v":""}]
[null,null,null,null,null,null," ",null,null,{"$f":"IF(ISBLANK(D9318),\"\",CONCATENATE(C9318,#REF!,#REF!))","v":""}]
[null,null,null,null,null,null," ",null,null,{"$f":"IF(ISBLANK(D9324),\"\",CONCATENATE(C9324,#REF!,#REF!))","v":""}]
[null,null,null,null,null,null," ",null,null,{"$f":"IF(ISBLANK(D9329),\"\",CONCATENATE(C9329,#REF!,#REF!))","v":""}]
[null,null,null,null,null,null," ",null,null,{"$f":"IF(ISBLANK(D9335),\"\",CONCATENATE(C9335,#REF!,#REF!))","v":""}]
[null,null,null,null,null,null," ",null,null,{"$f":"IF(ISBLANK(D9340),\"\",CONCATENATE(C9340,#REF!,#REF!))","v":""}]
[null,null,null,null,null,null," ",null,null,{"$f":"IF(ISBLANK(D9345),\"\",CONCATENATE(C9345,#REF!,#REF!))","v":""}]
[null,null,null,null,null,null," ",null,null,{"$f":"IF(ISBLANK(D9346),\"\",CONCATENATE(C9346,#REF!,#REF!))","v":""}]
[null,null,null,null,null,null," ",null,null,{"$f":"IF(ISBLANK(D9351),\"\",CONCATENATE(C9351,#REF!,#REF!))","v":""}]
[null,null,null,null,null,null," ",null,null,{"$f":"IF(ISBLANK(D9356),\"\",CONCATENATE(C9356,#REF!,#REF!))","v":""}]
[null,null,null,null,null,null," ",null,null,{"$f":"IF(ISBLANK(D9362),\"\",CONCATENATE(C9362,#REF!,#REF!))","v":""}]
[null,null,null,null,null,null," ",null,null,{"$f":"IF(ISBLANK(D9370),\"\",CONCATENATE(C9370,#REF!,#REF!))","v":""}]
[null,null,null,null,null,null," ",null,null,{"$f":"IF(ISBLANK(D9374),\"\",CONCATENATE(C9374,#REF!,#REF!))","v":""}]
[null,null,null,null,null,null," ",null,null,{"$f":"IF(ISBLANK(D9379),\"\",CONCATENATE(C9379,#REF!,#REF!))","v":""}]
[null,null,null,null,null,null," ",null,null,{"$f":"IF(ISBLANK(D9384),\"\",CONCATENATE(C9384,#REF!,#REF!))","v":""}]
[null,null,null,null,null,null," ",null,null,{"$f":"IF(ISBLANK(D9390),\"\",CONCATENATE(C9390,#REF!,#REF!))","v":""}]
[null,null,null,null,null,null," ",null,null,{"$f":"IF(ISBLANK(D9395),\"\",CONCATENATE(C9395,#REF!,#REF!))","v":""}]
[null,null,null,null,null,null," ",null,null,{"$f":"IF(ISBLANK(D9401),\"\",CONCATENATE(C9401,#REF!,#REF!))","v":""}]
[null,null,null,null,null,null," ",null,null,{"$f":"IF(ISBLANK(D9406),\"\",CONCATENATE(C9406,#REF!,#REF!))","v":""}]
[null,null,null,null,null,null," ",null,null,{"$f":"IF(ISBLANK(D9411),\"\",CONCATENATE(C9411,#REF!,#REF!))","v":""}]
[null,null,null,null,null,null," ",null,null,{"$f":"IF(ISBLANK(D9412),\"\",CONCATENATE(C9412,#REF!,#REF!))","v":""}]
[null,null,null,null,null,null," ",null,null,{"$f":"IF(ISBLANK(D9417),\"\",CONCATENATE(C9417,#REF!,#REF!))","v":""}]
[null,null,null,null,null,null," ",null,null,{"$f":"IF(ISBLANK(D9422),\"\",CONCATENATE(C9422,#REF!,#REF!))","v":""}]
[null,null,null,null,null,null," ",null,null,{"$f":"IF(ISBLANK(D9428),\"\",CONCATENATE(C9428,#REF!,#REF!))","v":""}]
[null,null,null,null,null,null," ",null,null,{"$f":"IF(ISBLANK(D9433),\"\",CONCATENATE(C9433,#REF!,#REF!))","v":""}]
[null,null,null,null,null,null," ",null,null,{"$f":"IF(ISBLANK(D9439),\"\",CONCATENATE(C9439,#REF!,#REF!))","v":""}]
[null,null,null,null,null,null," ",null,null,{"$f":"IF(ISBLANK(D9444),\"\",CONCATENATE(C9444,#REF!,#REF!))","v":""}]
[null,null,null,null,null,null," ",null,null,{"$f":"IF(ISBLANK(D9451),\"\",CONCATENATE(C9451,#REF!,#REF!))","v":""}]
[null,null,null,null,null,null," ",null,null,{"$f":"IF(ISBLANK(D9456),\"\",CONCATENATE(C9456,#REF!,#REF!))","v":""}]
[null,null,null,null,null,null," ",null,null,{"$f":"IF(ISBLANK(D9461),\"\",CONCATENATE(C9461,#REF!,#REF!))","v":""}]
[null,null,null,null,null,null," ",null,null,{"$f":"IF(ISBLANK(D9467),\"\",CONCATENATE(C9467,#REF!,#REF!))","v":""}]
[null,null,null,null,null,null," ",null,null,{"$f":"IF(ISBLANK(D9472),\"\",CONCATENATE(C9472,#REF!,#REF!))","v":""}]
[null,null,null,null,null,null," ",null,null,{"$f":"IF(ISBLANK(D9477),\"\",CONCATENATE(C9477,#REF!,#REF!))","v":""}]
[null,null,null,null,null,null," ",null,null,{"$f":"IF(ISBLANK(D9478),\"\",CONCATENATE(C9478,#REF!,#REF!))","v":""}]
[null,null,null,null,null,null," ",null,null,{"$f":"IF(ISBLANK(D9483),\"\",CONCATENATE(C9483,#REF!,#REF!))","v":""}]
[null,null,null,null,null,null," ",null,null,{"$f":"IF(ISBLANK(D9488),\"\",CONCATENATE(C9488,#REF!,#REF!))","v":""}]
[null,null,null,null,null,null," ",null,null,{"$f":"IF(ISBLANK(D9494),\"\",CONCATENATE(C9494,#REF!,#REF!))","v":""}]
[null,null,null,null,null,null," ",null,null,{"$f":"IF(ISBLANK(D9499),\"\",CONCATENATE(C9499,#REF!,#REF!))","v":""}]
[null,null,null,null,null,null," ",null,null,{"$f":"IF(ISBLANK(D9505),\"\",CONCATENATE(C9505,#REF!,#REF!))","v":""}]
[null,null,null,null,null,null," ",null,null,{"$f":"IF(ISBLANK(D9510),\"\",CONCATENATE(C9510,#REF!,#REF!))","v":""}]
[null,null,null,null,null,null," ",null,null,{"$f":"IF(ISBLANK(D9515),\"\",CONCATENATE(C9515,#REF!,#REF!))","v":""}]
[null,null,null,null,null,null," ",null,null,{"$f":"IF(ISBLANK(D9521),\"\",CONCATENATE(C9521,#REF!,#REF!))","v":""}]
[null,null,null,null,null,null," ",null,null,{"$f":"IF(ISBLANK(D9526),\"\",CONCATENATE(C9526,#REF!,#REF!))","v":""}]
[null,null,null,null,null,null," ",null,null,{"$f":"IF(ISBLANK(D9532),\"\",CONCATENATE(C9532,#REF!,#REF!))","v":""}]
[null,null,null,null,null,null," ",null,null,{"$f":"IF(ISBLANK(D9538),\"\",CONCATENATE(C9538,#REF!,#REF!))","v":""}]
[null,null,null,null,null,null," ",null,null,{"$f":"IF(ISBLANK(D9543),\"\",CONCATENATE(C9543,#REF!,#REF!))","v":""}]
[null,null,null,null,null,null," ",null,null,{"$f":"IF(ISBLANK(D9544),\"\",CONCATENATE(C9544,#REF!,#REF!))","v":""}]
[null,null,null,null,null,null," ",null,null,{"$f":"IF(ISBLANK(D9549),\"\",CONCATENATE(C9549,#REF!,#REF!))","v":""}]
[null,null,null,null,null,null," ",null,null,{"$f":"IF(ISBLANK(D9554),\"\",CONCATENATE(C9554,#REF!,#REF!))","v":""}]
[null,null,null,null,null,null," ",null,null,{"$f":"IF(ISBLANK(D9560),\"\",CONCATENATE(C9560,#REF!,#REF!))","v":""}]
[null,null,null,null,null,null," ",null,null,{"$f":"IF(ISBLANK(D9565),\"\",CONCATENATE(C9565,#REF!,#REF!))","v":""}]
[null,null,null,null,null,null," ",null,null,{"$f":"IF(ISBLANK(D9571),\"\",CONCATENATE(C9571,#REF!,#REF!))","v":""}]
[null,null,null,null,null,null," ",null,null,{"$f":"IF(ISBLANK(D9576),\"\",CONCATENATE(C9576,#REF!,#REF!))","v":""}]
[null,null,null,null,null,null," ",null,null,{"$f":"IF(ISBLANK(D9581),\"\",CONCATENATE(C9581,#REF!,#REF!))","v":""}]
[null,null,null,null,null,null," ",null,null,{"$f":"IF(ISBLANK(D9587),\"\",CONCATENATE(C9587,#REF!,#REF!))","v":""}]
[null,null,null,null,null,null," ",null,null,{"$f":"IF(ISBLANK(D9592),\"\",CONCATENATE(C9592,#REF!,#REF!))","v":""}]
[null,null,null,null,null,null," ",null,null,{"$f":"IF(ISBLANK(D9597),\"\",CONCATENATE(C9597,#REF!,#REF!))","v":""}]
[null,null,null,null,null,null," ",null,null,{"$f":"IF(ISBLANK(D9603),\"\",CONCATENATE(C9603,#REF!,#REF!))","v":""}]
[null,null,null,null,null,null," ",null,null,{"$f":"IF(ISBLANK(D9608),\"\",CONCATENATE(C9608,#REF!,#REF!))","v":""}]
[null,null,null,null,null,null," ",null,null,{"$f":"IF(ISBLANK(D9611),\"\",CONCATENATE(C9611,#REF!,#REF!))","v":""}]
[null,null,null,null,null,null," ",null,null,{"$f":"IF(ISBLANK(D9615),\"\",CONCATENATE(C9615,#REF!,#REF!))","v":""}]
[null,null,null,null,null,null," ",null,null,{"$f":"IF(ISBLANK(D9620),\"\",CONCATENATE(C9620,#REF!,#REF!))","v":""}]
[null,null,null,null,null,null," ",null,null,{"$f":"IF(ISBLANK(D9626),\"\",CONCATENATE(C9626,#REF!,#REF!))","v":""}]
[null,null,null,null,null,null," ",null,null,{"$f":"IF(ISBLANK(D9631),\"\",CONCATENATE(C9631,#REF!,#REF!))","v":""}]
[null,null,null,null,null,null," ",null,null,{"$f":"IF(ISBLANK(D9637),\"\",CONCATENATE(C9637,#REF!,#REF!))","v":""}]
[null,null,null,null,null,null," ",null,null,{"$f":"IF(ISBLANK(D9642),\"\",CONCATENATE(C9642,#REF!,#REF!))","v":""}]
[null,null,null,null,null,null," ",null,null,{"$f":"IF(ISBLANK(D9647),\"\",CONCATENATE(C9647,#REF!,#REF!))","v":""}]
[null,null,null,null,null,null," ",null,null,{"$f":"IF(ISBLANK(D9653),\"\",CONCATENATE(C9653,#REF!,#REF!))","v":""}]
[null,null,null,null,null,null," ",null,null,{"$f":"IF(ISBLANK(D9658),\"\",CONCATENATE(C9658,#REF!,#REF!))","v":""}]
[null,null,null,null,null,null," ",null,null,{"$f":"IF(ISBLANK(D9663),\"\",CONCATENATE(C9663,#REF!,#REF!))","v":""}]
[null,null,null,null,null,null," ",null,null,{"$f":"IF(ISBLANK(D9669),\"\",CONCATENATE(C9669,#REF!,#REF!))","v":""}]
[null,null,null,null,null,null," ",null,null,{"$f":"IF(ISBLANK(D9674),\"\",CONCATENATE(C9674,#REF!,#REF!))","v":""}]
[null,null,null,null,null,null," ",null,null,{"$f":"IF(ISBLANK(D9675),\"\",CONCATENATE(C9675,#REF!,#REF!))","v":""}]
[null,null,null,null,null,null," ",null,null,{"$f":"IF(ISBLANK(D9680),\"\",CONCATENATE(C9680,#REF!,#REF!))","v":""}]
[null,null,null,null,null,null," ",null,null,{"$f":"IF(ISBLANK(D9685),\"\",CONCATENATE(C9685,#REF!,#REF!))","v":""}]
[null,null,null,null,null,null," ",null,null,{"$f":"IF(ISBLANK(D9692),\"\",CONCATENATE(C9692,#REF!,#REF!))","v":""}]
[null,null,null,null,null,null," ",null,null,{"$f":"IF(ISBLANK(D9697),\"\",CONCATENATE(C9697,#REF!,#REF!))","v":""}]
[null,null,null,null,null,null," ",null,null,{"$f":"IF(ISBLANK(D9702),\"\",CONCATENATE(C9702,#REF!,#REF!))","v":""}]
[null,null,null,null,null,null," ",null,null,{"$f":"IF(ISBLANK(D9708),\"\",CONCATENATE(C9708,#REF!,#REF!))","v":""}]
[null,null,null,null,null,null," ",null,null,{"$f":"IF(ISBLANK(D9713),\"\",CONCATENATE(C9713,#REF!,#REF!))","v":""}]
[null,null,null,null,null,null," ",null,null,{"$f":"IF(ISBLANK(D9719),\"\",CONCATENATE(C9719,#REF!,#REF!))","v":""}]
[null,null,null,null,null,null," ",null,null,{"$f":"IF(ISBLANK(D9724),\"\",CONCATENATE(C9724,#REF!,#REF!))","v":""}]
[null,null,null,null,null,null," ",null,null,{"$f":"IF(ISBLANK(D9729),\"\",CONCATENATE(C9729,#REF!,#REF!))","v":""}]
[null,null,null,null,null,null," ",null,null,{"$f":"IF(ISBLANK(D9735),\"\",CONCATENATE(C9735,#REF!,#REF!))","v":""}]
[null,null,null,null,null,null," ",null,null,{"$f":"IF(ISBLANK(D9740),\"\",CONCATENATE(C9740,#REF!,#REF!))","v":""}]
[null,null,null,null,null,null," ",null,null,{"$f":"IF(ISBLANK(D9741),\"\",CONCATENATE(C9741,#REF!,#REF!))","v":""}]
[null,null,null,null,null,null," ",null,null,{"$f":"IF(ISBLANK(D9746),\"\",CONCATENATE(C9746,#REF!,#REF!))","v":""}]
[null,null,null,null,null,null," ",null,null,{"$f":"IF(ISBLANK(D9751),\"\",CONCATENATE(C9751,#REF!,#REF!))","v":""}]
[null,null,null,null,null,null," ",null,null,{"$f":"IF(ISBLANK(D9757),\"\",CONCATENATE(C9757,#REF!,#REF!))","v":""}]
[null,null,null,null,null,null," ",null,null,{"$f":"IF(ISBLANK(D9762),\"\",CONCATENATE(C9762,#REF!,#REF!))","v":""}]
[null,null,null,null,null,null," ",null,null,{"$f":"IF(ISBLANK(D9767),\"\",CONCATENATE(C9767,#REF!,#REF!))","v":""}]
[null,null,null,null,null,null," ",null,null,{"$f":"IF(ISBLANK(D9773),\"\",CONCATENATE(C9773,#REF!,#REF!))","v":""}]
[null,null,null,null,null,null," ",null,null,{"$f":"IF(ISBLANK(D9779),\"\",CONCATENATE(C9779,#REF!,#REF!))","v":""}]
[null,null,null,null,null,null," ",null,null,{"$f":"IF(ISBLANK(D9785),\"\",CONCATENATE(C9785,#REF!,#REF!))","v":""}]
[null,null,null,null,null,null," ",null,null,{"$f":"IF(ISBLANK(D9790),\"\",CONCATENATE(C9790,#REF!,#REF!))","v":""}]
[null,null,null,null,null,null," ",null,null,{"$f":"IF(ISBLANK(D9795),\"\",CONCATENATE(C9795,#REF!,#REF!))","v":""}]
[null,null,null,null,null,null," ",null,null,{"$f":"IF(ISBLANK(D9801),\"\",CONCATENATE(C9801,#REF!,#REF!))","v":""}]
[null,null,null,null,null,null," ",null,null,{"$f":"IF(ISBLANK(D9806),\"\",CONCATENATE(C9806,#REF!,#REF!))","v":""}]
[null,null,null,null,null,null," ",null,null,{"$f":"IF(ISBLANK(D9811),\"\",CONCATENATE(C9811,#REF!,#REF!))","v":""}]
[null,null,null,null,null,null," ",null,null,{"$f":"IF(ISBLANK(D9812),\"\",CONCATENATE(C9812,#REF!,#REF!))","v":""}]
[null,null,null,null,null,null," ",null,null,{"$f":"IF(ISBLANK(D9817),\"\",CONCATENATE(C9817,#REF!,#REF!))","v":""}]
[null,null,null,null,null,null," ",null,null,{"$f":"IF(ISBLANK(D9823),\"\",CONCATENATE(C9823,#REF!,#REF!))","v":""}]
[null,null,null,null,null,null," ",null,null,{"$f":"IF(ISBLANK(D9828),\"\",CONCATENATE(C9828,#REF!,#REF!))","v":""}]
[null,null,null,null,null,null," ",null,null,{"$f":"IF(ISBLANK(D9833),\"\",CONCATENATE(C9833,#REF!,#REF!))","v":""}]
[null,null,null,null,null,null," ",null,null,{"$f":"IF(ISBLANK(D9839),\"\",CONCATENATE(C9839,#REF!,#REF!))","v":""}]
[null,null,null,null,null,null," ",null,null,{"$f":"IF(ISBLANK(D9844),\"\",CONCATENATE(C9844,#REF!,#REF!))","v":""}]
[null,null,null,null,null,null," ",null,null,{"$f":"IF(ISBLANK(D9850),\"\",CONCATENATE(C9850,#REF!,#REF!))","v":""}]
[null,null,null,null,null,null," ",null,null,{"$f":"IF(ISBLANK(D9854),\"\",CONCATENATE(C9854,#REF!,#REF!))","v":""}]
[null,null,null,null,null,null," ",null,null,{"$f":"IF(ISBLANK(D9861),\"\",CONCATENATE(C9861,#REF!,#REF!))","v":""}]
[null,null,null,null,null,null," ",null,null,{"$f":"IF(ISBLANK(D9867),\"\",CONCATENATE(C9867,#REF!,#REF!))","v":""}]
[null,null,null,null,null,null," ",null,null,{"$f":"IF(ISBLANK(D9872),\"\",CONCATENATE(C9872,#REF!,#REF!))","v":""}]
[null,null,null,null,null,null," ",null,null,{"$f":"IF(ISBLANK(D9877),\"\",CONCATENATE(C9877,#REF!,#REF!))","v":""}]
[null,null,null,null,null,null," ",null,null,{"$f":"IF(ISBLANK(D9878),\"\",CONCATENATE(C9878,#REF!,#REF!))","v":""}]
[null,null,null,null,null,null," ",null,null,{"$f":"IF(ISBLANK(D9883),\"\",CONCATENATE(C9883,#REF!,#REF!))","v":""}]
[null,null,null,null,null,null," ",null,null,{"$f":"IF(ISBLANK(D9889),\"\",CONCATENATE(C9889,#REF!,#REF!))","v":""}]
[null,null,null,null,null,null," ",null,null,{"$f":"IF(ISBLANK(D9894),\"\",CONCATENATE(C9894,#REF!,#REF!))","v":""}]
[null,null,null,null,null,null," ",null,null,{"$f":"IF(ISBLANK(D9899),\"\",CONCATENATE(C9899,#REF!,#REF!))","v":""}]
[null,null,null,null,null,null," ",null,null,{"$f":"IF(ISBLANK(D9905),\"\",CONCATENATE(C9905,#REF!,#REF!))","v":""}]
[null,null,null,null,null,null," ",null,null,{"$f":"IF(ISBLANK(D9910),\"\",CONCATENATE(C9910,#REF!,#REF!))","v":""}]
[null,null,null,null,null,null," ",null,null,{"$f":"IF(ISBLANK(D9916),\"\",CONCATENATE(C9916,#REF!,#REF!))","v":""}]
[null,null,null,null,null,null," ",null,null,{"$f":"IF(ISBLANK(D9921),\"\",CONCATENATE(C9921,#REF!,#REF!))","v":""}]
[null,null,null,null,null,null," ",null,null,{"$f":"IF(ISBLANK(D9926),\"\",CONCATENATE(C9926,#REF!,#REF!))","v":""}]
[null,null,null,null,null,null," ",null,null,{"$f":"IF(ISBLANK(D9932),\"\",CONCATENATE(C9932,#REF!,#REF!))","v":""}]
[null,null,null,null,null,null," ",null,null,{"$f":"IF(ISBLANK(D9935),\"\",CONCATENATE(C9935,#REF!,#REF!))","v":""}]
[null,null,null,null,null,null," ",null,null,{"$f":"IF(ISBLANK(D9943),\"\",CONCATENATE(C9943,#REF!,#REF!))","v":""}]
[null,null,null,null,null,null," ",null,null,{"$f":"IF(ISBLANK(D9944),\"\",CONCATENATE(C9944,#REF!,#REF!))","v":""}]
[null,null,null,null,null,null," ",null,null,{"$f":"IF(ISBLANK(D9949),\"\",CONCATENATE(C9949,#REF!,#REF!))","v":""}]
[null,null,null,null,null,null," ",null,null,{"$f":"IF(ISBLANK(D9955),\"\",CONCATENATE(C9955,#REF!,#REF!))","v":""}]
[null,null,null,null,null,null," ",null,null,{"$f":"IF(ISBLANK(D9960),\"\",CONCATENATE(C9960,#REF!,#REF!))","v":""}]
[null,null,null,null,null,null," ",null,null,{"$f":"IF(ISBLANK(D9965),\"\",CONCATENATE(C9965,#REF!,#REF!))","v":""}]
[null,null,null,null,null,null," ",null,null,{"$f":"IF(ISBLANK(D9971),\"\",CONCATENATE(C9971,#REF!,#REF!))","v":""}]
[null,null,null,null,null,null," ",null,null,{"$f":"IF(ISBLANK(D9976),\"\",CONCATENATE(C9976,#REF!,#REF!))","v":""}]
[null,null,null,null,null,null," ",null,null,{"$f":"IF(ISBLANK(D9981),\"\",CONCATENATE(C9981,#REF!,#REF!))","v":""}]
[null,null,null,null,null,null," ",null,null,{"$f":"IF(ISBLANK(D9987),\"\",CONCATENATE(C9987,#REF!,#REF!))","v":""}]
[null,null,null,null,null,null," ",null,null,{"$f":"IF(ISBLANK(D9992),\"\",CONCATENATE(C9992,#REF!,#REF!))","v":""}]
[null,null,null,null,null,null," ",null,null,{"$f":"IF(ISBLANK(D9998),\"\",CONCATENATE(C9998,#REF!,#REF!))","v":""}]
[null,null,null,null,null,null," ",null,null,{"$f":"IF(ISBLANK(D10003),\"\",CONCATENATE(C10003,#REF!,#REF!))","v":""}]
[null,null,null,null,null,null," ",null,null,{"$f":"IF(ISBLANK(D10008),\"\",CONCATENATE(C10008,#REF!,#REF!))","v":""}]
[null,null,null,null,null,null," ",null,null,{"$f":"IF(ISBLANK(D10009),\"\",CONCATENATE(C10009,#REF!,#REF!))","v":""}]
[null,null,null,null,null,null," ",null,null,{"$f":"IF(ISBLANK(D10016),\"\",CONCATENATE(C10016,#REF!,#REF!))","v":""}]
[null,null,null,null,null,null," ",null,null,{"$f":"IF(ISBLANK(D10021),\"\",CONCATENATE(C10021,#REF!,#REF!))","v":""}]
[null,null,null,null,null,null," ",null,null,{"$f":"IF(ISBLANK(D10026),\"\",CONCATENATE(C10026,#REF!,#REF!))","v":""}]
[null,null,null,null,null,null," ",null,null,{"$f":"IF(ISBLANK(D10031),\"\",CONCATENATE(C10031,#REF!,#REF!))","v":""}]
[null,null,null,null,null,null," ",null,null,{"$f":"IF(ISBLANK(D10037),\"\",CONCATENATE(C10037,#REF!,#REF!))","v":""}]
[null,null,null,null,null,null," ",null,null,{"$f":"IF(ISBLANK(D10042),\"\",CONCATENATE(C10042,#REF!,#REF!))","v":""}]
[null,null,null,null,null,null," ",null,null,{"$f":"IF(ISBLANK(D10047),\"\",CONCATENATE(C10047,#REF!,#REF!))","v":""}]
[null,null,null,null,null,null," ",null,null,{"$f":"IF(ISBLANK(D10053),\"\",CONCATENATE(C10053,#REF!,#REF!))","v":""}]
[null,null,null,null,null,null," ",null,null,{"$f":"IF(ISBLANK(D10058),\"\",CONCATENATE(C10058,#REF!,#REF!))","v":""}]
[null,null,null,null,null,null," ",null,null,{"$f":"IF(ISBLANK(D10064),\"\",CONCATENATE(C10064,#REF!,#REF!))","v":""}]
[null,null,null,null,null,null," ",null,null,{"$f":"IF(ISBLANK(D10069),\"\",CONCATENATE(C10069,#REF!,#REF!))","v":""}]
[null,null,null,null,null,null," ",null,null,{"$f":"IF(ISBLANK(D10074),\"\",CONCATENATE(C10074,#REF!,#REF!))","v":""}]
[null,null,null,null,null,null," ",null,null,{"$f":"IF(ISBLANK(D10075),\"\",CONCATENATE(C10075,#REF!,#REF!))","v":""}]
[null,null,null,null,null,null," ",null,null,{"$f":"IF(ISBLANK(D10080),\"\",CONCATENATE(C10080,#REF!,#REF!))","v":""}]
[null,null,null,null,null,null," ",null,null,{"$f":"IF(ISBLANK(D10085),\"\",CONCATENATE(C10085,#REF!,#REF!))","v":""}]
[null,null,null,null,null,null," ",null,null,{"$f":"IF(ISBLANK(D10091),\"\",CONCATENATE(C10091,#REF!,#REF!))","v":""}]
[null,null,null,null,null,null," ",null,null,{"$f":"IF(ISBLANK(D10097),\"\",CONCATENATE(C10097,#REF!,#REF!))","v":""}]
[null,null,null,null,null,null," ",null,null,{"$f":"IF(ISBLANK(D10103),\"\",CONCATENATE(C10103,#REF!,#REF!))","v":""}]
[null,null,null,null,null,null," ",null,null,{"$f":"IF(ISBLANK(D10108),\"\",CONCATENATE(C10108,#REF!,#REF!))","v":""}]
[null,null,null,null,null,null," ",null,null,{"$f":"IF(ISBLANK(D10113),\"\",CONCATENATE(C10113,#REF!,#REF!))","v":""}]
[null,null,null,null,null,null," ",null,null,{"$f":"IF(ISBLANK(D10119),\"\",CONCATENATE(C10119,#REF!,#REF!))","v":""}]
[null,null,null,null,null,null," ",null,null,{"$f":"IF(ISBLANK(D10124),\"\",CONCATENATE(C10124,#REF!,#REF!))","v":""}]
[null,null,null,null,null,null," ",null,null,{"$f":"IF(ISBLANK(D10130),\"\",CONCATENATE(C10130,#REF!,#REF!))","v":""}]
[null,null,null,null,null,null," ",null,null,{"$f":"IF(ISBLANK(D10135),\"\",CONCATENATE(C10135,#REF!,#REF!))","v":""}]
[null,null,null,null,null,null," ",null,null,{"$f":"IF(ISBLANK(D10140),\"\",CONCATENATE(C10140,#REF!,#REF!))","v":""}]
[null,null,null,null,null,null," ",null,null,{"$f":"IF(ISBLANK(D10141),\"\",CONCATENATE(C10141,#REF!,#REF!))","v":""}]
[null,null,null,null,null,null," ",null,null,{"$f":"IF(ISBLANK(D10146),\"\",CONCATENATE(C10146,#REF!,#REF!))","v":""}]
[null,null,null,null,null,null," ",null,null,{"$f":"IF(ISBLANK(D10151),\"\",CONCATENATE(C10151,#REF!,#REF!))","v":""}]
[null,null,null,null,null,null," ",null,null,{"$f":"IF(ISBLANK(D10157),\"\",CONCATENATE(C10157,#REF!,#REF!))","v":""}]
[null,null,null,null,null,null," ",null,null,{"$f":"IF(ISBLANK(D10162),\"\",CONCATENATE(C10162,#REF!,#REF!))","v":""}]
[null,null,null,null,null,null," ",null,null,{"$f":"IF(ISBLANK(D10168),\"\",CONCATENATE(C10168,#REF!,#REF!))","v":""}]
[null,null,null,null,null,null," ",null,null,{"$f":"IF(ISBLANK(D10173),\"\",CONCATENATE(C10173,#REF!,#REF!))","v":""}]
[null,null,null,null,null,null," ",null,null,{"$f":"IF(ISBLANK(D10178),\"\",CONCATENATE(C10178,#REF!,#REF!))","v":""}]
[null,null,null,null,null,null," ",null,null,{"$f":"IF(ISBLANK(D10185),\"\",CONCATENATE(C10185,#REF!,#REF!))","v":""}]
[null,null,null,null,null,null," ",null,null,{"$f":"IF(ISBLANK(D10190),\"\",CONCATENATE(C10190,#REF!,#REF!))","v":""}]
[null,null,null,null,null,null," ",null,null,{"$f":"IF(ISBLANK(D10196),\"\",CONCATENATE(C10196,#REF!,#REF!))","v":""}]
[null,null,null,null,null,null," ",null,null,{"$f":"IF(ISBLANK(D10201),\"\",CONCATENATE(C10201,#REF!,#REF!))","v":""}]
[null,null,null,null,null,null," ",null,null,{"$f":"IF(ISBLANK(D10206),\"\",CONCATENATE(C10206,#REF!,#REF!))","v":""}]
[null,null,null,null,null,null," ",null,null,{"$f":"IF(ISBLANK(D10207),\"\",CONCATENATE(C10207,#REF!,#REF!))","v":""}]
[null,null,null,null,null,null," ",null,null,{"$f":"IF(ISBLANK(D10212),\"\",CONCATENATE(C10212,#REF!,#REF!))","v":""}]
[null,null,null,null,null,null," ",null,null,{"$f":"IF(ISBLANK(D10217),\"\",CONCATENATE(C10217,#REF!,#REF!))","v":""}]
[null,null,null,null,null,null," ",null,null,{"$f":"IF(ISBLANK(D10223),\"\",CONCATENATE(C10223,#REF!,#REF!))","v":""}]
[null,null,null,null,null,null," ",null,null,{"$f":"IF(ISBLANK(D10228),\"\",CONCATENATE(C10228,#REF!,#REF!))","v":""}]
[null,null,null,null,null,null," ",null,null,{"$f":"IF(ISBLANK(D10234),\"\",CONCATENATE(C10234,#REF!,#REF!))","v":""}]
[null,null,null,null,null,null," ",null,null,{"$f":"IF(ISBLANK(D10239),\"\",CONCATENATE(C10239,#REF!,#REF!))","v":""}]
[null,null,null,null,null,null," ",null,null,{"$f":"IF(ISBLANK(D10244),\"\",CONCATENATE(C10244,#REF!,#REF!))","v":""}]
[null,null,null,null,null,null," ",null,null,{"$f":"IF(ISBLANK(D10250),\"\",CONCATENATE(C10250,#REF!,#REF!))","v":""}]
[null,null,null,null,null,null," ",null,null,{"$f":"IF(ISBLANK(D10255),\"\",CONCATENATE(C10255,#REF!,#REF!))","v":""}]
[null,null,null,null,null,null," ",null,null,{"$f":"IF(ISBLANK(D10259),\"\",CONCATENATE(C10259,#REF!,#REF!))","v":""}]
[null,null,null,null,null,null," ",null,null,{"$f":"IF(ISBLANK(D10267),\"\",CONCATENATE(C10267,#REF!,#REF!))","v":""}]
[null,null,null,null,null,null," ",null,null,{"$f":"IF(ISBLANK(D10272),\"\",CONCATENATE(C10272,#REF!,#REF!))","v":""}]
[null,null,null,null,null,null," ",null,null,{"$f":"IF(ISBLANK(D10273),\"\",CONCATENATE(C10273,#REF!,#REF!))","v":""}]
[null,null,null,null,null,null," ",null,null,{"$f":"IF(ISBLANK(D10278),\"\",CONCATENATE(C10278,#REF!,#REF!))","v":""}]
[null,null,null,null,null,null," ",null,null,{"$f":"IF(ISBLANK(D10283),\"\",CONCATENATE(C10283,#REF!,#REF!))","v":""}]
[null,null,null,null,null,null," ",null,null,{"$f":"IF(ISBLANK(D10289),\"\",CONCATENATE(C10289,#REF!,#REF!))","v":""}]
[null,null,null,null,null,null," ",null,null,{"$f":"IF(ISBLANK(D10294),\"\",CONCATENATE(C10294,#REF!,#REF!))","v":""}]
[null,null,null,null,null,null," ",null,null,{"$f":"IF(ISBLANK(D10300),\"\",CONCATENATE(C10300,#REF!,#REF!))","v":""}]
[null,null,null,null,null,null," ",null,null,{"$f":"IF(ISBLANK(D10305),\"\",CONCATENATE(C10305,#REF!,#REF!))","v":""}]
[null,null,null,null,null,null," ",null,null,{"$f":"IF(ISBLANK(D10310),\"\",CONCATENATE(C10310,#REF!,#REF!))","v":""}]
[null,null,null,null,null,null," ",null,null,{"$f":"IF(ISBLANK(D10316),\"\",CONCATENATE(C10316,#REF!,#REF!))","v":""}]
[null,null,null,null,null,null," ",null,null,{"$f":"IF(ISBLANK(D10321),\"\",CONCATENATE(C10321,#REF!,#REF!))","v":""}]
[null,null,null,null,null,null," ",null,null,{"$f":"IF(ISBLANK(D10326),\"\",CONCATENATE(C10326,#REF!,#REF!))","v":""}]
[null,null,null,null,null,null," ",null,null,{"$f":"IF(ISBLANK(D10332),\"\",CONCATENATE(C10332,#REF!,#REF!))","v":""}]
[null,null,null,null,null,null," ",null,null,{"$f":"IF(ISBLANK(D10337),\"\",CONCATENATE(C10337,#REF!,#REF!))","v":""}]
[null,null,null,null,null,null," ",null,null,{"$f":"IF(ISBLANK(D10338),\"\",CONCATENATE(C10338,#REF!,#REF!))","v":""}]
[null,null,null,null,null,null," ",null,null,{"$f":"IF(ISBLANK(D10344),\"\",CONCATENATE(C10344,#REF!,#REF!))","v":""}]
[null,null,null,null,null,null," ",null,null,{"$f":"IF(ISBLANK(D10349),\"\",CONCATENATE(C10349,#REF!,#REF!))","v":""}]
[null,null,null,null,null,null," ",null,null,{"$f":"IF(ISBLANK(D10355),\"\",CONCATENATE(C10355,#REF!,#REF!))","v":""}]
[null,null,null,null,null,null," ",null,null,{"$f":"IF(ISBLANK(D10360),\"\",CONCATENATE(C10360,#REF!,#REF!))","v":""}]
[null,null,null,null,null,null," ",null,null,{"$f":"IF(ISBLANK(D10366),\"\",CONCATENATE(C10366,#REF!,#REF!))","v":""}]
[null,null,null,null,null,null," ",null,null,{"$f":"IF(ISBLANK(D10371),\"\",CONCATENATE(C10371,#REF!,#REF!))","v":""}]
[null,null,null,null,null,null," ",null,null,{"$f":"IF(ISBLANK(D10376),\"\",CONCATENATE(C10376,#REF!,#REF!))","v":""}]
[null,null,null,null,null,null," ",null,null,{"$f":"IF(ISBLANK(D10382),\"\",CONCATENATE(C10382,#REF!,#REF!))","v":""}]
[null,null,null,null,null,null," ",null,null,{"$f":"IF(ISBLANK(D10387),\"\",CONCATENATE(C10387,#REF!,#REF!))","v":""}]
[null,null,null,null,null,null," ",null,null,{"$f":"IF(ISBLANK(D10392),\"\",CONCATENATE(C10392,#REF!,#REF!))","v":""}]
[null,null,null,null,null,null," ",null,null,{"$f":"IF(ISBLANK(D10398),\"\",CONCATENATE(C10398,#REF!,#REF!))","v":""}]
[null,null,null,null,null,null," ",null,null,{"$f":"IF(ISBLANK(D10403),\"\",CONCATENATE(C10403,#REF!,#REF!))","v":""}]
[null,null,null,null,null,null," ",null,null,{"$f":"IF(ISBLANK(D10404),\"\",CONCATENATE(C10404,#REF!,#REF!))","v":""}]
[null,null,null,null,null,null," ",null,null,{"$f":"IF(ISBLANK(D10409),\"\",CONCATENATE(C10409,#REF!,#REF!))","v":""}]
[null,null,null,null,null,null," ",null,null,{"$f":"IF(ISBLANK(D10414),\"\",CONCATENATE(C10414,#REF!,#REF!))","v":""}]
[null,null,null,null,null,null," ",null,null,{"$f":"IF(ISBLANK(D10419),\"\",CONCATENATE(C10419,#REF!,#REF!))","v":""}]
[null,null,null,null,null,null," ",null,null,{"$f":"IF(ISBLANK(D10426),\"\",CONCATENATE(C10426,#REF!,#REF!))","v":""}]
[null,null,null,null,null,null," ",null,null,{"$f":"IF(ISBLANK(D10431),\"\",CONCATENATE(C10431,#REF!,#REF!))","v":""}]
[null,null,null,null,null,null," ",null,null,{"$f":"IF(ISBLANK(D10437),\"\",CONCATENATE(C10437,#REF!,#REF!))","v":""}]
[null,null,null,null,null,null," ",null,null,{"$f":"IF(ISBLANK(D10442),\"\",CONCATENATE(C10442,#REF!,#REF!))","v":""}]
[null,null,null,null,null,null," ",null,null,{"$f":"IF(ISBLANK(D10448),\"\",CONCATENATE(C10448,#REF!,#REF!))","v":""}]
[null,null,null,null,null,null," ",null,null,{"$f":"IF(ISBLANK(D10453),\"\",CONCATENATE(C10453,#REF!,#REF!))","v":""}]
[null,null,null,null,null,null," ",null,null,{"$f":"IF(ISBLANK(D10458),\"\",CONCATENATE(C10458,#REF!,#REF!))","v":""}]
[null,null,null,null,null,null," ",null,null,{"$f":"IF(ISBLANK(D10464),\"\",CONCATENATE(C10464,#REF!,#REF!))","v":""}]
[null,null,null,null,null,null," ",null,null,{"$f":"IF(ISBLANK(D10469),\"\",CONCATENATE(C10469,#REF!,#REF!))","v":""}]
[null,null,null,null,null,null," ",null,null,{"$f":"IF(ISBLANK(D10470),\"\",CONCATENATE(C10470,#REF!,#REF!))","v":""}]
[null,null,null,null,null,null," ",null,null,{"$f":"IF(ISBLANK(D10475),\"\",CONCATENATE(C10475,#REF!,#REF!))","v":""}]
[null,null,null,null,null,null," ",null,null,{"$f":"IF(ISBLANK(D10480),\"\",CONCATENATE(C10480,#REF!,#REF!))","v":""}]
[null,null,null,null,null,null," ",null,null,{"$f":"IF(ISBLANK(D10486),\"\",CONCATENATE(C10486,#REF!,#REF!))","v":""}]
[null,null,null,null,null,null," ",null,null,{"$f":"IF(ISBLANK(D10491),\"\",CONCATENATE(C10491,#REF!,#REF!))","v":""}]
[null,null,null,null,null,null," ",null,null,{"$f":"IF(ISBLANK(D10496),\"\",CONCATENATE(C10496,#REF!,#REF!))","v":""}]
[null,null,null,null,null,null," ",null,null,{"$f":"IF(ISBLANK(D10500),\"\",CONCATENATE(C10500,#REF!,#REF!))","v":""}]
[null,null,null,null,null,null," ",null,null,{"$f":"IF(ISBLANK(D10508),\"\",CONCATENATE(C10508,#REF!,#REF!))","v":""}]
[null,null,null,null,null,null," ",null,null,{"$f":"IF(ISBLANK(D10514),\"\",CONCATENATE(C10514,#REF!,#REF!))","v":""}]
[null,null,null,null,null,null," ",null,null,{"$f":"IF(ISBLANK(D10519),\"\",CONCATENATE(C10519,#REF!,#REF!))","v":""}]
[null,null,null,null,null,null," ",null,null,{"$f":"IF(ISBLANK(D10524),\"\",CONCATENATE(C10524,#REF!,#REF!))","v":""}]
[null,null,null,null,null,null," ",null,null,{"$f":"IF(ISBLANK(D10530),\"\",CONCATENATE(C10530,#REF!,#REF!))","v":""}]
[null,null,null,null,null,null," ",null,null,{"$f":"IF(ISBLANK(D10535),\"\",CONCATENATE(C10535,#REF!,#REF!))","v":""}]
[null,null,null,null,null,null," ",null,null,{"$f":"IF(ISBLANK(D10540),\"\",CONCATENATE(C10540,#REF!,#REF!))","v":""}]
[null,null,null,null,null,null," ",null,null,{"$f":"IF(ISBLANK(D10541),\"\",CONCATENATE(C10541,#REF!,#REF!))","v":""}]
[null,null,null,null,null,null," ",null,null,{"$f":"IF(ISBLANK(D10546),\"\",CONCATENATE(C10546,#REF!,#REF!))","v":""}]
[null,null,null,null,null,null," ",null,null,{"$f":"IF(ISBLANK(D10552),\"\",CONCATENATE(C10552,#REF!,#REF!))","v":""}]
[null,null,null,null,null,null," ",null,null,{"$f":"IF(ISBLANK(D10557),\"\",CONCATENATE(C10557,#REF!,#REF!))","v":""}]
[null,null,null,null,null,null," ",null,null,{"$f":"IF(ISBLANK(D10562),\"\",CONCATENATE(C10562,#REF!,#REF!))","v":""}]
[null,null,null,null,null,null," ",null,null,{"$f":"IF(ISBLANK(D10568),\"\",CONCATENATE(C10568,#REF!,#REF!))","v":""}]
[null,null,null,null,null,null," ",null,null,{"$f":"IF(ISBLANK(D10573),\"\",CONCATENATE(C10573,#REF!,#REF!))","v":""}]
[null,null,null,null,null,null," ",null,null,{"$f":"IF(ISBLANK(D10579),\"\",CONCATENATE(C10579,#REF!,#REF!))","v":""}]
[null,null,null,null,null,null," ",null,null,{"$f":"IF(ISBLANK(D10581),\"\",CONCATENATE(C10581,#REF!,#REF!))","v":""}]
[null,null,null,null,null,null," ",null,null,{"$f":"IF(ISBLANK(D10590),\"\",CONCATENATE(C10590,#REF!,#REF!))","v":""}]
[null,null,null,null,null,null," ",null,null,{"$f":"IF(ISBLANK(D10596),\"\",CONCATENATE(C10596,#REF!,#REF!))","v":""}]
[null,null,null,null,null,null," ",null,null,{"$f":"IF(ISBLANK(D10601),\"\",CONCATENATE(C10601,#REF!,#REF!))","v":""}]
[null,null,null,null,null,null," ",null,null,{"$f":"IF(ISBLANK(D10606),\"\",CONCATENATE(C10606,#REF!,#REF!))","v":""}]
[null,null,null,null,null,null," ",null,null,{"$f":"IF(ISBLANK(D10607),\"\",CONCATENATE(C10607,#REF!,#REF!))","v":""}]
[null,null,null,null,null,null," ",null,null,{"$f":"IF(ISBLANK(D10612),\"\",CONCATENATE(C10612,#REF!,#REF!))","v":""}]
[null,null,null,null,null,null," ",null,null,{"$f":"IF(ISBLANK(D10618),\"\",CONCATENATE(C10618,#REF!,#REF!))","v":""}]
[null,null,null,null,null,null," ",null,null,{"$f":"IF(ISBLANK(D10623),\"\",CONCATENATE(C10623,#REF!,#REF!))","v":""}]
[null,null,null,null,null,null," ",null,null,{"$f":"IF(ISBLANK(D10628),\"\",CONCATENATE(C10628,#REF!,#REF!))","v":""}]
[null,null,null,null,null,null," ",null,null,{"$f":"IF(ISBLANK(D10634),\"\",CONCATENATE(C10634,#REF!,#REF!))","v":""}]
[null,null,null,null,null,null," ",null,null,{"$f":"IF(ISBLANK(D10639),\"\",CONCATENATE(C10639,#REF!,#REF!))","v":""}]
[null,null,null,null,null,null," ",null,null,{"$f":"IF(ISBLANK(D10645),\"\",CONCATENATE(C10645,#REF!,#REF!))","v":""}]
[null,null,null,null,null,null," ",null,null,{"$f":"IF(ISBLANK(D10650),\"\",CONCATENATE(C10650,#REF!,#REF!))","v":""}]
[null,null,null,null,null,null," ",null,null,{"$f":"IF(ISBLANK(D10655),\"\",CONCATENATE(C10655,#REF!,#REF!))","v":""}]
[null,null,null,null,null,null," ",null,null,{"$f":"IF(ISBLANK(D10661),\"\",CONCATENATE(C10661,#REF!,#REF!))","v":""}]
[null,null,null,null,null,null," ",null,null,{"$f":"IF(ISBLANK(D10662),\"\",CONCATENATE(C10662,#REF!,#REF!))","v":""}]
[null,null,null,null,null,null," ",null,null,{"$f":"IF(ISBLANK(D10672),\"\",CONCATENATE(C10672,#REF!,#REF!))","v":""}]
[null,null,null,null,null,null," ",null,null,{"$f":"IF(ISBLANK(D10673),\"\",CONCATENATE(C10673,#REF!,#REF!))","v":""}]
[null,null,null,null,null,null," ",null,null,{"$f":"IF(ISBLANK(D10678),\"\",CONCATENATE(C10678,#REF!,#REF!))","v":""}]
[null,null,null,null,null,null," ",null,null,{"$f":"IF(ISBLANK(D10684),\"\",CONCATENATE(C10684,#REF!,#REF!))","v":""}]
[null,null,null,null,null,null," ",null,null,{"$f":"IF(ISBLANK(D10689),\"\",CONCATENATE(C10689,#REF!,#REF!))","v":""}]
[null,null,null,null,null,null," ",null,null,{"$f":"IF(ISBLANK(D10694),\"\",CONCATENATE(C10694,#REF!,#REF!))","v":""}]
[null,null,null,null,null,null," ",null,null,{"$f":"IF(ISBLANK(D10700),\"\",CONCATENATE(C10700,#REF!,#REF!))","v":""}]
[null,null,null,null,null,null," ",null,null,{"$f":"IF(ISBLANK(D10705),\"\",CONCATENATE(C10705,#REF!,#REF!))","v":""}]
[null,null,null,null,null,null," ",null,null,{"$f":"IF(ISBLANK(D10710),\"\",CONCATENATE(C10710,#REF!,#REF!))","v":""}]
[null,null,null,null,null,null," ",null,null,{"$f":"IF(ISBLANK(D10716),\"\",CONCATENATE(C10716,#REF!,#REF!))","v":""}]
[null,null,null,null,null,null," ",null,null,{"$f":"IF(ISBLANK(D10721),\"\",CONCATENATE(C10721,#REF!,#REF!))","v":""}]
[null,null,null,null,null,null," ",null,null,{"$f":"IF(ISBLANK(D10727),\"\",CONCATENATE(C10727,#REF!,#REF!))","v":""}]
[null,null,null,null,null,null," ",null,null,{"$f":"IF(ISBLANK(D10732),\"\",CONCATENATE(C10732,#REF!,#REF!))","v":""}]
[null,null,null,null,null,null," ",null,null,{"$f":"IF(ISBLANK(D10737),\"\",CONCATENATE(C10737,#REF!,#REF!))","v":""}]
[null,null,null,null,null,null," ",null,null,{"$f":"IF(ISBLANK(D10738),\"\",CONCATENATE(C10738,#REF!,#REF!))","v":""}]
[null,null,null,null,null,null," ",null,null,{"$f":"IF(ISBLANK(D10743),\"\",CONCATENATE(C10743,#REF!,#REF!))","v":""}]
[null,null,null,null,null,null," ",null,null,{"$f":"IF(ISBLANK(D10750),\"\",CONCATENATE(C10750,#REF!,#REF!))","v":""}]
[null,null,null,null,null,null," ",null,null,{"$f":"IF(ISBLANK(D10755),\"\",CONCATENATE(C10755,#REF!,#REF!))","v":""}]
[null,null,null,null,null,null," ",null,null,{"$f":"IF(ISBLANK(D10760),\"\",CONCATENATE(C10760,#REF!,#REF!))","v":""}]
[null,null,null,null,null,null," ",null,null,{"$f":"IF(ISBLANK(D10766),\"\",CONCATENATE(C10766,#REF!,#REF!))","v":""}]
[null,null,null,null,null,null," ",null,null,{"$f":"IF(ISBLANK(D10771),\"\",CONCATENATE(C10771,#REF!,#REF!))","v":""}]
[null,null,null,null,null,null," ",null,null,{"$f":"IF(ISBLANK(D10776),\"\",CONCATENATE(C10776,#REF!,#REF!))","v":""}]
[null,null,null,null,null,null," ",null,null,{"$f":"IF(ISBLANK(D10782),\"\",CONCATENATE(C10782,#REF!,#REF!))","v":""}]
[null,null,null,null,null,null," ",null,null,{"$f":"IF(ISBLANK(D10787),\"\",CONCATENATE(C10787,#REF!,#REF!))","v":""}]
[null,null,null,null,null,null," ",null,null,{"$f":"IF(ISBLANK(D10793),\"\",CONCATENATE(C10793,#REF!,#REF!))","v":""}]
[null,null,null,null,null,null," ",null,null,{"$f":"IF(ISBLANK(D10798),\"\",CONCATENATE(C10798,#REF!,#REF!))","v":""}]
[null,null,null,null,null,null," ",null,null,{"$f":"IF(ISBLANK(D10803),\"\",CONCATENATE(C10803,#REF!,#REF!))","v":""}]
[null,null,null,null,null,null," ",null,null,{"$f":"IF(ISBLANK(D10804),\"\",CONCATENATE(C10804,#REF!,#REF!))","v":""}]
[null,null,null,null,null,null," ",null,null,{"$f":"IF(ISBLANK(D10809),\"\",CONCATENATE(C10809,#REF!,#REF!))","v":""}]
[null,null,null,null,null,null," ",null,null,{"$f":"IF(ISBLANK(D10815),\"\",CONCATENATE(C10815,#REF!,#REF!))","v":""}]
[null,null,null,null,null,null," ",null,null,{"$f":"IF(ISBLANK(D10820),\"\",CONCATENATE(C10820,#REF!,#REF!))","v":""}]
[null,null,null,null,null,null," ",null,null,{"$f":"IF(ISBLANK(D10824),\"\",CONCATENATE(C10824,#REF!,#REF!))","v":""}]
[null,null,null,null,null,null," ",null,null,{"$f":"IF(ISBLANK(D10832),\"\",CONCATENATE(C10832,#REF!,#REF!))","v":""}]
[null,null,null,null,null,null," ",null,null,{"$f":"IF(ISBLANK(D10837),\"\",CONCATENATE(C10837,#REF!,#REF!))","v":""}]
[null,null,null,null,null,null," ",null,null,{"$f":"IF(ISBLANK(D10842),\"\",CONCATENATE(C10842,#REF!,#REF!))","v":""}]
[null,null,null,null,null,null," ",null,null,{"$f":"IF(ISBLANK(D10848),\"\",CONCATENATE(C10848,#REF!,#REF!))","v":""}]
[null,null,null,null,null,null," ",null,null,{"$f":"IF(ISBLANK(D10853),\"\",CONCATENATE(C10853,#REF!,#REF!))","v":""}]
[null,null,null,null,null,null," ",null,null,{"$f":"IF(ISBLANK(D10859),\"\",CONCATENATE(C10859,#REF!,#REF!))","v":""}]
[null,null,null,null,null,null," ",null,null,{"$f":"IF(ISBLANK(D10864),\"\",CONCATENATE(C10864,#REF!,#REF!))","v":""}]
[null,null,null,null,null,null," ",null,null,{"$f":"IF(ISBLANK(D10869),\"\",CONCATENATE(C10869,#REF!,#REF!))","v":""}]
[null,null,null,null,null,null," ",null,null,{"$f":"IF(ISBLANK(D10870),\"\",CONCATENATE(C10870,#REF!,#REF!))","v":""}]
[null,null,null,null,null,null," ",null,null,{"$f":"IF(ISBLANK(D10875),\"\",CONCATENATE(C10875,#REF!,#REF!))","v":""}]
[null,null,null,null,null,null," ",null,null,{"$f":"IF(ISBLANK(D10880),\"\",CONCATENATE(C10880,#REF!,#REF!))","v":""}]
[null,null,null,null,null,null," ",null,null,{"$f":"IF(ISBLANK(D10886),\"\",CONCATENATE(C10886,#REF!,#REF!))","v":""}]
[null,null,null,null,null,null," ",null,null,{"$f":"IF(ISBLANK(D10891),\"\",CONCATENATE(C10891,#REF!,#REF!))","v":""}]
[null,null,null,null,null,null," ",null,null,{"$f":"IF(ISBLANK(D10897),\"\",CONCATENATE(C10897,#REF!,#REF!))","v":""}]
[null,null,null,null,null,null," ",null,null,{"$f":"IF(ISBLANK(D10902),\"\",CONCATENATE(C10902,#REF!,#REF!))","v":""}]
[null,null,null,null,null,null," ",null,null,{"$f":"IF(ISBLANK(D10905),\"\",CONCATENATE(C10905,#REF!,#REF!))","v":""}]
[null,null,null,null,null,null," ",null,null,{"$f":"IF(ISBLANK(D10914),\"\",CONCATENATE(C10914,#REF!,#REF!))","v":""}]
[null,null,null,null,null,null," ",null,null,{"$f":"IF(ISBLANK(D10919),\"\",CONCATENATE(C10919,#REF!,#REF!))","v":""}]
[null,null,null,null,null,null," ",null,null,{"$f":"IF(ISBLANK(D10925),\"\",CONCATENATE(C10925,#REF!,#REF!))","v":""}]
[null,null,null,null,null,null," ",null,null,{"$f":"IF(ISBLANK(D10930),\"\",CONCATENATE(C10930,#REF!,#REF!))","v":""}]
[null,null,null,null,null,null," ",null,null,{"$f":"IF(ISBLANK(D10935),\"\",CONCATENATE(C10935,#REF!,#REF!))","v":""}]
[null,null,null,null,null,null," ",null,null,{"$f":"IF(ISBLANK(D10936),\"\",CONCATENATE(C10936,#REF!,#REF!))","v":""}]
[null,null,null,null,null,null," ",null,null,{"$f":"IF(ISBLANK(D10941),\"\",CONCATENATE(C10941,#REF!,#REF!))","v":""}]
[null,null,null,null,null,null," ",null,null,{"$f":"IF(ISBLANK(D10946),\"\",CONCATENATE(C10946,#REF!,#REF!))","v":""}]
[null,null,null,null,null,null," ",null,null,{"$f":"IF(ISBLANK(D10952),\"\",CONCATENATE(C10952,#REF!,#REF!))","v":""}]
[null,null,null,null,null,null," ",null,null,{"$f":"IF(ISBLANK(D10957),\"\",CONCATENATE(C10957,#REF!,#REF!))","v":""}]
[null,null,null,null,null,null," ",null,null,{"$f":"IF(ISBLANK(D10963),\"\",CONCATENATE(C10963,#REF!,#REF!))","v":""}]
[null,null,null,null,null,null," ",null,null,{"$f":"IF(ISBLANK(D10968),\"\",CONCATENATE(C10968,#REF!,#REF!))","v":""}]
[null,null,null,null,null,null," ",null,null,{"$f":"IF(ISBLANK(D10973),\"\",CONCATENATE(C10973,#REF!,#REF!))","v":""}]
[null,null,null,null,null,null," ",null,null,{"$f":"IF(ISBLANK(D10979),\"\",CONCATENATE(C10979,#REF!,#REF!))","v":""}]
[null,null,null,null,null,null," ",null,null,{"$f":"IF(ISBLANK(D10984),\"\",CONCATENATE(C10984,#REF!,#REF!))","v":""}]
[null,null,null,null,null,null," ",null,null,{"$f":"IF(ISBLANK(D10986),\"\",CONCATENATE(C10986,#REF!,#REF!))","v":""}]
[null,null,null,null,null,null," ",null,null,{"$f":"IF(ISBLANK(D10996),\"\",CONCATENATE(C10996,#REF!,#REF!))","v":""}]
[null,null,null,null,null,null," ",null,null,{"$f":"IF(ISBLANK(D11001),\"\",CONCATENATE(C11001,#REF!,#REF!))","v":""}]
[null,null,null,null,null,null," ",null,null,{"$f":"IF(ISBLANK(D11002),\"\",CONCATENATE(C11002,#REF!,#REF!))","v":""}]
[null,null,null,null,null,null," ",null,null,{"$f":"IF(ISBLANK(D11007),\"\",CONCATENATE(C11007,#REF!,#REF!))","v":""}]
[null,null,null,null,null,null," ",null,null,{"$f":"IF(ISBLANK(D11012),\"\",CONCATENATE(C11012,#REF!,#REF!))","v":""}]
[null,null,null,null,null,null," ",null,null,{"$f":"IF(ISBLANK(D11018),\"\",CONCATENATE(C11018,#REF!,#REF!))","v":""}]
[null,null,null,null,null,null," ",null,null,{"$f":"IF(ISBLANK(D11023),\"\",CONCATENATE(C11023,#REF!,#REF!))","v":""}]
[null,null,null,null,null,null," ",null,null,{"$f":"IF(ISBLANK(D11029),\"\",CONCATENATE(C11029,#REF!,#REF!))","v":""}]
[null,null,null,null,null,null," ",null,null,{"$f":"IF(ISBLANK(D11034),\"\",CONCATENATE(C11034,#REF!,#REF!))","v":""}]
[null,null,null,null,null,null," ",null,null,{"$f":"IF(ISBLANK(D11039),\"\",CONCATENATE(C11039,#REF!,#REF!))","v":""}]
[null,null,null,null,null,null," ",null,null,{"$f":"IF(ISBLANK(D11045),\"\",CONCATENATE(C11045,#REF!,#REF!))","v":""}]
[null,null,null,null,null,null," ",null,null,{"$f":"IF(ISBLANK(D11050),\"\",CONCATENATE(C11050,#REF!,#REF!))","v":""}]
[null,null,null,null,null,null," ",null,null,{"$f":"IF(ISBLANK(D11055),\"\",CONCATENATE(C11055,#REF!,#REF!))","v":""}]
[null,null,null,null,null,null," ",null,null,{"$f":"IF(ISBLANK(D11061),\"\",CONCATENATE(C11061,#REF!,#REF!))","v":""}]
[null,null,null,null,null,null," ",null,null,{"$f":"IF(ISBLANK(D11066),\"\",CONCATENATE(C11066,#REF!,#REF!))","v":""}]
[null,null,null,null,null,null," ",null,null,{"$f":"IF(ISBLANK(D11071),\"\",CONCATENATE(C11071,#REF!,#REF!))","v":""}]
[null,null,null,null,null,null," ",null,null,{"$f":"IF(ISBLANK(D11073),\"\",CONCATENATE(C11073,#REF!,#REF!))","v":""}]
[null,null,null,null,null,null," ",null,null,{"$f":"IF(ISBLANK(D11078),\"\",CONCATENATE(C11078,#REF!,#REF!))","v":""}]
[null,null,null,null,null,null," ",null,null,{"$f":"IF(ISBLANK(D11084),\"\",CONCATENATE(C11084,#REF!,#REF!))","v":""}]
[null,null,null,null,null,null," ",null,null,{"$f":"IF(ISBLANK(D11089),\"\",CONCATENATE(C11089,#REF!,#REF!))","v":""}]
[null,null,null,null,null,null," ",null,null,{"$f":"IF(ISBLANK(D11095),\"\",CONCATENATE(C11095,#REF!,#REF!))","v":""}]
[null,null,null,null,null,null," ",null,null,{"$f":"IF(ISBLANK(D11100),\"\",CONCATENATE(C11100,#REF!,#REF!))","v":""}]
[null,null,null,null,null,null," ",null,null,{"$f":"IF(ISBLANK(D11105),\"\",CONCATENATE(C11105,#REF!,#REF!))","v":""}]
[null,null,null,null,null,null," ",null,null,{"$f":"IF(ISBLANK(D11111),\"\",CONCATENATE(C11111,#REF!,#REF!))","v":""}]
[null,null,null,null,null,null," ",null,null,{"$f":"IF(ISBLANK(D11116),\"\",CONCATENATE(C11116,#REF!,#REF!))","v":""}]
[null,null,null,null,null,null," ",null,null,{"$f":"IF(ISBLANK(D11121),\"\",CONCATENATE(C11121,#REF!,#REF!))","v":""}]
[null,null,null,null,null,null," ",null,null,{"$f":"IF(ISBLANK(D11127),\"\",CONCATENATE(C11127,#REF!,#REF!))","v":""}]
[null,null,null,null,null,null," ",null,null,{"$f":"IF(ISBLANK(D11132),\"\",CONCATENATE(C11132,#REF!,#REF!))","v":""}]
[null,null,null,null,null,null," ",null,null,{"$f":"IF(ISBLANK(D11133),\"\",CONCATENATE(C11133,#REF!,#REF!))","v":""}]
[null,null,null,null,null,null," ",null,null,{"$f":"IF(ISBLANK(D11138),\"\",CONCATENATE(C11138,#REF!,#REF!))","v":""}]
[null,null,null,null,null,null," ",null,null,{"$f":"IF(ISBLANK(D11143),\"\",CONCATENATE(C11143,#REF!,#REF!))","v":""}]
[null,null,null,null,null,null," ",null,null,{"$f":"IF(ISBLANK(D11152),\"\",CONCATENATE(C11152,#REF!,#REF!))","v":""}]
[null,null,null,null,null,null," ",null,null,{"$f":"IF(ISBLANK(D11155),\"\",CONCATENATE(C11155,#REF!,#REF!))","v":""}]
[null,null,null,null,null,null," ",null,null,{"$f":"IF(ISBLANK(D11160),\"\",CONCATENATE(C11160,#REF!,#REF!))","v":""}]
[null,null,null,null,null,null," ",null,null,{"$f":"IF(ISBLANK(D11166),\"\",CONCATENATE(C11166,#REF!,#REF!))","v":""}]
[null,null,null,null,null,null," ",null,null,{"$f":"IF(ISBLANK(D11171),\"\",CONCATENATE(C11171,#REF!,#REF!))","v":""}]
[null,null,null,null,null,null," ",null,null,{"$f":"IF(ISBLANK(D11177),\"\",CONCATENATE(C11177,#REF!,#REF!))","v":""}]
[null,null,null,null,null,null," ",null,null,{"$f":"IF(ISBLANK(D11182),\"\",CONCATENATE(C11182,#REF!,#REF!))","v":""}]
[null,null,null,null,null,null," ",null,null,{"$f":"IF(ISBLANK(D11187),\"\",CONCATENATE(C11187,#REF!,#REF!))","v":""}]
[null,null,null,null,null,null," ",null,null,{"$f":"IF(ISBLANK(D11193),\"\",CONCATENATE(C11193,#REF!,#REF!))","v":""}]
[null,null,null,null,null,null," ",null,null,{"$f":"IF(ISBLANK(D11198),\"\",CONCATENATE(C11198,#REF!,#REF!))","v":""}]
[null,null,null,null,null,null," ",null,null,{"$f":"IF(ISBLANK(D11199),\"\",CONCATENATE(C11199,#REF!,#REF!))","v":""}]
[null,null,null,null,null,null," ",null,null,{"$f":"IF(ISBLANK(D11204),\"\",CONCATENATE(C11204,#REF!,#REF!))","v":""}]
[null,null,null,null,null,null," ",null,null,{"$f":"IF(ISBLANK(D11209),\"\",CONCATENATE(C11209,#REF!,#REF!))","v":""}]
[null,null,null,null,null,null," ",null,null,{"$f":"IF(ISBLANK(D11215),\"\",CONCATENATE(C11215,#REF!,#REF!))","v":""}]
[null,null,null,null,null,null," ",null,null,{"$f":"IF(ISBLANK(D11220),\"\",CONCATENATE(C11220,#REF!,#REF!))","v":""}]
[null,null,null,null,null,null," ",null,null,{"$f":"IF(ISBLANK(D11225),\"\",CONCATENATE(C11225,#REF!,#REF!))","v":""}]
[null,null,null,null,null,null," ",null,null,{"$f":"IF(ISBLANK(D11233),\"\",CONCATENATE(C11233,#REF!,#REF!))","v":""}]
[null,null,null,null,null,null," ",null,null,{"$f":"IF(ISBLANK(D11237),\"\",CONCATENATE(C11237,#REF!,#REF!))","v":""}]
[null,null,null,null,null,null," ",null,null,{"$f":"IF(ISBLANK(D11243),\"\",CONCATENATE(C11243,#REF!,#REF!))","v":""}]
[null,null,null,null,null,null," ",null,null,{"$f":"IF(ISBLANK(D11248),\"\",CONCATENATE(C11248,#REF!,#REF!))","v":""}]
[null,null,null,null,null,null," ",null,null,{"$f":"IF(ISBLANK(D11253),\"\",CONCATENATE(C11253,#REF!,#REF!))","v":""}]
[null,null,null,null,null,null," ",null,null,{"$f":"IF(ISBLANK(D11259),\"\",CONCATENATE(C11259,#REF!,#REF!))","v":""}]
[null,null,null,null,null,null," ",null,null,{"$f":"IF(ISBLANK(D11264),\"\",CONCATENATE(C11264,#REF!,#REF!))","v":""}]
[null,null,null,null,null,null," ",null,null,{"$f":"IF(ISBLANK(D11269),\"\",CONCATENATE(C11269,#REF!,#REF!))","v":""}]
[null,null,null,null,null,null," ",null,null,{"$f":"IF(ISBLANK(D11270),\"\",CONCATENATE(C11270,#REF!,#REF!))","v":""}]
[null,null,null,null,null,null," ",null,null,{"$f":"IF(ISBLANK(D11275),\"\",CONCATENATE(C11275,#REF!,#REF!))","v":""}]
[null,null,null,null,null,null," ",null,null,{"$f":"IF(ISBLANK(D11281),\"\",CONCATENATE(C11281,#REF!,#REF!))","v":""}]
[null,null,null,null,null,null," ",null,null,{"$f":"IF(ISBLANK(D11286),\"\",CONCATENATE(C11286,#REF!,#REF!))","v":""}]
[null,null,null,null,null,null," ",null,null,{"$f":"IF(ISBLANK(D11291),\"\",CONCATENATE(C11291,#REF!,#REF!))","v":""}]
[null,null,null,null,null,null," ",null,null,{"$f":"IF(ISBLANK(D11297),\"\",CONCATENATE(C11297,#REF!,#REF!))","v":""}]
[null,null,null,null,null,null," ",null,null,{"$f":"IF(ISBLANK(D11302),\"\",CONCATENATE(C11302,#REF!,#REF!))","v":""}]
[null,null,null,null,null,null," ",null,null,{"$f":"IF(ISBLANK(D11308),\"\",CONCATENATE(C11308,#REF!,#REF!))","v":""}]
[null,null,null,null,null,null," ",null,null,{"$f":"IF(ISBLANK(D11314),\"\",CONCATENATE(C11314,#REF!,#REF!))","v":""}]
[null,null,null,null,null,null," ",null,null,{"$f":"IF(ISBLANK(D11319),\"\",CONCATENATE(C11319,#REF!,#REF!))","v":""}]
[null,null,null,null,null,null," ",null,null,{"$f":"IF(ISBLANK(D11325),\"\",CONCATENATE(C11325,#REF!,#REF!))","v":""}]
[null,null,null,null,null,null," ",null,null,{"$f":"IF(ISBLANK(D11330),\"\",CONCATENATE(C11330,#REF!,#REF!))","v":""}]
[null,null,null,null,null,null," ",null,null,{"$f":"IF(ISBLANK(D11335),\"\",CONCATENATE(C11335,#REF!,#REF!))","v":""}]
[null,null,null,null,null,null," ",null,null,{"$f":"IF(ISBLANK(D11336),\"\",CONCATENATE(C11336,#REF!,#REF!))","v":""}]
[null,null,null,null,null,null," ",null,null,{"$f":"IF(ISBLANK(D11341),\"\",CONCATENATE(C11341,#REF!,#REF!))","v":""}]
[null,null,null,null,null,null," ",null,null,{"$f":"IF(ISBLANK(D11347),\"\",CONCATENATE(C11347,#REF!,#REF!))","v":""}]
[null,null,null,null,null,null," ",null,null,{"$f":"IF(ISBLANK(D11352),\"\",CONCATENATE(C11352,#REF!,#REF!))","v":""}]
[null,null,null,null,null,null," ",null,null,{"$f":"IF(ISBLANK(D11357),\"\",CONCATENATE(C11357,#REF!,#REF!))","v":""}]
[null,null,null,null,null,null," ",null,null,{"$f":"IF(ISBLANK(D11363),\"\",CONCATENATE(C11363,#REF!,#REF!))","v":""}]
[null,null,null,null,null,null," ",null,null,{"$f":"IF(ISBLANK(D11368),\"\",CONCATENATE(C11368,#REF!,#REF!))","v":""}]
[null,null,null,null,null,null," ",null,null,{"$f":"IF(ISBLANK(D11374),\"\",CONCATENATE(C11374,#REF!,#REF!))","v":""}]
[null,null,null,null,null,null," ",null,null,{"$f":"IF(ISBLANK(D11379),\"\",CONCATENATE(C11379,#REF!,#REF!))","v":""}]
[null,null,null,null,null,null," ",null,null,{"$f":"IF(ISBLANK(D11384),\"\",CONCATENATE(C11384,#REF!,#REF!))","v":""}]
[null,null,null,null,null,null," ",null,null,{"$f":"IF(ISBLANK(D11390),\"\",CONCATENATE(C11390,#REF!,#REF!))","v":""}]
[null,null,null,null,null,null," ",null,null,{"$f":"IF(ISBLANK(D11395),\"\",CONCATENATE(C11395,#REF!,#REF!))","v":""}]
[null,null,null,null,null,null," ",null,null,{"$f":"IF(ISBLANK(D11401),\"\",CONCATENATE(C11401,#REF!,#REF!))","v":""}]
[null,null,null,null,null,null," ",null,null,{"$f":"IF(ISBLANK(D11402),\"\",CONCATENATE(C11402,#REF!,#REF!))","v":""}]
[null,null,null,null,null,null," ",null,null,{"$f":"IF(ISBLANK(D11407),\"\",CONCATENATE(C11407,#REF!,#REF!))","v":""}]
[null,null,null,null,null,null," ",null,null,{"$f":"IF(ISBLANK(D11413),\"\",CONCATENATE(C11413,#REF!,#REF!))","v":""}]
[null,null,null,null,null,null," ",null,null,{"$f":"IF(ISBLANK(D11418),\"\",CONCATENATE(C11418,#REF!,#REF!))","v":""}]
[null,null,null,null,null,null," ",null,null,{"$f":"IF(ISBLANK(D11423),\"\",CONCATENATE(C11423,#REF!,#REF!))","v":""}]
[null,null,null,null,null,null," ",null,null,{"$f":"IF(ISBLANK(D11429),\"\",CONCATENATE(C11429,#REF!,#REF!))","v":""}]
[null,null,null,null,null,null," ",null,null,{"$f":"IF(ISBLANK(D11434),\"\",CONCATENATE(C11434,#REF!,#REF!))","v":""}]
[null,null,null,null,null,null," ",null,null,{"$f":"IF(ISBLANK(D11439),\"\",CONCATENATE(C11439,#REF!,#REF!))","v":""}]
[null,null,null,null,null,null," ",null,null,{"$f":"IF(ISBLANK(D11445),\"\",CONCATENATE(C11445,#REF!,#REF!))","v":""}]
[null,null,null,null,null,null," ",null,null,{"$f":"IF(ISBLANK(D11450),\"\",CONCATENATE(C11450,#REF!,#REF!))","v":""}]
[null,null,null,null,null,null," ",null,null,{"$f":"IF(ISBLANK(D11456),\"\",CONCATENATE(C11456,#REF!,#REF!))","v":""}]
[null,null,null,null,null,null," ",null,null,{"$f":"IF(ISBLANK(D11461),\"\",CONCATENATE(C11461,#REF!,#REF!))","v":""}]
[null,null,null,null,null,null," ",null,null,{"$f":"IF(ISBLANK(D11466),\"\",CONCATENATE(C11466,#REF!,#REF!))","v":""}]
[null,null,null,null,null,null," ",null,null,{"$f":"IF(ISBLANK(D11467),\"\",CONCATENATE(C11467,#REF!,#REF!))","v":""}]
[null,null,null,null,null,null," ",null,null,{"$f":"IF(ISBLANK(D11476),\"\",CONCATENATE(C11476,#REF!,#REF!))","v":""}]
[null,null,null,null,null,null," ",null,null,{"$f":"IF(ISBLANK(D11479),\"\",CONCATENATE(C11479,#REF!,#REF!))","v":""}]
[null,null,null,null,null,null," ",null,null,{"$f":"IF(ISBLANK(D11484),\"\",CONCATENATE(C11484,#REF!,#REF!))","v":""}]
[null,null,null,null,null,null," ",null,null,{"$f":"IF(ISBLANK(D11489),\"\",CONCATENATE(C11489,#REF!,#REF!))","v":""}]
[null,null,null,null,null,null," ",null,null,{"$f":"IF(ISBLANK(D11495),\"\",CONCATENATE(C11495,#REF!,#REF!))","v":""}]
[null,null,null,null,null,null," ",null,null,{"$f":"IF(ISBLANK(D11500),\"\",CONCATENATE(C11500,#REF!,#REF!))","v":""}]
[null,null,null,null,null,null," ",null,null,{"$f":"IF(ISBLANK(D11505),\"\",CONCATENATE(C11505,#REF!,#REF!))","v":""}]
[null,null,null,null,null,null," ",null,null,{"$f":"IF(ISBLANK(D11511),\"\",CONCATENATE(C11511,#REF!,#REF!))","v":""}]
[null,null,null,null,null,null," ",null,null,{"$f":"IF(ISBLANK(D11516),\"\",CONCATENATE(C11516,#REF!,#REF!))","v":""}]
[null,null,null,null,null,null," ",null,null,{"$f":"IF(ISBLANK(D11522),\"\",CONCATENATE(C11522,#REF!,#REF!))","v":""}]
[null,null,null,null,null,null," ",null,null,{"$f":"IF(ISBLANK(D11527),\"\",CONCATENATE(C11527,#REF!,#REF!))","v":""}]
[null,null,null,null,null,null," ",null,null,{"$f":"IF(ISBLANK(D11532),\"\",CONCATENATE(C11532,#REF!,#REF!))","v":""}]
[null,null,null,null,null,null," ",null,null,{"$f":"IF(ISBLANK(D11533),\"\",CONCATENATE(C11533,#REF!,#REF!))","v":""}]
[null,null,null,null,null,null," ",null,null,{"$f":"IF(ISBLANK(D11538),\"\",CONCATENATE(C11538,#REF!,#REF!))","v":""}]
[null,null,null,null,null,null," ",null,null,{"$f":"IF(ISBLANK(D11544),\"\",CONCATENATE(C11544,#REF!,#REF!))","v":""}]
[null,null,null,null,null,null," ",null,null,{"$f":"IF(ISBLANK(D11549),\"\",CONCATENATE(C11549,#REF!,#REF!))","v":""}]
[null,null,null,null,null,null," ",null,null,{"$f":"IF(ISBLANK(D11557),\"\",CONCATENATE(C11557,#REF!,#REF!))","v":""}]
[null,null,null,null,null,null," ",null,null,{"$f":"IF(ISBLANK(D11561),\"\",CONCATENATE(C11561,#REF!,#REF!))","v":""}]
[null,null,null,null,null,null," ",null,null,{"$f":"IF(ISBLANK(D11566),\"\",CONCATENATE(C11566,#REF!,#REF!))","v":""}]
[null,null,null,null,null,null," ",null,null,{"$f":"IF(ISBLANK(D11571),\"\",CONCATENATE(C11571,#REF!,#REF!))","v":""}]
[null,null,null,null,null,null," ",null,null,{"$f":"IF(ISBLANK(D11577),\"\",CONCATENATE(C11577,#REF!,#REF!))","v":""}]
[null,null,null,null,null,null," ",null,null,{"$f":"IF(ISBLANK(D11582),\"\",CONCATENATE(C11582,#REF!,#REF!))","v":""}]
[null,null,null,null,null,null," ",null,null,{"$f":"IF(ISBLANK(D11588),\"\",CONCATENATE(C11588,#REF!,#REF!))","v":""}]
[null,null,null,null,null,null," ",null,null,{"$f":"IF(ISBLANK(D11593),\"\",CONCATENATE(C11593,#REF!,#REF!))","v":""}]
[null,null,null,null,null,null," ",null,null,{"$f":"IF(ISBLANK(D11598),\"\",CONCATENATE(C11598,#REF!,#REF!))","v":""}]
[null,null,null,null,null,null," ",null,null,{"$f":"IF(ISBLANK(D11599),\"\",CONCATENATE(C11599,#REF!,#REF!))","v":""}]
[null,null,null,null,null,null," ",null,null,{"$f":"IF(ISBLANK(D11604),\"\",CONCATENATE(C11604,#REF!,#REF!))","v":""}]
[null,null,null,null,null,null," ",null,null,{"$f":"IF(ISBLANK(D11609),\"\",CONCATENATE(C11609,#REF!,#REF!))","v":""}]
[null,null,null,null,null,null," ",null,null,{"$f":"IF(ISBLANK(D11615),\"\",CONCATENATE(C11615,#REF!,#REF!))","v":""}]
[null,null,null,null,null,null," ",null,null,{"$f":"IF(ISBLANK(D11620),\"\",CONCATENATE(C11620,#REF!,#REF!))","v":""}]
[null,null,null,null,null,null," ",null,null,{"$f":"IF(ISBLANK(D11626),\"\",CONCATENATE(C11626,#REF!,#REF!))","v":""}]
[null,null,null,null,null,null," ",null,null,{"$f":"IF(ISBLANK(D11631),\"\",CONCATENATE(C11631,#REF!,#REF!))","v":""}]
[null,null,null,null,null,null," ",null,null,{"$f":"IF(ISBLANK(D11638),\"\",CONCATENATE(C11638,#REF!,#REF!))","v":""}]
[null,null,null,null,null,null," ",null,null,{"$f":"IF(ISBLANK(D11643),\"\",CONCATENATE(C11643,#REF!,#REF!))","v":""}]
[null,null,null,null,null,null," ",null,null,{"$f":"IF(ISBLANK(D11648),\"\",CONCATENATE(C11648,#REF!,#REF!))","v":""}]
[null,null,null,null,null,null," ",null,null,{"$f":"IF(ISBLANK(D11654),\"\",CONCATENATE(C11654,#REF!,#REF!))","v":""}]
[null,null,null,null,null,null," ",null,null,{"$f":"IF(ISBLANK(D11659),\"\",CONCATENATE(C11659,#REF!,#REF!))","v":""}]
[null,null,null,null,null,null," ",null,null,{"$f":"IF(ISBLANK(D11664),\"\",CONCATENATE(C11664,#REF!,#REF!))","v":""}]
[null,null,null,null,null,null," ",null,null,{"$f":"IF(ISBLANK(D11665),\"\",CONCATENATE(C11665,#REF!,#REF!))","v":""}]
[null,null,null,null,null,null," ",null,null,{"$f":"IF(ISBLANK(D11670),\"\",CONCATENATE(C11670,#REF!,#REF!))","v":""}]
[null,null,null,null,null,null," ",null,null,{"$f":"IF(ISBLANK(D11675),\"\",CONCATENATE(C11675,#REF!,#REF!))","v":""}]
[null,null,null,null,null,null," ",null,null,{"$f":"IF(ISBLANK(D11681),\"\",CONCATENATE(C11681,#REF!,#REF!))","v":""}]
[null,null,null,null,null,null," ",null,null,{"$f":"IF(ISBLANK(D11686),\"\",CONCATENATE(C11686,#REF!,#REF!))","v":""}]
[null,null,null,null,null,null," ",null,null,{"$f":"IF(ISBLANK(D11692),\"\",CONCATENATE(C11692,#REF!,#REF!))","v":""}]
[null,null,null,null,null,null," ",null,null,{"$f":"IF(ISBLANK(D11697),\"\",CONCATENATE(C11697,#REF!,#REF!))","v":""}]
[null,null,null,null,null,null," ",null,null,{"$f":"IF(ISBLANK(D11702),\"\",CONCATENATE(C11702,#REF!,#REF!))","v":""}]
[null,null,null,null,null,null," ",null,null,{"$f":"IF(ISBLANK(D11708),\"\",CONCATENATE(C11708,#REF!,#REF!))","v":""}]
[null,null,null,null,null,null," ",null,null,{"$f":"IF(ISBLANK(D11713),\"\",CONCATENATE(C11713,#REF!,#REF!))","v":""}]
[null,null,null,null,null,null," ",null,null,{"$f":"IF(ISBLANK(D11719),\"\",CONCATENATE(C11719,#REF!,#REF!))","v":""}]
[null,null,null,null,null,null," ",null,null,{"$f":"IF(ISBLANK(D11725),\"\",CONCATENATE(C11725,#REF!,#REF!))","v":""}]
[null,null,null,null,null,null," ",null,null,{"$f":"IF(ISBLANK(D11730),\"\",CONCATENATE(C11730,#REF!,#REF!))","v":""}]
[null,null,null,null,null,null," ",null,null,{"$f":"IF(ISBLANK(D11731),\"\",CONCATENATE(C11731,#REF!,#REF!))","v":""}]
[null,null,null,null,null,null," ",null,null,{"$f":"IF(ISBLANK(D11736),\"\",CONCATENATE(C11736,#REF!,#REF!))","v":""}]
[null,null,null,null,null,null," ",null,null,{"$f":"IF(ISBLANK(D11741),\"\",CONCATENATE(C11741,#REF!,#REF!))","v":""}]
[null,null,null,null,null,null," ",null,null,{"$f":"IF(ISBLANK(D11747),\"\",CONCATENATE(C11747,#REF!,#REF!))","v":""}]
[null,null,null,null,null,null," ",null,null,{"$f":"IF(ISBLANK(D11752),\"\",CONCATENATE(C11752,#REF!,#REF!))","v":""}]
[null,null,null,null,null,null," ",null,null,{"$f":"IF(ISBLANK(D11758),\"\",CONCATENATE(C11758,#REF!,#REF!))","v":""}]
[null,null,null,null,null,null," ",null,null,{"$f":"IF(ISBLANK(D11763),\"\",CONCATENATE(C11763,#REF!,#REF!))","v":""}]
[null,null,null,null,null,null," ",null,null,{"$f":"IF(ISBLANK(D11768),\"\",CONCATENATE(C11768,#REF!,#REF!))","v":""}]
[null,null,null,null,null,null," ",null,null,{"$f":"IF(ISBLANK(D11774),\"\",CONCATENATE(C11774,#REF!,#REF!))","v":""}]
[null,null,null,null,null,null," ",null,null,{"$f":"IF(ISBLANK(D11779),\"\",CONCATENATE(C11779,#REF!,#REF!))","v":""}]
[null,null,null,null,null,null," ",null,null,{"$f":"IF(ISBLANK(D11784),\"\",CONCATENATE(C11784,#REF!,#REF!))","v":""}]
[null,null,null,null,null,null," ",null,null,{"$f":"IF(ISBLANK(D11790),\"\",CONCATENATE(C11790,#REF!,#REF!))","v":""}]
[null,null,null,null,null,null," ",null,null,{"$f":"IF(ISBLANK(D11795),\"\",CONCATENATE(C11795,#REF!,#REF!))","v":""}]
[null,null,null,null,null,null," ",null,null,{"$f":"IF(ISBLANK(D11798),\"\",CONCATENATE(C11798,#REF!,#REF!))","v":""}]
[null,null,null,null,null,null," ",null,null,{"$f":"IF(ISBLANK(D11802),\"\",CONCATENATE(C11802,#REF!,#REF!))","v":""}]
[null,null,null,null,null,null," ",null,null,{"$f":"IF(ISBLANK(D11807),\"\",CONCATENATE(C11807,#REF!,#REF!))","v":""}]
[null,null,null,null,null,null," ",null,null,{"$f":"IF(ISBLANK(D11813),\"\",CONCATENATE(C11813,#REF!,#REF!))","v":""}]
[null,null,null,null,null,null," ",null,null,{"$f":"IF(ISBLANK(D11818),\"\",CONCATENATE(C11818,#REF!,#REF!))","v":""}]
[null,null,null,null,null,null," ",null,null,{"$f":"IF(ISBLANK(D11824),\"\",CONCATENATE(C11824,#REF!,#REF!))","v":""}]
[null,null,null,null,null,null," ",null,null,{"$f":"IF(ISBLANK(D11829),\"\",CONCATENATE(C11829,#REF!,#REF!))","v":""}]
[null,null,null,null,null,null," ",null,null,{"$f":"IF(ISBLANK(D11834),\"\",CONCATENATE(C11834,#REF!,#REF!))","v":""}]
[null,null,null,null,null,null," ",null,null,{"$f":"IF(ISBLANK(D11840),\"\",CONCATENATE(C11840,#REF!,#REF!))","v":""}]
[null,null,null,null,null,null," ",null,null,{"$f":"IF(ISBLANK(D11845),\"\",CONCATENATE(C11845,#REF!,#REF!))","v":""}]
[null,null,null,null,null,null," ",null,null,{"$f":"IF(ISBLANK(D11850),\"\",CONCATENATE(C11850,#REF!,#REF!))","v":""}]
[null,null,null,null,null,null," ",null,null,{"$f":"IF(ISBLANK(D11856),\"\",CONCATENATE(C11856,#REF!,#REF!))","v":""}]
[null,null,null,null,null,null," ",null,null,{"$f":"IF(ISBLANK(D11861),\"\",CONCATENATE(C11861,#REF!,#REF!))","v":""}]
[null,null,null,null,null,null," ",null,null,{"$f":"IF(ISBLANK(D11862),\"\",CONCATENATE(C11862,#REF!,#REF!))","v":""}]
[null,null,null,null,null,null," ",null,null,{"$f":"IF(ISBLANK(D11867),\"\",CONCATENATE(C11867,#REF!,#REF!))","v":""}]
[null,null,null,null,null,null," ",null,null,{"$f":"IF(ISBLANK(D11872),\"\",CONCATENATE(C11872,#REF!,#REF!))","v":""}]
[null,null,null,null,null,null," ",null,null,{"$f":"IF(ISBLANK(D11879),\"\",CONCATENATE(C11879,#REF!,#REF!))","v":""}]
[null,null,null,null,null,null," ",null,null,{"$f":"IF(ISBLANK(D11884),\"\",CONCATENATE(C11884,#REF!,#REF!))","v":""}]
[null,null,null,null,null,null," ",null,null,{"$f":"IF(ISBLANK(D11889),\"\",CONCATENATE(C11889,#REF!,#REF!))","v":""}]
[null,null,null,null,null,null," ",null,null,{"$f":"IF(ISBLANK(D11895),\"\",CONCATENATE(C11895,#REF!,#REF!))","v":""}]
[null,null,null,null,null,null,null,null,null,{"$f":"IF(ISBLANK(D11900),\"\",CONCATENATE(C11900,#REF!,#REF!))","v":""}]
[null,null,null,null,null,null,null,null,null,{"$f":"IF(ISBLANK(D11906),\"\",CONCATENATE(C11906,#REF!,#REF!))","v":""}]
[null,null,null,null,null,null,null,null,null,{"$f":"IF(ISBLANK(D11911),\"\",CONCATENATE(C11911,#REF!,#REF!))","v":""}]
[null,null,null,null,null,null,null,null,null,{"$f":"IF(ISBLANK(D11916),\"\",CONCATENATE(C11916,#REF!,#REF!))","v":""}]
[null,null,null,null,null,null,null,null,null,{"$f":"IF(ISBLANK(D11922),\"\",CONCATENATE(C11922,#REF!,#REF!))","v":""}]
[null,null,null,null,null,null,null,null,null,{"$f":"IF(ISBLANK(D11927),\"\",CONCATENATE(C11927,#REF!,#REF!))","v":""}]
[null,null,null,null,null,null,null,null,null,{"$f":"IF(ISBLANK(D11928),\"\",CONCATENATE(C11928,#REF!,#REF!))","v":""}]
[null,null,null,null,null,null,null,null,null,{"$f":"IF(ISBLANK(D11933),\"\",CONCATENATE(C11933,#REF!,#REF!))","v":""}]
[null,null,null,null,null,null,null,null,null,{"$f":"IF(ISBLANK(D11938),\"\",CONCATENATE(C11938,#REF!,#REF!))","v":""}]
[null,null,null,null,null,null,null,null,null,{"$f":"IF(ISBLANK(D11944),\"\",CONCATENATE(C11944,#REF!,#REF!))","v":""}]
[null,null,null,null,null,null,null,null,null,{"$f":"IF(ISBLANK(D11949),\"\",CONCATENATE(C11949,#REF!,#REF!))","v":""}]
[null,null,null,null,null,null,null,null,null,{"$f":"IF(ISBLANK(D11954),\"\",CONCATENATE(C11954,#REF!,#REF!))","v":""}]
[null,null,null,null,null,null,null,null,null,{"$f":"IF(ISBLANK(D11960),\"\",CONCATENATE(C11960,#REF!,#REF!))","v":""}]
[null,null,null,null,null,null,null,null,null,{"$f":"IF(ISBLANK(D11966),\"\",CONCATENATE(C11966,#REF!,#REF!))","v":""}]
[null,null,null,null,null,null,null,null,null,{"$f":"IF(ISBLANK(D11972),\"\",CONCATENATE(C11972,#REF!,#REF!))","v":""}]
[null,null,null,null,null,null,null,null,null,{"$f":"IF(ISBLANK(D11977),\"\",CONCATENATE(C11977,#REF!,#REF!))","v":""}]
[null,null,null,null,null,null,null,null,null,{"$f":"IF(ISBLANK(D11982),\"\",CONCATENATE(C11982,#REF!,#REF!))","v":""}]
[null,null,null,null,null,null,null,null,null,{"$f":"IF(ISBLANK(D11988),\"\",CONCATENATE(C11988,#REF!,#REF!))","v":""}]
[null,null,null,null,null,null,null,null,null,{"$f":"IF(ISBLANK(D11993),\"\",CONCATENATE(C11993,#REF!,#REF!))","v":""}]
[null,null,null,null,null,null,null,null,null,{"$f":"IF(ISBLANK(D11994),\"\",CONCATENATE(C11994,#REF!,#REF!))","v":""}]
[null,null,null,null,null,null,null,null,null,{"$f":"IF(ISBLANK(D11999),\"\",CONCATENATE(C11999,#REF!,#REF!))","v":""}]
[null,null,null,null,null,null,null,null,null,{"$f":"IF(ISBLANK(D12004),\"\",CONCATENATE(C12004,#REF!,#REF!))","v":""}]
[null,null,null,null,null,null,null,null,null,{"$f":"IF(ISBLANK(D12010),\"\",CONCATENATE(C12010,#REF!,#REF!))","v":""}]
[null,null,null,null,null,null,null,null,null,{"$f":"IF(ISBLANK(D12015),\"\",CONCATENATE(C12015,#REF!,#REF!))","v":""}]
[null,null,null,null,null,null,null,null,null,{"$f":"IF(ISBLANK(D12020),\"\",CONCATENATE(C12020,#REF!,#REF!))","v":""}]
[null,null,null,null,null,null,null,null,null,{"$f":"IF(ISBLANK(D12026),\"\",CONCATENATE(C12026,#REF!,#REF!))","v":""}]
[null,null,null,null,null,null,null,null,null,{"$f":"IF(ISBLANK(D12031),\"\",CONCATENATE(C12031,#REF!,#REF!))","v":""}]
[null,null,null,null,null,null,null,null,null,{"$f":"IF(ISBLANK(D12037),\"\",CONCATENATE(C12037,#REF!,#REF!))","v":""}]
[null,null,null,null,null,null,null,null,null,{"$f":"IF(ISBLANK(D12041),\"\",CONCATENATE(C12041,#REF!,#REF!))","v":""}]
[null,null,null,null,null,null,null,null,null,{"$f":"IF(ISBLANK(D12048),\"\",CONCATENATE(C12048,#REF!,#REF!))","v":""}]
[null,null,null,null,null,null,null,null,null,{"$f":"IF(ISBLANK(D12054),\"\",CONCATENATE(C12054,#REF!,#REF!))","v":""}]
[null,null,null,null,null,null,null,null,null,{"$f":"IF(ISBLANK(D12059),\"\",CONCATENATE(C12059,#REF!,#REF!))","v":""}]
[null,null,null,null,null,null,null,null,null,{"$f":"IF(ISBLANK(D12064),\"\",CONCATENATE(C12064,#REF!,#REF!))","v":""}]
[null,null,null,null,null,null,null,null,null,{"$f":"IF(ISBLANK(D12065),\"\",CONCATENATE(C12065,#REF!,#REF!))","v":""}]
[null,null,null,null,null,null,null,null,null,{"$f":"IF(ISBLANK(D12070),\"\",CONCATENATE(C12070,#REF!,#REF!))","v":""}]
[null,null,null,null,null,null,null,null,null,{"$f":"IF(ISBLANK(D12076),\"\",CONCATENATE(C12076,#REF!,#REF!))","v":""}]
[null,null,null,null,null,null,null,null,null,{"$f":"IF(ISBLANK(D12081),\"\",CONCATENATE(C12081,#REF!,#REF!))","v":""}]
[null,null,null,null,null,null,null,null,null,{"$f":"IF(ISBLANK(D12086),\"\",CONCATENATE(C12086,#REF!,#REF!))","v":""}]
[null,null,null,null,null,null,null,null,null,{"$f":"IF(ISBLANK(D12092),\"\",CONCATENATE(C12092,#REF!,#REF!))","v":""}]
[null,null,null,null,null,null,null,null,null,{"$f":"IF(ISBLANK(D12097),\"\",CONCATENATE(C12097,#REF!,#REF!))","v":""}]
[null,null,null,null,null,null,null,null,null,{"$f":"IF(ISBLANK(D12103),\"\",CONCATENATE(C12103,#REF!,#REF!))","v":""}]
[null,null,null,null,null,null,null,null,null,{"$f":"IF(ISBLANK(D12108),\"\",CONCATENATE(C12108,#REF!,#REF!))","v":""}]
[null,null,null,null,null,null,null,null,null,{"$f":"IF(ISBLANK(D12113),\"\",CONCATENATE(C12113,#REF!,#REF!))","v":""}]
[null,null,null,null,null,null,null,null,null,{"$f":"IF(ISBLANK(D12119),\"\",CONCATENATE(C12119,#REF!,#REF!))","v":""}]
[null,null,null,null,null,null,null,null,null,{"$f":"IF(ISBLANK(D12122),\"\",CONCATENATE(C12122,#REF!,#REF!))","v":""}]
[null,null,null,null,null,null,null,null,null,{"$f":"IF(ISBLANK(D12126),\"\",CONCATENATE(C12126,#REF!,#REF!))","v":""}]
[null,null,null,null,null,null,null,null,null,{"$f":"IF(ISBLANK(D12127),\"\",CONCATENATE(C12127,#REF!,#REF!))","v":""}]
[null,null,null,null,null,null,null,null,null,{"$f":"IF(ISBLANK(D12128),\"\",CONCATENATE(C12128,#REF!,#REF!))","v":""}]
[null,null,null,null,null,null,null,null,null,{"$f":"IF(ISBLANK(D12129),\"\",CONCATENATE(C12129,#REF!,#REF!))","v":""}]
[null,null,null,null,null,null,null,null,null,{"$f":"IF(ISBLANK(D12130),\"\",CONCATENATE(C12130,#REF!,#REF!))","v":""}]
[null,null,null,null,null,null,null,null,null,{"$f":"IF(ISBLANK(D12131),\"\",CONCATENATE(C12131,#REF!,#REF!))","v":""}]
[null,null,null,null,null,null,null,null,null,{"$f":"IF(ISBLANK(D12132),\"\",CONCATENATE(C12132,#REF!,#REF!))","v":""}]
[null,null,null,null,null,null,null,null,null,{"$f":"IF(ISBLANK(D12133),\"\",CONCATENATE(C12133,#REF!,#REF!))","v":""}]
[null,null,null,null,null,null,null,null,null,{"$f":"IF(ISBLANK(D12134),\"\",CONCATENATE(C12134,#REF!,#REF!))","v":""}]
[null,null,null,null,null,null,null,null,null,{"$f":"IF(ISBLANK(D12135),\"\",CONCATENATE(C12135,#REF!,#REF!))","v":""}]
[null,null,null,null,null,null,null,null,null,{"$f":"IF(ISBLANK(D12136),\"\",CONCATENATE(C12136,#REF!,#REF!))","v":""}]
[null,null,null,null,null,null,null,null,null,{"$f":"IF(ISBLANK(D12137),\"\",CONCATENATE(C12137,#REF!,#REF!))","v":""}]
[null,null,null,null,null,null,null,null,null,{"$f":"IF(ISBLANK(D12138),\"\",CONCATENATE(C12138,#REF!,#REF!))","v":""}]
[null,null,null,null,null,null,null,null,null,{"$f":"IF(ISBLANK(D12139),\"\",CONCATENATE(C12139,#REF!,#REF!))","v":""}]
[null,null,null,null,null,null,null,null,null,{"$f":"IF(ISBLANK(D12140),\"\",CONCATENATE(C12140,#REF!,#REF!))","v":""}]
[null,null,null,null,null,null,null,null,null,{"$f":"IF(ISBLANK(D12141),\"\",CONCATENATE(C12141,#REF!,#REF!))","v":""}]
[null,null,null,null,null,null,null,null,null,{"$f":"IF(ISBLANK(D12142),\"\",CONCATENATE(C12142,#REF!,#REF!))","v":""}]
[null,null,null,null,null,null,null,null,null,{"$f":"IF(ISBLANK(D12143),\"\",CONCATENATE(C12143,#REF!,#REF!))","v":""}]
[null,null,null,null,null,null,null,null,null,{"$f":"IF(ISBLANK(D12144),\"\",CONCATENATE(C12144,#REF!,#REF!))","v":""}]
[null,null,null,null,null,null,null,null,null,{"$f":"IF(ISBLANK(D12145),\"\",CONCATENATE(C12145,#REF!,#REF!))","v":""}]
[null,null,null,null,null,null,null,null,null,{"$f":"IF(ISBLANK(D12146),\"\",CONCATENATE(C12146,#REF!,#REF!))","v":""}]
[null,null,null,null,null,null,null,null,null,{"$f":"IF(ISBLANK(D12147),\"\",CONCATENATE(C12147,#REF!,#REF!))","v":""}]
[null,null,null,null,null,null,null,null,null,{"$f":"IF(ISBLANK(D12148),\"\",CONCATENATE(C12148,#REF!,#REF!))","v":""}]
[null,null,null,null,null,null,null,null,null,{"$f":"IF(ISBLANK(D12149),\"\",CONCATENATE(C12149,#REF!,#REF!))","v":""}]
[null,null,null,null,null,null,null,null,null,{"$f":"IF(ISBLANK(D12150),\"\",CONCATENATE(C12150,#REF!,#REF!))","v":""}]
[null,null,null,null,null,null,null,null,null,{"$f":"IF(ISBLANK(D12151),\"\",CONCATENATE(C12151,#REF!,#REF!))","v":""}]
[null,null,null,null,null,null,null,null,null,{"$f":"IF(ISBLANK(D12152),\"\",CONCATENATE(C12152,#REF!,#REF!))","v":""}]
[null,null,null,null,null,null,null,null,null,{"$f":"IF(ISBLANK(D12153),\"\",CONCATENATE(C12153,#REF!,#REF!))","v":""}]
[null,null,null,null,null,null,null,null,null,{"$f":"IF(ISBLANK(D12154),\"\",CONCATENATE(C12154,#REF!,#REF!))","v":""}]
[null,null,null,null,null,null,null,null,null,{"$f":"IF(ISBLANK(D12155),\"\",CONCATENATE(C12155,#REF!,#REF!))","v":""}]
[null,null,null,null,null,null,null,null,null,{"$f":"IF(ISBLANK(D12156),\"\",CONCATENATE(C12156,#REF!,#REF!))","v":""}]
[null,null,null,null,null,null,null,null,null,{"$f":"IF(ISBLANK(D12157),\"\",CONCATENATE(C12157,#REF!,#REF!))","v":""}]
[null,null,null,null,null,null,null,null,null,{"$f":"IF(ISBLANK(D12158),\"\",CONCATENATE(C12158,#REF!,#REF!))","v":""}]
[null,null,null,null,null,null,null,null,null,{"$f":"IF(ISBLANK(D12159),\"\",CONCATENATE(C12159,#REF!,#REF!))","v":""}]
[null,null,null,null,null,null,null,null,null,{"$f":"IF(ISBLANK(D12160),\"\",CONCATENATE(C12160,#REF!,#REF!))","v":""}]
[null,null,null,null,null,null,null,null,null,{"$f":"IF(ISBLANK(D12161),\"\",CONCATENATE(C12161,#REF!,#REF!))","v":""}]
[null,null,null,null,null,null,null,null,null,{"$f":"IF(ISBLANK(D12162),\"\",CONCATENATE(C12162,#REF!,#REF!))","v":""}]
[null,null,null,null,null,null,null,null,null,{"$f":"IF(ISBLANK(D12163),\"\",CONCATENATE(C12163,#REF!,#REF!))","v":""}]
[null,null,null,null,null,null,null,null,null,{"$f":"IF(ISBLANK(D12164),\"\",CONCATENATE(C12164,#REF!,#REF!))","v":""}]
[null,null,null,null,null,null,null,null,null,{"$f":"IF(ISBLANK(D12165),\"\",CONCATENATE(C12165,#REF!,#REF!))","v":""}]
[null,null,null,null,null,null,null,null,null,{"$f":"IF(ISBLANK(D12166),\"\",CONCATENATE(C12166,#REF!,#REF!))","v":""}]
[null,null,null,null,null,null,null,null,null,{"$f":"IF(ISBLANK(D12167),\"\",CONCATENATE(C12167,#REF!,#REF!))","v":""}]
[null,null,null,null,null,null,null,null,null,{"$f":"IF(ISBLANK(D12168),\"\",CONCATENATE(C12168,#REF!,#REF!))","v":""}]
[null,null,null,null,null,null,null,null,null,{"$f":"IF(ISBLANK(D12169),\"\",CONCATENATE(C12169,#REF!,#REF!))","v":""}]
[null,null,null,null,null,null,null,null,null,{"$f":"IF(ISBLANK(D12170),\"\",CONCATENATE(C12170,#REF!,#REF!))","v":""}]
[null,null,null,null,null,null,null,null,null,{"$f":"IF(ISBLANK(D12171),\"\",CONCATENATE(C12171,#REF!,#REF!))","v":""}]
[null,null,null,null,null,null,null,null,null,{"$f":"IF(ISBLANK(D12172),\"\",CONCATENATE(C12172,#REF!,#REF!))","v":""}]
[null,null,null,null,null,null,null,null,null,{"$f":"IF(ISBLANK(D12173),\"\",CONCATENATE(C12173,#REF!,#REF!))","v":""}]
[null,null,null,null,null,null,null,null,null,{"$f":"IF(ISBLANK(D12174),\"\",CONCATENATE(C12174,#REF!,#REF!))","v":""}]
[null,null,null,null,null,null,null,null,null,{"$f":"IF(ISBLANK(D12175),\"\",CONCATENATE(C12175,#REF!,#REF!))","v":""}]
[null,null,null,null,null,null,null,null,null,{"$f":"IF(ISBLANK(D12176),\"\",CONCATENATE(C12176,#REF!,#REF!))","v":""}]
[null,null,null,null,null,null,null,null,null,{"$f":"IF(ISBLANK(D12177),\"\",CONCATENATE(C12177,#REF!,#REF!))","v":""}]
[null,null,null,null,null,null,null,null,null,{"$f":"IF(ISBLANK(D12178),\"\",CONCATENATE(C12178,#REF!,#REF!))","v":""}]
[null,null,null,null,null,null,null,null,null,{"$f":"IF(ISBLANK(D12179),\"\",CONCATENATE(C12179,#REF!,#REF!))","v":""}]
[null,null,null,null,null,null,null,null,null,{"$f":"IF(ISBLANK(D12180),\"\",CONCATENATE(C12180,#REF!,#REF!))","v":""}]
[null,null,null,null,null,null,null,null,null,{"$f":"IF(ISBLANK(D12181),\"\",CONCATENATE(C12181,#REF!,#REF!))","v":""}]
[null,null,null,null,null,null,null,null,null,{"$f":"IF(ISBLANK(D12182),\"\",CONCATENATE(C12182,#REF!,#REF!))","v":""}]
[null,null,null,null,null,null,null,null,null,{"$f":"IF(ISBLANK(D12183),\"\",CONCATENATE(C12183,#REF!,#REF!))","v":""}]
[null,null,null,null,null,null,null,null,null,{"$f":"IF(ISBLANK(D12184),\"\",CONCATENATE(C12184,#REF!,#REF!))","v":""}]
[null,null,null,null,null,null,null,null,null,{"$f":"IF(ISBLANK(D12185),\"\",CONCATENATE(C12185,#REF!,#REF!))","v":""}]
[null,null,null,null,null,null,null,null,null,{"$f":"IF(ISBLANK(D12186),\"\",CONCATENATE(C12186,#REF!,#REF!))","v":""}]
[null,null,null,null,null,null,null,null,null,{"$f":"IF(ISBLANK(D12187),\"\",CONCATENATE(C12187,#REF!,#REF!))","v":""}]
[null,null,null,null,null,null,null,null,null,{"$f":"IF(ISBLANK(D12188),\"\",CONCATENATE(C12188,#REF!,#REF!))","v":""}]
[null,null,null,null,null,null,null,null,null,{"$f":"IF(ISBLANK(D12189),\"\",CONCATENATE(C12189,#REF!,#REF!))","v":""}]
[null,null,null,null,null,null,null,null,null,{"$f":"IF(ISBLANK(D12190),\"\",CONCATENATE(C12190,#REF!,#REF!))","v":""}]
[null,null,null,null,null,null,null,null,null,{"$f":"IF(ISBLANK(D12191),\"\",CONCATENATE(C12191,#REF!,#REF!))","v":""}]
[null,null,null,null,null,null,null,null,null,{"$f":"IF(ISBLANK(D12192),\"\",CONCATENATE(C12192,#REF!,#REF!))","v":""}]
[null,null,null,null,null,null,null,null,null,{"$f":"IF(ISBLANK(D12193),\"\",CONCATENATE(C12193,#REF!,#REF!))","v":""}]
[null,null,null,null,null,null,null,null,null,{"$f":"IF(ISBLANK(D12194),\"\",CONCATENATE(C12194,#REF!,#REF!))","v":""}]
[null,null,null,null,null,null,null,null,null,{"$f":"IF(ISBLANK(D12195),\"\",CONCATENATE(C12195,#REF!,#REF!))","v":""}]
[null,null,null,null,null,null,null,null,null,{"$f":"IF(ISBLANK(D12196),\"\",CONCATENATE(C12196,#REF!,#REF!))","v":""}]
[null,null,null,null,null,null,null,null,null,{"$f":"IF(ISBLANK(D12197),\"\",CONCATENATE(C12197,#REF!,#REF!))","v":""}]
[null,null,null,null,null,null,null,null,null,{"$f":"IF(ISBLANK(D12198),\"\",CONCATENATE(C12198,#REF!,#REF!))","v":""}]
[null,null,null,null,null,null,null,null,null,{"$f":"IF(ISBLANK(D12199),\"\",CONCATENATE(C12199,#REF!,#REF!))","v":""}]
[null,null,null,null,null,null,null,null,null,{"$f":"IF(ISBLANK(D12200),\"\",CONCATENATE(C12200,#REF!,#REF!))","v":""}]
[null,null,null,null,null,null,null,null,null,{"$f":"IF(ISBLANK(D12201),\"\",CONCATENATE(C12201,#REF!,#REF!))","v":""}]
[null,null,null,null,null,null,null,null,null,{"$f":"IF(ISBLANK(D12202),\"\",CONCATENATE(C12202,#REF!,#REF!))","v":""}]
[null,null,null,null,null,null,null,null,null,{"$f":"IF(ISBLANK(D12203),\"\",CONCATENATE(C12203,#REF!,#REF!))","v":""}]
[null,null,null,null,null,null,null,null,null,{"$f":"IF(ISBLANK(D12204),\"\",CONCATENATE(C12204,#REF!,#REF!))","v":""}]
[null,null,null,null,null,null,null,null,null,{"$f":"IF(ISBLANK(D12205),\"\",CONCATENATE(C12205,#REF!,#REF!))","v":""}]
[null,null,null,null,null,null,null,null,null,{"$f":"IF(ISBLANK(D12206),\"\",CONCATENATE(C12206,#REF!,#REF!))","v":""}]
[null,null,null,null,null,null,null,null,null,{"$f":"IF(ISBLANK(D12207),\"\",CONCATENATE(C12207,#REF!,#REF!))","v":""}]
[null,null,null,null,null,null,null,null,null,{"$f":"IF(ISBLANK(D12208),\"\",CONCATENATE(C12208,#REF!,#REF!))","v":""}]
[null,null,null,null,null,null,null,null,null,{"$f":"IF(ISBLANK(D12209),\"\",CONCATENATE(C12209,#REF!,#REF!))","v":""}]
[null,null,null,null,null,null,null,null,null,{"$f":"IF(ISBLANK(D12210),\"\",CONCATENATE(C12210,#REF!,#REF!))","v":""}]
[null,null,null,null,null,null,null,null,null,{"$f":"IF(ISBLANK(D12211),\"\",CONCATENATE(C12211,#REF!,#REF!))","v":""}]
[null,null,null,null,null,null,null,null,null,{"$f":"IF(ISBLANK(D12212),\"\",CONCATENATE(C12212,#REF!,#REF!))","v":""}]
[null,null,null,null,null,null,null,null,null,{"$f":"IF(ISBLANK(D12213),\"\",CONCATENATE(C12213,#REF!,#REF!))","v":""}]
[null,null,null,null,null,null,null,null,null,{"$f":"IF(ISBLANK(D12214),\"\",CONCATENATE(C12214,#REF!,#REF!))","v":""}]
[null,null,null,null,null,null,null,null,null,{"$f":"IF(ISBLANK(D12215),\"\",CONCATENATE(C12215,#REF!,#REF!))","v":""}]
[null,null,null,null,null,null,null,null,null,{"$f":"IF(ISBLANK(D12216),\"\",CONCATENATE(C12216,#REF!,#REF!))","v":""}]
[null,null,null,null,null,null,null,null,null,{"$f":"IF(ISBLANK(D12217),\"\",CONCATENATE(C12217,#REF!,#REF!))","v":""}]
[null,null,null,null,null,null,null,null,null,{"$f":"IF(ISBLANK(D12218),\"\",CONCATENATE(C12218,#REF!,#REF!))","v":""}]
[null,null,null,null,null,null,null,null,null,{"$f":"IF(ISBLANK(D12219),\"\",CONCATENATE(C12219,#REF!,#REF!))","v":""}]
[null,null,null,null,null,null,null,null,null,{"$f":"IF(ISBLANK(D12220),\"\",CONCATENATE(C12220,#REF!,#REF!))","v":""}]
[null,null,null,null,null,null,null,null,null,{"$f":"IF(ISBLANK(D12221),\"\",CONCATENATE(C12221,#REF!,#REF!))","v":""}]
[null,null,null,null,null,null,null,null,null,{"$f":"IF(ISBLANK(D12222),\"\",CONCATENATE(C12222,#REF!,#REF!))","v":""}]
[null,null,null,null,null,null,null,null,null,{"$f":"IF(ISBLANK(D12223),\"\",CONCATENATE(C12223,#REF!,#REF!))","v":""}]
[null,null,null,null,null,null,null,null,null,{"$f":"IF(ISBLANK(D12224),\"\",CONCATENATE(C12224,#REF!,#REF!))","v":""}]
[null,null,null,null,null,null,null,null,null,{"$f":"IF(ISBLANK(D12225),\"\",CONCATENATE(C12225,#REF!,#REF!))","v":""}]
[null,null,null,null,null,null,null,null,null,{"$f":"IF(ISBLANK(D12226),\"\",CONCATENATE(C12226,#REF!,#REF!))","v":""}]
[null,null,null,null,null,null,null,null,null,{"$f":"IF(ISBLANK(D12227),\"\",CONCATENATE(C12227,#REF!,#REF!))","v":""}]
[null,null,null,null,null,null,null,null,null,{"$f":"IF(ISBLANK(D12228),\"\",CONCATENATE(C12228,#REF!,#REF!))","v":""}]
[null,null,null,null,null,null,null,null,null,{"$f":"IF(ISBLANK(D12229),\"\",CONCATENATE(C12229,#REF!,#REF!))","v":""}]
[null,null,null,null,null,null,null,null,null,{"$f":"IF(ISBLANK(D12230),\"\",CONCATENATE(C12230,#REF!,#REF!))","v":""}]
[null,null,null,null,null,null,null,null,null,{"$f":"IF(ISBLANK(D12231),\"\",CONCATENATE(C12231,#REF!,#REF!))","v":""}]
[null,null,null,null,null,null,null,null,null,{"$f":"IF(ISBLANK(D12232),\"\",CONCATENATE(C12232,#REF!,#REF!))","v":""}]
[null,null,null,null,null,null,null,null,null,{"$f":"IF(ISBLANK(D12233),\"\",CONCATENATE(C12233,#REF!,#REF!))","v":""}]
[null,null,null,null,null,null,null,null,null,{"$f":"IF(ISBLANK(D12234),\"\",CONCATENATE(C12234,#REF!,#REF!))","v":""}]
[null,null,null,null,null,null,null,null,null,{"$f":"IF(ISBLANK(D12235),\"\",CONCATENATE(C12235,#REF!,#REF!))","v":""}]
[null,null,null,null,null,null,null,null,null,{"$f":"IF(ISBLANK(D12236),\"\",CONCATENATE(C12236,#REF!,#REF!))","v":""}]
[null,null,null,null,null,null,null,null,null,{"$f":"IF(ISBLANK(D12237),\"\",CONCATENATE(C12237,#REF!,#REF!))","v":""}]
[null,null,null,null,null,null,null,null,null,{"$f":"IF(ISBLANK(D12238),\"\",CONCATENATE(C12238,#REF!,#REF!))","v":""}]
[null,null,null,null,null,null,null,null,null,{"$f":"IF(ISBLANK(D12239),\"\",CONCATENATE(C12239,#REF!,#REF!))","v":""}]
[null,null,null,null,null,null,null,null,null,{"$f":"IF(ISBLANK(D12240),\"\",CONCATENATE(C12240,#REF!,#REF!))","v":""}]
[null,null,null,null,null,null,null,null,null,{"$f":"IF(ISBLANK(D12241),\"\",CONCATENATE(C12241,#REF!,#REF!))","v":""}]
[null,null,null,null,null,null,null,null,null,{"$f":"IF(ISBLANK(D12242),\"\",CONCATENATE(C12242,#REF!,#REF!))","v":""}]
[null,null,null,null,null,null,null,null,null,{"$f":"IF(ISBLANK(D12243),\"\",CONCATENATE(C12243,#REF!,#REF!))","v":""}]
[null,null,null,null,null,null,null,null,null,{"$f":"IF(ISBLANK(D12244),\"\",CONCATENATE(C12244,#REF!,#REF!))","v":""}]
[null,null,null,null,null,null,null,null,null,{"$f":"IF(ISBLANK(D12245),\"\",CONCATENATE(C12245,#REF!,#REF!))","v":""}]
[null,null,null,null,null,null,null,null,null,{"$f":"IF(ISBLANK(D12246),\"\",CONCATENATE(C12246,#REF!,#REF!))","v":""}]
[null,null,null,null,null,null,null,null,null,{"$f":"IF(ISBLANK(D12247),\"\",CONCATENATE(C12247,#REF!,#REF!))","v":""}]
[null,null,null,null,null,null,null,null,null,{"$f":"IF(ISBLANK(D12248),\"\",CONCATENATE(C12248,#REF!,#REF!))","v":""}]
[null,null,null,null,null,null,null,null,null,{"$f":"IF(ISBLANK(D12249),\"\",CONCATENATE(C12249,#REF!,#REF!))","v":""}]
[null,null,null,null,null,null,null,null,null,{"$f":"IF(ISBLANK(D12250),\"\",CONCATENATE(C12250,#REF!,#REF!))","v":""}]
[null,null,null,null,null,null,null,null,null,{"$f":"IF(ISBLANK(D12251),\"\",CONCATENATE(C12251,#REF!,#REF!))","v":""}]
[null,null,null,null,null,null,null,null,null,{"$f":"IF(ISBLANK(D12252),\"\",CONCATENATE(C12252,#REF!,#REF!))","v":""}]
[null,null,null,null,null,null,null,null,null,{"$f":"IF(ISBLANK(D12253),\"\",CONCATENATE(C12253,#REF!,#REF!))","v":""}]
[null,null,null,null,null,null,null,null,null,{"$f":"IF(ISBLANK(D12254),\"\",CONCATENATE(C12254,#REF!,#REF!))","v":""}]
[null,null,null,null,null,null,null,null,null,{"$f":"IF(ISBLANK(D12255),\"\",CONCATENATE(C12255,#REF!,#REF!))","v":""}]
[null,null,null,null,null,null,null,null,null,{"$f":"IF(ISBLANK(D12256),\"\",CONCATENATE(C12256,#REF!,#REF!))","v":""}]
[null,null,null,null,null,null,null,null,null,{"$f":"IF(ISBLANK(D12257),\"\",CONCATENATE(C12257,#REF!,#REF!))","v":""}]
[null,null,null,null,null,null,null,null,null,{"$f":"IF(ISBLANK(D12258),\"\",CONCATENATE(C12258,#REF!,#REF!))","v":""}]
[null,null,null,null,null,null,null,null,null,{"$f":"IF(ISBLANK(D12259),\"\",CONCATENATE(C12259,#REF!,#REF!))","v":""}]
[null,null,null,null,null,null,null,null,null,{"$f":"IF(ISBLANK(D12260),\"\",CONCATENATE(C12260,#REF!,#REF!))","v":""}]
[null,null,null,null,null,null,null,null,null,{"$f":"IF(ISBLANK(D12261),\"\",CONCATENATE(C12261,#REF!,#REF!))","v":""}]
[null,null,null,null,null,null,null,null,null,{"$f":"IF(ISBLANK(D12262),\"\",CONCATENATE(C12262,#REF!,#REF!))","v":""}]
[null,null,null,null,null,null,null,null,null,{"$f":"IF(ISBLANK(D12263),\"\",CONCATENATE(C12263,#REF!,#REF!))","v":""}]
[null,null,null,null,null,null,null,null,null,{"$f":"IF(ISBLANK(D12264),\"\",CONCATENATE(C12264,#REF!,#REF!))","v":""}]
[null,null,null,null,null,null,null,null,null,{"$f":"IF(ISBLANK(D12265),\"\",CONCATENATE(C12265,#REF!,#REF!))","v":""}]
[null,null,null,null,null,null,null,null,null,{"$f":"IF(ISBLANK(D12266),\"\",CONCATENATE(C12266,#REF!,#REF!))","v":""}]
[null,null,null,null,null,null,null,null,null,{"$f":"IF(ISBLANK(D12267),\"\",CONCATENATE(C12267,#REF!,#REF!))","v":""}]
[null,null,null,null,null,null,null,null,null,{"$f":"IF(ISBLANK(D12268),\"\",CONCATENATE(C12268,#REF!,#REF!))","v":""}]
[null,null,null,null,null,null,null,null,null,{"$f":"IF(ISBLANK(D12269),\"\",CONCATENATE(C12269,#REF!,#REF!))","v":""}]
[null,null,null,null,null,null,null,null,null,{"$f":"IF(ISBLANK(D12270),\"\",CONCATENATE(C12270,#REF!,#REF!))","v":""}]
[null,null,null,null,null,null,null,null,null,{"$f":"IF(ISBLANK(D12271),\"\",CONCATENATE(C12271,#REF!,#REF!))","v":""}]
[null,null,null,null,null,null,null,null,null,{"$f":"IF(ISBLANK(D12272),\"\",CONCATENATE(C12272,#REF!,#REF!))","v":""}]
[null,null,null,null,null,null,null,null,null,{"$f":"IF(ISBLANK(D12273),\"\",CONCATENATE(C12273,#REF!,#REF!))","v":""}]
[null,null,null,null,null,null,null,null,null,{"$f":"IF(ISBLANK(D12274),\"\",CONCATENATE(C12274,#REF!,#REF!))","v":""}]
[null,null,null,null,null,null,null,null,null,{"$f":"IF(ISBLANK(D12275),\"\",CONCATENATE(C12275,#REF!,#REF!))","v":""}]
[null,null,null,null,null,null,null,null,null,{"$f":"IF(ISBLANK(D12276),\"\",CONCATENATE(C12276,#REF!,#REF!))","v":""}]
[null,null,null,null,null,null,null,null,null,{"$f":"IF(ISBLANK(D12277),\"\",CONCATENATE(C12277,#REF!,#REF!))","v":""}]
[null,null,null,null,null,null,null,null,null,{"$f":"IF(ISBLANK(D12278),\"\",CONCATENATE(C12278,#REF!,#REF!))","v":""}]
[null,null,null,null,null,null,null,null,null,{"$f":"IF(ISBLANK(D12279),\"\",CONCATENATE(C12279,#REF!,#REF!))","v":""}]
[null,null,null,null,null,null,null,null,null,{"$f":"IF(ISBLANK(D12280),\"\",CONCATENATE(C12280,#REF!,#REF!))","v":""}]
[null,null,null,null,null,null,null,null,null,{"$f":"IF(ISBLANK(D12281),\"\",CONCATENATE(C12281,#REF!,#REF!))","v":""}]
[null,null,null,null,null,null,null,null,null,{"$f":"IF(ISBLANK(D12282),\"\",CONCATENATE(C12282,#REF!,#REF!))","v":""}]
[null,null,null,null,null,null,null,null,null,{"$f":"IF(ISBLANK(D12283),\"\",CONCATENATE(C12283,#REF!,#REF!))","v":""}]
[null,null,null,null,null,null,null,null,null,{"$f":"IF(ISBLANK(D12284),\"\",CONCATENATE(C12284,#REF!,#REF!))","v":""}]
[null,null,null,null,null,null,null,null,null,{"$f":"IF(ISBLANK(D12285),\"\",CONCATENATE(C12285,#REF!,#REF!))","v":""}]
[null,null,null,null,null,null,null,null,null,{"$f":"IF(ISBLANK(D12286),\"\",CONCATENATE(C12286,#REF!,#REF!))","v":""}]
[null,null,null,null,null,null,null,null,null,{"$f":"IF(ISBLANK(D12287),\"\",CONCATENATE(C12287,#REF!,#REF!))","v":""}]
[null,null,null,null,null,null,null,null,null,{"$f":"IF(ISBLANK(D12288),\"\",CONCATENATE(C12288,#REF!,#REF!))","v":""}]
[null,null,null,null,null,null,null,null,null,{"$f":"IF(ISBLANK(D12289),\"\",CONCATENATE(C12289,#REF!,#REF!))","v":""}]
[null,null,null,null,null,null,null,null,null,{"$f":"IF(ISBLANK(D12290),\"\",CONCATENATE(C12290,#REF!,#REF!))","v":""}]
[null,null,null,null,null,null,null,null,null,{"$f":"IF(ISBLANK(D12291),\"\",CONCATENATE(C12291,#REF!,#REF!))","v":""}]
[null,null,null,null,null,null,null,null,null,{"$f":"IF(ISBLANK(D12292),\"\",CONCATENATE(C12292,#REF!,#REF!))","v":""}]
[null,null,null,null,null,null,null,null,null,{"$f":"IF(ISBLANK(D12293),\"\",CONCATENATE(C12293,#REF!,#REF!))","v":""}]
[null,null,null,null,null,null,null,null,null,{"$f":"IF(ISBLANK(D12294),\"\",CONCATENATE(C12294,#REF!,#REF!))","v":""}]
[null,null,null,null,null,null,null,null,null,{"$f":"IF(ISBLANK(D12295),\"\",CONCATENATE(C12295,#REF!,#REF!))","v":""}]
[null,null,null,null,null,null,null,null,null,{"$f":"IF(ISBLANK(D12296),\"\",CONCATENATE(C12296,#REF!,#REF!))","v":""}]
[null,null,null,null,null,null,null,null,null,{"$f":"IF(ISBLANK(D12297),\"\",CONCATENATE(C12297,#REF!,#REF!))","v":""}]
[null,null,null,null,null,null,null,null,null,{"$f":"IF(ISBLANK(D12298),\"\",CONCATENATE(C12298,#REF!,#REF!))","v":""}]
[null,null,null,null,null,null,null,null,null,{"$f":"IF(ISBLANK(D12299),\"\",CONCATENATE(C12299,#REF!,#REF!))","v":""}]
[null,null,null,null,null,null,null,null,null,{"$f":"IF(ISBLANK(D12300),\"\",CONCATENATE(C12300,#REF!,#REF!))","v":""}]
[null,null,null,null,null,null,null,null,null,{"$f":"IF(ISBLANK(D12301),\"\",CONCATENATE(C12301,#REF!,#REF!))","v":""}]
[null,null,null,null,null,null,null,null,null,{"$f":"IF(ISBLANK(D12302),\"\",CONCATENATE(C12302,#REF!,#REF!))","v":""}]
[null,null,null,null,null,null,null,null,null,{"$f":"IF(ISBLANK(D12303),\"\",CONCATENATE(C12303,#REF!,#REF!))","v":""}]
[null,null,null,null,null,null,null,null,null,{"$f":"IF(ISBLANK(D12304),\"\",CONCATENATE(C12304,#REF!,#REF!))","v":""}]
[null,null,null,null,null,null,null,null,null,{"$f":"IF(ISBLANK(D12305),\"\",CONCATENATE(C12305,#REF!,#REF!))","v":""}]
[null,null,null,null,null,null,null,null,null,{"$f":"IF(ISBLANK(D12306),\"\",CONCATENATE(C12306,#REF!,#REF!))","v":""}]
[null,null,null,null,null,null,null,null,null,{"$f":"IF(ISBLANK(D12307),\"\",CONCATENATE(C12307,#REF!,#REF!))","v":""}]
[null,null,null,null,null,null,null,null,null,{"$f":"IF(ISBLANK(D12308),\"\",CONCATENATE(C12308,#REF!,#REF!))","v":""}]
[null,null,null,null,null,null,null,null,null,{"$f":"IF(ISBLANK(D12309),\"\",CONCATENATE(C12309,#REF!,#REF!))","v":""}]
[null,null,null,null,null,null,null,null,null,{"$f":"IF(ISBLANK(D12310),\"\",CONCATENATE(C12310,#REF!,#REF!))","v":""}]
[null,null,null,null,null,null,null,null,null,{"$f":"IF(ISBLANK(D12311),\"\",CONCATENATE(C12311,#REF!,#REF!))","v":""}]
[null,null,null,null,null,null,null,null,null,{"$f":"IF(ISBLANK(D12312),\"\",CONCATENATE(C12312,#REF!,#REF!))","v":""}]
[null,null,null,null,null,null,null,null,null,{"$f":"IF(ISBLANK(D12313),\"\",CONCATENATE(C12313,#REF!,#REF!))","v":""}]
[null,null,null,null,null,null,null,null,null,{"$f":"IF(ISBLANK(D12314),\"\",CONCATENATE(C12314,#REF!,#REF!))","v":""}]
[null,null,null,null,null,null,null,null,null,{"$f":"IF(ISBLANK(D12315),\"\",CONCATENATE(C12315,#REF!,#REF!))","v":""}]
[null,null,null,null,null,null,null,null,null,{"$f":"IF(ISBLANK(D12316),\"\",CONCATENATE(C12316,#REF!,#REF!))","v":""}]
[null,null,null,null,null,null,null,null,null,{"$f":"IF(ISBLANK(D12317),\"\",CONCATENATE(C12317,#REF!,#REF!))","v":""}]
[null,null,null,null,null,null,null,null,null,{"$f":"IF(ISBLANK(D12318),\"\",CONCATENATE(C12318,#REF!,#REF!))","v":""}]
[null,null,null,null,null,null,null,null,null,{"$f":"IF(ISBLANK(D12319),\"\",CONCATENATE(C12319,#REF!,#REF!))","v":""}]
[null,null,null,null,null,null,null,null,null,{"$f":"IF(ISBLANK(D12320),\"\",CONCATENATE(C12320,#REF!,#REF!))","v":""}]
[null,null,null,null,null,null,null,null,null,{"$f":"IF(ISBLANK(D12321),\"\",CONCATENATE(C12321,#REF!,#REF!))","v":""}]
[null,null,null,null,null,null,null,null,null,{"$f":"IF(ISBLANK(D12322),\"\",CONCATENATE(C12322,#REF!,#REF!))","v":""}]
[null,null,null,null,null,null,null,null,null,{"$f":"IF(ISBLANK(D12323),\"\",CONCATENATE(C12323,#REF!,#REF!))","v":""}]
[null,null,null,null,null,null,null,null,null,{"$f":"IF(ISBLANK(D12324),\"\",CONCATENATE(C12324,#REF!,#REF!))","v":""}]
[null,null,null,null,null,null,null,null,null,{"$f":"IF(ISBLANK(D12325),\"\",CONCATENATE(C12325,#REF!,#REF!))","v":""}]
[null,null,null,null,null,null,null,null,null,{"$f":"IF(ISBLANK(D12326),\"\",CONCATENATE(C12326,#REF!,#REF!))","v":""}]
[null,null,null,null,null,null,null,null,null,{"$f":"IF(ISBLANK(D12327),\"\",CONCATENATE(C12327,#REF!,#REF!))","v":""}]
[null,null,null,null,null,null,null,null,null,{"$f":"IF(ISBLANK(D12328),\"\",CONCATENATE(C12328,#REF!,#REF!))","v":""}]
[null,null,null,null,null,null,null,null,null,{"$f":"IF(ISBLANK(D12329),\"\",CONCATENATE(C12329,#REF!,#REF!))","v":""}]
[null,null,null,null,null,null,null,null,null,{"$f":"IF(ISBLANK(D12330),\"\",CONCATENATE(C12330,#REF!,#REF!))","v":""}]
[null,null,null,null,null,null,null,null,null,{"$f":"IF(ISBLANK(D12331),\"\",CONCATENATE(C12331,#REF!,#REF!))","v":""}]
[null,null,null,null,null,null,null,null,null,{"$f":"IF(ISBLANK(D12332),\"\",CONCATENATE(C12332,#REF!,#REF!))","v":""}]
[null,null,null,null,null,null,null,null,null,{"$f":"IF(ISBLANK(D12333),\"\",CONCATENATE(C12333,#REF!,#REF!))","v":""}]
[null,null,null,null,null,null,null,null,null,{"$f":"IF(ISBLANK(D12334),\"\",CONCATENATE(C12334,#REF!,#REF!))","v":""}]
[null,null,null,null,null,null,null,null,null,{"$f":"IF(ISBLANK(D12335),\"\",CONCATENATE(C12335,#REF!,#REF!))","v":""}]
[null,null,null,null,null,null,null,null,null,{"$f":"IF(ISBLANK(D12336),\"\",CONCATENATE(C12336,#REF!,#REF!))","v":""}]
[null,null,null,null,null,null,null,null,null,{"$f":"IF(ISBLANK(D12337),\"\",CONCATENATE(C12337,#REF!,#REF!))","v":""}]
[null,null,null,null,null,null,null,null,null,{"$f":"IF(ISBLANK(D12338),\"\",CONCATENATE(C12338,#REF!,#REF!))","v":""}]
[null,null,null,null,null,null,null,null,null,{"$f":"IF(ISBLANK(D12339),\"\",CONCATENATE(C12339,#REF!,#REF!))","v":""}]
[null,null,null,null,null,null,null,null,null,{"$f":"IF(ISBLANK(D12340),\"\",CONCATENATE(C12340,#REF!,#REF!))","v":""}]
[null,null,null,null,null,null,null,null,null,{"$f":"IF(ISBLANK(D12341),\"\",CONCATENATE(C12341,#REF!,#REF!))","v":""}]
[null,null,null,null,null,null,null,null,null,{"$f":"IF(ISBLANK(D12342),\"\",CONCATENATE(C12342,#REF!,#REF!))","v":""}]
[null,null,null,null,null,null,null,null,null,{"$f":"IF(ISBLANK(D12343),\"\",CONCATENATE(C12343,#REF!,#REF!))","v":""}]
[null,null,null,null,null,null,null,null,null,{"$f":"IF(ISBLANK(D12344),\"\",CONCATENATE(C12344,#REF!,#REF!))","v":""}]
[null,null,null,null,null,null,null,null,null,{"$f":"IF(ISBLANK(D12345),\"\",CONCATENATE(C12345,#REF!,#REF!))","v":""}]
[null,null,null,null,null,null,null,null,null,{"$f":"IF(ISBLANK(D12346),\"\",CONCATENATE(C12346,#REF!,#REF!))","v":""}]
[null,null,null,null,null,null,null,null,null,{"$f":"IF(ISBLANK(D12347),\"\",CONCATENATE(C12347,#REF!,#REF!))","v":""}]
[null,null,null,null,null,null,null,null,null,{"$f":"IF(ISBLANK(D12348),\"\",CONCATENATE(C12348,#REF!,#REF!))","v":""}]
[null,null,null,null,null,null,null,null,null,{"$f":"IF(ISBLANK(D12349),\"\",CONCATENATE(C12349,#REF!,#REF!))","v":""}]
[null,null,null,null,null,null,null,null,null,{"$f":"IF(ISBLANK(D12350),\"\",CONCATENATE(C12350,#REF!,#REF!))","v":""}]
[null,null,null,null,null,null,null,null,null,{"$f":"IF(ISBLANK(D12351),\"\",CONCATENATE(C12351,#REF!,#REF!))","v":""}]
[null,null,null,null,null,null,null,null,null,{"$f":"IF(ISBLANK(D12352),\"\",CONCATENATE(C12352,#REF!,#REF!))","v":""}]
[null,null,null,null,null,null,null,null,null,{"$f":"IF(ISBLANK(D12353),\"\",CONCATENATE(C12353,#REF!,#REF!))","v":""}]
[null,null,null,null,null,null,null,null,null,{"$f":"IF(ISBLANK(D12354),\"\",CONCATENATE(C12354,#REF!,#REF!))","v":""}]
[null,null,null,null,null,null,null,null,null,{"$f":"IF(ISBLANK(D12355),\"\",CONCATENATE(C12355,#REF!,#REF!))","v":""}]
[null,null,null,null,null,null,null,null,null,{"$f":"IF(ISBLANK(D12356),\"\",CONCATENATE(C12356,#REF!,#REF!))","v":""}]
[null,null,null,null,null,null,null,null,null,{"$f":"IF(ISBLANK(D12357),\"\",CONCATENATE(C12357,#REF!,#REF!))","v":""}]
[null,null,null,null,null,null,null,null,null,{"$f":"IF(ISBLANK(D12358),\"\",CONCATENATE(C12358,#REF!,#REF!))","v":""}]
[null,null,null,null,null,null,null,null,null,{"$f":"IF(ISBLANK(D12359),\"\",CONCATENATE(C12359,#REF!,#REF!))","v":""}]
[null,null,null,null,null,null,null,null,null,{"$f":"IF(ISBLANK(D12360),\"\",CONCATENATE(C12360,#REF!,#REF!))","v":""}]
[null,null,null,null,null,null,null,null,null,{"$f":"IF(ISBLANK(D12361),\"\",CONCATENATE(C12361,#REF!,#REF!))","v":""}]
[null,null,null,null,null,null,null,null,null,{"$f":"IF(ISBLANK(D12362),\"\",CONCATENATE(C12362,#REF!,#REF!))","v":""}]
[null,null,null,null,null,null,null,null,null,{"$f":"IF(ISBLANK(D12363),\"\",CONCATENATE(C12363,#REF!,#REF!))","v":""}]
[null,null,null,null,null,null,null,null,null,{"$f":"IF(ISBLANK(D12364),\"\",CONCATENATE(C12364,#REF!,#REF!))","v":""}]
[null,null,null,null,null,null,null,null,null,{"$f":"IF(ISBLANK(D12365),\"\",CONCATENATE(C12365,#REF!,#REF!))","v":""}]
[null,null,null,null,null,null,null,null,null,{"$f":"IF(ISBLANK(D12366),\"\",CONCATENATE(C12366,#REF!,#REF!))","v":""}]
[null,null,null,null,null,null,null,null,null,{"$f":"IF(ISBLANK(D12367),\"\",CONCATENATE(C12367,#REF!,#REF!))","v":""}]
[null,null,null,null,null,null,null,null,null,{"$f":"IF(ISBLANK(D12368),\"\",CONCATENATE(C12368,#REF!,#REF!))","v":""}]
[null,null,null,null,null,null,null,null,null,{"$f":"IF(ISBLANK(D12369),\"\",CONCATENATE(C12369,#REF!,#REF!))","v":""}]
[null,null,null,null,null,null,null,null,null,{"$f":"IF(ISBLANK(D12370),\"\",CONCATENATE(C12370,#REF!,#REF!))","v":""}]
[null,null,null,null,null,null,null,null,null,{"$f":"IF(ISBLANK(D12371),\"\",CONCATENATE(C12371,#REF!,#REF!))","v":""}]
[null,null,null,null,null,null,null,null,null,{"$f":"IF(ISBLANK(D12372),\"\",CONCATENATE(C12372,#REF!,#REF!))","v":""}]
[null,null,null,null,null,null,null,null,null,{"$f":"IF(ISBLANK(D12373),\"\",CONCATENATE(C12373,#REF!,#REF!))","v":""}]
[null,null,null,null,null,null,null,null,null,{"$f":"IF(ISBLANK(D12374),\"\",CONCATENATE(C12374,#REF!,#REF!))","v":""}]
[null,null,null,null,null,null,null,null,null,{"$f":"IF(ISBLANK(D12375),\"\",CONCATENATE(C12375,#REF!,#REF!))","v":""}]
[null,null,null,null,null,null,null,null,null,{"$f":"IF(ISBLANK(D12376),\"\",CONCATENATE(C12376,#REF!,#REF!))","v":""}]
[null,null,null,null,null,null,null,null,null,{"$f":"IF(ISBLANK(D12377),\"\",CONCATENATE(C12377,#REF!,#REF!))","v":""}]
[null,null,null,null,null,null,null,null,null,{"$f":"IF(ISBLANK(D12378),\"\",CONCATENATE(C12378,#REF!,#REF!))","v":""}]
[null,null,null,null,null,null,null,null,null,{"$f":"IF(ISBLANK(D12379),\"\",CONCATENATE(C12379,#REF!,#REF!))","v":""}]
[null,null,null,null,null,null,null,null,null,{"$f":"IF(ISBLANK(D12380),\"\",CONCATENATE(C12380,#REF!,#REF!))","v":""}]
[null,null,null,null,null,null,null,null,null,{"$f":"IF(ISBLANK(D12381),\"\",CONCATENATE(C12381,#REF!,#REF!))","v":""}]
[null,null,null,null,null,null,null,null,null,{"$f":"IF(ISBLANK(D12382),\"\",CONCATENATE(C12382,#REF!,#REF!))","v":""}]
[null,null,null,null,null,null,null,null,null,{"$f":"IF(ISBLANK(D12383),\"\",CONCATENATE(C12383,#REF!,#REF!))","v":""}]
[null,null,null,null,null,null,null,null,null,{"$f":"IF(ISBLANK(D12384),\"\",CONCATENATE(C12384,#REF!,#REF!))","v":""}]
[null,null,null,null,null,null,null,null,null,{"$f":"IF(ISBLANK(D12385),\"\",CONCATENATE(C12385,#REF!,#REF!))","v":""}]
[null,null,null,null,null,null,null,null,null,{"$f":"IF(ISBLANK(D12386),\"\",CONCATENATE(C12386,#REF!,#REF!))","v":""}]
[null,null,null,null,null,null,null,null,null,{"$f":"IF(ISBLANK(D12387),\"\",CONCATENATE(C12387,#REF!,#REF!))","v":""}]
[null,null,null,null,null,null,null,null,null,{"$f":"IF(ISBLANK(D12388),\"\",CONCATENATE(C12388,#REF!,#REF!))","v":""}]
[null,null,null,null,null,null,null,null,null,{"$f":"IF(ISBLANK(D12389),\"\",CONCATENATE(C12389,#REF!,#REF!))","v":""}]
[null,null,null,null,null,null,null,null,null,{"$f":"IF(ISBLANK(D12390),\"\",CONCATENATE(C12390,#REF!,#REF!))","v":""}]
[null,null,null,null,null,null,null,null,null,{"$f":"IF(ISBLANK(D12391),\"\",CONCATENATE(C12391,#REF!,#REF!))","v":""}]
[null,null,null,null,null,null,null,null,null,{"$f":"IF(ISBLANK(D12392),\"\",CONCATENATE(C12392,#REF!,#REF!))","v":""}]
[null,null,null,null,null,null,null,null,null,{"$f":"IF(ISBLANK(D12393),\"\",CONCATENATE(C12393,#REF!,#REF!))","v":""}]
[null,null,null,null,null,null,null,null,null,{"$f":"IF(ISBLANK(D12394),\"\",CONCATENATE(C12394,#REF!,#REF!))","v":""}]
[null,null,null,null,null,null,null,null,null,{"$f":"IF(ISBLANK(D12395),\"\",CONCATENATE(C12395,#REF!,#REF!))","v":""}]
[null,null,null,null,null,null,null,null,null,{"$f":"IF(ISBLANK(D12396),\"\",CONCATENATE(C12396,#REF!,#REF!))","v":""}]
[null,null,null,null,null,null,null,null,null,{"$f":"IF(ISBLANK(D12397),\"\",CONCATENATE(C12397,#REF!,#REF!))","v":""}]
[null,null,null,null,null,null,null,null,null,{"$f":"IF(ISBLANK(D12398),\"\",CONCATENATE(C12398,#REF!,#REF!))","v":""}]
[null,null,null,null,null,null,null,null,null,{"$f":"IF(ISBLANK(D12399),\"\",CONCATENATE(C12399,#REF!,#REF!))","v":""}]
[null,null,null,null,null,null,null,null,null,{"$f":"IF(ISBLANK(D12400),\"\",CONCATENATE(C12400,#REF!,#REF!))","v":""}]
[null,null,null,null,null,null,null,null,null,{"$f":"IF(ISBLANK(D12401),\"\",CONCATENATE(C12401,#REF!,#REF!))","v":""}]
[null,null,null,null,null,null,null,null,null,{"$f":"IF(ISBLANK(D12402),\"\",CONCATENATE(C12402,#REF!,#REF!))","v":""}]
[null,null,null,null,null,null,null,null,null,{"$f":"IF(ISBLANK(D12403),\"\",CONCATENATE(C12403,#REF!,#REF!))","v":""}]
[null,null,null,null,null,null,null,null,null,{"$f":"IF(ISBLANK(D12404),\"\",CONCATENATE(C12404,#REF!,#REF!))","v":""}]
[null,null,null,null,null,null,null,null,null,{"$f":"IF(ISBLANK(D12405),\"\",CONCATENATE(C12405,#REF!,#REF!))","v":""}]
[null,null,null,null,null,null,null,null,null,{"$f":"IF(ISBLANK(D12406),\"\",CONCATENATE(C12406,#REF!,#REF!))","v":""}]
[null,null,null,null,null,null,null,null,null,{"$f":"IF(ISBLANK(D12407),\"\",CONCATENATE(C12407,#REF!,#REF!))","v":""}]
[null,null,null,null,null,null,null,null,null,{"$f":"IF(ISBLANK(D12408),\"\",CONCATENATE(C12408,#REF!,#REF!))","v":""}]
[null,null,null,null,null,null,null,null,null,{"$f":"IF(ISBLANK(D12409),\"\",CONCATENATE(C12409,#REF!,#REF!))","v":""}]
[null,null,null,null,null,null,null,null,null,{"$f":"IF(ISBLANK(D12410),\"\",CONCATENATE(C12410,#REF!,#REF!))","v":""}]
[null,null,null,null,null,null,null,null,null,{"$f":"IF(ISBLANK(D12411),\"\",CONCATENATE(C12411,#REF!,#REF!))","v":""}]
[null,null,null,null,null,null,null,null,null,{"$f":"IF(ISBLANK(D12412),\"\",CONCATENATE(C12412,#REF!,#REF!))","v":""}]
[null,null,null,null,null,null,null,null,null,{"$f":"IF(ISBLANK(D12413),\"\",CONCATENATE(C12413,#REF!,#REF!))","v":""}]
[null,null,null,null,null,null,null,null,null,{"$f":"IF(ISBLANK(D12414),\"\",CONCATENATE(C12414,#REF!,#REF!))","v":""}]
[null,null,null,null,null,null,null,null,null,{"$f":"IF(ISBLANK(D12415),\"\",CONCATENATE(C12415,#REF!,#REF!))","v":""}]
[null,null,null,null,null,null,null,null,null,{"$f":"IF(ISBLANK(D12416),\"\",CONCATENATE(C12416,#REF!,#REF!))","v":""}]
[null,null,null,null,null,null,null,null,null,{"$f":"IF(ISBLANK(D12417),\"\",CONCATENATE(C12417,#REF!,#REF!))","v":""}]
[null,null,null,null,null,null,null,null,null,{"$f":"IF(ISBLANK(D12418),\"\",CONCATENATE(C12418,#REF!,#REF!))","v":""}]
[null,null,null,null,null,null,null,null,null,{"$f":"IF(ISBLANK(D12419),\"\",CONCATENATE(C12419,#REF!,#REF!))","v":""}]
[null,null,null,null,null,null,null,null,null,{"$f":"IF(ISBLANK(D12420),\"\",CONCATENATE(C12420,#REF!,#REF!))","v":""}]
[null,null,null,null,null,null,null,null,null,{"$f":"IF(ISBLANK(D12421),\"\",CONCATENATE(C12421,#REF!,#REF!))","v":""}]
[null,null,null,null,null,null,null,null,null,{"$f":"IF(ISBLANK(D12422),\"\",CONCATENATE(C12422,#REF!,#REF!))","v":""}]
[null,null,null,null,null,null,null,null,null,{"$f":"IF(ISBLANK(D12423),\"\",CONCATENATE(C12423,#REF!,#REF!))","v":""}]
[null,null,null,null,null,null,null,null,null,{"$f":"IF(ISBLANK(D12424),\"\",CONCATENATE(C12424,#REF!,#REF!))","v":""}]
[null,null,null,null,null,null,null,null,null,{"$f":"IF(ISBLANK(D12425),\"\",CONCATENATE(C12425,#REF!,#REF!))","v":""}]
[null,null,null,null,null,null,null,null,null,{"$f":"IF(ISBLANK(D12426),\"\",CONCATENATE(C12426,#REF!,#REF!))","v":""}]
[null,null,null,null,null,null,null,null,null,{"$f":"IF(ISBLANK(D12427),\"\",CONCATENATE(C12427,#REF!,#REF!))","v":""}]
[null,null,null,null,null,null,null,null,null,{"$f":"IF(ISBLANK(D12428),\"\",CONCATENATE(C12428,#REF!,#REF!))","v":""}]
[null,null,null,null,null,null,null,null,null,{"$f":"IF(ISBLANK(D12429),\"\",CONCATENATE(C12429,#REF!,#REF!))","v":""}]
[null,null,null,null,null,null,null,null,null,{"$f":"IF(ISBLANK(D12430),\"\",CONCATENATE(C12430,#REF!,#REF!))","v":""}]
[null,null,null,null,null,null,null,null,null,{"$f":"IF(ISBLANK(D12431),\"\",CONCATENATE(C12431,#REF!,#REF!))","v":""}]
[null,null,null,null,null,null,null,null,null,{"$f":"IF(ISBLANK(D12432),\"\",CONCATENATE(C12432,#REF!,#REF!))","v":""}]
[null,null,null,null,null,null,null,null,null,{"$f":"IF(ISBLANK(D12433),\"\",CONCATENATE(C12433,#REF!,#REF!))","v":""}]
[null,null,null,null,null,null,null,null,null,{"$f":"IF(ISBLANK(D12434),\"\",CONCATENATE(C12434,#REF!,#REF!))","v":""}]
[null,null,null,null,null,null,null,null,null,{"$f":"IF(ISBLANK(D12435),\"\",CONCATENATE(C12435,#REF!,#REF!))","v":""}]
[null,null,null,null,null,null,null,null,null,{"$f":"IF(ISBLANK(D12436),\"\",CONCATENATE(C12436,#REF!,#REF!))","v":""}]
[null,null,null,null,null,null,null,null,null,{"$f":"IF(ISBLANK(D12437),\"\",CONCATENATE(C12437,#REF!,#REF!))","v":""}]
[null,null,null,null,null,null,null,null,null,{"$f":"IF(ISBLANK(D12438),\"\",CONCATENATE(C12438,#REF!,#REF!))","v":""}]
[null,null,null,null,null,null,null,null,null,{"$f":"IF(ISBLANK(D12439),\"\",CONCATENATE(C12439,#REF!,#REF!))","v":""}]
[null,null,null,null,null,null,null,null,null,{"$f":"IF(ISBLANK(D12440),\"\",CONCATENATE(C12440,#REF!,#REF!))","v":""}]
[null,null,null,null,null,null,null,null,null,{"$f":"IF(ISBLANK(D12441),\"\",CONCATENATE(C12441,#REF!,#REF!))","v":""}]
[null,null,null,null,null,null,null,null,null,{"$f":"IF(ISBLANK(D12442),\"\",CONCATENATE(C12442,#REF!,#REF!))","v":""}]
[null,null,null,null,null,null,null,null,null,{"$f":"IF(ISBLANK(D12443),\"\",CONCATENATE(C12443,#REF!,#REF!))","v":""}]
[null,null,null,null,null,null,null,null,null,{"$f":"IF(ISBLANK(D12444),\"\",CONCATENATE(C12444,#REF!,#REF!))","v":""}]
[null,null,null,null,null,null,null,null,null,{"$f":"IF(ISBLANK(D12445),\"\",CONCATENATE(C12445,#REF!,#REF!))","v":""}]
[null,null,null,null,null,null,null,null,null,{"$f":"IF(ISBLANK(D12446),\"\",CONCATENATE(C12446,#REF!,#REF!))","v":""}]
[null,null,null,null,null,null,null,null,null,{"$f":"IF(ISBLANK(D12447),\"\",CONCATENATE(C12447,#REF!,#REF!))","v":""}]
[null,null,null,null,null,null,null,null,null,{"$f":"IF(ISBLANK(D12448),\"\",CONCATENATE(C12448,#REF!,#REF!))","v":""}]
[null,null,null,null,null,null,null,null,null,{"$f":"IF(ISBLANK(D12449),\"\",CONCATENATE(C12449,#REF!,#REF!))","v":""}]
[null,null,null,null,null,null,null,null,null,{"$f":"IF(ISBLANK(D12450),\"\",CONCATENATE(C12450,#REF!,#REF!))","v":""}]
[null,null,null,null,null,null,null,null,null,{"$f":"IF(ISBLANK(D12451),\"\",CONCATENATE(C12451,#REF!,#REF!))","v":""}]
[null,null,null,null,null,null,null,null,null,{"$f":"IF(ISBLANK(D12452),\"\",CONCATENATE(C12452,#REF!,#REF!))","v":""}]
[null,null,null,null,null,null,null,null,null,{"$f":"IF(ISBLANK(D12453),\"\",CONCATENATE(C12453,#REF!,#REF!))","v":""}]
[null,null,null,null,null,null,null,null,null,{"$f":"IF(ISBLANK(D12454),\"\",CONCATENATE(C12454,#REF!,#REF!))","v":""}]
[null,null,null,null,null,null,null,null,null,{"$f":"IF(ISBLANK(D12455),\"\",CONCATENATE(C12455,#REF!,#REF!))","v":""}]
[null,null,null,null,null,null,null,null,null,{"$f":"IF(ISBLANK(D12456),\"\",CONCATENATE(C12456,#REF!,#REF!))","v":""}]
[null,null,null,null,null,null,null,null,null,{"$f":"IF(ISBLANK(D12457),\"\",CONCATENATE(C12457,#REF!,#REF!))","v":""}]
[null,null,null,null,null,null,null,null,null,{"$f":"IF(ISBLANK(D12458),\"\",CONCATENATE(C12458,#REF!,#REF!))","v":""}]
[null,null,null,null,null,null,null,null,null,{"$f":"IF(ISBLANK(D12459),\"\",CONCATENATE(C12459,#REF!,#REF!))","v":""}]
[null,null,null,null,null,null,null,null,null,{"$f":"IF(ISBLANK(D12460),\"\",CONCATENATE(C12460,#REF!,#REF!))","v":""}]
[null,null,null,null,null,null,null,null,null,{"$f":"IF(ISBLANK(D12461),\"\",CONCATENATE(C12461,#REF!,#REF!))","v":""}]
[null,null,null,null,null,null,null,null,null,{"$f":"IF(ISBLANK(D12462),\"\",CONCATENATE(C12462,#REF!,#REF!))","v":""}]
[null,null,null,null,null,null,null,null,null,{"$f":"IF(ISBLANK(D12463),\"\",CONCATENATE(C12463,#REF!,#REF!))","v":""}]
[null,null,null,null,null,null,null,null,null,{"$f":"IF(ISBLANK(D12464),\"\",CONCATENATE(C12464,#REF!,#REF!))","v":""}]
[null,null,null,null,null,null,null,null,null,{"$f":"IF(ISBLANK(D12465),\"\",CONCATENATE(C12465,#REF!,#REF!))","v":""}]
[null,null,null,null,null,null,null,null,null,{"$f":"IF(ISBLANK(D12466),\"\",CONCATENATE(C12466,#REF!,#REF!))","v":""}]
[null,null,null,null,null,null,null,null,null,{"$f":"IF(ISBLANK(D12467),\"\",CONCATENATE(C12467,#REF!,#REF!))","v":""}]
[null,null,null,null,null,null,null,null,null,{"$f":"IF(ISBLANK(D12468),\"\",CONCATENATE(C12468,#REF!,#REF!))","v":""}]
[null,null,null,null,null,null,null,null,null,{"$f":"IF(ISBLANK(D12469),\"\",CONCATENATE(C12469,#REF!,#REF!))","v":""}]
[null,null,null,null,null,null,null,null,null,{"$f":"IF(ISBLANK(D12470),\"\",CONCATENATE(C12470,#REF!,#REF!))","v":""}]
[null,null,null,null,null,null,null,null,null,{"$f":"IF(ISBLANK(D12471),\"\",CONCATENATE(C12471,#REF!,#REF!))","v":""}]
[null,null,null,null,null,null,null,null,null,{"$f":"IF(ISBLANK(D12472),\"\",CONCATENATE(C12472,#REF!,#REF!))","v":""}]
[null,null,null,null,null,null,null,null,null,{"$f":"IF(ISBLANK(D12473),\"\",CONCATENATE(C12473,#REF!,#REF!))","v":""}]
[null,null,null,null,null,null,null,null,null,{"$f":"IF(ISBLANK(D12474),\"\",CONCATENATE(C12474,#REF!,#REF!))","v":""}]
[null,null,null,null,null,null,null,null,null,{"$f":"IF(ISBLANK(D12475),\"\",CONCATENATE(C12475,#REF!,#REF!))","v":""}]
[null,null,null,null,null,null,null,null,null,{"$f":"IF(ISBLANK(D12476),\"\",CONCATENATE(C12476,#REF!,#REF!))","v":""}]
[null,null,null,null,null,null,null,null,null,{"$f":"IF(ISBLANK(D12477),\"\",CONCATENATE(C12477,#REF!,#REF!))","v":""}]
[null,null,null,null,null,null,null,null,null,{"$f":"IF(ISBLANK(D12478),\"\",CONCATENATE(C12478,#REF!,#REF!))","v":""}]
[null,null,null,null,null,null,null,null,null,{"$f":"IF(ISBLANK(D12479),\"\",CONCATENATE(C12479,#REF!,#REF!))","v":""}]
[null,null,null,null,null,null,null,null,null,{"$f":"IF(ISBLANK(D12480),\"\",CONCATENATE(C12480,#REF!,#REF!))","v":""}]
[null,null,null,null,null,null,null,null,null,{"$f":"IF(ISBLANK(D12481),\"\",CONCATENATE(C12481,#REF!,#REF!))","v":""}]
[null,null,null,null,null,null,null,null,null,{"$f":"IF(ISBLANK(D12482),\"\",CONCATENATE(C12482,#REF!,#REF!))","v":""}]
[null,null,null,null,null,null,null,null,null,{"$f":"IF(ISBLANK(D12483),\"\",CONCATENATE(C12483,#REF!,#REF!))","v":""}]
[null,null,null,null,null,null,null,null,null,{"$f":"IF(ISBLANK(D12484),\"\",CONCATENATE(C12484,#REF!,#REF!))","v":""}]
[null,null,null,null,null,null,null,null,null,{"$f":"IF(ISBLANK(D12485),\"\",CONCATENATE(C12485,#REF!,#REF!))","v":""}]
[null,null,null,null,null,null,null,null,null,{"$f":"IF(ISBLANK(D12486),\"\",CONCATENATE(C12486,#REF!,#REF!))","v":""}]
[null,null,null,null,null,null,null,null,null,{"$f":"IF(ISBLANK(D12487),\"\",CONCATENATE(C12487,#REF!,#REF!))","v":""}]
[null,null,null,null,null,null,null,null,null,{"$f":"IF(ISBLANK(D12488),\"\",CONCATENATE(C12488,#REF!,#REF!))","v":""}]
[null,null,null,null,null,null,null,null,null,{"$f":"IF(ISBLANK(D12489),\"\",CONCATENATE(C12489,#REF!,#REF!))","v":""}]
[null,null,null,null,null,null,null,null,null,{"$f":"IF(ISBLANK(D12490),\"\",CONCATENATE(C12490,#REF!,#REF!))","v":""}]
[null,null,null,null,null,null,null,null,null,{"$f":"IF(ISBLANK(D12491),\"\",CONCATENATE(C12491,#REF!,#REF!))","v":""}]
[null,null,null,null,null,null,null,null,null,{"$f":"IF(ISBLANK(D12492),\"\",CONCATENATE(C12492,#REF!,#REF!))","v":""}]
[null,null,null,null,null,null,null,null,null,{"$f":"IF(ISBLANK(D12493),\"\",CONCATENATE(C12493,#REF!,#REF!))","v":""}]
[null,null,null,null,null,null,null,null,null,{"$f":"IF(ISBLANK(D12494),\"\",CONCATENATE(C12494,#REF!,#REF!))","v":""}]
[null,null,null,null,null,null,null,null,null,{"$f":"IF(ISBLANK(D12495),\"\",CONCATENATE(C12495,#REF!,#REF!))","v":""}]
[null,null,null,null,null,null,null,null,null,{"$f":"IF(ISBLANK(D12496),\"\",CONCATENATE(C12496,#REF!,#REF!))","v":""}]
[null,null,null,null,null,null,null,null,null,{"$f":"IF(ISBLANK(D12497),\"\",CONCATENATE(C12497,#REF!,#REF!))","v":""}]
[null,null,null,null,null,null,null,null,null,{"$f":"IF(ISBLANK(D12498),\"\",CONCATENATE(C12498,#REF!,#REF!))","v":""}]
[null,null,null,null,null,null,null,null,null,{"$f":"IF(ISBLANK(D12499),\"\",CONCATENATE(C12499,#REF!,#REF!))","v":""}]
[null,null,null,null,null,null,null,null,null,{"$f":"IF(ISBLANK(D12500),\"\",CONCATENATE(C12500,#REF!,#REF!))","v":""}]
[null,null,null,null,null,null,null,null,null,{"$f":"IF(ISBLANK(D12501),\"\",CONCATENATE(C12501,#REF!,#REF!))","v":""}]
[null,null,null,null,null,null,null,null,null,{"$f":"IF(ISBLANK(D12502),\"\",CONCATENATE(C12502,#REF!,#REF!))","v":""}]
[null,null,null,null,null,null,null,null,null,{"$f":"IF(ISBLANK(D12503),\"\",CONCATENATE(C12503,#REF!,#REF!))","v":""}]
[null,null,null,null,null,null,null,null,null,{"$f":"IF(ISBLANK(D12504),\"\",CONCATENATE(C12504,#REF!,#REF!))","v":""}]
[null,null,null,null,null,null,null,null,null,{"$f":"IF(ISBLANK(D12505),\"\",CONCATENATE(C12505,#REF!,#REF!))","v":""}]
[null,null,null,null,null,null,null,null,null,{"$f":"IF(ISBLANK(D12506),\"\",CONCATENATE(C12506,#REF!,#REF!))","v":""}]
[null,null,null,null,null,null,null,null,null,{"$f":"IF(ISBLANK(D12507),\"\",CONCATENATE(C12507,#REF!,#REF!))","v":""}]
[null,null,null,null,null,null,null,null,null,{"$f":"IF(ISBLANK(D12508),\"\",CONCATENATE(C12508,#REF!,#REF!))","v":""}]
[null,null,null,null,null,null,null,null,null,{"$f":"IF(ISBLANK(D12509),\"\",CONCATENATE(C12509,#REF!,#REF!))","v":""}]
[null,null,null,null,null,null,null,null,null,{"$f":"IF(ISBLANK(D12510),\"\",CONCATENATE(C12510,#REF!,#REF!))","v":""}]
[null,null,null,null,null,null,null,null,null,{"$f":"IF(ISBLANK(D12511),\"\",CONCATENATE(C12511,#REF!,#REF!))","v":""}]
[null,null,null,null,null,null,null,null,null,{"$f":"IF(ISBLANK(D12512),\"\",CONCATENATE(C12512,#REF!,#REF!))","v":""}]
[null,null,null,null,null,null,null,null,null,{"$f":"IF(ISBLANK(D12513),\"\",CONCATENATE(C12513,#REF!,#REF!))","v":""}]
[null,null,null,null,null,null,null,null,null,{"$f":"IF(ISBLANK(D12514),\"\",CONCATENATE(C12514,#REF!,#REF!))","v":""}]
[null,null,null,null,null,null,null,null,null,{"$f":"IF(ISBLANK(D12515),\"\",CONCATENATE(C12515,#REF!,#REF!))","v":""}]
[null,null,null,null,null,null,null,null,null,{"$f":"IF(ISBLANK(D12516),\"\",CONCATENATE(C12516,#REF!,#REF!))","v":""}]
[null,null,null,null,null,null,null,null,null,{"$f":"IF(ISBLANK(D12517),\"\",CONCATENATE(C12517,#REF!,#REF!))","v":""}]
[null,null,null,null,null,null,null,null,null,{"$f":"IF(ISBLANK(D12518),\"\",CONCATENATE(C12518,#REF!,#REF!))","v":""}]
[null,null,null,null,null,null,null,null,null,{"$f":"IF(ISBLANK(D12519),\"\",CONCATENATE(C12519,#REF!,#REF!))","v":""}]
[null,null,null,null,null,null,null,null,null,{"$f":"IF(ISBLANK(D12520),\"\",CONCATENATE(C12520,#REF!,#REF!))","v":""}]
[null,null,null,null,null,null,null,null,null,{"$f":"IF(ISBLANK(D12521),\"\",CONCATENATE(C12521,#REF!,#REF!))","v":""}]
[null,null,null,null,null,null,null,null,null,{"$f":"IF(ISBLANK(D12522),\"\",CONCATENATE(C12522,#REF!,#REF!))","v":""}]
[null,null,null,null,null,null,null,null,null,{"$f":"IF(ISBLANK(D12523),\"\",CONCATENATE(C12523,#REF!,#REF!))","v":""}]
[null,null,null,null,null,null,null,null,null,{"$f":"IF(ISBLANK(D12524),\"\",CONCATENATE(C12524,#REF!,#REF!))","v":""}]
[null,null,null,null,null,null,null,null,null,{"$f":"IF(ISBLANK(D12525),\"\",CONCATENATE(C12525,#REF!,#REF!))","v":""}]
[null,null,null,null,null,null,null,null,null,{"$f":"IF(ISBLANK(D12526),\"\",CONCATENATE(C12526,#REF!,#REF!))","v":""}]
[null,null,null,null,null,null,null,null,null,{"$f":"IF(ISBLANK(D12527),\"\",CONCATENATE(C12527,#REF!,#REF!))","v":""}]
[null,null,null,null,null,null,null,null,null,{"$f":"IF(ISBLANK(D12528),\"\",CONCATENATE(C12528,#REF!,#REF!))","v":""}]
[null,null,null,null,null,null,null,null,null,{"$f":"IF(ISBLANK(D12529),\"\",CONCATENATE(C12529,#REF!,#REF!))","v":""}]
[null,null,null,null,null,null,null,null,null,{"$f":"IF(ISBLANK(D12530),\"\",CONCATENATE(C12530,#REF!,#REF!))","v":""}]
[null,null,null,null,null,null,null,null,null,{"$f":"IF(ISBLANK(D12531),\"\",CONCATENATE(C12531,#REF!,#REF!))","v":""}]
[null,null,null,null,null,null,null,null,null,{"$f":"IF(ISBLANK(D12532),\"\",CONCATENATE(C12532,#REF!,#REF!))","v":""}]
[null,null,null,null,null,null,null,null,null,{"$f":"IF(ISBLANK(D12533),\"\",CONCATENATE(C12533,#REF!,#REF!))","v":""}]
[null,null,null,null,null,null,null,null,null,{"$f":"IF(ISBLANK(D12534),\"\",CONCATENATE(C12534,#REF!,#REF!))","v":""}]
[null,null,null,null,null,null,null,null,null,{"$f":"IF(ISBLANK(D12535),\"\",CONCATENATE(C12535,#REF!,#REF!))","v":""}]
[null,null,null,null,null,null,null,null,null,{"$f":"IF(ISBLANK(D12536),\"\",CONCATENATE(C12536,#REF!,#REF!))","v":""}]
[null,null,null,null,null,null,null,null,null,{"$f":"IF(ISBLANK(D12537),\"\",CONCATENATE(C12537,#REF!,#REF!))","v":""}]
[null,null,null,null,null,null,null,null,null,{"$f":"IF(ISBLANK(D12538),\"\",CONCATENATE(C12538,#REF!,#REF!))","v":""}]
[null,null,null,null,null,null,null,null,null,{"$f":"IF(ISBLANK(D12539),\"\",CONCATENATE(C12539,#REF!,#REF!))","v":""}]
[null,null,null,null,null,null,null,null,null,{"$f":"IF(ISBLANK(D12540),\"\",CONCATENATE(C12540,#REF!,#REF!))","v":""}]
[null,null,null,null,null,null,null,null,null,{"$f":"IF(ISBLANK(D12541),\"\",CONCATENATE(C12541,#REF!,#REF!))","v":""}]
[null,null,null,null,null,null,null,null,null,{"$f":"IF(ISBLANK(D12542),\"\",CONCATENATE(C12542,#REF!,#REF!))","v":""}]
[null,null,null,null,null,null,null,null,null,{"$f":"IF(ISBLANK(D12543),\"\",CONCATENATE(C12543,#REF!,#REF!))","v":""}]
[null,null,null,null,null,null,null,null,null,{"$f":"IF(ISBLANK(D12544),\"\",CONCATENATE(C12544,#REF!,#REF!))","v":""}]
[null,null,null,null,null,null,null,null,null,{"$f":"IF(ISBLANK(D12545),\"\",CONCATENATE(C12545,#REF!,#REF!))","v":""}]
[null,null,null,null,null,null,null,null,null,{"$f":"IF(ISBLANK(D12546),\"\",CONCATENATE(C12546,#REF!,#REF!))","v":""}]
[null,null,null,null,null,null,null,null,null,{"$f":"IF(ISBLANK(D12547),\"\",CONCATENATE(C12547,#REF!,#REF!))","v":""}]
[null,null,null,null,null,null,null,null,null,{"$f":"IF(ISBLANK(D12548),\"\",CONCATENATE(C12548,#REF!,#REF!))","v":""}]
[null,null,null,null,null,null,null,null,null,{"$f":"IF(ISBLANK(D12549),\"\",CONCATENATE(C12549,#REF!,#REF!))","v":""}]
[null,null,null,null,null,null,null,null,null,{"$f":"IF(ISBLANK(D12550),\"\",CONCATENATE(C12550,#REF!,#REF!))","v":""}]
[null,null,null,null,null,null,null,null,null,{"$f":"IF(ISBLANK(D12551),\"\",CONCATENATE(C12551,#REF!,#REF!))","v":""}]
[null,null,null,null,null,null,null,null,null,{"$f":"IF(ISBLANK(D12552),\"\",CONCATENATE(C12552,#REF!,#REF!))","v":""}]
[null,null,null,null,null,null,null,null,null,{"$f":"IF(ISBLANK(D12553),\"\",CONCATENATE(C12553,#REF!,#REF!))","v":""}]
[null,null,null,null,null,null,null,null,null,{"$f":"IF(ISBLANK(D12554),\"\",CONCATENATE(C12554,#REF!,#REF!))","v":""}]
[null,null,null,null,null,null,null,null,null,{"$f":"IF(ISBLANK(D12555),\"\",CONCATENATE(C12555,#REF!,#REF!))","v":""}]
[null,null,null,null,null,null,null,null,null,{"$f":"IF(ISBLANK(D12556),\"\",CONCATENATE(C12556,#REF!,#REF!))","v":""}]
[null,null,null,null,null,null,null,null,null,{"$f":"IF(ISBLANK(D12557),\"\",CONCATENATE(C12557,#REF!,#REF!))","v":""}]
[null,null,null,null,null,null,null,null,null,{"$f":"IF(ISBLANK(D12558),\"\",CONCATENATE(C12558,#REF!,#REF!))","v":""}]
[null,null,null,null,null,null,null,null,null,{"$f":"IF(ISBLANK(D12559),\"\",CONCATENATE(C12559,#REF!,#REF!))","v":""}]
[null,null,null,null,null,null,null,null,null,{"$f":"IF(ISBLANK(D12560),\"\",CONCATENATE(C12560,#REF!,#REF!))","v":""}]
[null,null,null,null,null,null,null,null,null,{"$f":"IF(ISBLANK(D12561),\"\",CONCATENATE(C12561,#REF!,#REF!))","v":""}]
[null,null,null,null,null,null,null,null,null,{"$f":"IF(ISBLANK(D12562),\"\",CONCATENATE(C12562,#REF!,#REF!))","v":""}]
[null,null,null,null,null,null,null,null,null,{"$f":"IF(ISBLANK(D12563),\"\",CONCATENATE(C12563,#REF!,#REF!))","v":""}]
[null,null,null,null,null,null,null,null,null,{"$f":"IF(ISBLANK(D12564),\"\",CONCATENATE(C12564,#REF!,#REF!))","v":""}]
[null,null,null,null,null,null,null,null,null,{"$f":"IF(ISBLANK(D12565),\"\",CONCATENATE(C12565,#REF!,#REF!))","v":""}]
[null,null,null,null,null,null,null,null,null,{"$f":"IF(ISBLANK(D12566),\"\",CONCATENATE(C12566,#REF!,#REF!))","v":""}]
[null,null,null,null,null,null,null,null,null,{"$f":"IF(ISBLANK(D12567),\"\",CONCATENATE(C12567,#REF!,#REF!))","v":""}]
[null,null,null,null,null,null,null,null,null,{"$f":"IF(ISBLANK(D12568),\"\",CONCATENATE(C12568,#REF!,#REF!))","v":""}]
[null,null,null,null,null,null,null,null,null,{"$f":"IF(ISBLANK(D12569),\"\",CONCATENATE(C12569,#REF!,#REF!))","v":""}]
[null,null,null,null,null,null,null,null,null,{"$f":"IF(ISBLANK(D12570),\"\",CONCATENATE(C12570,#REF!,#REF!))","v":""}]
[null,null,null,null,null,null,null,null,null,{"$f":"IF(ISBLANK(D12571),\"\",CONCATENATE(C12571,#REF!,#REF!))","v":""}]
[null,null,null,null,null,null,null,null,null,{"$f":"IF(ISBLANK(D12572),\"\",CONCATENATE(C12572,#REF!,#REF!))","v":""}]
[null,null,null,null,null,null,null,null,null,{"$f":"IF(ISBLANK(D12573),\"\",CONCATENATE(C12573,#REF!,#REF!))","v":""}]
[null,null,null,null,null,null,null,null,null,{"$f":"IF(ISBLANK(D12574),\"\",CONCATENATE(C12574,#REF!,#REF!))","v":""}]
[null,null,null,null,null,null,null,null,null,{"$f":"IF(ISBLANK(D12575),\"\",CONCATENATE(C12575,#REF!,#REF!))","v":""}]
[null,null,null,null,null,null,null,null,null,{"$f":"IF(ISBLANK(D12576),\"\",CONCATENATE(C12576,#REF!,#REF!))","v":""}]
[null,null,null,null,null,null,null,null,null,{"$f":"IF(ISBLANK(D12577),\"\",CONCATENATE(C12577,#REF!,#REF!))","v":""}]
[null,null,null,null,null,null,null,null,null,{"$f":"IF(ISBLANK(D12578),\"\",CONCATENATE(C12578,#REF!,#REF!))","v":""}]
[null,null,null,null,null,null,null,null,null,{"$f":"IF(ISBLANK(D12579),\"\",CONCATENATE(C12579,#REF!,#REF!))","v":""}]
[null,null,null,null,null,null,null,null,null,{"$f":"IF(ISBLANK(D12580),\"\",CONCATENATE(C12580,#REF!,#REF!))","v":""}]
[null,null,null,null,null,null,null,null,null,{"$f":"IF(ISBLANK(D12581),\"\",CONCATENATE(C12581,#REF!,#REF!))","v":""}]
[null,null,null,null,null,null,null,null,null,{"$f":"IF(ISBLANK(D12582),\"\",CONCATENATE(C12582,#REF!,#REF!))","v":""}]
[null,null,null,null,null,null,null,null,null,{"$f":"IF(ISBLANK(D12583),\"\",CONCATENATE(C12583,#REF!,#REF!))","v":""}]
[null,null,null,null,null,null,null,null,null,{"$f":"IF(ISBLANK(D12584),\"\",CONCATENATE(C12584,#REF!,#REF!))","v":""}]
[null,null,null,null,null,null,null,null,null,{"$f":"IF(ISBLANK(D12585),\"\",CONCATENATE(C12585,#REF!,#REF!))","v":""}]
[null,null,null,null,null,null,null,null,null,{"$f":"IF(ISBLANK(D12586),\"\",CONCATENATE(C12586,#REF!,#REF!))","v":""}]
[null,null,null,null,null,null,null,null,null,{"$f":"IF(ISBLANK(D12587),\"\",CONCATENATE(C12587,#REF!,#REF!))","v":""}]
[null,null,null,null,null,null,null,null,null,{"$f":"IF(ISBLANK(D12588),\"\",CONCATENATE(C12588,#REF!,#REF!))","v":""}]
[null,null,null,null,null,null,null,null,null,{"$f":"IF(ISBLANK(D12589),\"\",CONCATENATE(C12589,#REF!,#REF!))","v":""}]
[null,null,null,null,null,null,null,null,null,{"$f":"IF(ISBLANK(D12590),\"\",CONCATENATE(C12590,#REF!,#REF!))","v":""}]
[null,null,null,null,null,null,null,null,null,{"$f":"IF(ISBLANK(D12591),\"\",CONCATENATE(C12591,#REF!,#REF!))","v":""}]
[null,null,null,null,null,null,null,null,null,{"$f":"IF(ISBLANK(D12592),\"\",CONCATENATE(C12592,#REF!,#REF!))","v":""}]
[null,null,null,null,null,null,null,null,null,{"$f":"IF(ISBLANK(D12593),\"\",CONCATENATE(C12593,#REF!,#REF!))","v":""}]
[null,null,null,null,null,null,null,null,null,{"$f":"IF(ISBLANK(D12594),\"\",CONCATENATE(C12594,#REF!,#REF!))","v":""}]
[null,null,null,null,null,null,null,null,null,{"$f":"IF(ISBLANK(D12595),\"\",CONCATENATE(C12595,#REF!,#REF!))","v":""}]
[null,null,null,null,null,null,null,null,null,{"$f":"IF(ISBLANK(D12596),\"\",CONCATENATE(C12596,#REF!,#REF!))","v":""}]
[null,null,null,null,null,null,null,null,null,{"$f":"IF(ISBLANK(D12597),\"\",CONCATENATE(C12597,#REF!,#REF!))","v":""}]
[null,null,null,null,null,null,null,null,null,{"$f":"IF(ISBLANK(D12598),\"\",CONCATENATE(C12598,#REF!,#REF!))","v":""}]
[null,null,null,null,null,null,null,null,null,{"$f":"IF(ISBLANK(D12599),\"\",CONCATENATE(C12599,#REF!,#REF!))","v":""}]
[null,null,null,null,null,null,null,null,null,{"$f":"IF(ISBLANK(D12600),\"\",CONCATENATE(C12600,#REF!,#REF!))","v":""}]
[null,null,null,null,null,null,null,null,null,{"$f":"IF(ISBLANK(D12601),\"\",CONCATENATE(C12601,#REF!,#REF!))","v":""}]
[null,null,null,null,null,null,null,null,null,{"$f":"IF(ISBLANK(D12602),\"\",CONCATENATE(C12602,#REF!,#REF!))","v":""}]
[null,null,null,null,null,null,null,null,null,{"$f":"IF(ISBLANK(D12603),\"\",CONCATENATE(C12603,#REF!,#REF!))","v":""}]
[null,null,null,null,null,null,null,null,null,{"$f":"IF(ISBLANK(D12604),\"\",CONCATENATE(C12604,#REF!,#REF!))","v":""}]
[null,null,null,null,null,null,null,null,null,{"$f":"IF(ISBLANK(D12605),\"\",CONCATENATE(C12605,#REF!,#REF!))","v":""}]
[null,null,null,null,null,null,null,null,null,{"$f":"IF(ISBLANK(D12606),\"\",CONCATENATE(C12606,#REF!,#REF!))","v":""}]
[null,null,null,null,null,null,null,null,null,{"$f":"IF(ISBLANK(D12607),\"\",CONCATENATE(C12607,#REF!,#REF!))","v":""}]
[null,null,null,null,null,null,null,null,null,{"$f":"IF(ISBLANK(D12608),\"\",CONCATENATE(C12608,#REF!,#REF!))","v":""}]
[null,null,null,null,null,null,null,null,null,{"$f":"IF(ISBLANK(D12609),\"\",CONCATENATE(C12609,#REF!,#REF!))","v":""}]
[null,null,null,null,null,null,null,null,null,{"$f":"IF(ISBLANK(D12610),\"\",CONCATENATE(C12610,#REF!,#REF!))","v":""}]
[null,null,null,null,null,null,null,null,null,{"$f":"IF(ISBLANK(D12611),\"\",CONCATENATE(C12611,#REF!,#REF!))","v":""}]
[null,null,null,null,null,null,null,null,null,{"$f":"IF(ISBLANK(D12612),\"\",CONCATENATE(C12612,#REF!,#REF!))","v":""}]
[null,null,null,null,null,null,null,null,null,{"$f":"IF(ISBLANK(D12613),\"\",CONCATENATE(C12613,#REF!,#REF!))","v":""}]
[null,null,null,null,null,null,null,null,null,{"$f":"IF(ISBLANK(D12614),\"\",CONCATENATE(C12614,#REF!,#REF!))","v":""}]
[null,null,null,null,null,null,null,null,null,{"$f":"IF(ISBLANK(D12615),\"\",CONCATENATE(C12615,#REF!,#REF!))","v":""}]
[null,null,null,null,null,null,null,null,null,{"$f":"IF(ISBLANK(D12616),\"\",CONCATENATE(C12616,#REF!,#REF!))","v":""}]
[null,null,null,null,null,null,null,null,null,{"$f":"IF(ISBLANK(D12617),\"\",CONCATENATE(C12617,#REF!,#REF!))","v":""}]
[null,null,null,null,null,null,null,null,null,{"$f":"IF(ISBLANK(D12618),\"\",CONCATENATE(C12618,#REF!,#REF!))","v":""}]
[null,null,null,null,null,null,null,null,null,{"$f":"IF(ISBLANK(D12619),\"\",CONCATENATE(C12619,#REF!,#REF!))","v":""}]
[null,null,null,null,null,null,null,null,null,{"$f":"IF(ISBLANK(D12620),\"\",CONCATENATE(C12620,#REF!,#REF!))","v":""}]
[null,null,null,null,null,null,null,null,null,{"$f":"IF(ISBLANK(D12621),\"\",CONCATENATE(C12621,#REF!,#REF!))","v":""}]
[null,null,null,null,null,null,null,null,null,{"$f":"IF(ISBLANK(D12622),\"\",CONCATENATE(C12622,#REF!,#REF!))","v":""}]
[null,null,null,null,null,null,null,null,null,{"$f":"IF(ISBLANK(D12623),\"\",CONCATENATE(C12623,#REF!,#REF!))","v":""}]
[null,null,null,null,null,null,null,null,null,{"$f":"IF(ISBLANK(D12624),\"\",CONCATENATE(C12624,#REF!,#REF!))","v":""}]
[null,null,null,null,null,null,null,null,null,{"$f":"IF(ISBLANK(D12625),\"\",CONCATENATE(C12625,#REF!,#REF!))","v":""}]

{"sheet":"Materialien","index":3,"n_rows":81,"n_cols":4,"rows_kept":81,"cut":false,"hidden":false,"merged":[[4,0,4,2],[0,0,0,3],[1,0,1,2],[2,0,2,2],[3,0,3,2]]}
["MATERIALDEFINITIONEN\nBNB-Steckbrief 4.1.4 Version 2015\nStand BBSR-Bauteilkatalog: 28.11.2016"]
["Bearbeiter projektspezifischer Katalog:"]
["Datum projektspezifischer Katalog:"]
["Projekt:"]
["BNB-Nummer:"]
[]
[null,"lfd.\nNr.","Bauteilarten","Kurzbeschreibung"]
[null,{"$f":"ROW(B8)-ROWS(B$1:B7)","v":1},"Aluminium","Al"]
[null,{"$f":"ROWS(B$8:B9)","v":2},"Bitumenbahn","Bitumenbahn"]
[null,{"$f":"ROWS(B$8:B10)","v":3},"Bitumenbeschichtung","Bitumenbesch."]
[null,{"$f":"ROWS(B$8:B11)","v":4},"Blei","Pb"]
[null,{"$f":"ROWS(B$8:B12)","v":5},"Dachbegrünung","Dachgrün"]
[null,{"$f":"ROWS(B$8:B13)","v":6},"Dämmstoff - Expandiertes Polystyrol","EPS"]
[null,{"$f":"ROWS(B$8:B14)","v":7},"Dämmstoff - Extrudiertes Polystyrol","XPS"]
[null,{"$f":"ROWS(B$8:B15)","v":8},"Dämmstoff - Mineralwolle","MW"]
[null,{"$f":"ROWS(B$8:B16)","v":9},"Dämmstoff - nachw.Dämm.","nachw.Dämm."]
[null,{"$f":"ROWS(B$8:B17)","v":10},"Dämmstoff - Perlite","Perlite"]
[null,{"$f":"ROWS(B$8:B18)","v":11},"Dämmstoff - Polyurethan","PU"]
[null,{"$f":"ROWS(B$8:B19)","v":12},"Dämmstoff - Schaumglas","CG"]
[null,{"$f":"ROWS(B$8:B20)","v":13},"Epoxidharzbeschichtung","Epoxy"]
[null,{"$f":"ROWS(B$8:B21)","v":14},"Estrich - Anhydrit","AE"]
[null,{"$f":"ROWS(B$8:B22)","v":15},"Estrich - Calciumsulfat","CA"]
[null,{"$f":"ROWS(B$8:B23)","v":16},"Estrich - Gussasphalt","AS"]
[null,{"$f":"ROWS(B$8:B24)","v":17},"Estrich - Kunstharz","SR"]
[null,{"$f":"ROWS(B$8:B25)","v":18},"Estrich - Magnesit","MA"]
[null,{"$f":"ROWS(B$8:B26)","v":19},"Estrich - Trockenestrich","Trockenestr."]
[null,{"$f":"ROWS(B$8:B27)","v":20},"Estrich - Zement","CT"]
[null,{"$f":"ROWS(B$8:B28)","v":21},"Faserzement","Faserzem."]
[null,{"$f":"ROWS(B$8:B29)","v":22},"Flachpressplatten","Flachpresspl."]
[null,{"$f":"ROWS(B$8:B30)","v":23},"Gasbeton","Gasbet."]
[null,{"$f":"ROWS(B$8:B31)","v":24},"Gipskarton","GK"]
[null,{"$f":"ROWS(B$8:B32)","v":25},"Glas","Glas"]
[null,{"$f":"ROWS(B$8:B33)","v":26},"Holz behandelt","beh.Holz"]
[null,{"$f":"ROWS(B$8:B34)","v":27},"Holz (unbehandelt)","unbeh.Holz"]
[null,{"$f":"ROWS(B$8:B35)","v":28},"holzbasierte Plattenwerkstoffe","holzb.Plattenwerk."]
[null,{"$f":"ROWS(B$8:B36)","v":29},"Holzprofile","Holzprofile"]
[null,{"$f":"ROWS(B$8:B37)","v":30},"Holzständer, Holztafel, Holzrahmen","Holzbauteile"]
[null,{"$f":"ROWS(B$8:B38)","v":31},"Holzwerkstoff","Holzwerkst."]
[null,{"$f":"ROWS(B$8:B39)","v":32},"Holz-Zement-Formstein ","HZ-Formst."]
[null,{"$f":"ROWS(B$8:B40)","v":33},"Kalksandstein","KS"]
[null,{"$f":"ROWS(B$8:B41)","v":34},"Keramikklinker","Klinker"]
[null,{"$f":"ROWS(B$8:B42)","v":35},"Kies","Kies"]
[null,{"$f":"ROWS(B$8:B43)","v":36},"Kunststoff, PVC","PVC"]
[null,{"$f":"ROWS(B$8:B44)","v":37},"Kunststoff, PVC -frei (PE)","PE"]
[null,{"$f":"ROWS(B$8:B45)","v":38},"Kunststoff, PVC -frei (PET)","PET"]
[null,{"$f":"ROWS(B$8:B46)","v":39},"Kunststoffbasierte Folien","kunstst.Folie"]
[null,{"$f":"ROWS(B$8:B47)","v":40},"Kupfer","Cu"]
[null,{"$f":"ROWS(B$8:B48)","v":41},"Leichtbeton","Leichtbet."]
[null,{"$f":"ROWS(B$8:B49)","v":42},"Linolelum","Linol."]
[null,{"$f":"ROWS(B$8:B50)","v":43},"Magerbeton","Magerbet."]
[null,{"$f":"ROWS(B$8:B51)","v":44},"Mauerziegel","Mz."]
[null,{"$f":"ROWS(B$8:B52)","v":45},"Metallprofile","Metallprofile"]
[null,{"$f":"ROWS(B$8:B53)","v":46},"mineralische Plattenwerkstoffe","min.Plattenwerk."]
[null,{"$f":"ROWS(B$8:B54)","v":47},"Naturstein","Naturst."]
[null,{"$f":"ROWS(B$8:B55)","v":48},"Polystyrolformstein","PS-Formst."]
[null,{"$f":"ROWS(B$8:B56)","v":49},"Porenbeton","Porenbet."]
[null,{"$f":"ROWS(B$8:B57)","v":50},"Porosierte Hochlochziegel ","por.HLZ"]
[null,{"$f":"ROWS(B$8:B58)","v":51},"Porosierte Hochlochziegel mit Dämmfüllung","por.HLZ mit Dämmf."]
[null,{"$f":"ROWS(B$8:B59)","v":52},"Putz - gipshaltig","gipshal.Putz"]
[null,{"$f":"ROWS(B$8:B60)","v":53},"Putz - nicht gipshaltig","gipsfr.Putz"]
[null,{"$f":"ROWS(B$8:B61)","v":54},"Schüttware","Schüttware"]
[null,{"$f":"ROWS(B$8:B62)","v":55},"Stahl","St."]
[null,{"$f":"ROWS(B$8:B63)","v":56},"Stahlbeton (Fertigteil)","FT-StB."]
[null,{"$f":"ROWS(B$8:B64)","v":57},"Stahlbeton (Ortbeton)","StB."]
[null,{"$f":"ROWS(B$8:B65)","v":58},"Steingut, Steinzeug, sonstige Keramik","Keramik"]
[null,{"$f":"ROWS(B$8:B66)","v":59},"Substrat Dachbegrünung","Substrat"]
[null,{"$f":"ROWS(B$8:B67)","v":60},"Teppich","Teppich"]
[null,{"$f":"ROWS(B$8:B68)","v":61},"Unterkonstruktion - Aluminium","Al.-UK"]
[null,{"$f":"ROWS(B$8:B69)","v":62},"Unterkonstruktion - Stahl","St.-UK"]
[null,{"$f":"ROWS(B$8:B70)","v":63},"Unterkonstruktion- Holz","Holz-UK"]
[null,{"$f":"ROWS(B$8:B71)","v":64},"Ziegel","Ziegel"]
[null,{"$f":"ROWS(B$8:B72)","v":65},"Zinkblech","Zn"]
[null,{"$f":"ROWS(B$8:B73)","v":66},"Vlies","Vlies"]
[null,{"$f":"ROWS(B$8:B74)","v":67},"Anstrich - Dispersion/Latex","Anstr."]
[null,{"$f":"ROWS(B$8:B75)","v":68},"Splitt","Splitt"]
[null,{"$f":"ROWS(B$8:B76)","v":69},"Mörtel","Mört."]
[]
[null,null,"EIGENE MATERIALIEN:"]
[null,{"$f":"ROW(B8)-ROWS(B$1:B7)+100","v":101}]
[null,{"$f":"ROWS(B$79:B80)+100","v":102}]
[null,{"$f":"ROWS(B$79:B81)+100","v":103}]

{"sheet":"Bauteilarten","index":4,"n_rows":16,"n_cols":2,"rows_kept":16,"cut":false,"hidden":true,"merged":[]}
["lfd.Nr.","Bauteilarten"]
[1,"Gründung"]
[2,"Außenwand massiv"]
[3,"Außenwand leicht"]
[4,"Außenwand elementiert"]
[5,"Außenwand erdberührt"]
[6,"Innenwand massiv"]
[7,"Innenwand leicht"]
[8,"Innenwand elementiert"]
[9,"Decke"]
[10,"Deckenbelag"]
[11,"Treppe"]
[12,"Treppenbelag"]
[13,"Dach"]
[14,"Dachbelag"]
[15,"Haustechnik"]

{"sheet":"Hilfstabelle","index":5,"n_rows":14,"n_cols":5,"rows_kept":14,"cut":false,"hidden":true,"merged":[]}
["--",0,0,1]
["-",2.5,2,3]
["⌀",5,4,5,6]
["+",7.5,7,8]
["++",10,9,10]
[]
[]
[]
[]
["--","sehr ungünstig"]
["-","ungünstig"]
["⌀","durchschnittlich"]
["+","günstig"]
["++","sehr günstig"]